{"text_format":"1","workbook":"xlsx","n_sheets":7,"sheets":["Základní list","Výsledková listina","Závod družstev","1. závod","2. závod","Graf A až C","Graf D až F"],"not_rendered":{"charts":4,"images":4,"macros":1,"external_links":0,"defined_names":44,"comments":0,"pivot_tables":0},"unopened":[],"bounds":{"document_bytes":16777216,"sheet_cells":100000,"rows_first":2000,"rows_last":500,"rows_between":2000,"halvings":0,"cell_chars":16384,"cell_head_chars":4096},"cells_cut":0,"cells_raw":0,"read":"whole","date_system":"1900"}

{"sheet":"Základní list","index":0,"n_rows":123,"n_cols":14,"rows_kept":123,"cut":false,"hidden":false,"merged":[[24,4,24,7],[33,0,33,13],[84,0,84,13],[85,0,85,13],[38,0,38,13],[39,12,39,13],[36,0,36,13],[37,0,37,13],[41,2,41,3],[25,3,25,6],[44,2,44,3],[44,4,44,6],[45,2,45,3],[45,4,45,6],[48,2,48,3],[48,4,48,6],[40,2,40,3],[40,4,40,6],[43,2,43,3],[43,4,43,6],[42,2,42,3],[42,4,42,6],[41,4,41,6],[53,4,53,6],[9,4,9,7],[7,2,7,3],[7,4,8,7],[9,0,9,1],[7,0,8,0],[7,1,8,1],[18,4,18,7],[23,4,23,7],[21,4,21,7],[16,4,16,7],[17,4,17,7],[22,4,22,7],[10,4,10,7],[11,4,11,7],[12,4,12,7],[13,4,13,7],[14,4,14,7],[15,4,15,7],[19,4,19,7],[20,4,20,7],[7,12,7,13],[6,2,6,4],[0,0,0,13],[1,2,1,3],[2,2,2,3],[4,2,4,3],[5,2,5,3],[7,10,7,11],[7,8,7,9],[46,2,46,3],[46,4,46,6],[51,4,51,6],[50,2,50,3],[92,0,92,13],[93,0,93,13],[88,0,88,13],[89,0,89,13],[90,0,90,13],[82,9,82,12],[83,9,83,12],[83,2,83,3],[83,4,83,6],[82,2,82,3],[82,4,82,6],[87,0,87,13],[91,0,91,13],[53,9,53,12],[50,4,50,6],[51,2,51,3],[48,9,48,12],[70,9,70,12],[71,9,71,12],[70,2,70,3],[70,4,70,6],[76,9,76,12],[77,9,77,12],[72,9,72,12],[73,9,73,12],[74,9,74,12],[75,9,75,12],[49,2,49,3],[49,4,49,6],[73,4,73,6],[68,2,68,3],[68,4,68,6],[69,2,69,3],[69,4,69,6],[65,2,65,3],[65,4,65,6],[67,2,67,3],[67,4,67,6],[66,2,66,3],[66,4,66,6],[69,9,69,12],[54,9,54,12],[47,2,47,3],[47,4,47,6],[52,2,52,3],[52,4,52,6],[77,2,77,3],[75,4,75,6],[73,2,73,3],[77,4,77,6],[74,2,74,3],[74,4,74,6],[75,2,75,3],[54,4,54,6],[53,2,53,3],[55,4,55,6],[63,2,63,3],[63,4,63,6],[76,2,76,3],[76,4,76,6],[71,2,71,3],[71,4,71,6],[72,2,72,3],[72,4,72,6],[64,2,64,3],[64,4,64,6],[80,9,80,12],[81,9,81,12],[79,2,79,3],[78,2,78,3],[80,2,80,3],[80,4,80,6],[78,9,78,12],[79,9,79,12],[81,2,81,3],[81,4,81,6],[78,4,78,6],[79,4,79,6],[40,9,40,12],[41,9,41,12],[42,9,42,12],[43,9,43,12],[44,9,44,12],[45,9,45,12],[60,2,60,3],[60,4,60,6],[54,2,54,3],[59,2,59,3],[59,4,59,6],[59,9,59,12],[58,2,58,3],[58,4,58,6],[58,9,58,12],[57,2,57,3],[55,9,55,12],[57,4,57,6],[57,9,57,12],[56,2,56,3],[56,4,56,6],[56,9,56,12],[52,9,52,12],[55,2,55,3],[46,9,46,12],[47,9,47,12],[65,9,65,12],[67,9,67,12],[60,9,60,12],[63,9,63,12],[64,9,64,12],[66,9,66,12],[68,9,68,12],[51,9,51,12],[50,9,50,12],[49,9,49,12]]}
["Základní popis závodů"]
[null,null,"Místo konání:",null,"Pasohlávky"]
[null,null,"Druh závodu:",null,"AWA-S cup 2017"]
[null,null,"Od:","26.8.2017","do:","26.8.2017"]
[null,null,"Pořadatel:",null,"MRS BRNO"]
[null,null,"Hl. rozhodčí:",null,"Lucie Černá"]
[]
["Sektory","Index","Počet míst",null,"Popis úseků",null,null,null,"1 závod",null,"2 závod",null,"CELKEM"]
[null,null,"1.záv.","2.záv.",null,null,null,null,"naloveno","prům. na závodníka","Naloveno","prům na závodníka","Naloveno","prům na závodníka"]
["Suma",null,{"$f":"SUM(C11:C25)","v":24},{"$f":"SUM(D11:D25)","v":24},"Suma",null,null,null,{"$f":"SUM(I11:I18)","v":155200},{"$f":"IF(I10>0,I10/$C10,\"\")","v":6466.666666666667},{"$f":"SUM(K11:K18)","v":165460},{"$f":"IF(K10>0,K10/$D10,\"\")","v":6894.166666666667},{"$f":"SUM(M11:M18)","v":320660},{"$f":"IF(M10>0,M10/($C10+$D10),\"\")","v":6680.416666666667}]
["A",4,{"$f":"IF(ISBLANK($A11),\"\",COUNTA('1. závod'!D$6:D$35))","v":8},{"$f":"IF(ISBLANK($A11),\"\",COUNTA('2. závod'!D$6:D$35))","v":8},null,null,null,null,{"$f":"SUM('1. závod'!D$6:D$35)","v":47500},5937.5,{"$f":"SUM('2. závod'!D$6:D$35)","v":53720},6715,{"$f":"SUM(I11,K11)","v":101220},{"$f":"IF(M11>0,M11/($C11+$D11),\"\")","v":6326.25}]
["B",{"$f":"IF(ISBLANK(A12),\"\",B11+6)","v":10},{"$f":"IF(ISBLANK($A12),\"\",COUNTA('1. závod'!J$6:J$35))","v":8},{"$f":"IF(ISBLANK($A12),\"\",COUNTA('2. závod'!J$6:J$35))","v":8},null,null,null,null,{"$f":"SUM('1. závod'!J$6:J$35)","v":51280},6410,{"$f":"SUM('2. závod'!J$6:J$35)","v":70120},8765,121400,{"$f":"IF(M12>0,M12/($C12+$D12),\"\")","v":7587.5}]
["C",{"$f":"IF(ISBLANK(A13),\"\",B12+6)","v":16},{"$f":"IF(ISBLANK($A13),\"\",COUNTA('1. závod'!P$6:P$35))","v":8},{"$f":"IF(ISBLANK($A13),\"\",COUNTA('2. závod'!P$6:P$35))","v":8},null,null,null,null,{"$f":"SUM('1. závod'!P$6:P$35)","v":56420},7052.5,{"$f":"SUM('2. závod'!P$6:P$35)","v":41620},5202.5,98040,6127.5]
["D",22,{"$f":"IF(ISBLANK($A14),\"\",COUNTA('1. závod'!V$6:V$35))","v":0},{"$f":"IF(ISBLANK($A14),\"\",COUNTA('2. závod'!V$6:V$35))","v":0},null,null,null,null,{"$f":"SUM('1. závod'!V$6:V$35)","v":0},"",{"$f":"SUM('2. závod'!V$6:V$35)","v":0},"",0,""]
["E",28,{"$f":"IF(ISBLANK($A15),\"\",COUNTA('1. závod'!AB$6:AB$35))","v":0},{"$f":"IF(ISBLANK($A15),\"\",COUNTA('2. závod'!AB$6:AB$35))","v":0},null,null,null,null,{"$f":"SUM('1. závod'!AB$6:AB$35)","v":0},"",{"$f":"SUM('2. závod'!AB$6:AB$35)","v":0},"",0,""]
["F",34,{"$f":"IF(ISBLANK($A16),\"\",COUNTA('1. závod'!AH$6:AH$35))","v":0},{"$f":"IF(ISBLANK($A16),\"\",COUNTA('2. závod'!AH$6:AH$35))","v":0},null,null,null,null,{"$f":"SUM('1. závod'!AH$6:AH$35)","v":0},"",{"$f":"SUM('2. závod'!AH$6:AH$35)","v":0},"",0,""]
["G",40,{"$f":"IF(ISBLANK($A17),\"\",COUNTA('1. závod'!AN$6:AN$35))","v":0},{"$f":"IF(ISBLANK($A17),\"\",COUNTA('2. závod'!AN$6:AN$35))","v":0},null,null,null,null,{"$f":"SUM('1. závod'!AN$6:AN$35)","v":0},"",{"$f":"SUM('2. závod'!AN$6:AN$35)","v":0},"",0,""]
["H",46,{"$f":"IF(ISBLANK($A18),\"\",COUNTA('1. závod'!AT$6:AT$35))","v":0},{"$f":"IF(ISBLANK($A18),\"\",COUNTA('2. závod'!AT$6:AT$35))","v":0},null,null,null,null,{"$f":"SUM('1. závod'!AT$6:AT$35)","v":0},"",{"$f":"SUM('2. závod'!AT$6:AT$35)","v":0},"",0,""]
["I",52,{"$f":"IF(ISBLANK($A19),\"\",COUNTA('1. závod'!AZ$6:AZ$35))","v":0},{"$f":"IF(ISBLANK($A19),\"\",COUNTA('2. závod'!AZ$6:AZ$35))","v":0},null,null,null,null,{"$f":"SUM('1. závod'!AZ$6:AZ$35)","v":0},"",{"$f":"SUM('2. závod'!AZ$6:AZ$35)","v":0},"",{"$f":"SUM(I19,K19)","v":0},""]
["J",58,{"$f":"IF(ISBLANK($A20),\"\",COUNTA('1. závod'!BF$6:BF$35))","v":0},{"$f":"IF(ISBLANK($A20),\"\",COUNTA('2. závod'!BF$6:BF$35))","v":0},null,null,null,null,{"$f":"SUM('1. závod'!BF$6:BF$35)","v":0},"",{"$f":"SUM('2. závod'!BF$6:BF$35)","v":0},"",0,""]
["K",64,{"$f":"IF(ISBLANK($A21),\"\",COUNTA('1. závod'!BL$6:BL$35))","v":0},{"$f":"IF(ISBLANK($A21),\"\",COUNTA('2. závod'!BL$6:BL$35))","v":0},null,null,null,null,{"$f":"SUM('1. závod'!BL$6:BL$35)","v":0},"",{"$f":"SUM('2. závod'!BL$6:BL$35)","v":0},"",0,""]
["L",70,{"$f":"IF(ISBLANK($A22),\"\",COUNTA('1. závod'!BQ$6:BQ$35))","v":0},{"$f":"IF(ISBLANK($A22),\"\",COUNTA('2. závod'!BQ$6:BQ$35))","v":0},null,null,null,null,{"$f":"SUM('1. závod'!BQ$6:BQ$35)","v":0},"",{"$f":"SUM('2. závod'!BQ$6:BQ$35)","v":0},"",0,""]
["M",76,{"$f":"IF(ISBLANK($A23),\"\",COUNTA('1. závod'!BV$6:BV$35))","v":0},{"$f":"IF(ISBLANK($A23),\"\",COUNTA('2. závod'!BV$6:BV$35))","v":0},null,null,null,null,{"$f":"SUM('1. závod'!BV$6:BV$35)","v":0},"",{"$f":"SUM('2. závod'!BV$6:BV$35)","v":0},"",0,""]
["O",82,{"$f":"IF(ISBLANK($A24),\"\",COUNTA('1. závod'!CA$6:CA$35))","v":0},{"$f":"IF(ISBLANK($A24),\"\",COUNTA('2. závod'!CA$6:CA$35))","v":0},null,null,null,null,{"$f":"SUM('1. závod'!CA$6:CA$35)","v":0},"",{"$f":"SUM('2. závod'!CA$6:CA$35)","v":0},"",0,""]
["P",88,{"$f":"IF(ISBLANK($A25),\"\",COUNTA('1. závod'!CF$6:CF$35))","v":0},{"$f":"IF(ISBLANK($A25),\"\",COUNTA('2. závod'!CF$6:CF$35))","v":0},null,null,null,null,{"$f":"SUM('1. závod'!CF$6:CF$35)","v":0},"",{"$f":"SUM('2. závod'!CF$6:CF$35)","v":0},"",0,""]
[null,null,null,"Maximální  výsledek",null,null,null,null,{"$f":"MAX('1. závod'!$D$6:$CF$35)","v":14560},null,{"$f":"MAX('2. závod'!$D$6:$CF$35)","v":12380},null,{"$f":"MAX(I26,K26)","v":14560}]
[null,null,null,null,null,null,null,null,null,null,null,"HLAVNÍ PARTNEŘI RYBÁŘSKÉHO SPORTU:"]
[null,null,null,"Počet mužů (M)",null,null,null,null,{"$f":"COUNTIF('Výsledková listina'!$D:$D,\"*M*\")","v":0}]
[null,null,null,"Počet juniorů do 23let (U23,U23Ž)",null,null,null,null,{"$f":"COUNTIF('Výsledková listina'!$D:$D,\"*23*\")","v":0}]
[null,null,null,"Počet juniorů do 18let (U18,U18Ž)",null,null,null,null,{"$f":"COUNTIF('Výsledková listina'!$D:$D,\"*18*\")","v":0}]
[null,null,null,"Počet kadetů do 14 let (U14,U14Ž)",null,null,null,null,{"$f":"COUNTIF('Výsledková listina'!$D:$D,\"*14*\")","v":0}]
[null,null,null,"Počet žen (Ž,U14Ž,U18Ž,U23Ž)",null,null,null,null,{"$f":"COUNTIF('Výsledková listina'!$D:$D,\"*Ž*\")","v":0}]
[null,null,null,"Počet hendikepovaných (H)",null,null,null,null,{"$f":"COUNTIF('Výsledková listina'!$D:$D,\"*H*\")","v":0}]
["©JankuJiri"]
["Zelené označení forhont."]
["Penalizace a napomenutí"]
[]
[]
["Přestupky"]
[null,null,"1 závod"]
[null,null,"závodník",null,"družstvo",null,null,"ground","místo","důvod",null,null,null,"karta"]
[]
[]
[]
[]
[]
[]
[]
[]
[]
[]
[]
[]
[]
[]
[]
[]
[]
[]
[]
[]
[]
[null,null,"2 závod"]
[null,null,"závodník",null,"družstvo",null,null,"ground","místo","důvod",null,null,null,"karta"]
[]
[]
[]
[]
[]
[]
[]
[]
[]
[]
[]
[]
[]
[]
[]
[]
[]
[]
[]
[]
[]
[]
[]
[]
[]
[]
[]
[]
[]
[]
["Postup:"]
["1) Na základním listě"]
["se vyplňují jen hlavička (místo(E2), druh(E3), Od….) popřípadě, když máte speciální označení sektorů (A,B,C,..)."]
["nevyužitá řádky sektorů je možno smazat, případně skrýt."]
["2) na Výsledkové listině"]
["Vypisují se údaje:"]
["- o závodníkovi (sloupec KAT je možno využít k označení kategorií a k vytřídění jednotlivých skupin."]
["- los pořadí losování ( potom je možné i setřídit podle pořadí losování)"]
["- sektor a pořadí v sektoru ( tj. každý sektor začíná jedničkou)"]
["Další řádky je možné přikopírovat, nebo nadbytečné i smazat ( vždy celé řádky)"]
["Na základě takto zadaných údajů se samo vyplní údaje na listech x. závod"]
["3) na listech x. závod"]
["Vypisují se údaje:"]
["- jenom hmotnost, případně do kolonky podpis můžeme napsat poznámku o napomenutí či co."]
["Pořadí se vypočítává"]
["Takto zadané a vypočítané údaje se přenáší samy na list Výsledková listina a do grafu ( i do statistiky na základním listě)"]
["Rozsah tisku je možno měnit buď definováním oblasti tisku nebo vymazáním nepotřebných sektorů a řádků"]
["4) Výsledková listina celkem"]
["Setřídím tabulku podle sloupců (se záhlavím) (Data seřadit)"]
["Q (poč) sestupně"]
["S (BODY) vzestupně"]
["R (CIPS) sestupně"]
["A je to"]
["5) Případná diskvalifikace, +5 atd."]
["je možno řešit: "]
["-na listu x.závod do podpisu napsat důvod, odemknou list a opravit vypočítané úmístění, nebo"]
["-na výsledkové listině opravit dotaženou hodnotu umístění"]
["6) GRAF"]
["Data se dotahují podle údajů uvedených v sloupcích C,D a I,J. Proto je nutno \"postavit trať, a nadbytečné řádky klidně odmazat"]

{"sheet":"Výsledková listina","index":1,"n_rows":130,"n_cols":20,"rows_kept":130,"cut":false,"hidden":false,"merged":[[0,0,0,19],[3,0,3,4],[5,1,6,4],[6,7,7,7],[6,8,7,8],[5,5,5,8],[5,9,5,12],[1,0,1,4],[6,19,7,19],[5,0,7,0],[2,0,2,4],[5,16,5,19],[129,0,129,4],[6,18,7,18],[6,11,7,11],[6,12,7,12],[6,16,7,16],[6,17,7,17]]}
["Výsledková listina"]
[{"$f":"CONCATENATE(\"Místo konání: \",'Základní list'!E2)","v":"Místo konání: Pasohlávky"},null,null,null,null,null,null,null,null,null,null,{"$f":"CONCATENATE(\"Pořadatel: \",'Základní list'!E5)","v":"Pořadatel: MRS BRNO"}]
[{"$f":"CONCATENATE(\"Druh závodu: \",'Základní list'!E3)","v":"Druh závodu: AWA-S cup 2017"},null,null,null,null,null,null,null,null,null,null,{"$f":"CONCATENATE(\"Hlavní rozhodčí: \",'Základní list'!E6)","v":"Hlavní rozhodčí: Lucie Černá"}]
[{"$f":"CONCATENATE(\"Datum konání: \",'Základní list'!D4,\" - \",'Základní list'!F4)","v":"Datum konání: 26.8.2017 - 26.8.2017"}]
[]
["Los","Závodník",null,null,null,"1. závod",null,null,null,"2. závod",null,null,null,"1 k","2 k","dr","CELKEM"]
[null,null,null,null,null,"Sektor",null,"CIPS","Poř.",{"$f":"F7","v":"Sektor"},null,"CIPS","Poř.",null,null,null,"poč.","CIPS","Body","Poř"]
[null,"REG","Příjmení jméno","kat","Organizace","sk","čís",null,null,{"$f":"F8","v":"sk"},{"$f":"G8","v":"čís"}]
[2,null,"Kunst Antonín",null,"Fish Angels","A",5,{"$f":"IF($G9=\"\",\"\",INDEX('1. závod'!$A:$CH,$G9+5,INDEX('Základní list'!$B:$B,MATCH($F9,'Základní list'!$A:$A,0),1)))","v":9880},{"$f":"IF($G9=\"\",\"\",INDEX('1. závod'!$A:$CH,$G9+5,INDEX('Základní list'!$B:$B,MATCH($F9,'Základní list'!$A:$A,0),1)+2))","v":1},"C",1,{"$f":"IF($K9=\"\",\"\",INDEX('2. závod'!$A:$CH,$K9+5,INDEX('Základní list'!$B:$B,MATCH($J9,'Základní list'!$A:$A,0),1)))","v":9300},{"$f":"IF($K9=\"\",\"\",INDEX('2. závod'!$A:$CH,$K9+5,INDEX('Základní list'!$B:$B,MATCH($J9,'Základní list'!$A:$A,0),1)+2))","v":1},{"$f":"CONCATENATE(F9,G9)","v":"A5"},{"$f":"CONCATENATE(J9,K9)","v":"C1"},{"$f":"IF(ISBLANK(E9),\"\",E9)","v":"Fish Angels"},{"$f":"IF(ISBLANK($C9),\"\",COUNT(I9,M9))","v":2},{"$f":"IF(ISBLANK($C9),\"\",SUM(H9,L9))","v":19180},{"$f":"IF(ISBLANK($C9),\"\",SUM(I9,M9))","v":2},{"$f":"IF(ISBLANK($C9),\"\",IF(ISTEXT(T8),1,T8+1))","v":1}]
[16,null,"Stárek Jan",null,"Ždárský kavky","C",3,{"$f":"IF($G10=\"\",\"\",INDEX('1. závod'!$A:$CH,$G10+5,INDEX('Základní list'!$B:$B,MATCH($F10,'Základní list'!$A:$A,0),1)))","v":12600},{"$f":"IF($G10=\"\",\"\",INDEX('1. závod'!$A:$CH,$G10+5,INDEX('Základní list'!$B:$B,MATCH($F10,'Základní list'!$A:$A,0),1)+2))","v":2},"B",5,{"$f":"IF($K10=\"\",\"\",INDEX('2. závod'!$A:$CH,$K10+5,INDEX('Základní list'!$B:$B,MATCH($J10,'Základní list'!$A:$A,0),1)))","v":12380},{"$f":"IF($K10=\"\",\"\",INDEX('2. závod'!$A:$CH,$K10+5,INDEX('Základní list'!$B:$B,MATCH($J10,'Základní list'!$A:$A,0),1)+2))","v":1},"C3","B5","Ždárský kavky",2,24980,3,2]
[23,null,"Zavřel Jan",null,"Zauwíci","B",7,{"$f":"IF($G11=\"\",\"\",INDEX('1. závod'!$A:$CH,$G11+5,INDEX('Základní list'!$B:$B,MATCH($F11,'Základní list'!$A:$A,0),1)))","v":10340},{"$f":"IF($G11=\"\",\"\",INDEX('1. závod'!$A:$CH,$G11+5,INDEX('Základní list'!$B:$B,MATCH($F11,'Základní list'!$A:$A,0),1)+2))","v":1},"C",3,{"$f":"IF($K11=\"\",\"\",INDEX('2. závod'!$A:$CH,$K11+5,INDEX('Základní list'!$B:$B,MATCH($J11,'Základní list'!$A:$A,0),1)))","v":8220},{"$f":"IF($K11=\"\",\"\",INDEX('2. závod'!$A:$CH,$K11+5,INDEX('Základní list'!$B:$B,MATCH($J11,'Základní list'!$A:$A,0),1)+2))","v":2},"B7","C3","Zauwíci",2,18560,3,3]
[7,null,"Šabata Jakub",null,"Fish Angels","B",5,{"$f":"IF($G12=\"\",\"\",INDEX('1. závod'!$A:$CH,$G12+5,INDEX('Základní list'!$B:$B,MATCH($F12,'Základní list'!$A:$A,0),1)))","v":9760},{"$f":"IF($G12=\"\",\"\",INDEX('1. závod'!$A:$CH,$G12+5,INDEX('Základní list'!$B:$B,MATCH($F12,'Základní list'!$A:$A,0),1)+2))","v":2},"A",1,{"$f":"IF($K12=\"\",\"\",INDEX('2. závod'!$A:$CH,$K12+5,INDEX('Základní list'!$B:$B,MATCH($J12,'Základní list'!$A:$A,0),1)))","v":9780},{"$f":"IF($K12=\"\",\"\",INDEX('2. závod'!$A:$CH,$K12+5,INDEX('Základní list'!$B:$B,MATCH($J12,'Základní list'!$A:$A,0),1)+2))","v":2},"B5","A1","Fish Angels",2,19540,4,4]
[13,null,"Chadraba Petr",null,"MILO Feeder Team JIHOSEVERÁCI","C",1,{"$f":"IF($G13=\"\",\"\",INDEX('1. závod'!$A:$CH,$G13+5,INDEX('Základní list'!$B:$B,MATCH($F13,'Základní list'!$A:$A,0),1)))","v":7960},{"$f":"IF($G13=\"\",\"\",INDEX('1. závod'!$A:$CH,$G13+5,INDEX('Základní list'!$B:$B,MATCH($F13,'Základní list'!$A:$A,0),1)+2))","v":3},"A",6,{"$f":"IF($K13=\"\",\"\",INDEX('2. závod'!$A:$CH,$K13+5,INDEX('Základní list'!$B:$B,MATCH($J13,'Základní list'!$A:$A,0),1)))","v":10780},{"$f":"IF($K13=\"\",\"\",INDEX('2. závod'!$A:$CH,$K13+5,INDEX('Základní list'!$B:$B,MATCH($J13,'Základní list'!$A:$A,0),1)+2))","v":1},"C1","A6","MILO Feeder Team JIHOSEVERÁCI",2,18740,4,5]
[3,null,"Radek Černý",null,"Ševčovi pacholci","C",2,{"$f":"IF($G14=\"\",\"\",INDEX('1. závod'!$A:$CH,$G14+5,INDEX('Základní list'!$B:$B,MATCH($F14,'Základní list'!$A:$A,0),1)))","v":14560},{"$f":"IF($G14=\"\",\"\",INDEX('1. závod'!$A:$CH,$G14+5,INDEX('Základní list'!$B:$B,MATCH($F14,'Základní list'!$A:$A,0),1)+2))","v":1},"A",7,{"$f":"IF($K14=\"\",\"\",INDEX('2. závod'!$A:$CH,$K14+5,INDEX('Základní list'!$B:$B,MATCH($J14,'Základní list'!$A:$A,0),1)))","v":6540},{"$f":"IF($K14=\"\",\"\",INDEX('2. závod'!$A:$CH,$K14+5,INDEX('Základní list'!$B:$B,MATCH($J14,'Základní list'!$A:$A,0),1)+2))","v":4},"C2","A7","Ševčovi pacholci",2,21100,5,6]
[12,null,"Pečta Radek st.",null,"Zauwíci","A",7,{"$f":"IF($G15=\"\",\"\",INDEX('1. závod'!$A:$CH,$G15+5,INDEX('Základní list'!$B:$B,MATCH($F15,'Základní list'!$A:$A,0),1)))","v":6420},{"$f":"IF($G15=\"\",\"\",INDEX('1. závod'!$A:$CH,$G15+5,INDEX('Základní list'!$B:$B,MATCH($F15,'Základní list'!$A:$A,0),1)+2))","v":4},"B",3,{"$f":"IF($K15=\"\",\"\",INDEX('2. závod'!$A:$CH,$K15+5,INDEX('Základní list'!$B:$B,MATCH($J15,'Základní list'!$A:$A,0),1)))","v":10980},{"$f":"IF($K15=\"\",\"\",INDEX('2. závod'!$A:$CH,$K15+5,INDEX('Základní list'!$B:$B,MATCH($J15,'Základní list'!$A:$A,0),1)+2))","v":2},"A7","B3","Zauwíci",2,17400,6,7]
[8,null,"Pečta Radek",null,"Fídrové komando","A",4,{"$f":"IF($G16=\"\",\"\",INDEX('1. závod'!$A:$CH,$G16+5,INDEX('Základní list'!$B:$B,MATCH($F16,'Základní list'!$A:$A,0),1)))","v":7880},{"$f":"IF($G16=\"\",\"\",INDEX('1. závod'!$A:$CH,$G16+5,INDEX('Základní list'!$B:$B,MATCH($F16,'Základní list'!$A:$A,0),1)+2))","v":2},"C",8,{"$f":"IF($K16=\"\",\"\",INDEX('2. závod'!$A:$CH,$K16+5,INDEX('Základní list'!$B:$B,MATCH($J16,'Základní list'!$A:$A,0),1)))","v":4420},{"$f":"IF($K16=\"\",\"\",INDEX('2. závod'!$A:$CH,$K16+5,INDEX('Základní list'!$B:$B,MATCH($J16,'Základní list'!$A:$A,0),1)+2))","v":5},"A4","C8","Fídrové komando",2,12300,7,8]
[15,null,"Tomšík Jan",null,"Speed feeder team","C",8,{"$f":"IF($G17=\"\",\"\",INDEX('1. závod'!$A:$CH,$G17+5,INDEX('Základní list'!$B:$B,MATCH($F17,'Základní list'!$A:$A,0),1)))","v":5920},{"$f":"IF($G17=\"\",\"\",INDEX('1. závod'!$A:$CH,$G17+5,INDEX('Základní list'!$B:$B,MATCH($F17,'Základní list'!$A:$A,0),1)+2))","v":4},"C",2,{"$f":"IF($K17=\"\",\"\",INDEX('2. závod'!$A:$CH,$K17+5,INDEX('Základní list'!$B:$B,MATCH($J17,'Základní list'!$A:$A,0),1)))","v":5000},{"$f":"IF($K17=\"\",\"\",INDEX('2. závod'!$A:$CH,$K17+5,INDEX('Základní list'!$B:$B,MATCH($J17,'Základní list'!$A:$A,0),1)+2))","v":3},"C8","C2","Speed feeder team",2,10920,7,9]
[4,null,"Koucký Milan",null,"Feeder team Vlci-Mrs","B",6,{"$f":"IF($G18=\"\",\"\",INDEX('1. závod'!$A:$CH,$G18+5,INDEX('Základní list'!$B:$B,MATCH($F18,'Základní list'!$A:$A,0),1)))","v":6260},{"$f":"IF($G18=\"\",\"\",INDEX('1. závod'!$A:$CH,$G18+5,INDEX('Základní list'!$B:$B,MATCH($F18,'Základní list'!$A:$A,0),1)+2))","v":4},"B",4,{"$f":"IF($K18=\"\",\"\",INDEX('2. závod'!$A:$CH,$K18+5,INDEX('Základní list'!$B:$B,MATCH($J18,'Základní list'!$A:$A,0),1)))","v":10100},{"$f":"IF($K18=\"\",\"\",INDEX('2. závod'!$A:$CH,$K18+5,INDEX('Základní list'!$B:$B,MATCH($J18,'Základní list'!$A:$A,0),1)+2))","v":4},"B6","B4","Feeder team Vlci-Mrs",2,16360,8,10]
[22,null,"Denemarek Jiří",null,"Fish Angels","C",5,{"$f":"IF($G19=\"\",\"\",INDEX('1. závod'!$A:$CH,$G19+5,INDEX('Základní list'!$B:$B,MATCH($F19,'Základní list'!$A:$A,0),1)))","v":5240},{"$f":"IF($G19=\"\",\"\",INDEX('1. závod'!$A:$CH,$G19+5,INDEX('Základní list'!$B:$B,MATCH($F19,'Základní list'!$A:$A,0),1)+2))","v":6},"B",1,{"$f":"IF($K19=\"\",\"\",INDEX('2. závod'!$A:$CH,$K19+5,INDEX('Základní list'!$B:$B,MATCH($J19,'Základní list'!$A:$A,0),1)))","v":10820},{"$f":"IF($K19=\"\",\"\",INDEX('2. závod'!$A:$CH,$K19+5,INDEX('Základní list'!$B:$B,MATCH($J19,'Základní list'!$A:$A,0),1)+2))","v":3},"C5","B1","Fish Angels",2,16060,9,11]
[11,null,"Fabík Zdeněk",null,"Ždárský kavky","A",3,{"$f":"IF($G20=\"\",\"\",INDEX('1. závod'!$A:$CH,$G20+5,INDEX('Základní list'!$B:$B,MATCH($F20,'Základní list'!$A:$A,0),1)))","v":5860},{"$f":"IF($G20=\"\",\"\",INDEX('1. závod'!$A:$CH,$G20+5,INDEX('Základní list'!$B:$B,MATCH($F20,'Základní list'!$A:$A,0),1)+2))","v":5},"C",5,{"$f":"IF($K20=\"\",\"\",INDEX('2. závod'!$A:$CH,$K20+5,INDEX('Základní list'!$B:$B,MATCH($J20,'Základní list'!$A:$A,0),1)))","v":4880},{"$f":"IF($K20=\"\",\"\",INDEX('2. závod'!$A:$CH,$K20+5,INDEX('Základní list'!$B:$B,MATCH($J20,'Základní list'!$A:$A,0),1)+2))","v":4},"A3","C5","Ždárský kavky",2,10740,9,12]
[1,null,"Vitásek Jiří ",null,"Ševčovi pacholci","A",2,{"$f":"IF($G21=\"\",\"\",INDEX('1. závod'!$A:$CH,$G21+5,INDEX('Základní list'!$B:$B,MATCH($F21,'Základní list'!$A:$A,0),1)))","v":6780},{"$f":"IF($G21=\"\",\"\",INDEX('1. závod'!$A:$CH,$G21+5,INDEX('Základní list'!$B:$B,MATCH($F21,'Základní list'!$A:$A,0),1)+2))","v":3},"B",7,{"$f":"IF($K21=\"\",\"\",INDEX('2. závod'!$A:$CH,$K21+5,INDEX('Základní list'!$B:$B,MATCH($J21,'Základní list'!$A:$A,0),1)))","v":6020},{"$f":"IF($K21=\"\",\"\",INDEX('2. závod'!$A:$CH,$K21+5,INDEX('Základní list'!$B:$B,MATCH($J21,'Základní list'!$A:$A,0),1)+2))","v":7},"A2","B7","Ševčovi pacholci",2,12800,10,13]
[14,null,"Bruckner Martin",null,"Fídrové komando","B",4,{"$f":"IF($G22=\"\",\"\",INDEX('1. závod'!$A:$CH,$G22+5,INDEX('Základní list'!$B:$B,MATCH($F22,'Základní list'!$A:$A,0),1)))","v":6880},{"$f":"IF($G22=\"\",\"\",INDEX('1. závod'!$A:$CH,$G22+5,INDEX('Základní list'!$B:$B,MATCH($F22,'Základní list'!$A:$A,0),1)+2))","v":3},"B",8,{"$f":"IF($K22=\"\",\"\",INDEX('2. závod'!$A:$CH,$K22+5,INDEX('Základní list'!$B:$B,MATCH($J22,'Základní list'!$A:$A,0),1)))","v":4060},{"$f":"IF($K22=\"\",\"\",INDEX('2. závod'!$A:$CH,$K22+5,INDEX('Základní list'!$B:$B,MATCH($J22,'Základní list'!$A:$A,0),1)+2))","v":8},"B4","B8","Fídrové komando",2,10940,11,14]
[10,null,"Frič Michal",null,"Fídrové komando","C",4,{"$f":"IF($G23=\"\",\"\",INDEX('1. závod'!$A:$CH,$G23+5,INDEX('Základní list'!$B:$B,MATCH($F23,'Základní list'!$A:$A,0),1)))","v":1960},{"$f":"IF($G23=\"\",\"\",INDEX('1. závod'!$A:$CH,$G23+5,INDEX('Základní list'!$B:$B,MATCH($F23,'Základní list'!$A:$A,0),1)+2))","v":8},"A",8,{"$f":"IF($K23=\"\",\"\",INDEX('2. závod'!$A:$CH,$K23+5,INDEX('Základní list'!$B:$B,MATCH($J23,'Základní list'!$A:$A,0),1)))","v":7560},{"$f":"IF($K23=\"\",\"\",INDEX('2. závod'!$A:$CH,$K23+5,INDEX('Základní list'!$B:$B,MATCH($J23,'Základní list'!$A:$A,0),1)+2))","v":3},"C4","A8","Fídrové komando",2,9520,11,15]
[20,null,"Prášek Josef",null,"Speed feeder team","B",8,{"$f":"IF($G24=\"\",\"\",INDEX('1. závod'!$A:$CH,$G24+5,INDEX('Základní list'!$B:$B,MATCH($F24,'Základní list'!$A:$A,0),1)))","v":4480},{"$f":"IF($G24=\"\",\"\",INDEX('1. závod'!$A:$CH,$G24+5,INDEX('Základní list'!$B:$B,MATCH($F24,'Základní list'!$A:$A,0),1)+2))","v":7},"B",2,{"$f":"IF($K24=\"\",\"\",INDEX('2. závod'!$A:$CH,$K24+5,INDEX('Základní list'!$B:$B,MATCH($J24,'Základní list'!$A:$A,0),1)))","v":9460},{"$f":"IF($K24=\"\",\"\",INDEX('2. závod'!$A:$CH,$K24+5,INDEX('Základní list'!$B:$B,MATCH($J24,'Základní list'!$A:$A,0),1)+2))","v":5},"B8","B2","Speed feeder team",2,13940,12,16]
[18,null,"Ohera Tomáš",null,"MILO Feeder Team JIHOSEVERÁCI","B",1,{"$f":"IF($G25=\"\",\"\",INDEX('1. závod'!$A:$CH,$G25+5,INDEX('Základní list'!$B:$B,MATCH($F25,'Základní list'!$A:$A,0),1)))","v":4700},{"$f":"IF($G25=\"\",\"\",INDEX('1. závod'!$A:$CH,$G25+5,INDEX('Základní list'!$B:$B,MATCH($F25,'Základní list'!$A:$A,0),1)+2))","v":6},"B",6,{"$f":"IF($K25=\"\",\"\",INDEX('2. závod'!$A:$CH,$K25+5,INDEX('Základní list'!$B:$B,MATCH($J25,'Základní list'!$A:$A,0),1)))","v":6300},{"$f":"IF($K25=\"\",\"\",INDEX('2. závod'!$A:$CH,$K25+5,INDEX('Základní list'!$B:$B,MATCH($J25,'Základní list'!$A:$A,0),1)+2))","v":6},"B1","B6","MILO Feeder Team JIHOSEVERÁCI",2,11000,12,17]
[6,null,"Bartl Petr",null,"Feeder team Vlci-Mrs","C",6,{"$f":"IF($G26=\"\",\"\",INDEX('1. závod'!$A:$CH,$G26+5,INDEX('Základní list'!$B:$B,MATCH($F26,'Základní list'!$A:$A,0),1)))","v":5280},{"$f":"IF($G26=\"\",\"\",INDEX('1. závod'!$A:$CH,$G26+5,INDEX('Základní list'!$B:$B,MATCH($F26,'Základní list'!$A:$A,0),1)+2))","v":5},"A",4,{"$f":"IF($K26=\"\",\"\",INDEX('2. závod'!$A:$CH,$K26+5,INDEX('Základní list'!$B:$B,MATCH($J26,'Základní list'!$A:$A,0),1)))","v":4300},{"$f":"IF($K26=\"\",\"\",INDEX('2. závod'!$A:$CH,$K26+5,INDEX('Základní list'!$B:$B,MATCH($J26,'Základní list'!$A:$A,0),1)+2))","v":7},"C6","A4","Feeder team Vlci-Mrs",2,9580,12,18]
[17,null,"Peřina Josef",null,"MILO Feeder Team JIHOSEVERÁCI","A",1,{"$f":"IF($G27=\"\",\"\",INDEX('1. závod'!$A:$CH,$G27+5,INDEX('Základní list'!$B:$B,MATCH($F27,'Základní list'!$A:$A,0),1)))","v":4360},{"$f":"IF($G27=\"\",\"\",INDEX('1. závod'!$A:$CH,$G27+5,INDEX('Základní list'!$B:$B,MATCH($F27,'Základní list'!$A:$A,0),1)+2))","v":6},"C",6,{"$f":"IF($K27=\"\",\"\",INDEX('2. závod'!$A:$CH,$K27+5,INDEX('Základní list'!$B:$B,MATCH($J27,'Základní list'!$A:$A,0),1)))","v":3820},{"$f":"IF($K27=\"\",\"\",INDEX('2. závod'!$A:$CH,$K27+5,INDEX('Základní list'!$B:$B,MATCH($J27,'Základní list'!$A:$A,0),1)+2))","v":6},"A1","C6","MILO Feeder Team JIHOSEVERÁCI",2,8180,12,19]
[5,null,"Ondráček Petr",null,"Ždárský kavky","B",3,{"$f":"IF($G28=\"\",\"\",INDEX('1. závod'!$A:$CH,$G28+5,INDEX('Základní list'!$B:$B,MATCH($F28,'Základní list'!$A:$A,0),1)))","v":2700},{"$f":"IF($G28=\"\",\"\",INDEX('1. závod'!$A:$CH,$G28+5,INDEX('Základní list'!$B:$B,MATCH($F28,'Základní list'!$A:$A,0),1)+2))","v":8},"A",5,{"$f":"IF($K28=\"\",\"\",INDEX('2. závod'!$A:$CH,$K28+5,INDEX('Základní list'!$B:$B,MATCH($J28,'Základní list'!$A:$A,0),1)))","v":5860},{"$f":"IF($K28=\"\",\"\",INDEX('2. závod'!$A:$CH,$K28+5,INDEX('Základní list'!$B:$B,MATCH($J28,'Základní list'!$A:$A,0),1)+2))","v":5},"B3","A5","Ždárský kavky",2,8560,13,20]
[21,null,"Ševčík Ladislav",null,"Ševčovi pacholci","B",2,{"$f":"IF($G29=\"\",\"\",INDEX('1. závod'!$A:$CH,$G29+5,INDEX('Základní list'!$B:$B,MATCH($F29,'Základní list'!$A:$A,0),1)))","v":6160},{"$f":"IF($G29=\"\",\"\",INDEX('1. závod'!$A:$CH,$G29+5,INDEX('Základní list'!$B:$B,MATCH($F29,'Základní list'!$A:$A,0),1)+2))","v":5},"C",7,{"$f":"IF($K29=\"\",\"\",INDEX('2. závod'!$A:$CH,$K29+5,INDEX('Základní list'!$B:$B,MATCH($J29,'Základní list'!$A:$A,0),1)))","v":2260},{"$f":"IF($K29=\"\",\"\",INDEX('2. závod'!$A:$CH,$K29+5,INDEX('Základní list'!$B:$B,MATCH($J29,'Základní list'!$A:$A,0),1)+2))","v":8},"B2","C7","Ševčovi pacholci",2,8420,13,21]
[19,null,"Novotný Erik",null,"Speed feeder team","A",8,{"$f":"IF($G30=\"\",\"\",INDEX('1. závod'!$A:$CH,$G30+5,INDEX('Základní list'!$B:$B,MATCH($F30,'Základní list'!$A:$A,0),1)))","v":2960},{"$f":"IF($G30=\"\",\"\",INDEX('1. závod'!$A:$CH,$G30+5,INDEX('Základní list'!$B:$B,MATCH($F30,'Základní list'!$A:$A,0),1)+2))","v":8},"A",2,{"$f":"IF($K30=\"\",\"\",INDEX('2. závod'!$A:$CH,$K30+5,INDEX('Základní list'!$B:$B,MATCH($J30,'Základní list'!$A:$A,0),1)))","v":5020},{"$f":"IF($K30=\"\",\"\",INDEX('2. závod'!$A:$CH,$K30+5,INDEX('Základní list'!$B:$B,MATCH($J30,'Základní list'!$A:$A,0),1)+2))","v":6},"A8","A2","Speed feeder team",2,7980,14,22]
[9,null,"Revai Miroslav",null,"Feeder team Vlci-MRS","A",6,{"$f":"IF($G31=\"\",\"\",INDEX('1. závod'!$A:$CH,$G31+5,INDEX('Základní list'!$B:$B,MATCH($F31,'Základní list'!$A:$A,0),1)))","v":3360},{"$f":"IF($G31=\"\",\"\",INDEX('1. závod'!$A:$CH,$G31+5,INDEX('Základní list'!$B:$B,MATCH($F31,'Základní list'!$A:$A,0),1)+2))","v":7},"C",4,{"$f":"IF($K31=\"\",\"\",INDEX('2. závod'!$A:$CH,$K31+5,INDEX('Základní list'!$B:$B,MATCH($J31,'Základní list'!$A:$A,0),1)))","v":3720},{"$f":"IF($K31=\"\",\"\",INDEX('2. závod'!$A:$CH,$K31+5,INDEX('Základní list'!$B:$B,MATCH($J31,'Základní list'!$A:$A,0),1)+2))","v":7},"A6","C4","Feeder team Vlci-MRS",2,7080,14,23]
[24,null,"Šťovčík Viktor",null,"Zauwíci","C",7,{"$f":"IF($G32=\"\",\"\",INDEX('1. závod'!$A:$CH,$G32+5,INDEX('Základní list'!$B:$B,MATCH($F32,'Základní list'!$A:$A,0),1)))","v":2900},{"$f":"IF($G32=\"\",\"\",INDEX('1. závod'!$A:$CH,$G32+5,INDEX('Základní list'!$B:$B,MATCH($F32,'Základní list'!$A:$A,0),1)+2))","v":7},"A",3,{"$f":"IF($K32=\"\",\"\",INDEX('2. závod'!$A:$CH,$K32+5,INDEX('Základní list'!$B:$B,MATCH($J32,'Základní list'!$A:$A,0),1)))","v":3880},{"$f":"IF($K32=\"\",\"\",INDEX('2. závod'!$A:$CH,$K32+5,INDEX('Základní list'!$B:$B,MATCH($J32,'Základní list'!$A:$A,0),1)+2))","v":8},"C7","A3","Zauwíci",2,6780,15,24]
[25,null,null,null,null,null,null,{"$f":"IF($G33=\"\",\"\",INDEX('1. závod'!$A:$CH,$G33+5,INDEX('Základní list'!$B:$B,MATCH($F33,'Základní list'!$A:$A,0),1)))","v":""},{"$f":"IF($G33=\"\",\"\",INDEX('1. závod'!$A:$CH,$G33+5,INDEX('Základní list'!$B:$B,MATCH($F33,'Základní list'!$A:$A,0),1)+2))","v":""},null,null,{"$f":"IF($K33=\"\",\"\",INDEX('2. závod'!$A:$CH,$K33+5,INDEX('Základní list'!$B:$B,MATCH($J33,'Základní list'!$A:$A,0),1)))","v":""},{"$f":"IF($K33=\"\",\"\",INDEX('2. závod'!$A:$CH,$K33+5,INDEX('Základní list'!$B:$B,MATCH($J33,'Základní list'!$A:$A,0),1)+2))","v":""},{"$f":"CONCATENATE(F33,G33)","v":""},{"$f":"CONCATENATE(J33,K33)","v":""},{"$f":"IF(ISBLANK(E33),\"\",E33)","v":""},{"$f":"IF(ISBLANK($C33),\"\",COUNT(I33,M33))","v":""},{"$f":"IF(ISBLANK($C33),\"\",SUM(H33,L33))","v":""},{"$f":"IF(ISBLANK($C33),\"\",SUM(I33,M33))","v":""},{"$f":"IF(ISBLANK($C33),\"\",IF(ISTEXT(T32),1,T32+1))","v":""}]
[26,null,null,null,null,null,null,{"$f":"IF($G34=\"\",\"\",INDEX('1. závod'!$A:$CH,$G34+5,INDEX('Základní list'!$B:$B,MATCH($F34,'Základní list'!$A:$A,0),1)))","v":""},{"$f":"IF($G34=\"\",\"\",INDEX('1. závod'!$A:$CH,$G34+5,INDEX('Základní list'!$B:$B,MATCH($F34,'Základní list'!$A:$A,0),1)+2))","v":""},null,null,{"$f":"IF($K34=\"\",\"\",INDEX('2. závod'!$A:$CH,$K34+5,INDEX('Základní list'!$B:$B,MATCH($J34,'Základní list'!$A:$A,0),1)))","v":""},{"$f":"IF($K34=\"\",\"\",INDEX('2. závod'!$A:$CH,$K34+5,INDEX('Základní list'!$B:$B,MATCH($J34,'Základní list'!$A:$A,0),1)+2))","v":""},"","","","","","",""]
[27,null,null,null,null,null,null,{"$f":"IF($G35=\"\",\"\",INDEX('1. závod'!$A:$CH,$G35+5,INDEX('Základní list'!$B:$B,MATCH($F35,'Základní list'!$A:$A,0),1)))","v":""},{"$f":"IF($G35=\"\",\"\",INDEX('1. závod'!$A:$CH,$G35+5,INDEX('Základní list'!$B:$B,MATCH($F35,'Základní list'!$A:$A,0),1)+2))","v":""},null,null,{"$f":"IF($K35=\"\",\"\",INDEX('2. závod'!$A:$CH,$K35+5,INDEX('Základní list'!$B:$B,MATCH($J35,'Základní list'!$A:$A,0),1)))","v":""},{"$f":"IF($K35=\"\",\"\",INDEX('2. závod'!$A:$CH,$K35+5,INDEX('Základní list'!$B:$B,MATCH($J35,'Základní list'!$A:$A,0),1)+2))","v":""},"","","","","","",""]
[28,null,null,null,null,null,null,{"$f":"IF($G36=\"\",\"\",INDEX('1. závod'!$A:$CH,$G36+5,INDEX('Základní list'!$B:$B,MATCH($F36,'Základní list'!$A:$A,0),1)))","v":""},{"$f":"IF($G36=\"\",\"\",INDEX('1. závod'!$A:$CH,$G36+5,INDEX('Základní list'!$B:$B,MATCH($F36,'Základní list'!$A:$A,0),1)+2))","v":""},null,null,{"$f":"IF($K36=\"\",\"\",INDEX('2. závod'!$A:$CH,$K36+5,INDEX('Základní list'!$B:$B,MATCH($J36,'Základní list'!$A:$A,0),1)))","v":""},{"$f":"IF($K36=\"\",\"\",INDEX('2. závod'!$A:$CH,$K36+5,INDEX('Základní list'!$B:$B,MATCH($J36,'Základní list'!$A:$A,0),1)+2))","v":""},"","","","","","",""]
[29,null,null,null,null,null,null,{"$f":"IF($G37=\"\",\"\",INDEX('1. závod'!$A:$CH,$G37+5,INDEX('Základní list'!$B:$B,MATCH($F37,'Základní list'!$A:$A,0),1)))","v":""},{"$f":"IF($G37=\"\",\"\",INDEX('1. závod'!$A:$CH,$G37+5,INDEX('Základní list'!$B:$B,MATCH($F37,'Základní list'!$A:$A,0),1)+2))","v":""},null,null,{"$f":"IF($K37=\"\",\"\",INDEX('2. závod'!$A:$CH,$K37+5,INDEX('Základní list'!$B:$B,MATCH($J37,'Základní list'!$A:$A,0),1)))","v":""},{"$f":"IF($K37=\"\",\"\",INDEX('2. závod'!$A:$CH,$K37+5,INDEX('Základní list'!$B:$B,MATCH($J37,'Základní list'!$A:$A,0),1)+2))","v":""},"","","","","","",""]
[30,null,null,null,null,null,null,{"$f":"IF($G38=\"\",\"\",INDEX('1. závod'!$A:$CH,$G38+5,INDEX('Základní list'!$B:$B,MATCH($F38,'Základní list'!$A:$A,0),1)))","v":""},{"$f":"IF($G38=\"\",\"\",INDEX('1. závod'!$A:$CH,$G38+5,INDEX('Základní list'!$B:$B,MATCH($F38,'Základní list'!$A:$A,0),1)+2))","v":""},null,null,{"$f":"IF($K38=\"\",\"\",INDEX('2. závod'!$A:$CH,$K38+5,INDEX('Základní list'!$B:$B,MATCH($J38,'Základní list'!$A:$A,0),1)))","v":""},{"$f":"IF($K38=\"\",\"\",INDEX('2. závod'!$A:$CH,$K38+5,INDEX('Základní list'!$B:$B,MATCH($J38,'Základní list'!$A:$A,0),1)+2))","v":""},"","","","","","",""]
[31,null,null,null,null,null,null,{"$f":"IF($G39=\"\",\"\",INDEX('1. závod'!$A:$CH,$G39+5,INDEX('Základní list'!$B:$B,MATCH($F39,'Základní list'!$A:$A,0),1)))","v":""},{"$f":"IF($G39=\"\",\"\",INDEX('1. závod'!$A:$CH,$G39+5,INDEX('Základní list'!$B:$B,MATCH($F39,'Základní list'!$A:$A,0),1)+2))","v":""},null,null,{"$f":"IF($K39=\"\",\"\",INDEX('2. závod'!$A:$CH,$K39+5,INDEX('Základní list'!$B:$B,MATCH($J39,'Základní list'!$A:$A,0),1)))","v":""},{"$f":"IF($K39=\"\",\"\",INDEX('2. závod'!$A:$CH,$K39+5,INDEX('Základní list'!$B:$B,MATCH($J39,'Základní list'!$A:$A,0),1)+2))","v":""},"","","","","","",""]
[32,null,null,null,null,null,null,{"$f":"IF($G40=\"\",\"\",INDEX('1. závod'!$A:$CH,$G40+5,INDEX('Základní list'!$B:$B,MATCH($F40,'Základní list'!$A:$A,0),1)))","v":""},{"$f":"IF($G40=\"\",\"\",INDEX('1. závod'!$A:$CH,$G40+5,INDEX('Základní list'!$B:$B,MATCH($F40,'Základní list'!$A:$A,0),1)+2))","v":""},null,null,{"$f":"IF($K40=\"\",\"\",INDEX('2. závod'!$A:$CH,$K40+5,INDEX('Základní list'!$B:$B,MATCH($J40,'Základní list'!$A:$A,0),1)))","v":""},{"$f":"IF($K40=\"\",\"\",INDEX('2. závod'!$A:$CH,$K40+5,INDEX('Základní list'!$B:$B,MATCH($J40,'Základní list'!$A:$A,0),1)+2))","v":""},"","","","","","",""]
[33,null,null,null,null,null,null,{"$f":"IF($G41=\"\",\"\",INDEX('1. závod'!$A:$CH,$G41+5,INDEX('Základní list'!$B:$B,MATCH($F41,'Základní list'!$A:$A,0),1)))","v":""},{"$f":"IF($G41=\"\",\"\",INDEX('1. závod'!$A:$CH,$G41+5,INDEX('Základní list'!$B:$B,MATCH($F41,'Základní list'!$A:$A,0),1)+2))","v":""},null,null,{"$f":"IF($K41=\"\",\"\",INDEX('2. závod'!$A:$CH,$K41+5,INDEX('Základní list'!$B:$B,MATCH($J41,'Základní list'!$A:$A,0),1)))","v":""},{"$f":"IF($K41=\"\",\"\",INDEX('2. závod'!$A:$CH,$K41+5,INDEX('Základní list'!$B:$B,MATCH($J41,'Základní list'!$A:$A,0),1)+2))","v":""},{"$f":"CONCATENATE(F41,G41)","v":""},{"$f":"CONCATENATE(J41,K41)","v":""},{"$f":"IF(ISBLANK(E41),\"\",E41)","v":""},{"$f":"IF(ISBLANK($C41),\"\",COUNT(I41,M41))","v":""},{"$f":"IF(ISBLANK($C41),\"\",SUM(H41,L41))","v":""},{"$f":"IF(ISBLANK($C41),\"\",SUM(I41,M41))","v":""},""]
[34,null,null,null,null,null,null,{"$f":"IF($G42=\"\",\"\",INDEX('1. závod'!$A:$CH,$G42+5,INDEX('Základní list'!$B:$B,MATCH($F42,'Základní list'!$A:$A,0),1)))","v":""},{"$f":"IF($G42=\"\",\"\",INDEX('1. závod'!$A:$CH,$G42+5,INDEX('Základní list'!$B:$B,MATCH($F42,'Základní list'!$A:$A,0),1)+2))","v":""},null,null,{"$f":"IF($K42=\"\",\"\",INDEX('2. závod'!$A:$CH,$K42+5,INDEX('Základní list'!$B:$B,MATCH($J42,'Základní list'!$A:$A,0),1)))","v":""},{"$f":"IF($K42=\"\",\"\",INDEX('2. závod'!$A:$CH,$K42+5,INDEX('Základní list'!$B:$B,MATCH($J42,'Základní list'!$A:$A,0),1)+2))","v":""},"","","","","","",""]
[35,null,null,null,null,null,null,{"$f":"IF($G43=\"\",\"\",INDEX('1. závod'!$A:$CH,$G43+5,INDEX('Základní list'!$B:$B,MATCH($F43,'Základní list'!$A:$A,0),1)))","v":""},{"$f":"IF($G43=\"\",\"\",INDEX('1. závod'!$A:$CH,$G43+5,INDEX('Základní list'!$B:$B,MATCH($F43,'Základní list'!$A:$A,0),1)+2))","v":""},null,null,{"$f":"IF($K43=\"\",\"\",INDEX('2. závod'!$A:$CH,$K43+5,INDEX('Základní list'!$B:$B,MATCH($J43,'Základní list'!$A:$A,0),1)))","v":""},{"$f":"IF($K43=\"\",\"\",INDEX('2. závod'!$A:$CH,$K43+5,INDEX('Základní list'!$B:$B,MATCH($J43,'Základní list'!$A:$A,0),1)+2))","v":""},"","","","","","",""]
[36,null,null,null,null,null,null,{"$f":"IF($G44=\"\",\"\",INDEX('1. závod'!$A:$CH,$G44+5,INDEX('Základní list'!$B:$B,MATCH($F44,'Základní list'!$A:$A,0),1)))","v":""},{"$f":"IF($G44=\"\",\"\",INDEX('1. závod'!$A:$CH,$G44+5,INDEX('Základní list'!$B:$B,MATCH($F44,'Základní list'!$A:$A,0),1)+2))","v":""},null,null,{"$f":"IF($K44=\"\",\"\",INDEX('2. závod'!$A:$CH,$K44+5,INDEX('Základní list'!$B:$B,MATCH($J44,'Základní list'!$A:$A,0),1)))","v":""},{"$f":"IF($K44=\"\",\"\",INDEX('2. závod'!$A:$CH,$K44+5,INDEX('Základní list'!$B:$B,MATCH($J44,'Základní list'!$A:$A,0),1)+2))","v":""},"","","","","","",""]
[37,null,null,null,null,null,null,{"$f":"IF($G45=\"\",\"\",INDEX('1. závod'!$A:$CH,$G45+5,INDEX('Základní list'!$B:$B,MATCH($F45,'Základní list'!$A:$A,0),1)))","v":""},{"$f":"IF($G45=\"\",\"\",INDEX('1. závod'!$A:$CH,$G45+5,INDEX('Základní list'!$B:$B,MATCH($F45,'Základní list'!$A:$A,0),1)+2))","v":""},null,null,{"$f":"IF($K45=\"\",\"\",INDEX('2. závod'!$A:$CH,$K45+5,INDEX('Základní list'!$B:$B,MATCH($J45,'Základní list'!$A:$A,0),1)))","v":""},{"$f":"IF($K45=\"\",\"\",INDEX('2. závod'!$A:$CH,$K45+5,INDEX('Základní list'!$B:$B,MATCH($J45,'Základní list'!$A:$A,0),1)+2))","v":""},"","","","","","",""]
[38,null,null,null,null,null,null,{"$f":"IF($G46=\"\",\"\",INDEX('1. závod'!$A:$CH,$G46+5,INDEX('Základní list'!$B:$B,MATCH($F46,'Základní list'!$A:$A,0),1)))","v":""},{"$f":"IF($G46=\"\",\"\",INDEX('1. závod'!$A:$CH,$G46+5,INDEX('Základní list'!$B:$B,MATCH($F46,'Základní list'!$A:$A,0),1)+2))","v":""},null,null,{"$f":"IF($K46=\"\",\"\",INDEX('2. závod'!$A:$CH,$K46+5,INDEX('Základní list'!$B:$B,MATCH($J46,'Základní list'!$A:$A,0),1)))","v":""},{"$f":"IF($K46=\"\",\"\",INDEX('2. závod'!$A:$CH,$K46+5,INDEX('Základní list'!$B:$B,MATCH($J46,'Základní list'!$A:$A,0),1)+2))","v":""},"","","","","","",""]
[39,null,null,null,null,null,null,{"$f":"IF($G47=\"\",\"\",INDEX('1. závod'!$A:$CH,$G47+5,INDEX('Základní list'!$B:$B,MATCH($F47,'Základní list'!$A:$A,0),1)))","v":""},{"$f":"IF($G47=\"\",\"\",INDEX('1. závod'!$A:$CH,$G47+5,INDEX('Základní list'!$B:$B,MATCH($F47,'Základní list'!$A:$A,0),1)+2))","v":""},null,null,{"$f":"IF($K47=\"\",\"\",INDEX('2. závod'!$A:$CH,$K47+5,INDEX('Základní list'!$B:$B,MATCH($J47,'Základní list'!$A:$A,0),1)))","v":""},{"$f":"IF($K47=\"\",\"\",INDEX('2. závod'!$A:$CH,$K47+5,INDEX('Základní list'!$B:$B,MATCH($J47,'Základní list'!$A:$A,0),1)+2))","v":""},"","","","","","",""]
[40,null,null,null,null,null,null,{"$f":"IF($G48=\"\",\"\",INDEX('1. závod'!$A:$CH,$G48+5,INDEX('Základní list'!$B:$B,MATCH($F48,'Základní list'!$A:$A,0),1)))","v":""},{"$f":"IF($G48=\"\",\"\",INDEX('1. závod'!$A:$CH,$G48+5,INDEX('Základní list'!$B:$B,MATCH($F48,'Základní list'!$A:$A,0),1)+2))","v":""},null,null,{"$f":"IF($K48=\"\",\"\",INDEX('2. závod'!$A:$CH,$K48+5,INDEX('Základní list'!$B:$B,MATCH($J48,'Základní list'!$A:$A,0),1)))","v":""},{"$f":"IF($K48=\"\",\"\",INDEX('2. závod'!$A:$CH,$K48+5,INDEX('Základní list'!$B:$B,MATCH($J48,'Základní list'!$A:$A,0),1)+2))","v":""},"","","","","","",""]
[41,null,null,null,null,null,null,{"$f":"IF($G49=\"\",\"\",INDEX('1. závod'!$A:$CH,$G49+5,INDEX('Základní list'!$B:$B,MATCH($F49,'Základní list'!$A:$A,0),1)))","v":""},{"$f":"IF($G49=\"\",\"\",INDEX('1. závod'!$A:$CH,$G49+5,INDEX('Základní list'!$B:$B,MATCH($F49,'Základní list'!$A:$A,0),1)+2))","v":""},null,null,{"$f":"IF($K49=\"\",\"\",INDEX('2. závod'!$A:$CH,$K49+5,INDEX('Základní list'!$B:$B,MATCH($J49,'Základní list'!$A:$A,0),1)))","v":""},{"$f":"IF($K49=\"\",\"\",INDEX('2. závod'!$A:$CH,$K49+5,INDEX('Základní list'!$B:$B,MATCH($J49,'Základní list'!$A:$A,0),1)+2))","v":""},"","","","","","",""]
[42,null,null,null,null,null,null,{"$f":"IF($G50=\"\",\"\",INDEX('1. závod'!$A:$CH,$G50+5,INDEX('Základní list'!$B:$B,MATCH($F50,'Základní list'!$A:$A,0),1)))","v":""},{"$f":"IF($G50=\"\",\"\",INDEX('1. závod'!$A:$CH,$G50+5,INDEX('Základní list'!$B:$B,MATCH($F50,'Základní list'!$A:$A,0),1)+2))","v":""},null,null,{"$f":"IF($K50=\"\",\"\",INDEX('2. závod'!$A:$CH,$K50+5,INDEX('Základní list'!$B:$B,MATCH($J50,'Základní list'!$A:$A,0),1)))","v":""},{"$f":"IF($K50=\"\",\"\",INDEX('2. závod'!$A:$CH,$K50+5,INDEX('Základní list'!$B:$B,MATCH($J50,'Základní list'!$A:$A,0),1)+2))","v":""},"","","","","","",""]
[43,null,null,null,null,null,null,{"$f":"IF($G51=\"\",\"\",INDEX('1. závod'!$A:$CH,$G51+5,INDEX('Základní list'!$B:$B,MATCH($F51,'Základní list'!$A:$A,0),1)))","v":""},{"$f":"IF($G51=\"\",\"\",INDEX('1. závod'!$A:$CH,$G51+5,INDEX('Základní list'!$B:$B,MATCH($F51,'Základní list'!$A:$A,0),1)+2))","v":""},null,null,{"$f":"IF($K51=\"\",\"\",INDEX('2. závod'!$A:$CH,$K51+5,INDEX('Základní list'!$B:$B,MATCH($J51,'Základní list'!$A:$A,0),1)))","v":""},{"$f":"IF($K51=\"\",\"\",INDEX('2. závod'!$A:$CH,$K51+5,INDEX('Základní list'!$B:$B,MATCH($J51,'Základní list'!$A:$A,0),1)+2))","v":""},"","","","","","",""]
[44,null,null,null,null,null,null,{"$f":"IF($G52=\"\",\"\",INDEX('1. závod'!$A:$CH,$G52+5,INDEX('Základní list'!$B:$B,MATCH($F52,'Základní list'!$A:$A,0),1)))","v":""},{"$f":"IF($G52=\"\",\"\",INDEX('1. závod'!$A:$CH,$G52+5,INDEX('Základní list'!$B:$B,MATCH($F52,'Základní list'!$A:$A,0),1)+2))","v":""},null,null,{"$f":"IF($K52=\"\",\"\",INDEX('2. závod'!$A:$CH,$K52+5,INDEX('Základní list'!$B:$B,MATCH($J52,'Základní list'!$A:$A,0),1)))","v":""},{"$f":"IF($K52=\"\",\"\",INDEX('2. závod'!$A:$CH,$K52+5,INDEX('Základní list'!$B:$B,MATCH($J52,'Základní list'!$A:$A,0),1)+2))","v":""},"","","","","","",""]
[45,null,null,null,null,null,null,{"$f":"IF($G53=\"\",\"\",INDEX('1. závod'!$A:$CH,$G53+5,INDEX('Základní list'!$B:$B,MATCH($F53,'Základní list'!$A:$A,0),1)))","v":""},{"$f":"IF($G53=\"\",\"\",INDEX('1. závod'!$A:$CH,$G53+5,INDEX('Základní list'!$B:$B,MATCH($F53,'Základní list'!$A:$A,0),1)+2))","v":""},null,null,{"$f":"IF($K53=\"\",\"\",INDEX('2. závod'!$A:$CH,$K53+5,INDEX('Základní list'!$B:$B,MATCH($J53,'Základní list'!$A:$A,0),1)))","v":""},{"$f":"IF($K53=\"\",\"\",INDEX('2. závod'!$A:$CH,$K53+5,INDEX('Základní list'!$B:$B,MATCH($J53,'Základní list'!$A:$A,0),1)+2))","v":""},"","","","","","",""]
[46,null,null,null,null,null,null,{"$f":"IF($G54=\"\",\"\",INDEX('1. závod'!$A:$CH,$G54+5,INDEX('Základní list'!$B:$B,MATCH($F54,'Základní list'!$A:$A,0),1)))","v":""},{"$f":"IF($G54=\"\",\"\",INDEX('1. závod'!$A:$CH,$G54+5,INDEX('Základní list'!$B:$B,MATCH($F54,'Základní list'!$A:$A,0),1)+2))","v":""},null,null,{"$f":"IF($K54=\"\",\"\",INDEX('2. závod'!$A:$CH,$K54+5,INDEX('Základní list'!$B:$B,MATCH($J54,'Základní list'!$A:$A,0),1)))","v":""},{"$f":"IF($K54=\"\",\"\",INDEX('2. závod'!$A:$CH,$K54+5,INDEX('Základní list'!$B:$B,MATCH($J54,'Základní list'!$A:$A,0),1)+2))","v":""},"","","","","","",""]
[47,null,null,null,null,null,null,{"$f":"IF($G55=\"\",\"\",INDEX('1. závod'!$A:$CH,$G55+5,INDEX('Základní list'!$B:$B,MATCH($F55,'Základní list'!$A:$A,0),1)))","v":""},{"$f":"IF($G55=\"\",\"\",INDEX('1. závod'!$A:$CH,$G55+5,INDEX('Základní list'!$B:$B,MATCH($F55,'Základní list'!$A:$A,0),1)+2))","v":""},null,null,{"$f":"IF($K55=\"\",\"\",INDEX('2. závod'!$A:$CH,$K55+5,INDEX('Základní list'!$B:$B,MATCH($J55,'Základní list'!$A:$A,0),1)))","v":""},{"$f":"IF($K55=\"\",\"\",INDEX('2. závod'!$A:$CH,$K55+5,INDEX('Základní list'!$B:$B,MATCH($J55,'Základní list'!$A:$A,0),1)+2))","v":""},"","","","","","",""]
[48,null,null,null,null,null,null,{"$f":"IF($G56=\"\",\"\",INDEX('1. závod'!$A:$CH,$G56+5,INDEX('Základní list'!$B:$B,MATCH($F56,'Základní list'!$A:$A,0),1)))","v":""},{"$f":"IF($G56=\"\",\"\",INDEX('1. závod'!$A:$CH,$G56+5,INDEX('Základní list'!$B:$B,MATCH($F56,'Základní list'!$A:$A,0),1)+2))","v":""},null,null,{"$f":"IF($K56=\"\",\"\",INDEX('2. závod'!$A:$CH,$K56+5,INDEX('Základní list'!$B:$B,MATCH($J56,'Základní list'!$A:$A,0),1)))","v":""},{"$f":"IF($K56=\"\",\"\",INDEX('2. závod'!$A:$CH,$K56+5,INDEX('Základní list'!$B:$B,MATCH($J56,'Základní list'!$A:$A,0),1)+2))","v":""},"","","","","","",""]
[49,null,null,null,null,null,null,{"$f":"IF($G57=\"\",\"\",INDEX('1. závod'!$A:$CH,$G57+5,INDEX('Základní list'!$B:$B,MATCH($F57,'Základní list'!$A:$A,0),1)))","v":""},{"$f":"IF($G57=\"\",\"\",INDEX('1. závod'!$A:$CH,$G57+5,INDEX('Základní list'!$B:$B,MATCH($F57,'Základní list'!$A:$A,0),1)+2))","v":""},null,null,{"$f":"IF($K57=\"\",\"\",INDEX('2. závod'!$A:$CH,$K57+5,INDEX('Základní list'!$B:$B,MATCH($J57,'Základní list'!$A:$A,0),1)))","v":""},{"$f":"IF($K57=\"\",\"\",INDEX('2. závod'!$A:$CH,$K57+5,INDEX('Základní list'!$B:$B,MATCH($J57,'Základní list'!$A:$A,0),1)+2))","v":""},"","","","","","",""]
[50,null,null,null,null,null,null,{"$f":"IF($G58=\"\",\"\",INDEX('1. závod'!$A:$CH,$G58+5,INDEX('Základní list'!$B:$B,MATCH($F58,'Základní list'!$A:$A,0),1)))","v":""},{"$f":"IF($G58=\"\",\"\",INDEX('1. závod'!$A:$CH,$G58+5,INDEX('Základní list'!$B:$B,MATCH($F58,'Základní list'!$A:$A,0),1)+2))","v":""},null,null,{"$f":"IF($K58=\"\",\"\",INDEX('2. závod'!$A:$CH,$K58+5,INDEX('Základní list'!$B:$B,MATCH($J58,'Základní list'!$A:$A,0),1)))","v":""},{"$f":"IF($K58=\"\",\"\",INDEX('2. závod'!$A:$CH,$K58+5,INDEX('Základní list'!$B:$B,MATCH($J58,'Základní list'!$A:$A,0),1)+2))","v":""},"","","","","","",""]
[51,null,null,null,null,null,null,{"$f":"IF($G59=\"\",\"\",INDEX('1. závod'!$A:$CH,$G59+5,INDEX('Základní list'!$B:$B,MATCH($F59,'Základní list'!$A:$A,0),1)))","v":""},{"$f":"IF($G59=\"\",\"\",INDEX('1. závod'!$A:$CH,$G59+5,INDEX('Základní list'!$B:$B,MATCH($F59,'Základní list'!$A:$A,0),1)+2))","v":""},null,null,{"$f":"IF($K59=\"\",\"\",INDEX('2. závod'!$A:$CH,$K59+5,INDEX('Základní list'!$B:$B,MATCH($J59,'Základní list'!$A:$A,0),1)))","v":""},{"$f":"IF($K59=\"\",\"\",INDEX('2. závod'!$A:$CH,$K59+5,INDEX('Základní list'!$B:$B,MATCH($J59,'Základní list'!$A:$A,0),1)+2))","v":""},"","","","","","",""]
[52,null,null,null,null,null,null,{"$f":"IF($G60=\"\",\"\",INDEX('1. závod'!$A:$CH,$G60+5,INDEX('Základní list'!$B:$B,MATCH($F60,'Základní list'!$A:$A,0),1)))","v":""},{"$f":"IF($G60=\"\",\"\",INDEX('1. závod'!$A:$CH,$G60+5,INDEX('Základní list'!$B:$B,MATCH($F60,'Základní list'!$A:$A,0),1)+2))","v":""},null,null,{"$f":"IF($K60=\"\",\"\",INDEX('2. závod'!$A:$CH,$K60+5,INDEX('Základní list'!$B:$B,MATCH($J60,'Základní list'!$A:$A,0),1)))","v":""},{"$f":"IF($K60=\"\",\"\",INDEX('2. závod'!$A:$CH,$K60+5,INDEX('Základní list'!$B:$B,MATCH($J60,'Základní list'!$A:$A,0),1)+2))","v":""},"","","","","","",""]
[53,null,null,null,null,null,null,{"$f":"IF($G61=\"\",\"\",INDEX('1. závod'!$A:$CH,$G61+5,INDEX('Základní list'!$B:$B,MATCH($F61,'Základní list'!$A:$A,0),1)))","v":""},{"$f":"IF($G61=\"\",\"\",INDEX('1. závod'!$A:$CH,$G61+5,INDEX('Základní list'!$B:$B,MATCH($F61,'Základní list'!$A:$A,0),1)+2))","v":""},null,null,{"$f":"IF($K61=\"\",\"\",INDEX('2. závod'!$A:$CH,$K61+5,INDEX('Základní list'!$B:$B,MATCH($J61,'Základní list'!$A:$A,0),1)))","v":""},{"$f":"IF($K61=\"\",\"\",INDEX('2. závod'!$A:$CH,$K61+5,INDEX('Základní list'!$B:$B,MATCH($J61,'Základní list'!$A:$A,0),1)+2))","v":""},"","","","","","",""]
[54,null,null,null,null,null,null,{"$f":"IF($G62=\"\",\"\",INDEX('1. závod'!$A:$CH,$G62+5,INDEX('Základní list'!$B:$B,MATCH($F62,'Základní list'!$A:$A,0),1)))","v":""},{"$f":"IF($G62=\"\",\"\",INDEX('1. závod'!$A:$CH,$G62+5,INDEX('Základní list'!$B:$B,MATCH($F62,'Základní list'!$A:$A,0),1)+2))","v":""},null,null,{"$f":"IF($K62=\"\",\"\",INDEX('2. závod'!$A:$CH,$K62+5,INDEX('Základní list'!$B:$B,MATCH($J62,'Základní list'!$A:$A,0),1)))","v":""},{"$f":"IF($K62=\"\",\"\",INDEX('2. závod'!$A:$CH,$K62+5,INDEX('Základní list'!$B:$B,MATCH($J62,'Základní list'!$A:$A,0),1)+2))","v":""},"","","","","","",""]
[55,null,null,null,null,null,null,{"$f":"IF($G63=\"\",\"\",INDEX('1. závod'!$A:$CH,$G63+5,INDEX('Základní list'!$B:$B,MATCH($F63,'Základní list'!$A:$A,0),1)))","v":""},{"$f":"IF($G63=\"\",\"\",INDEX('1. závod'!$A:$CH,$G63+5,INDEX('Základní list'!$B:$B,MATCH($F63,'Základní list'!$A:$A,0),1)+2))","v":""},null,null,{"$f":"IF($K63=\"\",\"\",INDEX('2. závod'!$A:$CH,$K63+5,INDEX('Základní list'!$B:$B,MATCH($J63,'Základní list'!$A:$A,0),1)))","v":""},{"$f":"IF($K63=\"\",\"\",INDEX('2. závod'!$A:$CH,$K63+5,INDEX('Základní list'!$B:$B,MATCH($J63,'Základní list'!$A:$A,0),1)+2))","v":""},"","","","","","",""]
[56,null,null,null,null,null,null,{"$f":"IF($G64=\"\",\"\",INDEX('1. závod'!$A:$CH,$G64+5,INDEX('Základní list'!$B:$B,MATCH($F64,'Základní list'!$A:$A,0),1)))","v":""},{"$f":"IF($G64=\"\",\"\",INDEX('1. závod'!$A:$CH,$G64+5,INDEX('Základní list'!$B:$B,MATCH($F64,'Základní list'!$A:$A,0),1)+2))","v":""},null,null,{"$f":"IF($K64=\"\",\"\",INDEX('2. závod'!$A:$CH,$K64+5,INDEX('Základní list'!$B:$B,MATCH($J64,'Základní list'!$A:$A,0),1)))","v":""},{"$f":"IF($K64=\"\",\"\",INDEX('2. závod'!$A:$CH,$K64+5,INDEX('Základní list'!$B:$B,MATCH($J64,'Základní list'!$A:$A,0),1)+2))","v":""},"","","","","","",""]
[57,null,null,null,null,null,null,{"$f":"IF($G65=\"\",\"\",INDEX('1. závod'!$A:$CH,$G65+5,INDEX('Základní list'!$B:$B,MATCH($F65,'Základní list'!$A:$A,0),1)))","v":""},{"$f":"IF($G65=\"\",\"\",INDEX('1. závod'!$A:$CH,$G65+5,INDEX('Základní list'!$B:$B,MATCH($F65,'Základní list'!$A:$A,0),1)+2))","v":""},null,null,{"$f":"IF($K65=\"\",\"\",INDEX('2. závod'!$A:$CH,$K65+5,INDEX('Základní list'!$B:$B,MATCH($J65,'Základní list'!$A:$A,0),1)))","v":""},{"$f":"IF($K65=\"\",\"\",INDEX('2. závod'!$A:$CH,$K65+5,INDEX('Základní list'!$B:$B,MATCH($J65,'Základní list'!$A:$A,0),1)+2))","v":""},"","","","","","",""]
[58,null,null,null,null,null,null,{"$f":"IF($G66=\"\",\"\",INDEX('1. závod'!$A:$CH,$G66+5,INDEX('Základní list'!$B:$B,MATCH($F66,'Základní list'!$A:$A,0),1)))","v":""},{"$f":"IF($G66=\"\",\"\",INDEX('1. závod'!$A:$CH,$G66+5,INDEX('Základní list'!$B:$B,MATCH($F66,'Základní list'!$A:$A,0),1)+2))","v":""},null,null,{"$f":"IF($K66=\"\",\"\",INDEX('2. závod'!$A:$CH,$K66+5,INDEX('Základní list'!$B:$B,MATCH($J66,'Základní list'!$A:$A,0),1)))","v":""},{"$f":"IF($K66=\"\",\"\",INDEX('2. závod'!$A:$CH,$K66+5,INDEX('Základní list'!$B:$B,MATCH($J66,'Základní list'!$A:$A,0),1)+2))","v":""},{"$f":"CONCATENATE(F66,G66)","v":""},{"$f":"CONCATENATE(J66,K66)","v":""},{"$f":"IF(ISBLANK(E66),\"\",E66)","v":""},{"$f":"IF(ISBLANK($C66),\"\",COUNT(I66,M66))","v":""},{"$f":"IF(ISBLANK($C66),\"\",SUM(H66,L66))","v":""},{"$f":"IF(ISBLANK($C66),\"\",SUM(I66,M66))","v":""},""]
[59,null,null,null,null,null,null,{"$f":"IF($G67=\"\",\"\",INDEX('1. závod'!$A:$CH,$G67+5,INDEX('Základní list'!$B:$B,MATCH($F67,'Základní list'!$A:$A,0),1)))","v":""},{"$f":"IF($G67=\"\",\"\",INDEX('1. závod'!$A:$CH,$G67+5,INDEX('Základní list'!$B:$B,MATCH($F67,'Základní list'!$A:$A,0),1)+2))","v":""},null,null,{"$f":"IF($K67=\"\",\"\",INDEX('2. závod'!$A:$CH,$K67+5,INDEX('Základní list'!$B:$B,MATCH($J67,'Základní list'!$A:$A,0),1)))","v":""},{"$f":"IF($K67=\"\",\"\",INDEX('2. závod'!$A:$CH,$K67+5,INDEX('Základní list'!$B:$B,MATCH($J67,'Základní list'!$A:$A,0),1)+2))","v":""},"","","","","","",""]
[60,null,null,null,null,null,null,{"$f":"IF($G68=\"\",\"\",INDEX('1. závod'!$A:$CH,$G68+5,INDEX('Základní list'!$B:$B,MATCH($F68,'Základní list'!$A:$A,0),1)))","v":""},{"$f":"IF($G68=\"\",\"\",INDEX('1. závod'!$A:$CH,$G68+5,INDEX('Základní list'!$B:$B,MATCH($F68,'Základní list'!$A:$A,0),1)+2))","v":""},null,null,{"$f":"IF($K68=\"\",\"\",INDEX('2. závod'!$A:$CH,$K68+5,INDEX('Základní list'!$B:$B,MATCH($J68,'Základní list'!$A:$A,0),1)))","v":""},{"$f":"IF($K68=\"\",\"\",INDEX('2. závod'!$A:$CH,$K68+5,INDEX('Základní list'!$B:$B,MATCH($J68,'Základní list'!$A:$A,0),1)+2))","v":""},"","","","","","",""]
[61,null,null,null,null,null,null,{"$f":"IF($G69=\"\",\"\",INDEX('1. závod'!$A:$CH,$G69+5,INDEX('Základní list'!$B:$B,MATCH($F69,'Základní list'!$A:$A,0),1)))","v":""},{"$f":"IF($G69=\"\",\"\",INDEX('1. závod'!$A:$CH,$G69+5,INDEX('Základní list'!$B:$B,MATCH($F69,'Základní list'!$A:$A,0),1)+2))","v":""},null,null,{"$f":"IF($K69=\"\",\"\",INDEX('2. závod'!$A:$CH,$K69+5,INDEX('Základní list'!$B:$B,MATCH($J69,'Základní list'!$A:$A,0),1)))","v":""},{"$f":"IF($K69=\"\",\"\",INDEX('2. závod'!$A:$CH,$K69+5,INDEX('Základní list'!$B:$B,MATCH($J69,'Základní list'!$A:$A,0),1)+2))","v":""},"","","","","","",""]
[62,null,null,null,null,null,null,{"$f":"IF($G70=\"\",\"\",INDEX('1. závod'!$A:$CH,$G70+5,INDEX('Základní list'!$B:$B,MATCH($F70,'Základní list'!$A:$A,0),1)))","v":""},{"$f":"IF($G70=\"\",\"\",INDEX('1. závod'!$A:$CH,$G70+5,INDEX('Základní list'!$B:$B,MATCH($F70,'Základní list'!$A:$A,0),1)+2))","v":""},null,null,{"$f":"IF($K70=\"\",\"\",INDEX('2. závod'!$A:$CH,$K70+5,INDEX('Základní list'!$B:$B,MATCH($J70,'Základní list'!$A:$A,0),1)))","v":""},{"$f":"IF($K70=\"\",\"\",INDEX('2. závod'!$A:$CH,$K70+5,INDEX('Základní list'!$B:$B,MATCH($J70,'Základní list'!$A:$A,0),1)+2))","v":""},"","","","","","",""]
[63,null,null,null,null,null,null,{"$f":"IF($G71=\"\",\"\",INDEX('1. závod'!$A:$CH,$G71+5,INDEX('Základní list'!$B:$B,MATCH($F71,'Základní list'!$A:$A,0),1)))","v":""},{"$f":"IF($G71=\"\",\"\",INDEX('1. závod'!$A:$CH,$G71+5,INDEX('Základní list'!$B:$B,MATCH($F71,'Základní list'!$A:$A,0),1)+2))","v":""},null,null,{"$f":"IF($K71=\"\",\"\",INDEX('2. závod'!$A:$CH,$K71+5,INDEX('Základní list'!$B:$B,MATCH($J71,'Základní list'!$A:$A,0),1)))","v":""},{"$f":"IF($K71=\"\",\"\",INDEX('2. závod'!$A:$CH,$K71+5,INDEX('Základní list'!$B:$B,MATCH($J71,'Základní list'!$A:$A,0),1)+2))","v":""},"","","","","","",""]
[64,null,null,null,null,null,null,{"$f":"IF($G72=\"\",\"\",INDEX('1. závod'!$A:$CH,$G72+5,INDEX('Základní list'!$B:$B,MATCH($F72,'Základní list'!$A:$A,0),1)))","v":""},{"$f":"IF($G72=\"\",\"\",INDEX('1. závod'!$A:$CH,$G72+5,INDEX('Základní list'!$B:$B,MATCH($F72,'Základní list'!$A:$A,0),1)+2))","v":""},null,null,{"$f":"IF($K72=\"\",\"\",INDEX('2. závod'!$A:$CH,$K72+5,INDEX('Základní list'!$B:$B,MATCH($J72,'Základní list'!$A:$A,0),1)))","v":""},{"$f":"IF($K72=\"\",\"\",INDEX('2. závod'!$A:$CH,$K72+5,INDEX('Základní list'!$B:$B,MATCH($J72,'Základní list'!$A:$A,0),1)+2))","v":""},"","","","","","",""]
[65,null,null,null,null,null,null,{"$f":"IF($G73=\"\",\"\",INDEX('1. závod'!$A:$CH,$G73+5,INDEX('Základní list'!$B:$B,MATCH($F73,'Základní list'!$A:$A,0),1)))","v":""},{"$f":"IF($G73=\"\",\"\",INDEX('1. závod'!$A:$CH,$G73+5,INDEX('Základní list'!$B:$B,MATCH($F73,'Základní list'!$A:$A,0),1)+2))","v":""},null,null,{"$f":"IF($K73=\"\",\"\",INDEX('2. závod'!$A:$CH,$K73+5,INDEX('Základní list'!$B:$B,MATCH($J73,'Základní list'!$A:$A,0),1)))","v":""},{"$f":"IF($K73=\"\",\"\",INDEX('2. závod'!$A:$CH,$K73+5,INDEX('Základní list'!$B:$B,MATCH($J73,'Základní list'!$A:$A,0),1)+2))","v":""},"","","","","","",""]
[66,null,null,null,null,null,null,{"$f":"IF($G74=\"\",\"\",INDEX('1. závod'!$A:$CH,$G74+5,INDEX('Základní list'!$B:$B,MATCH($F74,'Základní list'!$A:$A,0),1)))","v":""},{"$f":"IF($G74=\"\",\"\",INDEX('1. závod'!$A:$CH,$G74+5,INDEX('Základní list'!$B:$B,MATCH($F74,'Základní list'!$A:$A,0),1)+2))","v":""},null,null,{"$f":"IF($K74=\"\",\"\",INDEX('2. závod'!$A:$CH,$K74+5,INDEX('Základní list'!$B:$B,MATCH($J74,'Základní list'!$A:$A,0),1)))","v":""},{"$f":"IF($K74=\"\",\"\",INDEX('2. závod'!$A:$CH,$K74+5,INDEX('Základní list'!$B:$B,MATCH($J74,'Základní list'!$A:$A,0),1)+2))","v":""},{"$f":"CONCATENATE(F74,G74)","v":""},{"$f":"CONCATENATE(J74,K74)","v":""},{"$f":"IF(ISBLANK(E74),\"\",E74)","v":""},{"$f":"IF(ISBLANK($C74),\"\",COUNT(I74,M74))","v":""},{"$f":"IF(ISBLANK($C74),\"\",SUM(H74,L74))","v":""},{"$f":"IF(ISBLANK($C74),\"\",SUM(I74,M74))","v":""},""]
[67,null,null,null,null,null,null,{"$f":"IF($G75=\"\",\"\",INDEX('1. závod'!$A:$CH,$G75+5,INDEX('Základní list'!$B:$B,MATCH($F75,'Základní list'!$A:$A,0),1)))","v":""},{"$f":"IF($G75=\"\",\"\",INDEX('1. závod'!$A:$CH,$G75+5,INDEX('Základní list'!$B:$B,MATCH($F75,'Základní list'!$A:$A,0),1)+2))","v":""},null,null,{"$f":"IF($K75=\"\",\"\",INDEX('2. závod'!$A:$CH,$K75+5,INDEX('Základní list'!$B:$B,MATCH($J75,'Základní list'!$A:$A,0),1)))","v":""},{"$f":"IF($K75=\"\",\"\",INDEX('2. závod'!$A:$CH,$K75+5,INDEX('Základní list'!$B:$B,MATCH($J75,'Základní list'!$A:$A,0),1)+2))","v":""},"","","","","","",""]
[68,null,null,null,null,null,null,{"$f":"IF($G76=\"\",\"\",INDEX('1. závod'!$A:$CH,$G76+5,INDEX('Základní list'!$B:$B,MATCH($F76,'Základní list'!$A:$A,0),1)))","v":""},{"$f":"IF($G76=\"\",\"\",INDEX('1. závod'!$A:$CH,$G76+5,INDEX('Základní list'!$B:$B,MATCH($F76,'Základní list'!$A:$A,0),1)+2))","v":""},null,null,{"$f":"IF($K76=\"\",\"\",INDEX('2. závod'!$A:$CH,$K76+5,INDEX('Základní list'!$B:$B,MATCH($J76,'Základní list'!$A:$A,0),1)))","v":""},{"$f":"IF($K76=\"\",\"\",INDEX('2. závod'!$A:$CH,$K76+5,INDEX('Základní list'!$B:$B,MATCH($J76,'Základní list'!$A:$A,0),1)+2))","v":""},"","","","","","",""]
[69,null,null,null,null,null,null,{"$f":"IF($G77=\"\",\"\",INDEX('1. závod'!$A:$CH,$G77+5,INDEX('Základní list'!$B:$B,MATCH($F77,'Základní list'!$A:$A,0),1)))","v":""},{"$f":"IF($G77=\"\",\"\",INDEX('1. závod'!$A:$CH,$G77+5,INDEX('Základní list'!$B:$B,MATCH($F77,'Základní list'!$A:$A,0),1)+2))","v":""},null,null,{"$f":"IF($K77=\"\",\"\",INDEX('2. závod'!$A:$CH,$K77+5,INDEX('Základní list'!$B:$B,MATCH($J77,'Základní list'!$A:$A,0),1)))","v":""},{"$f":"IF($K77=\"\",\"\",INDEX('2. závod'!$A:$CH,$K77+5,INDEX('Základní list'!$B:$B,MATCH($J77,'Základní list'!$A:$A,0),1)+2))","v":""},"","","","","","",""]
[70,null,null,null,null,null,null,{"$f":"IF($G78=\"\",\"\",INDEX('1. závod'!$A:$CH,$G78+5,INDEX('Základní list'!$B:$B,MATCH($F78,'Základní list'!$A:$A,0),1)))","v":""},{"$f":"IF($G78=\"\",\"\",INDEX('1. závod'!$A:$CH,$G78+5,INDEX('Základní list'!$B:$B,MATCH($F78,'Základní list'!$A:$A,0),1)+2))","v":""},null,null,{"$f":"IF($K78=\"\",\"\",INDEX('2. závod'!$A:$CH,$K78+5,INDEX('Základní list'!$B:$B,MATCH($J78,'Základní list'!$A:$A,0),1)))","v":""},{"$f":"IF($K78=\"\",\"\",INDEX('2. závod'!$A:$CH,$K78+5,INDEX('Základní list'!$B:$B,MATCH($J78,'Základní list'!$A:$A,0),1)+2))","v":""},"","","","","","",""]
[71,null,null,null,null,null,null,{"$f":"IF($G79=\"\",\"\",INDEX('1. závod'!$A:$CH,$G79+5,INDEX('Základní list'!$B:$B,MATCH($F79,'Základní list'!$A:$A,0),1)))","v":""},{"$f":"IF($G79=\"\",\"\",INDEX('1. závod'!$A:$CH,$G79+5,INDEX('Základní list'!$B:$B,MATCH($F79,'Základní list'!$A:$A,0),1)+2))","v":""},null,null,{"$f":"IF($K79=\"\",\"\",INDEX('2. závod'!$A:$CH,$K79+5,INDEX('Základní list'!$B:$B,MATCH($J79,'Základní list'!$A:$A,0),1)))","v":""},{"$f":"IF($K79=\"\",\"\",INDEX('2. závod'!$A:$CH,$K79+5,INDEX('Základní list'!$B:$B,MATCH($J79,'Základní list'!$A:$A,0),1)+2))","v":""},"","","","","","",""]
[72,null,null,null,null,null,null,{"$f":"IF($G80=\"\",\"\",INDEX('1. závod'!$A:$CH,$G80+5,INDEX('Základní list'!$B:$B,MATCH($F80,'Základní list'!$A:$A,0),1)))","v":""},{"$f":"IF($G80=\"\",\"\",INDEX('1. závod'!$A:$CH,$G80+5,INDEX('Základní list'!$B:$B,MATCH($F80,'Základní list'!$A:$A,0),1)+2))","v":""},null,null,{"$f":"IF($K80=\"\",\"\",INDEX('2. závod'!$A:$CH,$K80+5,INDEX('Základní list'!$B:$B,MATCH($J80,'Základní list'!$A:$A,0),1)))","v":""},{"$f":"IF($K80=\"\",\"\",INDEX('2. závod'!$A:$CH,$K80+5,INDEX('Základní list'!$B:$B,MATCH($J80,'Základní list'!$A:$A,0),1)+2))","v":""},"","","","","","",""]
[73,null,null,null,null,null,null,{"$f":"IF($G81=\"\",\"\",INDEX('1. závod'!$A:$CH,$G81+5,INDEX('Základní list'!$B:$B,MATCH($F81,'Základní list'!$A:$A,0),1)))","v":""},{"$f":"IF($G81=\"\",\"\",INDEX('1. závod'!$A:$CH,$G81+5,INDEX('Základní list'!$B:$B,MATCH($F81,'Základní list'!$A:$A,0),1)+2))","v":""},null,null,{"$f":"IF($K81=\"\",\"\",INDEX('2. závod'!$A:$CH,$K81+5,INDEX('Základní list'!$B:$B,MATCH($J81,'Základní list'!$A:$A,0),1)))","v":""},{"$f":"IF($K81=\"\",\"\",INDEX('2. závod'!$A:$CH,$K81+5,INDEX('Základní list'!$B:$B,MATCH($J81,'Základní list'!$A:$A,0),1)+2))","v":""},"","","","","","",""]
[74,null,null,null,null,null,null,{"$f":"IF($G82=\"\",\"\",INDEX('1. závod'!$A:$CH,$G82+5,INDEX('Základní list'!$B:$B,MATCH($F82,'Základní list'!$A:$A,0),1)))","v":""},{"$f":"IF($G82=\"\",\"\",INDEX('1. závod'!$A:$CH,$G82+5,INDEX('Základní list'!$B:$B,MATCH($F82,'Základní list'!$A:$A,0),1)+2))","v":""},null,null,{"$f":"IF($K82=\"\",\"\",INDEX('2. závod'!$A:$CH,$K82+5,INDEX('Základní list'!$B:$B,MATCH($J82,'Základní list'!$A:$A,0),1)))","v":""},{"$f":"IF($K82=\"\",\"\",INDEX('2. závod'!$A:$CH,$K82+5,INDEX('Základní list'!$B:$B,MATCH($J82,'Základní list'!$A:$A,0),1)+2))","v":""},"","","","","","",""]
[75,null,null,null,null,null,null,{"$f":"IF($G83=\"\",\"\",INDEX('1. závod'!$A:$CH,$G83+5,INDEX('Základní list'!$B:$B,MATCH($F83,'Základní list'!$A:$A,0),1)))","v":""},{"$f":"IF($G83=\"\",\"\",INDEX('1. závod'!$A:$CH,$G83+5,INDEX('Základní list'!$B:$B,MATCH($F83,'Základní list'!$A:$A,0),1)+2))","v":""},null,null,{"$f":"IF($K83=\"\",\"\",INDEX('2. závod'!$A:$CH,$K83+5,INDEX('Základní list'!$B:$B,MATCH($J83,'Základní list'!$A:$A,0),1)))","v":""},{"$f":"IF($K83=\"\",\"\",INDEX('2. závod'!$A:$CH,$K83+5,INDEX('Základní list'!$B:$B,MATCH($J83,'Základní list'!$A:$A,0),1)+2))","v":""},"","","","","","",""]
[76,null,null,null,null,null,null,{"$f":"IF($G84=\"\",\"\",INDEX('1. závod'!$A:$CH,$G84+5,INDEX('Základní list'!$B:$B,MATCH($F84,'Základní list'!$A:$A,0),1)))","v":""},{"$f":"IF($G84=\"\",\"\",INDEX('1. závod'!$A:$CH,$G84+5,INDEX('Základní list'!$B:$B,MATCH($F84,'Základní list'!$A:$A,0),1)+2))","v":""},null,null,{"$f":"IF($K84=\"\",\"\",INDEX('2. závod'!$A:$CH,$K84+5,INDEX('Základní list'!$B:$B,MATCH($J84,'Základní list'!$A:$A,0),1)))","v":""},{"$f":"IF($K84=\"\",\"\",INDEX('2. závod'!$A:$CH,$K84+5,INDEX('Základní list'!$B:$B,MATCH($J84,'Základní list'!$A:$A,0),1)+2))","v":""},"","","","","","",""]
[77,null,null,null,null,null,null,{"$f":"IF($G85=\"\",\"\",INDEX('1. závod'!$A:$CH,$G85+5,INDEX('Základní list'!$B:$B,MATCH($F85,'Základní list'!$A:$A,0),1)))","v":""},{"$f":"IF($G85=\"\",\"\",INDEX('1. závod'!$A:$CH,$G85+5,INDEX('Základní list'!$B:$B,MATCH($F85,'Základní list'!$A:$A,0),1)+2))","v":""},null,null,{"$f":"IF($K85=\"\",\"\",INDEX('2. závod'!$A:$CH,$K85+5,INDEX('Základní list'!$B:$B,MATCH($J85,'Základní list'!$A:$A,0),1)))","v":""},{"$f":"IF($K85=\"\",\"\",INDEX('2. závod'!$A:$CH,$K85+5,INDEX('Základní list'!$B:$B,MATCH($J85,'Základní list'!$A:$A,0),1)+2))","v":""},"","","","","","",""]
[78,null,null,null,null,null,null,{"$f":"IF($G86=\"\",\"\",INDEX('1. závod'!$A:$CH,$G86+5,INDEX('Základní list'!$B:$B,MATCH($F86,'Základní list'!$A:$A,0),1)))","v":""},{"$f":"IF($G86=\"\",\"\",INDEX('1. závod'!$A:$CH,$G86+5,INDEX('Základní list'!$B:$B,MATCH($F86,'Základní list'!$A:$A,0),1)+2))","v":""},null,null,{"$f":"IF($K86=\"\",\"\",INDEX('2. závod'!$A:$CH,$K86+5,INDEX('Základní list'!$B:$B,MATCH($J86,'Základní list'!$A:$A,0),1)))","v":""},{"$f":"IF($K86=\"\",\"\",INDEX('2. závod'!$A:$CH,$K86+5,INDEX('Základní list'!$B:$B,MATCH($J86,'Základní list'!$A:$A,0),1)+2))","v":""},"","","","","","",""]
[79,null,null,null,null,null,null,{"$f":"IF($G87=\"\",\"\",INDEX('1. závod'!$A:$CH,$G87+5,INDEX('Základní list'!$B:$B,MATCH($F87,'Základní list'!$A:$A,0),1)))","v":""},{"$f":"IF($G87=\"\",\"\",INDEX('1. závod'!$A:$CH,$G87+5,INDEX('Základní list'!$B:$B,MATCH($F87,'Základní list'!$A:$A,0),1)+2))","v":""},null,null,{"$f":"IF($K87=\"\",\"\",INDEX('2. závod'!$A:$CH,$K87+5,INDEX('Základní list'!$B:$B,MATCH($J87,'Základní list'!$A:$A,0),1)))","v":""},{"$f":"IF($K87=\"\",\"\",INDEX('2. závod'!$A:$CH,$K87+5,INDEX('Základní list'!$B:$B,MATCH($J87,'Základní list'!$A:$A,0),1)+2))","v":""},"","","","","","",""]
[80,null,null,null,null,null,null,{"$f":"IF($G88=\"\",\"\",INDEX('1. závod'!$A:$CH,$G88+5,INDEX('Základní list'!$B:$B,MATCH($F88,'Základní list'!$A:$A,0),1)))","v":""},{"$f":"IF($G88=\"\",\"\",INDEX('1. závod'!$A:$CH,$G88+5,INDEX('Základní list'!$B:$B,MATCH($F88,'Základní list'!$A:$A,0),1)+2))","v":""},null,null,{"$f":"IF($K88=\"\",\"\",INDEX('2. závod'!$A:$CH,$K88+5,INDEX('Základní list'!$B:$B,MATCH($J88,'Základní list'!$A:$A,0),1)))","v":""},{"$f":"IF($K88=\"\",\"\",INDEX('2. závod'!$A:$CH,$K88+5,INDEX('Základní list'!$B:$B,MATCH($J88,'Základní list'!$A:$A,0),1)+2))","v":""},"","","","","","",""]
[81,null,null,null,null,null,null,{"$f":"IF($G89=\"\",\"\",INDEX('1. závod'!$A:$CH,$G89+5,INDEX('Základní list'!$B:$B,MATCH($F89,'Základní list'!$A:$A,0),1)))","v":""},{"$f":"IF($G89=\"\",\"\",INDEX('1. závod'!$A:$CH,$G89+5,INDEX('Základní list'!$B:$B,MATCH($F89,'Základní list'!$A:$A,0),1)+2))","v":""},null,null,{"$f":"IF($K89=\"\",\"\",INDEX('2. závod'!$A:$CH,$K89+5,INDEX('Základní list'!$B:$B,MATCH($J89,'Základní list'!$A:$A,0),1)))","v":""},{"$f":"IF($K89=\"\",\"\",INDEX('2. závod'!$A:$CH,$K89+5,INDEX('Základní list'!$B:$B,MATCH($J89,'Základní list'!$A:$A,0),1)+2))","v":""},"","","","","","",""]
[82,null,null,null,null,null,null,{"$f":"IF($G90=\"\",\"\",INDEX('1. závod'!$A:$CH,$G90+5,INDEX('Základní list'!$B:$B,MATCH($F90,'Základní list'!$A:$A,0),1)))","v":""},{"$f":"IF($G90=\"\",\"\",INDEX('1. závod'!$A:$CH,$G90+5,INDEX('Základní list'!$B:$B,MATCH($F90,'Základní list'!$A:$A,0),1)+2))","v":""},null,null,{"$f":"IF($K90=\"\",\"\",INDEX('2. závod'!$A:$CH,$K90+5,INDEX('Základní list'!$B:$B,MATCH($J90,'Základní list'!$A:$A,0),1)))","v":""},{"$f":"IF($K90=\"\",\"\",INDEX('2. závod'!$A:$CH,$K90+5,INDEX('Základní list'!$B:$B,MATCH($J90,'Základní list'!$A:$A,0),1)+2))","v":""},"","","","","","",""]
[83,null,null,null,null,null,null,{"$f":"IF($G91=\"\",\"\",INDEX('1. závod'!$A:$CH,$G91+5,INDEX('Základní list'!$B:$B,MATCH($F91,'Základní list'!$A:$A,0),1)))","v":""},{"$f":"IF($G91=\"\",\"\",INDEX('1. závod'!$A:$CH,$G91+5,INDEX('Základní list'!$B:$B,MATCH($F91,'Základní list'!$A:$A,0),1)+2))","v":""},null,null,{"$f":"IF($K91=\"\",\"\",INDEX('2. závod'!$A:$CH,$K91+5,INDEX('Základní list'!$B:$B,MATCH($J91,'Základní list'!$A:$A,0),1)))","v":""},{"$f":"IF($K91=\"\",\"\",INDEX('2. závod'!$A:$CH,$K91+5,INDEX('Základní list'!$B:$B,MATCH($J91,'Základní list'!$A:$A,0),1)+2))","v":""},"","","","","","",""]
[84,null,null,null,null,null,null,{"$f":"IF($G92=\"\",\"\",INDEX('1. závod'!$A:$CH,$G92+5,INDEX('Základní list'!$B:$B,MATCH($F92,'Základní list'!$A:$A,0),1)))","v":""},{"$f":"IF($G92=\"\",\"\",INDEX('1. závod'!$A:$CH,$G92+5,INDEX('Základní list'!$B:$B,MATCH($F92,'Základní list'!$A:$A,0),1)+2))","v":""},null,null,{"$f":"IF($K92=\"\",\"\",INDEX('2. závod'!$A:$CH,$K92+5,INDEX('Základní list'!$B:$B,MATCH($J92,'Základní list'!$A:$A,0),1)))","v":""},{"$f":"IF($K92=\"\",\"\",INDEX('2. závod'!$A:$CH,$K92+5,INDEX('Základní list'!$B:$B,MATCH($J92,'Základní list'!$A:$A,0),1)+2))","v":""},"","","","","","",""]
[85,null,null,null,null,null,null,{"$f":"IF($G93=\"\",\"\",INDEX('1. závod'!$A:$CH,$G93+5,INDEX('Základní list'!$B:$B,MATCH($F93,'Základní list'!$A:$A,0),1)))","v":""},{"$f":"IF($G93=\"\",\"\",INDEX('1. závod'!$A:$CH,$G93+5,INDEX('Základní list'!$B:$B,MATCH($F93,'Základní list'!$A:$A,0),1)+2))","v":""},null,null,{"$f":"IF($K93=\"\",\"\",INDEX('2. závod'!$A:$CH,$K93+5,INDEX('Základní list'!$B:$B,MATCH($J93,'Základní list'!$A:$A,0),1)))","v":""},{"$f":"IF($K93=\"\",\"\",INDEX('2. závod'!$A:$CH,$K93+5,INDEX('Základní list'!$B:$B,MATCH($J93,'Základní list'!$A:$A,0),1)+2))","v":""},"","","","","","",""]
[86,null,null,null,null,null,null,{"$f":"IF($G94=\"\",\"\",INDEX('1. závod'!$A:$CH,$G94+5,INDEX('Základní list'!$B:$B,MATCH($F94,'Základní list'!$A:$A,0),1)))","v":""},{"$f":"IF($G94=\"\",\"\",INDEX('1. závod'!$A:$CH,$G94+5,INDEX('Základní list'!$B:$B,MATCH($F94,'Základní list'!$A:$A,0),1)+2))","v":""},null,null,{"$f":"IF($K94=\"\",\"\",INDEX('2. závod'!$A:$CH,$K94+5,INDEX('Základní list'!$B:$B,MATCH($J94,'Základní list'!$A:$A,0),1)))","v":""},{"$f":"IF($K94=\"\",\"\",INDEX('2. závod'!$A:$CH,$K94+5,INDEX('Základní list'!$B:$B,MATCH($J94,'Základní list'!$A:$A,0),1)+2))","v":""},"","","","","","",""]
[87,null,null,null,null,null,null,{"$f":"IF($G95=\"\",\"\",INDEX('1. závod'!$A:$CH,$G95+5,INDEX('Základní list'!$B:$B,MATCH($F95,'Základní list'!$A:$A,0),1)))","v":""},{"$f":"IF($G95=\"\",\"\",INDEX('1. závod'!$A:$CH,$G95+5,INDEX('Základní list'!$B:$B,MATCH($F95,'Základní list'!$A:$A,0),1)+2))","v":""},null,null,{"$f":"IF($K95=\"\",\"\",INDEX('2. závod'!$A:$CH,$K95+5,INDEX('Základní list'!$B:$B,MATCH($J95,'Základní list'!$A:$A,0),1)))","v":""},{"$f":"IF($K95=\"\",\"\",INDEX('2. závod'!$A:$CH,$K95+5,INDEX('Základní list'!$B:$B,MATCH($J95,'Základní list'!$A:$A,0),1)+2))","v":""},"","","","","","",""]
[88,null,null,null,null,null,null,{"$f":"IF($G96=\"\",\"\",INDEX('1. závod'!$A:$CH,$G96+5,INDEX('Základní list'!$B:$B,MATCH($F96,'Základní list'!$A:$A,0),1)))","v":""},{"$f":"IF($G96=\"\",\"\",INDEX('1. závod'!$A:$CH,$G96+5,INDEX('Základní list'!$B:$B,MATCH($F96,'Základní list'!$A:$A,0),1)+2))","v":""},null,null,{"$f":"IF($K96=\"\",\"\",INDEX('2. závod'!$A:$CH,$K96+5,INDEX('Základní list'!$B:$B,MATCH($J96,'Základní list'!$A:$A,0),1)))","v":""},{"$f":"IF($K96=\"\",\"\",INDEX('2. závod'!$A:$CH,$K96+5,INDEX('Základní list'!$B:$B,MATCH($J96,'Základní list'!$A:$A,0),1)+2))","v":""},"","","","","","",""]
[89,null,null,null,null,null,null,{"$f":"IF($G97=\"\",\"\",INDEX('1. závod'!$A:$CH,$G97+5,INDEX('Základní list'!$B:$B,MATCH($F97,'Základní list'!$A:$A,0),1)))","v":""},{"$f":"IF($G97=\"\",\"\",INDEX('1. závod'!$A:$CH,$G97+5,INDEX('Základní list'!$B:$B,MATCH($F97,'Základní list'!$A:$A,0),1)+2))","v":""},null,null,{"$f":"IF($K97=\"\",\"\",INDEX('2. závod'!$A:$CH,$K97+5,INDEX('Základní list'!$B:$B,MATCH($J97,'Základní list'!$A:$A,0),1)))","v":""},{"$f":"IF($K97=\"\",\"\",INDEX('2. závod'!$A:$CH,$K97+5,INDEX('Základní list'!$B:$B,MATCH($J97,'Základní list'!$A:$A,0),1)+2))","v":""},"","","","","","",""]
[90,null,null,null,null,null,null,{"$f":"IF($G98=\"\",\"\",INDEX('1. závod'!$A:$CH,$G98+5,INDEX('Základní list'!$B:$B,MATCH($F98,'Základní list'!$A:$A,0),1)))","v":""},{"$f":"IF($G98=\"\",\"\",INDEX('1. závod'!$A:$CH,$G98+5,INDEX('Základní list'!$B:$B,MATCH($F98,'Základní list'!$A:$A,0),1)+2))","v":""},null,null,{"$f":"IF($K98=\"\",\"\",INDEX('2. závod'!$A:$CH,$K98+5,INDEX('Základní list'!$B:$B,MATCH($J98,'Základní list'!$A:$A,0),1)))","v":""},{"$f":"IF($K98=\"\",\"\",INDEX('2. závod'!$A:$CH,$K98+5,INDEX('Základní list'!$B:$B,MATCH($J98,'Základní list'!$A:$A,0),1)+2))","v":""},"","","","","","",""]
[91,null,null,null,null,null,null,{"$f":"IF($G99=\"\",\"\",INDEX('1. závod'!$A:$CH,$G99+5,INDEX('Základní list'!$B:$B,MATCH($F99,'Základní list'!$A:$A,0),1)))","v":""},{"$f":"IF($G99=\"\",\"\",INDEX('1. závod'!$A:$CH,$G99+5,INDEX('Základní list'!$B:$B,MATCH($F99,'Základní list'!$A:$A,0),1)+2))","v":""},null,null,{"$f":"IF($K99=\"\",\"\",INDEX('2. závod'!$A:$CH,$K99+5,INDEX('Základní list'!$B:$B,MATCH($J99,'Základní list'!$A:$A,0),1)))","v":""},{"$f":"IF($K99=\"\",\"\",INDEX('2. závod'!$A:$CH,$K99+5,INDEX('Základní list'!$B:$B,MATCH($J99,'Základní list'!$A:$A,0),1)+2))","v":""},"","","","","","",""]
[92,null,null,null,null,null,null,{"$f":"IF($G100=\"\",\"\",INDEX('1. závod'!$A:$CH,$G100+5,INDEX('Základní list'!$B:$B,MATCH($F100,'Základní list'!$A:$A,0),1)))","v":""},{"$f":"IF($G100=\"\",\"\",INDEX('1. závod'!$A:$CH,$G100+5,INDEX('Základní list'!$B:$B,MATCH($F100,'Základní list'!$A:$A,0),1)+2))","v":""},null,null,{"$f":"IF($K100=\"\",\"\",INDEX('2. závod'!$A:$CH,$K100+5,INDEX('Základní list'!$B:$B,MATCH($J100,'Základní list'!$A:$A,0),1)))","v":""},{"$f":"IF($K100=\"\",\"\",INDEX('2. závod'!$A:$CH,$K100+5,INDEX('Základní list'!$B:$B,MATCH($J100,'Základní list'!$A:$A,0),1)+2))","v":""},"","","","","","",""]
[93,null,null,null,null,null,null,{"$f":"IF($G101=\"\",\"\",INDEX('1. závod'!$A:$CH,$G101+5,INDEX('Základní list'!$B:$B,MATCH($F101,'Základní list'!$A:$A,0),1)))","v":""},{"$f":"IF($G101=\"\",\"\",INDEX('1. závod'!$A:$CH,$G101+5,INDEX('Základní list'!$B:$B,MATCH($F101,'Základní list'!$A:$A,0),1)+2))","v":""},null,null,{"$f":"IF($K101=\"\",\"\",INDEX('2. závod'!$A:$CH,$K101+5,INDEX('Základní list'!$B:$B,MATCH($J101,'Základní list'!$A:$A,0),1)))","v":""},{"$f":"IF($K101=\"\",\"\",INDEX('2. závod'!$A:$CH,$K101+5,INDEX('Základní list'!$B:$B,MATCH($J101,'Základní list'!$A:$A,0),1)+2))","v":""},"","","","","","",""]
[94,null,null,null,null,null,null,{"$f":"IF($G102=\"\",\"\",INDEX('1. závod'!$A:$CH,$G102+5,INDEX('Základní list'!$B:$B,MATCH($F102,'Základní list'!$A:$A,0),1)))","v":""},{"$f":"IF($G102=\"\",\"\",INDEX('1. závod'!$A:$CH,$G102+5,INDEX('Základní list'!$B:$B,MATCH($F102,'Základní list'!$A:$A,0),1)+2))","v":""},null,null,{"$f":"IF($K102=\"\",\"\",INDEX('2. závod'!$A:$CH,$K102+5,INDEX('Základní list'!$B:$B,MATCH($J102,'Základní list'!$A:$A,0),1)))","v":""},{"$f":"IF($K102=\"\",\"\",INDEX('2. závod'!$A:$CH,$K102+5,INDEX('Základní list'!$B:$B,MATCH($J102,'Základní list'!$A:$A,0),1)+2))","v":""},"","","","","","",""]
[95,null,null,null,null,null,null,{"$f":"IF($G103=\"\",\"\",INDEX('1. závod'!$A:$CH,$G103+5,INDEX('Základní list'!$B:$B,MATCH($F103,'Základní list'!$A:$A,0),1)))","v":""},{"$f":"IF($G103=\"\",\"\",INDEX('1. závod'!$A:$CH,$G103+5,INDEX('Základní list'!$B:$B,MATCH($F103,'Základní list'!$A:$A,0),1)+2))","v":""},null,null,{"$f":"IF($K103=\"\",\"\",INDEX('2. závod'!$A:$CH,$K103+5,INDEX('Základní list'!$B:$B,MATCH($J103,'Základní list'!$A:$A,0),1)))","v":""},{"$f":"IF($K103=\"\",\"\",INDEX('2. závod'!$A:$CH,$K103+5,INDEX('Základní list'!$B:$B,MATCH($J103,'Základní list'!$A:$A,0),1)+2))","v":""},"","","","","","",""]
[96,null,null,null,null,null,null,{"$f":"IF($G104=\"\",\"\",INDEX('1. závod'!$A:$CH,$G104+5,INDEX('Základní list'!$B:$B,MATCH($F104,'Základní list'!$A:$A,0),1)))","v":""},{"$f":"IF($G104=\"\",\"\",INDEX('1. závod'!$A:$CH,$G104+5,INDEX('Základní list'!$B:$B,MATCH($F104,'Základní list'!$A:$A,0),1)+2))","v":""},null,null,{"$f":"IF($K104=\"\",\"\",INDEX('2. závod'!$A:$CH,$K104+5,INDEX('Základní list'!$B:$B,MATCH($J104,'Základní list'!$A:$A,0),1)))","v":""},{"$f":"IF($K104=\"\",\"\",INDEX('2. závod'!$A:$CH,$K104+5,INDEX('Základní list'!$B:$B,MATCH($J104,'Základní list'!$A:$A,0),1)+2))","v":""},"","","","","","",""]
[97,null,null,null,null,null,null,{"$f":"IF($G105=\"\",\"\",INDEX('1. závod'!$A:$CH,$G105+5,INDEX('Základní list'!$B:$B,MATCH($F105,'Základní list'!$A:$A,0),1)))","v":""},{"$f":"IF($G105=\"\",\"\",INDEX('1. závod'!$A:$CH,$G105+5,INDEX('Základní list'!$B:$B,MATCH($F105,'Základní list'!$A:$A,0),1)+2))","v":""},null,null,{"$f":"IF($K105=\"\",\"\",INDEX('2. závod'!$A:$CH,$K105+5,INDEX('Základní list'!$B:$B,MATCH($J105,'Základní list'!$A:$A,0),1)))","v":""},{"$f":"IF($K105=\"\",\"\",INDEX('2. závod'!$A:$CH,$K105+5,INDEX('Základní list'!$B:$B,MATCH($J105,'Základní list'!$A:$A,0),1)+2))","v":""},"","","","","","",""]
[98,null,null,null,null,null,null,{"$f":"IF($G106=\"\",\"\",INDEX('1. závod'!$A:$CH,$G106+5,INDEX('Základní list'!$B:$B,MATCH($F106,'Základní list'!$A:$A,0),1)))","v":""},{"$f":"IF($G106=\"\",\"\",INDEX('1. závod'!$A:$CH,$G106+5,INDEX('Základní list'!$B:$B,MATCH($F106,'Základní list'!$A:$A,0),1)+2))","v":""},null,null,{"$f":"IF($K106=\"\",\"\",INDEX('2. závod'!$A:$CH,$K106+5,INDEX('Základní list'!$B:$B,MATCH($J106,'Základní list'!$A:$A,0),1)))","v":""},{"$f":"IF($K106=\"\",\"\",INDEX('2. závod'!$A:$CH,$K106+5,INDEX('Základní list'!$B:$B,MATCH($J106,'Základní list'!$A:$A,0),1)+2))","v":""},"","","","","","",{"$f":"IF(ISBLANK($C106),\"\",IF(ISTEXT(T65),1,T65+1))","v":""}]
[99,null,null,null,null,null,null,{"$f":"IF($G107=\"\",\"\",INDEX('1. závod'!$A:$CH,$G107+5,INDEX('Základní list'!$B:$B,MATCH($F107,'Základní list'!$A:$A,0),1)))","v":""},{"$f":"IF($G107=\"\",\"\",INDEX('1. závod'!$A:$CH,$G107+5,INDEX('Základní list'!$B:$B,MATCH($F107,'Základní list'!$A:$A,0),1)+2))","v":""},null,null,{"$f":"IF($K107=\"\",\"\",INDEX('2. závod'!$A:$CH,$K107+5,INDEX('Základní list'!$B:$B,MATCH($J107,'Základní list'!$A:$A,0),1)))","v":""},{"$f":"IF($K107=\"\",\"\",INDEX('2. závod'!$A:$CH,$K107+5,INDEX('Základní list'!$B:$B,MATCH($J107,'Základní list'!$A:$A,0),1)+2))","v":""},"","","","","","",""]
[100,null,null,null,null,null,null,{"$f":"IF($G108=\"\",\"\",INDEX('1. závod'!$A:$CH,$G108+5,INDEX('Základní list'!$B:$B,MATCH($F108,'Základní list'!$A:$A,0),1)))","v":""},{"$f":"IF($G108=\"\",\"\",INDEX('1. závod'!$A:$CH,$G108+5,INDEX('Základní list'!$B:$B,MATCH($F108,'Základní list'!$A:$A,0),1)+2))","v":""},null,null,{"$f":"IF($K108=\"\",\"\",INDEX('2. závod'!$A:$CH,$K108+5,INDEX('Základní list'!$B:$B,MATCH($J108,'Základní list'!$A:$A,0),1)))","v":""},{"$f":"IF($K108=\"\",\"\",INDEX('2. závod'!$A:$CH,$K108+5,INDEX('Základní list'!$B:$B,MATCH($J108,'Základní list'!$A:$A,0),1)+2))","v":""},"","","","","","",""]
[101,null,null,null,null,null,null,{"$f":"IF($G109=\"\",\"\",INDEX('1. závod'!$A:$CH,$G109+5,INDEX('Základní list'!$B:$B,MATCH($F109,'Základní list'!$A:$A,0),1)))","v":""},{"$f":"IF($G109=\"\",\"\",INDEX('1. závod'!$A:$CH,$G109+5,INDEX('Základní list'!$B:$B,MATCH($F109,'Základní list'!$A:$A,0),1)+2))","v":""},null,null,{"$f":"IF($K109=\"\",\"\",INDEX('2. závod'!$A:$CH,$K109+5,INDEX('Základní list'!$B:$B,MATCH($J109,'Základní list'!$A:$A,0),1)))","v":""},{"$f":"IF($K109=\"\",\"\",INDEX('2. závod'!$A:$CH,$K109+5,INDEX('Základní list'!$B:$B,MATCH($J109,'Základní list'!$A:$A,0),1)+2))","v":""},"","","","","","",""]
[102,null,null,null,null,null,null,{"$f":"IF($G110=\"\",\"\",INDEX('1. závod'!$A:$CH,$G110+5,INDEX('Základní list'!$B:$B,MATCH($F110,'Základní list'!$A:$A,0),1)))","v":""},{"$f":"IF($G110=\"\",\"\",INDEX('1. závod'!$A:$CH,$G110+5,INDEX('Základní list'!$B:$B,MATCH($F110,'Základní list'!$A:$A,0),1)+2))","v":""},null,null,{"$f":"IF($K110=\"\",\"\",INDEX('2. závod'!$A:$CH,$K110+5,INDEX('Základní list'!$B:$B,MATCH($J110,'Základní list'!$A:$A,0),1)))","v":""},{"$f":"IF($K110=\"\",\"\",INDEX('2. závod'!$A:$CH,$K110+5,INDEX('Základní list'!$B:$B,MATCH($J110,'Základní list'!$A:$A,0),1)+2))","v":""},"","","","","","",""]
[103,null,null,null,null,null,null,{"$f":"IF($G111=\"\",\"\",INDEX('1. závod'!$A:$CH,$G111+5,INDEX('Základní list'!$B:$B,MATCH($F111,'Základní list'!$A:$A,0),1)))","v":""},{"$f":"IF($G111=\"\",\"\",INDEX('1. závod'!$A:$CH,$G111+5,INDEX('Základní list'!$B:$B,MATCH($F111,'Základní list'!$A:$A,0),1)+2))","v":""},null,null,{"$f":"IF($K111=\"\",\"\",INDEX('2. závod'!$A:$CH,$K111+5,INDEX('Základní list'!$B:$B,MATCH($J111,'Základní list'!$A:$A,0),1)))","v":""},{"$f":"IF($K111=\"\",\"\",INDEX('2. závod'!$A:$CH,$K111+5,INDEX('Základní list'!$B:$B,MATCH($J111,'Základní list'!$A:$A,0),1)+2))","v":""},"","","","","","",""]
[104,null,null,null,null,null,null,{"$f":"IF($G112=\"\",\"\",INDEX('1. závod'!$A:$CH,$G112+5,INDEX('Základní list'!$B:$B,MATCH($F112,'Základní list'!$A:$A,0),1)))","v":""},{"$f":"IF($G112=\"\",\"\",INDEX('1. závod'!$A:$CH,$G112+5,INDEX('Základní list'!$B:$B,MATCH($F112,'Základní list'!$A:$A,0),1)+2))","v":""},null,null,{"$f":"IF($K112=\"\",\"\",INDEX('2. závod'!$A:$CH,$K112+5,INDEX('Základní list'!$B:$B,MATCH($J112,'Základní list'!$A:$A,0),1)))","v":""},{"$f":"IF($K112=\"\",\"\",INDEX('2. závod'!$A:$CH,$K112+5,INDEX('Základní list'!$B:$B,MATCH($J112,'Základní list'!$A:$A,0),1)+2))","v":""},"","","","","","",""]
[105,null,null,null,null,null,null,{"$f":"IF($G113=\"\",\"\",INDEX('1. závod'!$A:$CH,$G113+5,INDEX('Základní list'!$B:$B,MATCH($F113,'Základní list'!$A:$A,0),1)))","v":""},{"$f":"IF($G113=\"\",\"\",INDEX('1. závod'!$A:$CH,$G113+5,INDEX('Základní list'!$B:$B,MATCH($F113,'Základní list'!$A:$A,0),1)+2))","v":""},null,null,{"$f":"IF($K113=\"\",\"\",INDEX('2. závod'!$A:$CH,$K113+5,INDEX('Základní list'!$B:$B,MATCH($J113,'Základní list'!$A:$A,0),1)))","v":""},{"$f":"IF($K113=\"\",\"\",INDEX('2. závod'!$A:$CH,$K113+5,INDEX('Základní list'!$B:$B,MATCH($J113,'Základní list'!$A:$A,0),1)+2))","v":""},{"$f":"CONCATENATE(F113,G113)","v":""},{"$f":"CONCATENATE(J113,K113)","v":""},{"$f":"IF(ISBLANK(E113),\"\",E113)","v":""},{"$f":"IF(ISBLANK($C113),\"\",COUNT(I113,M113))","v":""},{"$f":"IF(ISBLANK($C113),\"\",SUM(H113,L113))","v":""},{"$f":"IF(ISBLANK($C113),\"\",SUM(I113,M113))","v":""},{"$f":"IF(ISBLANK($C113),\"\",IF(ISTEXT(T112),1,T112+1))","v":""}]
[106]
[107]
[108]
[109]
[110]
[111,null,null,null,null,null,null,{"$f":"IF($G119=\"\",\"\",INDEX('1. závod'!$A:$CH,$G119+5,INDEX('Základní list'!$B:$B,MATCH($F119,'Základní list'!$A:$A,0),1)))","v":""},{"$f":"IF($G119=\"\",\"\",INDEX('1. závod'!$A:$CH,$G119+5,INDEX('Základní list'!$B:$B,MATCH($F119,'Základní list'!$A:$A,0),1)+2))","v":""},null,null,{"$f":"IF($K119=\"\",\"\",INDEX('2. závod'!$A:$CH,$K119+5,INDEX('Základní list'!$B:$B,MATCH($J119,'Základní list'!$A:$A,0),1)))","v":""},{"$f":"IF($K119=\"\",\"\",INDEX('2. závod'!$A:$CH,$K119+5,INDEX('Základní list'!$B:$B,MATCH($J119,'Základní list'!$A:$A,0),1)+2))","v":""},"","","","","","",{"$f":"IF(ISBLANK($C119),\"\",IF(ISTEXT(T113),1,T113+1))","v":""}]
[112,null,null,null,null,null,null,{"$f":"IF($G120=\"\",\"\",INDEX('1. závod'!$A:$CH,$G120+5,INDEX('Základní list'!$B:$B,MATCH($F120,'Základní list'!$A:$A,0),1)))","v":""},{"$f":"IF($G120=\"\",\"\",INDEX('1. závod'!$A:$CH,$G120+5,INDEX('Základní list'!$B:$B,MATCH($F120,'Základní list'!$A:$A,0),1)+2))","v":""},null,null,{"$f":"IF($K120=\"\",\"\",INDEX('2. závod'!$A:$CH,$K120+5,INDEX('Základní list'!$B:$B,MATCH($J120,'Základní list'!$A:$A,0),1)))","v":""},{"$f":"IF($K120=\"\",\"\",INDEX('2. závod'!$A:$CH,$K120+5,INDEX('Základní list'!$B:$B,MATCH($J120,'Základní list'!$A:$A,0),1)+2))","v":""},"","","","","","",""]
[113,null,null,null,null,null,null,{"$f":"IF($G121=\"\",\"\",INDEX('1. závod'!$A:$CH,$G121+5,INDEX('Základní list'!$B:$B,MATCH($F121,'Základní list'!$A:$A,0),1)))","v":""},{"$f":"IF($G121=\"\",\"\",INDEX('1. závod'!$A:$CH,$G121+5,INDEX('Základní list'!$B:$B,MATCH($F121,'Základní list'!$A:$A,0),1)+2))","v":""},null,null,{"$f":"IF($K121=\"\",\"\",INDEX('2. závod'!$A:$CH,$K121+5,INDEX('Základní list'!$B:$B,MATCH($J121,'Základní list'!$A:$A,0),1)))","v":""},{"$f":"IF($K121=\"\",\"\",INDEX('2. závod'!$A:$CH,$K121+5,INDEX('Základní list'!$B:$B,MATCH($J121,'Základní list'!$A:$A,0),1)+2))","v":""},"","","","","","",""]
[114,null,null,null,null,null,null,{"$f":"IF($G122=\"\",\"\",INDEX('1. závod'!$A:$CH,$G122+5,INDEX('Základní list'!$B:$B,MATCH($F122,'Základní list'!$A:$A,0),1)))","v":""},{"$f":"IF($G122=\"\",\"\",INDEX('1. závod'!$A:$CH,$G122+5,INDEX('Základní list'!$B:$B,MATCH($F122,'Základní list'!$A:$A,0),1)+2))","v":""},null,null,{"$f":"IF($K122=\"\",\"\",INDEX('2. závod'!$A:$CH,$K122+5,INDEX('Základní list'!$B:$B,MATCH($J122,'Základní list'!$A:$A,0),1)))","v":""},{"$f":"IF($K122=\"\",\"\",INDEX('2. závod'!$A:$CH,$K122+5,INDEX('Základní list'!$B:$B,MATCH($J122,'Základní list'!$A:$A,0),1)+2))","v":""},"","","","","","",{"$f":"IF(ISBLANK($C122),\"\",IF(ISTEXT(T120),1,T120+1))","v":""}]
[115,null,null,null,null,null,null,{"$f":"IF($G123=\"\",\"\",INDEX('1. závod'!$A:$CH,$G123+5,INDEX('Základní list'!$B:$B,MATCH($F123,'Základní list'!$A:$A,0),1)))","v":""},{"$f":"IF($G123=\"\",\"\",INDEX('1. závod'!$A:$CH,$G123+5,INDEX('Základní list'!$B:$B,MATCH($F123,'Základní list'!$A:$A,0),1)+2))","v":""},null,null,{"$f":"IF($K123=\"\",\"\",INDEX('2. závod'!$A:$CH,$K123+5,INDEX('Základní list'!$B:$B,MATCH($J123,'Základní list'!$A:$A,0),1)))","v":""},{"$f":"IF($K123=\"\",\"\",INDEX('2. závod'!$A:$CH,$K123+5,INDEX('Základní list'!$B:$B,MATCH($J123,'Základní list'!$A:$A,0),1)+2))","v":""},"","","","","","",""]
[116,null,null,null,null,null,null,{"$f":"IF($G124=\"\",\"\",INDEX('1. závod'!$A:$CH,$G124+5,INDEX('Základní list'!$B:$B,MATCH($F124,'Základní list'!$A:$A,0),1)))","v":""},{"$f":"IF($G124=\"\",\"\",INDEX('1. závod'!$A:$CH,$G124+5,INDEX('Základní list'!$B:$B,MATCH($F124,'Základní list'!$A:$A,0),1)+2))","v":""},null,null,{"$f":"IF($K124=\"\",\"\",INDEX('2. závod'!$A:$CH,$K124+5,INDEX('Základní list'!$B:$B,MATCH($J124,'Základní list'!$A:$A,0),1)))","v":""},{"$f":"IF($K124=\"\",\"\",INDEX('2. závod'!$A:$CH,$K124+5,INDEX('Základní list'!$B:$B,MATCH($J124,'Základní list'!$A:$A,0),1)+2))","v":""},"","","","","","",""]
[117,null,null,null,null,null,null,{"$f":"IF($G125=\"\",\"\",INDEX('1. závod'!$A:$CH,$G125+5,INDEX('Základní list'!$B:$B,MATCH($F125,'Základní list'!$A:$A,0),1)))","v":""},{"$f":"IF($G125=\"\",\"\",INDEX('1. závod'!$A:$CH,$G125+5,INDEX('Základní list'!$B:$B,MATCH($F125,'Základní list'!$A:$A,0),1)+2))","v":""},null,null,{"$f":"IF($K125=\"\",\"\",INDEX('2. závod'!$A:$CH,$K125+5,INDEX('Základní list'!$B:$B,MATCH($J125,'Základní list'!$A:$A,0),1)))","v":""},{"$f":"IF($K125=\"\",\"\",INDEX('2. závod'!$A:$CH,$K125+5,INDEX('Základní list'!$B:$B,MATCH($J125,'Základní list'!$A:$A,0),1)+2))","v":""},"","","","","","",""]
[118,null,null,null,null,null,null,{"$f":"IF($G126=\"\",\"\",INDEX('1. závod'!$A:$CH,$G126+5,INDEX('Základní list'!$B:$B,MATCH($F126,'Základní list'!$A:$A,0),1)))","v":""},{"$f":"IF($G126=\"\",\"\",INDEX('1. závod'!$A:$CH,$G126+5,INDEX('Základní list'!$B:$B,MATCH($F126,'Základní list'!$A:$A,0),1)+2))","v":""},null,null,{"$f":"IF($K126=\"\",\"\",INDEX('2. závod'!$A:$CH,$K126+5,INDEX('Základní list'!$B:$B,MATCH($J126,'Základní list'!$A:$A,0),1)))","v":""},{"$f":"IF($K126=\"\",\"\",INDEX('2. závod'!$A:$CH,$K126+5,INDEX('Základní list'!$B:$B,MATCH($J126,'Základní list'!$A:$A,0),1)+2))","v":""},"","","","","","",""]
[119,null,null,null,null,null,null,{"$f":"IF($G127=\"\",\"\",INDEX('1. závod'!$A:$CH,$G127+5,INDEX('Základní list'!$B:$B,MATCH($F127,'Základní list'!$A:$A,0),1)))","v":""},{"$f":"IF($G127=\"\",\"\",INDEX('1. závod'!$A:$CH,$G127+5,INDEX('Základní list'!$B:$B,MATCH($F127,'Základní list'!$A:$A,0),1)+2))","v":""},null,null,{"$f":"IF($K127=\"\",\"\",INDEX('2. závod'!$A:$CH,$K127+5,INDEX('Základní list'!$B:$B,MATCH($J127,'Základní list'!$A:$A,0),1)))","v":""},{"$f":"IF($K127=\"\",\"\",INDEX('2. závod'!$A:$CH,$K127+5,INDEX('Základní list'!$B:$B,MATCH($J127,'Základní list'!$A:$A,0),1)+2))","v":""},"","","","","","",""]
[120,null,null,null,null,null,null,{"$f":"IF($G128=\"\",\"\",INDEX('1. závod'!$A:$CH,$G128+5,INDEX('Základní list'!$B:$B,MATCH($F128,'Základní list'!$A:$A,0),1)))","v":""},{"$f":"IF($G128=\"\",\"\",INDEX('1. závod'!$A:$CH,$G128+5,INDEX('Základní list'!$B:$B,MATCH($F128,'Základní list'!$A:$A,0),1)+2))","v":""},null,null,{"$f":"IF($K128=\"\",\"\",INDEX('2. závod'!$A:$CH,$K128+5,INDEX('Základní list'!$B:$B,MATCH($J128,'Základní list'!$A:$A,0),1)))","v":""},{"$f":"IF($K128=\"\",\"\",INDEX('2. závod'!$A:$CH,$K128+5,INDEX('Základní list'!$B:$B,MATCH($J128,'Základní list'!$A:$A,0),1)+2))","v":""},"","","","","","",""]
[]
["Podpis pořadatele ",null,null,null,null,"Podpis garanta",null,null,"Podpis hlavního rozhodčího"]

{"sheet":"Závod družstev","index":2,"n_rows":126,"n_cols":19,"rows_kept":126,"cut":false,"hidden":false,"merged":[[0,0,0,15],[1,0,1,15],[3,0,5,0],[3,1,5,1],[3,2,5,2],[3,3,3,7],[3,8,3,12],[3,13,4,15],[4,3,4,4],[4,5,4,7],[6,13,8,13],[6,14,8,14],[6,15,8,15],[4,8,4,9],[4,10,4,12],[6,0,8,0],[6,5,8,5],[6,6,8,6],[6,7,8,7],[6,10,8,10],[6,11,8,11],[6,12,8,12],[9,13,11,13],[9,14,11,14],[9,15,11,15],[12,0,14,0],[12,5,14,5],[12,6,14,6],[12,7,14,7],[12,10,14,10],[12,11,14,11],[12,12,14,12],[9,0,11,0],[9,5,11,5],[9,6,11,6],[9,7,11,7],[9,10,11,10],[9,11,11,11],[9,12,11,12],[12,13,14,13],[12,14,14,14],[12,15,14,15],[15,15,17,15],[18,0,20,0],[18,5,20,5],[18,6,20,6],[18,7,20,7],[18,10,20,10],[18,11,20,11],[18,12,20,12],[18,13,20,13],[18,14,20,14],[18,15,20,15],[15,0,17,0],[15,5,17,5],[15,6,17,6],[15,7,17,7],[15,10,17,10],[15,11,17,11],[15,12,17,12],[15,13,17,13],[15,14,17,14],[21,15,23,15],[24,0,26,0],[24,5,26,5],[24,6,26,6],[24,7,26,7],[24,10,26,10],[24,11,26,11],[24,12,26,12],[24,13,26,13],[24,14,26,14],[24,15,26,15],[21,0,23,0],[21,5,23,5],[21,6,23,6],[21,7,23,7],[21,10,23,10],[21,11,23,11],[21,12,23,12],[21,13,23,13],[21,14,23,14],[108,15,110,15],[111,0,113,0],[111,5,113,5],[111,6,113,6],[111,7,113,7],[111,10,113,10],[111,11,113,11],[111,12,113,12],[111,13,113,13],[111,14,113,14],[111,15,113,15],[108,0,110,0],[108,5,110,5],[108,6,110,6],[108,7,110,7],[108,10,110,10],[108,11,110,11],[108,12,110,12],[108,13,110,13],[108,14,110,14],[114,15,116,15],[117,0,119,0],[117,5,119,5],[117,6,119,6],[117,7,119,7],[117,10,119,10],[117,11,119,11],[117,12,119,12],[117,13,119,13],[117,14,119,14],[117,15,119,15],[114,0,116,0],[114,5,116,5],[114,6,116,6],[114,7,116,7],[114,10,116,10],[114,11,116,11],[114,12,116,12],[114,13,116,13],[114,14,116,14],[120,15,122,15],[123,0,125,0],[123,5,125,5],[123,6,125,6],[123,7,125,7],[123,10,125,10],[123,11,125,11],[123,12,125,12],[123,13,125,13],[123,14,125,14],[123,15,125,15],[120,0,122,0],[120,5,122,5],[120,6,122,6],[120,7,122,7],[120,10,122,10],[120,11,122,11],[120,12,122,12],[120,13,122,13],[120,14,122,14],[27,15,29,15],[30,0,32,0],[30,5,32,5],[30,6,32,6],[30,7,32,7],[30,10,32,10],[30,11,32,11],[30,12,32,12],[30,13,32,13],[30,14,32,14],[30,15,32,15],[27,0,29,0],[27,5,29,5],[27,6,29,6],[27,7,29,7],[27,10,29,10],[27,11,29,11],[27,12,29,12],[27,13,29,13],[27,14,29,14],[33,15,35,15],[36,0,38,0],[36,5,38,5],[36,6,38,6],[36,7,38,7],[36,10,38,10],[36,11,38,11],[36,12,38,12],[36,13,38,13],[36,14,38,14],[36,15,38,15],[33,0,35,0],[33,5,35,5],[33,6,35,6],[33,7,35,7],[33,10,35,10],[33,11,35,11],[33,12,35,12],[33,13,35,13],[33,14,35,14],[39,15,41,15],[42,0,44,0],[42,5,44,5],[42,6,44,6],[42,7,44,7],[42,10,44,10],[42,11,44,11],[42,12,44,12],[42,13,44,13],[42,14,44,14],[42,15,44,15],[39,0,41,0],[39,5,41,5],[39,6,41,6],[39,7,41,7],[39,10,41,10],[39,11,41,11],[39,12,41,12],[39,13,41,13],[39,14,41,14],[45,15,47,15],[48,0,50,0],[48,5,50,5],[48,6,50,6],[48,7,50,7],[48,10,50,10],[48,11,50,11],[48,12,50,12],[48,13,50,13],[48,14,50,14],[48,15,50,15],[45,0,47,0],[45,5,47,5],[45,6,47,6],[45,7,47,7],[45,10,47,10],[45,11,47,11],[45,12,47,12],[45,13,47,13],[45,14,47,14],[51,15,53,15],[54,0,56,0],[54,5,56,5],[54,6,56,6],[54,7,56,7],[54,10,56,10],[54,11,56,11],[54,12,56,12],[54,13,56,13],[54,14,56,14],[54,15,56,15],[51,0,53,0],[51,5,53,5],[51,6,53,6],[51,7,53,7],[51,10,53,10],[51,11,53,11],[51,12,53,12],[51,13,53,13],[51,14,53,14],[57,15,59,15],[60,0,62,0],[60,5,62,5],[60,6,62,6],[60,7,62,7],[60,10,62,10],[60,11,62,11],[60,12,62,12],[60,13,62,13],[60,14,62,14],[60,15,62,15],[57,0,59,0],[57,5,59,5],[57,6,59,6],[57,7,59,7],[57,10,59,10],[57,11,59,11],[57,12,59,12],[57,13,59,13],[57,14,59,14],[63,15,65,15],[66,0,68,0],[66,5,68,5],[66,6,68,6],[66,7,68,7],[66,10,68,10],[66,11,68,11],[66,12,68,12],[66,13,68,13],[66,14,68,14],[66,15,68,15],[63,0,65,0],[63,5,65,5],[63,6,65,6],[63,7,65,7],[63,10,65,10],[63,11,65,11],[63,12,65,12],[63,13,65,13],[63,14,65,14],[69,15,71,15],[72,0,74,0],[72,5,74,5],[72,6,74,6],[72,7,74,7],[72,10,74,10],[72,11,74,11],[72,12,74,12],[72,13,74,13],[72,14,74,14],[72,15,74,15],[69,0,71,0],[69,5,71,5],[69,6,71,6],[69,7,71,7],[69,10,71,10],[69,11,71,11],[69,12,71,12],[69,13,71,13],[69,14,71,14],[75,15,77,15],[78,0,80,0],[78,5,80,5],[78,6,80,6],[78,7,80,7],[78,10,80,10],[78,11,80,11],[78,12,80,12],[78,13,80,13],[78,14,80,14],[78,15,80,15],[75,0,77,0],[75,5,77,5],[75,6,77,6],[75,7,77,7],[75,10,77,10],[75,11,77,11],[75,12,77,12],[75,13,77,13],[75,14,77,14],[81,15,83,15],[84,0,86,0],[84,5,86,5],[84,6,86,6],[84,7,86,7],[84,10,86,10],[84,11,86,11],[84,12,86,12],[84,13,86,13],[84,14,86,14],[84,15,86,15],[81,0,83,0],[81,5,83,5],[81,6,83,6],[81,7,83,7],[81,10,83,10],[81,11,83,11],[81,12,83,12],[81,13,83,13],[81,14,83,14],[87,15,89,15],[90,0,92,0],[90,5,92,5],[90,6,92,6],[90,7,92,7],[90,10,92,10],[90,11,92,11],[90,12,92,12],[90,13,92,13],[90,14,92,14],[90,15,92,15],[87,0,89,0],[87,5,89,5],[87,6,89,6],[87,7,89,7],[87,10,89,10],[87,11,89,11],[87,12,89,12],[87,13,89,13],[87,14,89,14],[93,15,95,15],[96,0,98,0],[96,5,98,5],[96,6,98,6],[96,7,98,7],[96,10,98,10],[96,11,98,11],[96,12,98,12],[96,13,98,13],[96,14,98,14],[96,15,98,15],[93,0,95,0],[93,5,95,5],[93,6,95,6],[93,7,95,7],[93,10,95,10],[93,11,95,11],[93,12,95,12],[93,13,95,13],[93,14,95,14],[99,15,101,15],[102,0,104,0],[102,5,104,5],[102,6,104,6],[102,7,104,7],[102,10,104,10],[102,11,104,11],[102,12,104,12],[102,13,104,13],[102,14,104,14],[102,15,104,15],[99,0,101,0],[99,5,101,5],[99,6,101,6],[99,7,101,7],[99,10,101,10],[99,11,101,11],[99,12,101,12],[99,13,101,13],[99,14,101,14],[105,15,107,15],[105,0,107,0],[105,5,107,5],[105,6,107,6],[105,7,107,7],[105,10,107,10],[105,11,107,11],[105,12,107,12],[105,13,107,13],[105,14,107,14]]}
["Soutěž družstev"]
[{"$f":"CONCATENATE('Základní list'!$E$3)","v":"AWA-S cup 2017"}]
[]
["Družstvo","ID","Příjmení jméno","1 závod",null,null,null,null,"2 závod",null,null,null,null,"Družstva"]
[null,null,null,"Jednotivci",null,"Družstva",null,null,"Jednotivci",null,"Družstva",null,null,null,null,null,null,"velikost dr.",3]
[null,null,null,"CIPS","um.","CIPS","Body","Poř","CIPS","um.","CIPS","Body","Poř","CIPS","Body","Poř",null,"pocet dr.",{"$f":"COUNTA(A:A)-3","v":8}]
["Ševčovi pacholci",{"$f":"IF(ISBLANK($C7),\"\",INDEX('Výsledková listina'!$B:$B,MATCH($C7,'Výsledková listina'!$C:$C,0),1))","v":0},"Radek Černý",{"$f":"IF(ISBLANK(C7),\"\",INDEX('Výsledková listina'!$H:$I,MATCH($C7,'Výsledková listina'!$C:$C,0),1))","v":14560},{"$f":"IF(ISBLANK(C7),\"\",INDEX('Výsledková listina'!$H:$I,MATCH($C7,'Výsledková listina'!$C:$C,0),2))","v":1},{"$f":"IF(ISBLANK($A7),\"\",SUM(D7:D9))","v":27500},{"$f":"IF(ISBLANK($A7),\"\",SUM(E7:E9))","v":9},{"$f":"IF(ISBLANK($A7),\"\",RANK(G7,G:G,1))","v":1},{"$f":"IF(ISBLANK(C7),\"\",INDEX('Výsledková listina'!$L:$M,MATCH($C7,'Výsledková listina'!$C:$C,0),1))","v":6540},{"$f":"IF(ISBLANK(C7),\"\",INDEX('Výsledková listina'!$L:$M,MATCH($C7,'Výsledková listina'!$C:$C,0),2))","v":4},{"$f":"IF(ISBLANK($A7),\"\",SUM(I7:I9))","v":14820},{"$f":"IF(ISBLANK($A7),\"\",SUM(J7:J9))","v":19},{"$f":"IF(ISBLANK($A7),\"\",RANK(L7,L:L,1))","v":8},{"$f":"IF(ISBLANK($A7),\"\",SUM(F7,K7))","v":42320},{"$f":"IF(ISBLANK($A7),\"\",SUM(G7,L7))","v":28},{"$f":"IF(ISBLANK($A7),\"\",RANK(O7,O:O,1))","v":4}]
[null,{"$f":"IF(ISBLANK($C8),\"\",INDEX('Výsledková listina'!$B:$B,MATCH($C8,'Výsledková listina'!$C:$C,0),1))","v":0},"Ševčík Ladislav",{"$f":"IF(ISBLANK(C8),\"\",INDEX('Výsledková listina'!$H:$I,MATCH($C8,'Výsledková listina'!$C:$C,0),1))","v":6160},{"$f":"IF(ISBLANK(C8),\"\",INDEX('Výsledková listina'!$H:$I,MATCH($C8,'Výsledková listina'!$C:$C,0),2))","v":5},null,null,null,{"$f":"IF(ISBLANK(C8),\"\",INDEX('Výsledková listina'!$L:$M,MATCH($C8,'Výsledková listina'!$C:$C,0),1))","v":2260},{"$f":"IF(ISBLANK(C8),\"\",INDEX('Výsledková listina'!$L:$M,MATCH($C8,'Výsledková listina'!$C:$C,0),2))","v":8}]
[null,0,"Vitásek Jiří ",{"$f":"IF(ISBLANK(C9),\"\",INDEX('Výsledková listina'!$H:$I,MATCH($C9,'Výsledková listina'!$C:$C,0),1))","v":6780},{"$f":"IF(ISBLANK(C9),\"\",INDEX('Výsledková listina'!$H:$I,MATCH($C9,'Výsledková listina'!$C:$C,0),2))","v":3},null,null,null,{"$f":"IF(ISBLANK(C9),\"\",INDEX('Výsledková listina'!$L:$M,MATCH($C9,'Výsledková listina'!$C:$C,0),1))","v":6020},{"$f":"IF(ISBLANK(C9),\"\",INDEX('Výsledková listina'!$L:$M,MATCH($C9,'Výsledková listina'!$C:$C,0),2))","v":7}]
["Feeder team Vlci-MRS",{"$f":"IF(ISBLANK($C10),\"\",INDEX('Výsledková listina'!$B:$B,MATCH($C10,'Výsledková listina'!$C:$C,0),1))","v":0},"Koucký Milan",{"$f":"IF(ISBLANK(C10),\"\",INDEX('Výsledková listina'!$H:$I,MATCH($C10,'Výsledková listina'!$C:$C,0),1))","v":6260},{"$f":"IF(ISBLANK(C10),\"\",INDEX('Výsledková listina'!$H:$I,MATCH($C10,'Výsledková listina'!$C:$C,0),2))","v":4},{"$f":"IF(ISBLANK($A10),\"\",SUM(D10:D12))","v":14900},{"$f":"IF(ISBLANK($A10),\"\",SUM(E10:E12))","v":16},{"$f":"IF(ISBLANK($A10),\"\",RANK(G10,G:G,1))","v":7},{"$f":"IF(ISBLANK(C10),\"\",INDEX('Výsledková listina'!$L:$M,MATCH($C10,'Výsledková listina'!$C:$C,0),1))","v":10100},{"$f":"IF(ISBLANK(C10),\"\",INDEX('Výsledková listina'!$L:$M,MATCH($C10,'Výsledková listina'!$C:$C,0),2))","v":4},{"$f":"IF(ISBLANK($A10),\"\",SUM(I10:I12))","v":18120},{"$f":"IF(ISBLANK($A10),\"\",SUM(J10:J12))","v":18},{"$f":"IF(ISBLANK($A10),\"\",RANK(L10,L:L,1))","v":7},{"$f":"IF(ISBLANK($A10),\"\",SUM(F10,K10))","v":33020},{"$f":"IF(ISBLANK($A10),\"\",SUM(G10,L10))","v":34},{"$f":"IF(ISBLANK($A10),\"\",RANK(O10,O:O,1))","v":8}]
[null,{"$f":"IF(ISBLANK($C11),\"\",INDEX('Výsledková listina'!$B:$B,MATCH($C11,'Výsledková listina'!$C:$C,0),1))","v":0},"Bartl Petr",{"$f":"IF(ISBLANK(C11),\"\",INDEX('Výsledková listina'!$H:$I,MATCH($C11,'Výsledková listina'!$C:$C,0),1))","v":5280},{"$f":"IF(ISBLANK(C11),\"\",INDEX('Výsledková listina'!$H:$I,MATCH($C11,'Výsledková listina'!$C:$C,0),2))","v":5},null,null,null,{"$f":"IF(ISBLANK(C11),\"\",INDEX('Výsledková listina'!$L:$M,MATCH($C11,'Výsledková listina'!$C:$C,0),1))","v":4300},{"$f":"IF(ISBLANK(C11),\"\",INDEX('Výsledková listina'!$L:$M,MATCH($C11,'Výsledková listina'!$C:$C,0),2))","v":7}]
[null,{"$f":"IF(ISBLANK($C12),\"\",INDEX('Výsledková listina'!$B:$B,MATCH($C12,'Výsledková listina'!$C:$C,0),1))","v":0},"Revai Miroslav",{"$f":"IF(ISBLANK(C12),\"\",INDEX('Výsledková listina'!$H:$I,MATCH($C12,'Výsledková listina'!$C:$C,0),1))","v":3360},{"$f":"IF(ISBLANK(C12),\"\",INDEX('Výsledková listina'!$H:$I,MATCH($C12,'Výsledková listina'!$C:$C,0),2))","v":7},null,null,null,{"$f":"IF(ISBLANK(C12),\"\",INDEX('Výsledková listina'!$L:$M,MATCH($C12,'Výsledková listina'!$C:$C,0),1))","v":3720},{"$f":"IF(ISBLANK(C12),\"\",INDEX('Výsledková listina'!$L:$M,MATCH($C12,'Výsledková listina'!$C:$C,0),2))","v":7}]
["Speed feeder team",{"$f":"IF(ISBLANK($C13),\"\",INDEX('Výsledková listina'!$B:$B,MATCH($C13,'Výsledková listina'!$C:$C,0),1))","v":0},"Novotný Erik",{"$f":"IF(ISBLANK(C13),\"\",INDEX('Výsledková listina'!$H:$I,MATCH($C13,'Výsledková listina'!$C:$C,0),1))","v":2960},{"$f":"IF(ISBLANK(C13),\"\",INDEX('Výsledková listina'!$H:$I,MATCH($C13,'Výsledková listina'!$C:$C,0),2))","v":8},{"$f":"IF(ISBLANK($A13),\"\",SUM(D13:D15))","v":13360},{"$f":"IF(ISBLANK($A13),\"\",SUM(E13:E15))","v":19},{"$f":"IF(ISBLANK($A13),\"\",RANK(G13,G:G,1))","v":8},{"$f":"IF(ISBLANK(C13),\"\",INDEX('Výsledková listina'!$L:$M,MATCH($C13,'Výsledková listina'!$C:$C,0),1))","v":5020},{"$f":"IF(ISBLANK(C13),\"\",INDEX('Výsledková listina'!$L:$M,MATCH($C13,'Výsledková listina'!$C:$C,0),2))","v":6},{"$f":"IF(ISBLANK($A13),\"\",SUM(I13:I15))","v":19480},{"$f":"IF(ISBLANK($A13),\"\",SUM(J13:J15))","v":14},{"$f":"IF(ISBLANK($A13),\"\",RANK(L13,L:L,1))","v":5},{"$f":"IF(ISBLANK($A13),\"\",SUM(F13,K13))","v":32840},{"$f":"IF(ISBLANK($A13),\"\",SUM(G13,L13))","v":33},{"$f":"IF(ISBLANK($A13),\"\",RANK(O13,O:O,1))","v":7}]
[null,{"$f":"IF(ISBLANK($C14),\"\",INDEX('Výsledková listina'!$B:$B,MATCH($C14,'Výsledková listina'!$C:$C,0),1))","v":0},"Prášek Josef",{"$f":"IF(ISBLANK(C14),\"\",INDEX('Výsledková listina'!$H:$I,MATCH($C14,'Výsledková listina'!$C:$C,0),1))","v":4480},{"$f":"IF(ISBLANK(C14),\"\",INDEX('Výsledková listina'!$H:$I,MATCH($C14,'Výsledková listina'!$C:$C,0),2))","v":7},null,null,null,{"$f":"IF(ISBLANK(C14),\"\",INDEX('Výsledková listina'!$L:$M,MATCH($C14,'Výsledková listina'!$C:$C,0),1))","v":9460},{"$f":"IF(ISBLANK(C14),\"\",INDEX('Výsledková listina'!$L:$M,MATCH($C14,'Výsledková listina'!$C:$C,0),2))","v":5}]
[null,{"$f":"IF(ISBLANK($C15),\"\",INDEX('Výsledková listina'!$B:$B,MATCH($C15,'Výsledková listina'!$C:$C,0),1))","v":0},"Tomšík Jan",{"$f":"IF(ISBLANK(C15),\"\",INDEX('Výsledková listina'!$H:$I,MATCH($C15,'Výsledková listina'!$C:$C,0),1))","v":5920},{"$f":"IF(ISBLANK(C15),\"\",INDEX('Výsledková listina'!$H:$I,MATCH($C15,'Výsledková listina'!$C:$C,0),2))","v":4},null,null,null,{"$f":"IF(ISBLANK(C15),\"\",INDEX('Výsledková listina'!$L:$M,MATCH($C15,'Výsledková listina'!$C:$C,0),1))","v":5000},{"$f":"IF(ISBLANK(C15),\"\",INDEX('Výsledková listina'!$L:$M,MATCH($C15,'Výsledková listina'!$C:$C,0),2))","v":3}]
["Žďárský kavky",{"$f":"IF(ISBLANK($C16),\"\",INDEX('Výsledková listina'!$B:$B,MATCH($C16,'Výsledková listina'!$C:$C,0),1))","v":0},"Stárek Jan",{"$f":"IF(ISBLANK(C16),\"\",INDEX('Výsledková listina'!$H:$I,MATCH($C16,'Výsledková listina'!$C:$C,0),1))","v":12600},{"$f":"IF(ISBLANK(C16),\"\",INDEX('Výsledková listina'!$H:$I,MATCH($C16,'Výsledková listina'!$C:$C,0),2))","v":2},{"$f":"IF(ISBLANK($A16),\"\",SUM(D16:D18))","v":21160},{"$f":"IF(ISBLANK($A16),\"\",SUM(E16:E18))","v":15},{"$f":"IF(ISBLANK($A16),\"\",RANK(G16,G:G,1))","v":5},{"$f":"IF(ISBLANK(C16),\"\",INDEX('Výsledková listina'!$L:$M,MATCH($C16,'Výsledková listina'!$C:$C,0),1))","v":12380},{"$f":"IF(ISBLANK(C16),\"\",INDEX('Výsledková listina'!$L:$M,MATCH($C16,'Výsledková listina'!$C:$C,0),2))","v":1},{"$f":"IF(ISBLANK($A16),\"\",SUM(I16:I18))","v":23120},{"$f":"IF(ISBLANK($A16),\"\",SUM(J16:J18))","v":10},{"$f":"IF(ISBLANK($A16),\"\",RANK(L16,L:L,1))","v":2},{"$f":"IF(ISBLANK($A16),\"\",SUM(F16,K16))","v":44280},{"$f":"IF(ISBLANK($A16),\"\",SUM(G16,L16))","v":25},{"$f":"IF(ISBLANK($A16),\"\",RANK(O16,O:O,1))","v":3}]
[null,{"$f":"IF(ISBLANK($C17),\"\",INDEX('Výsledková listina'!$B:$B,MATCH($C17,'Výsledková listina'!$C:$C,0),1))","v":0},"Ondráček Petr",{"$f":"IF(ISBLANK(C17),\"\",INDEX('Výsledková listina'!$H:$I,MATCH($C17,'Výsledková listina'!$C:$C,0),1))","v":2700},{"$f":"IF(ISBLANK(C17),\"\",INDEX('Výsledková listina'!$H:$I,MATCH($C17,'Výsledková listina'!$C:$C,0),2))","v":8},null,null,null,{"$f":"IF(ISBLANK(C17),\"\",INDEX('Výsledková listina'!$L:$M,MATCH($C17,'Výsledková listina'!$C:$C,0),1))","v":5860},{"$f":"IF(ISBLANK(C17),\"\",INDEX('Výsledková listina'!$L:$M,MATCH($C17,'Výsledková listina'!$C:$C,0),2))","v":5}]
[null,{"$f":"IF(ISBLANK($C18),\"\",INDEX('Výsledková listina'!$B:$B,MATCH($C18,'Výsledková listina'!$C:$C,0),1))","v":0},"Fabík Zdeněk",{"$f":"IF(ISBLANK(C18),\"\",INDEX('Výsledková listina'!$H:$I,MATCH($C18,'Výsledková listina'!$C:$C,0),1))","v":5860},{"$f":"IF(ISBLANK(C18),\"\",INDEX('Výsledková listina'!$H:$I,MATCH($C18,'Výsledková listina'!$C:$C,0),2))","v":5},null,null,null,{"$f":"IF(ISBLANK(C18),\"\",INDEX('Výsledková listina'!$L:$M,MATCH($C18,'Výsledková listina'!$C:$C,0),1))","v":4880},{"$f":"IF(ISBLANK(C18),\"\",INDEX('Výsledková listina'!$L:$M,MATCH($C18,'Výsledková listina'!$C:$C,0),2))","v":4}]
["Fídrové komando",{"$f":"IF(ISBLANK($C19),\"\",INDEX('Výsledková listina'!$B:$B,MATCH($C19,'Výsledková listina'!$C:$C,0),1))","v":0},"Bruckner Martin",{"$f":"IF(ISBLANK(C19),\"\",INDEX('Výsledková listina'!$H:$I,MATCH($C19,'Výsledková listina'!$C:$C,0),1))","v":6880},{"$f":"IF(ISBLANK(C19),\"\",INDEX('Výsledková listina'!$H:$I,MATCH($C19,'Výsledková listina'!$C:$C,0),2))","v":3},{"$f":"IF(ISBLANK($A19),\"\",SUM(D19:D21))","v":16720},{"$f":"IF(ISBLANK($A19),\"\",SUM(E19:E21))","v":13},{"$f":"IF(ISBLANK($A19),\"\",RANK(G19,G:G,1))","v":4},{"$f":"IF(ISBLANK(C19),\"\",INDEX('Výsledková listina'!$L:$M,MATCH($C19,'Výsledková listina'!$C:$C,0),1))","v":4060},{"$f":"IF(ISBLANK(C19),\"\",INDEX('Výsledková listina'!$L:$M,MATCH($C19,'Výsledková listina'!$C:$C,0),2))","v":8},{"$f":"IF(ISBLANK($A19),\"\",SUM(I19:I21))","v":16040},{"$f":"IF(ISBLANK($A19),\"\",SUM(J19:J21))","v":16},{"$f":"IF(ISBLANK($A19),\"\",RANK(L19,L:L,1))","v":6},{"$f":"IF(ISBLANK($A19),\"\",SUM(F19,K19))","v":32760},{"$f":"IF(ISBLANK($A19),\"\",SUM(G19,L19))","v":29},{"$f":"IF(ISBLANK($A19),\"\",RANK(O19,O:O,1))","v":6}]
[null,{"$f":"IF(ISBLANK($C20),\"\",INDEX('Výsledková listina'!$B:$B,MATCH($C20,'Výsledková listina'!$C:$C,0),1))","v":0},"Pečta Radek",{"$f":"IF(ISBLANK(C20),\"\",INDEX('Výsledková listina'!$H:$I,MATCH($C20,'Výsledková listina'!$C:$C,0),1))","v":7880},{"$f":"IF(ISBLANK(C20),\"\",INDEX('Výsledková listina'!$H:$I,MATCH($C20,'Výsledková listina'!$C:$C,0),2))","v":2},null,null,null,{"$f":"IF(ISBLANK(C20),\"\",INDEX('Výsledková listina'!$L:$M,MATCH($C20,'Výsledková listina'!$C:$C,0),1))","v":4420},{"$f":"IF(ISBLANK(C20),\"\",INDEX('Výsledková listina'!$L:$M,MATCH($C20,'Výsledková listina'!$C:$C,0),2))","v":5}]
[null,{"$f":"IF(ISBLANK($C21),\"\",INDEX('Výsledková listina'!$B:$B,MATCH($C21,'Výsledková listina'!$C:$C,0),1))","v":0},"Frič Michal",{"$f":"IF(ISBLANK(C21),\"\",INDEX('Výsledková listina'!$H:$I,MATCH($C21,'Výsledková listina'!$C:$C,0),1))","v":1960},{"$f":"IF(ISBLANK(C21),\"\",INDEX('Výsledková listina'!$H:$I,MATCH($C21,'Výsledková listina'!$C:$C,0),2))","v":8},null,null,null,{"$f":"IF(ISBLANK(C21),\"\",INDEX('Výsledková listina'!$L:$M,MATCH($C21,'Výsledková listina'!$C:$C,0),1))","v":7560},{"$f":"IF(ISBLANK(C21),\"\",INDEX('Výsledková listina'!$L:$M,MATCH($C21,'Výsledková listina'!$C:$C,0),2))","v":3}]
["MILO Feeder Team JIHOSEVERÁCI",{"$f":"IF(ISBLANK($C22),\"\",INDEX('Výsledková listina'!$B:$B,MATCH($C22,'Výsledková listina'!$C:$C,0),1))","v":0},"Chadraba Petr",{"$f":"IF(ISBLANK(C22),\"\",INDEX('Výsledková listina'!$H:$I,MATCH($C22,'Výsledková listina'!$C:$C,0),1))","v":7960},{"$f":"IF(ISBLANK(C22),\"\",INDEX('Výsledková listina'!$H:$I,MATCH($C22,'Výsledková listina'!$C:$C,0),2))","v":3},{"$f":"IF(ISBLANK($A22),\"\",SUM(D22:D24))","v":17020},{"$f":"IF(ISBLANK($A22),\"\",SUM(E22:E24))","v":15},{"$f":"IF(ISBLANK($A22),\"\",RANK(G22,G:G,1))","v":5},{"$f":"IF(ISBLANK(C22),\"\",INDEX('Výsledková listina'!$L:$M,MATCH($C22,'Výsledková listina'!$C:$C,0),1))","v":10780},{"$f":"IF(ISBLANK(C22),\"\",INDEX('Výsledková listina'!$L:$M,MATCH($C22,'Výsledková listina'!$C:$C,0),2))","v":1},{"$f":"IF(ISBLANK($A22),\"\",SUM(I22:I24))","v":20900},{"$f":"IF(ISBLANK($A22),\"\",SUM(J22:J24))","v":13},{"$f":"IF(ISBLANK($A22),\"\",RANK(L22,L:L,1))","v":4},{"$f":"IF(ISBLANK($A22),\"\",SUM(F22,K22))","v":37920},{"$f":"IF(ISBLANK($A22),\"\",SUM(G22,L22))","v":28},5]
[null,{"$f":"IF(ISBLANK($C23),\"\",INDEX('Výsledková listina'!$B:$B,MATCH($C23,'Výsledková listina'!$C:$C,0),1))","v":0},"Ohera Tomáš",{"$f":"IF(ISBLANK(C23),\"\",INDEX('Výsledková listina'!$H:$I,MATCH($C23,'Výsledková listina'!$C:$C,0),1))","v":4700},{"$f":"IF(ISBLANK(C23),\"\",INDEX('Výsledková listina'!$H:$I,MATCH($C23,'Výsledková listina'!$C:$C,0),2))","v":6},null,null,null,{"$f":"IF(ISBLANK(C23),\"\",INDEX('Výsledková listina'!$L:$M,MATCH($C23,'Výsledková listina'!$C:$C,0),1))","v":6300},{"$f":"IF(ISBLANK(C23),\"\",INDEX('Výsledková listina'!$L:$M,MATCH($C23,'Výsledková listina'!$C:$C,0),2))","v":6}]
[null,{"$f":"IF(ISBLANK($C24),\"\",INDEX('Výsledková listina'!$B:$B,MATCH($C24,'Výsledková listina'!$C:$C,0),1))","v":0},"Peřina Josef",{"$f":"IF(ISBLANK(C24),\"\",INDEX('Výsledková listina'!$H:$I,MATCH($C24,'Výsledková listina'!$C:$C,0),1))","v":4360},{"$f":"IF(ISBLANK(C24),\"\",INDEX('Výsledková listina'!$H:$I,MATCH($C24,'Výsledková listina'!$C:$C,0),2))","v":6},null,null,null,{"$f":"IF(ISBLANK(C24),\"\",INDEX('Výsledková listina'!$L:$M,MATCH($C24,'Výsledková listina'!$C:$C,0),1))","v":3820},{"$f":"IF(ISBLANK(C24),\"\",INDEX('Výsledková listina'!$L:$M,MATCH($C24,'Výsledková listina'!$C:$C,0),2))","v":6}]
["Fish Angels",{"$f":"IF(ISBLANK($C25),\"\",INDEX('Výsledková listina'!$B:$B,MATCH($C25,'Výsledková listina'!$C:$C,0),1))","v":0},"Šabata Jakub",{"$f":"IF(ISBLANK(C25),\"\",INDEX('Výsledková listina'!$H:$I,MATCH($C25,'Výsledková listina'!$C:$C,0),1))","v":9760},{"$f":"IF(ISBLANK(C25),\"\",INDEX('Výsledková listina'!$H:$I,MATCH($C25,'Výsledková listina'!$C:$C,0),2))","v":2},{"$f":"IF(ISBLANK($A25),\"\",SUM(D25:D27))","v":24880},{"$f":"IF(ISBLANK($A25),\"\",SUM(E25:E27))","v":9},{"$f":"IF(ISBLANK($A25),\"\",RANK(G25,G:G,1))","v":1},{"$f":"IF(ISBLANK(C25),\"\",INDEX('Výsledková listina'!$L:$M,MATCH($C25,'Výsledková listina'!$C:$C,0),1))","v":9780},{"$f":"IF(ISBLANK(C25),\"\",INDEX('Výsledková listina'!$L:$M,MATCH($C25,'Výsledková listina'!$C:$C,0),2))","v":2},{"$f":"IF(ISBLANK($A25),\"\",SUM(I25:I27))","v":29900},{"$f":"IF(ISBLANK($A25),\"\",SUM(J25:J27))","v":6},{"$f":"IF(ISBLANK($A25),\"\",RANK(L25,L:L,1))","v":1},{"$f":"IF(ISBLANK($A25),\"\",SUM(F25,K25))","v":54780},{"$f":"IF(ISBLANK($A25),\"\",SUM(G25,L25))","v":15},{"$f":"IF(ISBLANK($A25),\"\",RANK(O25,O:O,1))","v":1}]
[null,{"$f":"IF(ISBLANK($C26),\"\",INDEX('Výsledková listina'!$B:$B,MATCH($C26,'Výsledková listina'!$C:$C,0),1))","v":0},"Kunst Antonín",{"$f":"IF(ISBLANK(C26),\"\",INDEX('Výsledková listina'!$H:$I,MATCH($C26,'Výsledková listina'!$C:$C,0),1))","v":9880},{"$f":"IF(ISBLANK(C26),\"\",INDEX('Výsledková listina'!$H:$I,MATCH($C26,'Výsledková listina'!$C:$C,0),2))","v":1},null,null,null,{"$f":"IF(ISBLANK(C26),\"\",INDEX('Výsledková listina'!$L:$M,MATCH($C26,'Výsledková listina'!$C:$C,0),1))","v":9300},{"$f":"IF(ISBLANK(C26),\"\",INDEX('Výsledková listina'!$L:$M,MATCH($C26,'Výsledková listina'!$C:$C,0),2))","v":1}]
[null,{"$f":"IF(ISBLANK($C27),\"\",INDEX('Výsledková listina'!$B:$B,MATCH($C27,'Výsledková listina'!$C:$C,0),1))","v":0},"Denemarek Jiří",{"$f":"IF(ISBLANK(C27),\"\",INDEX('Výsledková listina'!$H:$I,MATCH($C27,'Výsledková listina'!$C:$C,0),1))","v":5240},{"$f":"IF(ISBLANK(C27),\"\",INDEX('Výsledková listina'!$H:$I,MATCH($C27,'Výsledková listina'!$C:$C,0),2))","v":6},null,null,null,{"$f":"IF(ISBLANK(C27),\"\",INDEX('Výsledková listina'!$L:$M,MATCH($C27,'Výsledková listina'!$C:$C,0),1))","v":10820},{"$f":"IF(ISBLANK(C27),\"\",INDEX('Výsledková listina'!$L:$M,MATCH($C27,'Výsledková listina'!$C:$C,0),2))","v":3}]
["Zauwíci",{"$f":"IF(ISBLANK($C28),\"\",INDEX('Výsledková listina'!$B:$B,MATCH($C28,'Výsledková listina'!$C:$C,0),1))","v":0},"Zavřel Jan",{"$f":"IF(ISBLANK(C28),\"\",INDEX('Výsledková listina'!$H:$I,MATCH($C28,'Výsledková listina'!$C:$C,0),1))","v":10340},{"$f":"IF(ISBLANK(C28),\"\",INDEX('Výsledková listina'!$H:$I,MATCH($C28,'Výsledková listina'!$C:$C,0),2))","v":1},{"$f":"IF(ISBLANK($A28),\"\",SUM(D28:D30))","v":19660},{"$f":"IF(ISBLANK($A28),\"\",SUM(E28:E30))","v":12},{"$f":"IF(ISBLANK($A28),\"\",RANK(G28,G:G,1))","v":3},{"$f":"IF(ISBLANK(C28),\"\",INDEX('Výsledková listina'!$L:$M,MATCH($C28,'Výsledková listina'!$C:$C,0),1))","v":8220},{"$f":"IF(ISBLANK(C28),\"\",INDEX('Výsledková listina'!$L:$M,MATCH($C28,'Výsledková listina'!$C:$C,0),2))","v":2},{"$f":"IF(ISBLANK($A28),\"\",SUM(I28:I30))","v":23080},{"$f":"IF(ISBLANK($A28),\"\",SUM(J28:J30))","v":12},{"$f":"IF(ISBLANK($A28),\"\",RANK(L28,L:L,1))","v":3},{"$f":"IF(ISBLANK($A28),\"\",SUM(F28,K28))","v":42740},{"$f":"IF(ISBLANK($A28),\"\",SUM(G28,L28))","v":24},{"$f":"IF(ISBLANK($A28),\"\",RANK(O28,O:O,1))","v":2}]
[null,{"$f":"IF(ISBLANK($C29),\"\",INDEX('Výsledková listina'!$B:$B,MATCH($C29,'Výsledková listina'!$C:$C,0),1))","v":0},"Pečta Radek st.",{"$f":"IF(ISBLANK(C29),\"\",INDEX('Výsledková listina'!$H:$I,MATCH($C29,'Výsledková listina'!$C:$C,0),1))","v":6420},{"$f":"IF(ISBLANK(C29),\"\",INDEX('Výsledková listina'!$H:$I,MATCH($C29,'Výsledková listina'!$C:$C,0),2))","v":4},null,null,null,{"$f":"IF(ISBLANK(C29),\"\",INDEX('Výsledková listina'!$L:$M,MATCH($C29,'Výsledková listina'!$C:$C,0),1))","v":10980},{"$f":"IF(ISBLANK(C29),\"\",INDEX('Výsledková listina'!$L:$M,MATCH($C29,'Výsledková listina'!$C:$C,0),2))","v":2}]
[null,{"$f":"IF(ISBLANK($C30),\"\",INDEX('Výsledková listina'!$B:$B,MATCH($C30,'Výsledková listina'!$C:$C,0),1))","v":0},"Šťovčík Viktor",{"$f":"IF(ISBLANK(C30),\"\",INDEX('Výsledková listina'!$H:$I,MATCH($C30,'Výsledková listina'!$C:$C,0),1))","v":2900},{"$f":"IF(ISBLANK(C30),\"\",INDEX('Výsledková listina'!$H:$I,MATCH($C30,'Výsledková listina'!$C:$C,0),2))","v":7},null,null,null,{"$f":"IF(ISBLANK(C30),\"\",INDEX('Výsledková listina'!$L:$M,MATCH($C30,'Výsledková listina'!$C:$C,0),1))","v":3880},{"$f":"IF(ISBLANK(C30),\"\",INDEX('Výsledková listina'!$L:$M,MATCH($C30,'Výsledková listina'!$C:$C,0),2))","v":8}]
[null,{"$f":"IF(ISBLANK($C31),\"\",INDEX('Výsledková listina'!$B:$B,MATCH($C31,'Výsledková listina'!$C:$C,0),1))","v":""},null,{"$f":"IF(ISBLANK(C31),\"\",INDEX('Výsledková listina'!$H:$I,MATCH($C31,'Výsledková listina'!$C:$C,0),1))","v":""},{"$f":"IF(ISBLANK(C31),\"\",INDEX('Výsledková listina'!$H:$I,MATCH($C31,'Výsledková listina'!$C:$C,0),2))","v":""},{"$f":"IF(ISBLANK($A31),\"\",SUM(D31:D33))","v":""},{"$f":"IF(ISBLANK($A31),\"\",SUM(E31:E33))","v":""},{"$f":"IF(ISBLANK($A31),\"\",RANK(G31,G:G,1))","v":""},{"$f":"IF(ISBLANK(C31),\"\",INDEX('Výsledková listina'!$L:$M,MATCH($C31,'Výsledková listina'!$C:$C,0),1))","v":""},{"$f":"IF(ISBLANK(C31),\"\",INDEX('Výsledková listina'!$L:$M,MATCH($C31,'Výsledková listina'!$C:$C,0),2))","v":""},{"$f":"IF(ISBLANK($A31),\"\",SUM(I31:I33))","v":""},{"$f":"IF(ISBLANK($A31),\"\",SUM(J31:J33))","v":""},{"$f":"IF(ISBLANK($A31),\"\",RANK(L31,L:L,1))","v":""},{"$f":"IF(ISBLANK($A31),\"\",SUM(F31,K31))","v":""},{"$f":"IF(ISBLANK($A31),\"\",SUM(G31,L31))","v":""},{"$f":"IF(ISBLANK($A31),\"\",RANK(O31,O:O,1))","v":""}]
[null,{"$f":"IF(ISBLANK($C32),\"\",INDEX('Výsledková listina'!$B:$B,MATCH($C32,'Výsledková listina'!$C:$C,0),1))","v":""},null,{"$f":"IF(ISBLANK(C32),\"\",INDEX('Výsledková listina'!$H:$I,MATCH($C32,'Výsledková listina'!$C:$C,0),1))","v":""},{"$f":"IF(ISBLANK(C32),\"\",INDEX('Výsledková listina'!$H:$I,MATCH($C32,'Výsledková listina'!$C:$C,0),2))","v":""},null,null,null,{"$f":"IF(ISBLANK(C32),\"\",INDEX('Výsledková listina'!$L:$M,MATCH($C32,'Výsledková listina'!$C:$C,0),1))","v":""},{"$f":"IF(ISBLANK(C32),\"\",INDEX('Výsledková listina'!$L:$M,MATCH($C32,'Výsledková listina'!$C:$C,0),2))","v":""}]
[null,{"$f":"IF(ISBLANK($C33),\"\",INDEX('Výsledková listina'!$B:$B,MATCH($C33,'Výsledková listina'!$C:$C,0),1))","v":""},null,{"$f":"IF(ISBLANK(C33),\"\",INDEX('Výsledková listina'!$H:$I,MATCH($C33,'Výsledková listina'!$C:$C,0),1))","v":""},{"$f":"IF(ISBLANK(C33),\"\",INDEX('Výsledková listina'!$H:$I,MATCH($C33,'Výsledková listina'!$C:$C,0),2))","v":""},null,null,null,{"$f":"IF(ISBLANK(C33),\"\",INDEX('Výsledková listina'!$L:$M,MATCH($C33,'Výsledková listina'!$C:$C,0),1))","v":""},{"$f":"IF(ISBLANK(C33),\"\",INDEX('Výsledková listina'!$L:$M,MATCH($C33,'Výsledková listina'!$C:$C,0),2))","v":""}]
[null,{"$f":"IF(ISBLANK($C34),\"\",INDEX('Výsledková listina'!$B:$B,MATCH($C34,'Výsledková listina'!$C:$C,0),1))","v":""},null,{"$f":"IF(ISBLANK(C34),\"\",INDEX('Výsledková listina'!$H:$I,MATCH($C34,'Výsledková listina'!$C:$C,0),1))","v":""},{"$f":"IF(ISBLANK(C34),\"\",INDEX('Výsledková listina'!$H:$I,MATCH($C34,'Výsledková listina'!$C:$C,0),2))","v":""},{"$f":"IF(ISBLANK($A34),\"\",SUM(D34:D36))","v":""},{"$f":"IF(ISBLANK($A34),\"\",SUM(E34:E36))","v":""},{"$f":"IF(ISBLANK($A34),\"\",RANK(G34,G:G,1))","v":""},{"$f":"IF(ISBLANK(C34),\"\",INDEX('Výsledková listina'!$L:$M,MATCH($C34,'Výsledková listina'!$C:$C,0),1))","v":""},{"$f":"IF(ISBLANK(C34),\"\",INDEX('Výsledková listina'!$L:$M,MATCH($C34,'Výsledková listina'!$C:$C,0),2))","v":""},{"$f":"IF(ISBLANK($A34),\"\",SUM(I34:I36))","v":""},{"$f":"IF(ISBLANK($A34),\"\",SUM(J34:J36))","v":""},{"$f":"IF(ISBLANK($A34),\"\",RANK(L34,L:L,1))","v":""},{"$f":"IF(ISBLANK($A34),\"\",SUM(F34,K34))","v":""},{"$f":"IF(ISBLANK($A34),\"\",SUM(G34,L34))","v":""},{"$f":"IF(ISBLANK($A34),\"\",RANK(O34,O:O,1))","v":""}]
[null,{"$f":"IF(ISBLANK($C35),\"\",INDEX('Výsledková listina'!$B:$B,MATCH($C35,'Výsledková listina'!$C:$C,0),1))","v":""},null,{"$f":"IF(ISBLANK(C35),\"\",INDEX('Výsledková listina'!$H:$I,MATCH($C35,'Výsledková listina'!$C:$C,0),1))","v":""},{"$f":"IF(ISBLANK(C35),\"\",INDEX('Výsledková listina'!$H:$I,MATCH($C35,'Výsledková listina'!$C:$C,0),2))","v":""},null,null,null,{"$f":"IF(ISBLANK(C35),\"\",INDEX('Výsledková listina'!$L:$M,MATCH($C35,'Výsledková listina'!$C:$C,0),1))","v":""},{"$f":"IF(ISBLANK(C35),\"\",INDEX('Výsledková listina'!$L:$M,MATCH($C35,'Výsledková listina'!$C:$C,0),2))","v":""}]
[null,{"$f":"IF(ISBLANK($C36),\"\",INDEX('Výsledková listina'!$B:$B,MATCH($C36,'Výsledková listina'!$C:$C,0),1))","v":""},null,{"$f":"IF(ISBLANK(C36),\"\",INDEX('Výsledková listina'!$H:$I,MATCH($C36,'Výsledková listina'!$C:$C,0),1))","v":""},{"$f":"IF(ISBLANK(C36),\"\",INDEX('Výsledková listina'!$H:$I,MATCH($C36,'Výsledková listina'!$C:$C,0),2))","v":""},null,null,null,{"$f":"IF(ISBLANK(C36),\"\",INDEX('Výsledková listina'!$L:$M,MATCH($C36,'Výsledková listina'!$C:$C,0),1))","v":""},{"$f":"IF(ISBLANK(C36),\"\",INDEX('Výsledková listina'!$L:$M,MATCH($C36,'Výsledková listina'!$C:$C,0),2))","v":""}]
[null,{"$f":"IF(ISBLANK($C37),\"\",INDEX('Výsledková listina'!$B:$B,MATCH($C37,'Výsledková listina'!$C:$C,0),1))","v":""},null,{"$f":"IF(ISBLANK(C37),\"\",INDEX('Výsledková listina'!$H:$I,MATCH($C37,'Výsledková listina'!$C:$C,0),1))","v":""},{"$f":"IF(ISBLANK(C37),\"\",INDEX('Výsledková listina'!$H:$I,MATCH($C37,'Výsledková listina'!$C:$C,0),2))","v":""},{"$f":"IF(ISBLANK($A37),\"\",SUM(D37:D39))","v":""},{"$f":"IF(ISBLANK($A37),\"\",SUM(E37:E39))","v":""},{"$f":"IF(ISBLANK($A37),\"\",RANK(G37,G:G,1))","v":""},{"$f":"IF(ISBLANK(C37),\"\",INDEX('Výsledková listina'!$L:$M,MATCH($C37,'Výsledková listina'!$C:$C,0),1))","v":""},{"$f":"IF(ISBLANK(C37),\"\",INDEX('Výsledková listina'!$L:$M,MATCH($C37,'Výsledková listina'!$C:$C,0),2))","v":""},{"$f":"IF(ISBLANK($A37),\"\",SUM(I37:I39))","v":""},{"$f":"IF(ISBLANK($A37),\"\",SUM(J37:J39))","v":""},{"$f":"IF(ISBLANK($A37),\"\",RANK(L37,L:L,1))","v":""},{"$f":"IF(ISBLANK($A37),\"\",SUM(F37,K37))","v":""},{"$f":"IF(ISBLANK($A37),\"\",SUM(G37,L37))","v":""},{"$f":"IF(ISBLANK($A37),\"\",RANK(O37,O:O,1))","v":""}]
[null,{"$f":"IF(ISBLANK($C38),\"\",INDEX('Výsledková listina'!$B:$B,MATCH($C38,'Výsledková listina'!$C:$C,0),1))","v":""},null,{"$f":"IF(ISBLANK(C38),\"\",INDEX('Výsledková listina'!$H:$I,MATCH($C38,'Výsledková listina'!$C:$C,0),1))","v":""},{"$f":"IF(ISBLANK(C38),\"\",INDEX('Výsledková listina'!$H:$I,MATCH($C38,'Výsledková listina'!$C:$C,0),2))","v":""},null,null,null,{"$f":"IF(ISBLANK(C38),\"\",INDEX('Výsledková listina'!$L:$M,MATCH($C38,'Výsledková listina'!$C:$C,0),1))","v":""},{"$f":"IF(ISBLANK(C38),\"\",INDEX('Výsledková listina'!$L:$M,MATCH($C38,'Výsledková listina'!$C:$C,0),2))","v":""}]
[null,{"$f":"IF(ISBLANK($C39),\"\",INDEX('Výsledková listina'!$B:$B,MATCH($C39,'Výsledková listina'!$C:$C,0),1))","v":""},null,{"$f":"IF(ISBLANK(C39),\"\",INDEX('Výsledková listina'!$H:$I,MATCH($C39,'Výsledková listina'!$C:$C,0),1))","v":""},{"$f":"IF(ISBLANK(C39),\"\",INDEX('Výsledková listina'!$H:$I,MATCH($C39,'Výsledková listina'!$C:$C,0),2))","v":""},null,null,null,{"$f":"IF(ISBLANK(C39),\"\",INDEX('Výsledková listina'!$L:$M,MATCH($C39,'Výsledková listina'!$C:$C,0),1))","v":""},{"$f":"IF(ISBLANK(C39),\"\",INDEX('Výsledková listina'!$L:$M,MATCH($C39,'Výsledková listina'!$C:$C,0),2))","v":""}]
[null,{"$f":"IF(ISBLANK($C40),\"\",INDEX('Výsledková listina'!$B:$B,MATCH($C40,'Výsledková listina'!$C:$C,0),1))","v":""},null,{"$f":"IF(ISBLANK(C40),\"\",INDEX('Výsledková listina'!$H:$I,MATCH($C40,'Výsledková listina'!$C:$C,0),1))","v":""},{"$f":"IF(ISBLANK(C40),\"\",INDEX('Výsledková listina'!$H:$I,MATCH($C40,'Výsledková listina'!$C:$C,0),2))","v":""},{"$f":"IF(ISBLANK($A40),\"\",SUM(D40:D42))","v":""},{"$f":"IF(ISBLANK($A40),\"\",SUM(E40:E42))","v":""},{"$f":"IF(ISBLANK($A40),\"\",RANK(G40,G:G,1))","v":""},{"$f":"IF(ISBLANK(C40),\"\",INDEX('Výsledková listina'!$L:$M,MATCH($C40,'Výsledková listina'!$C:$C,0),1))","v":""},{"$f":"IF(ISBLANK(C40),\"\",INDEX('Výsledková listina'!$L:$M,MATCH($C40,'Výsledková listina'!$C:$C,0),2))","v":""},{"$f":"IF(ISBLANK($A40),\"\",SUM(I40:I42))","v":""},{"$f":"IF(ISBLANK($A40),\"\",SUM(J40:J42))","v":""},{"$f":"IF(ISBLANK($A40),\"\",RANK(L40,L:L,1))","v":""},{"$f":"IF(ISBLANK($A40),\"\",SUM(F40,K40))","v":""},{"$f":"IF(ISBLANK($A40),\"\",SUM(G40,L40))","v":""},{"$f":"IF(ISBLANK($A40),\"\",RANK(O40,O:O,1))","v":""}]
[null,{"$f":"IF(ISBLANK($C41),\"\",INDEX('Výsledková listina'!$B:$B,MATCH($C41,'Výsledková listina'!$C:$C,0),1))","v":""},null,{"$f":"IF(ISBLANK(C41),\"\",INDEX('Výsledková listina'!$H:$I,MATCH($C41,'Výsledková listina'!$C:$C,0),1))","v":""},{"$f":"IF(ISBLANK(C41),\"\",INDEX('Výsledková listina'!$H:$I,MATCH($C41,'Výsledková listina'!$C:$C,0),2))","v":""},null,null,null,{"$f":"IF(ISBLANK(C41),\"\",INDEX('Výsledková listina'!$L:$M,MATCH($C41,'Výsledková listina'!$C:$C,0),1))","v":""},{"$f":"IF(ISBLANK(C41),\"\",INDEX('Výsledková listina'!$L:$M,MATCH($C41,'Výsledková listina'!$C:$C,0),2))","v":""}]
[null,{"$f":"IF(ISBLANK($C42),\"\",INDEX('Výsledková listina'!$B:$B,MATCH($C42,'Výsledková listina'!$C:$C,0),1))","v":""},null,{"$f":"IF(ISBLANK(C42),\"\",INDEX('Výsledková listina'!$H:$I,MATCH($C42,'Výsledková listina'!$C:$C,0),1))","v":""},{"$f":"IF(ISBLANK(C42),\"\",INDEX('Výsledková listina'!$H:$I,MATCH($C42,'Výsledková listina'!$C:$C,0),2))","v":""},null,null,null,{"$f":"IF(ISBLANK(C42),\"\",INDEX('Výsledková listina'!$L:$M,MATCH($C42,'Výsledková listina'!$C:$C,0),1))","v":""},{"$f":"IF(ISBLANK(C42),\"\",INDEX('Výsledková listina'!$L:$M,MATCH($C42,'Výsledková listina'!$C:$C,0),2))","v":""}]
[null,{"$f":"IF(ISBLANK($C43),\"\",INDEX('Výsledková listina'!$B:$B,MATCH($C43,'Výsledková listina'!$C:$C,0),1))","v":""},null,{"$f":"IF(ISBLANK(C43),\"\",INDEX('Výsledková listina'!$H:$I,MATCH($C43,'Výsledková listina'!$C:$C,0),1))","v":""},{"$f":"IF(ISBLANK(C43),\"\",INDEX('Výsledková listina'!$H:$I,MATCH($C43,'Výsledková listina'!$C:$C,0),2))","v":""},{"$f":"IF(ISBLANK($A43),\"\",SUM(D43:D45))","v":""},{"$f":"IF(ISBLANK($A43),\"\",SUM(E43:E45))","v":""},{"$f":"IF(ISBLANK($A43),\"\",RANK(G43,G:G,1))","v":""},{"$f":"IF(ISBLANK(C43),\"\",INDEX('Výsledková listina'!$L:$M,MATCH($C43,'Výsledková listina'!$C:$C,0),1))","v":""},{"$f":"IF(ISBLANK(C43),\"\",INDEX('Výsledková listina'!$L:$M,MATCH($C43,'Výsledková listina'!$C:$C,0),2))","v":""},{"$f":"IF(ISBLANK($A43),\"\",SUM(I43:I45))","v":""},{"$f":"IF(ISBLANK($A43),\"\",SUM(J43:J45))","v":""},{"$f":"IF(ISBLANK($A43),\"\",RANK(L43,L:L,1))","v":""},{"$f":"IF(ISBLANK($A43),\"\",SUM(F43,K43))","v":""},{"$f":"IF(ISBLANK($A43),\"\",SUM(G43,L43))","v":""},{"$f":"IF(ISBLANK($A43),\"\",RANK(O43,O:O,1))","v":""}]
[null,{"$f":"IF(ISBLANK($C44),\"\",INDEX('Výsledková listina'!$B:$B,MATCH($C44,'Výsledková listina'!$C:$C,0),1))","v":""},null,{"$f":"IF(ISBLANK(C44),\"\",INDEX('Výsledková listina'!$H:$I,MATCH($C44,'Výsledková listina'!$C:$C,0),1))","v":""},{"$f":"IF(ISBLANK(C44),\"\",INDEX('Výsledková listina'!$H:$I,MATCH($C44,'Výsledková listina'!$C:$C,0),2))","v":""},null,null,null,{"$f":"IF(ISBLANK(C44),\"\",INDEX('Výsledková listina'!$L:$M,MATCH($C44,'Výsledková listina'!$C:$C,0),1))","v":""},{"$f":"IF(ISBLANK(C44),\"\",INDEX('Výsledková listina'!$L:$M,MATCH($C44,'Výsledková listina'!$C:$C,0),2))","v":""}]
[null,{"$f":"IF(ISBLANK($C45),\"\",INDEX('Výsledková listina'!$B:$B,MATCH($C45,'Výsledková listina'!$C:$C,0),1))","v":""},null,{"$f":"IF(ISBLANK(C45),\"\",INDEX('Výsledková listina'!$H:$I,MATCH($C45,'Výsledková listina'!$C:$C,0),1))","v":""},{"$f":"IF(ISBLANK(C45),\"\",INDEX('Výsledková listina'!$H:$I,MATCH($C45,'Výsledková listina'!$C:$C,0),2))","v":""},null,null,null,{"$f":"IF(ISBLANK(C45),\"\",INDEX('Výsledková listina'!$L:$M,MATCH($C45,'Výsledková listina'!$C:$C,0),1))","v":""},{"$f":"IF(ISBLANK(C45),\"\",INDEX('Výsledková listina'!$L:$M,MATCH($C45,'Výsledková listina'!$C:$C,0),2))","v":""}]
[null,{"$f":"IF(ISBLANK($C46),\"\",INDEX('Výsledková listina'!$B:$B,MATCH($C46,'Výsledková listina'!$C:$C,0),1))","v":""},null,{"$f":"IF(ISBLANK(C46),\"\",INDEX('Výsledková listina'!$H:$I,MATCH($C46,'Výsledková listina'!$C:$C,0),1))","v":""},{"$f":"IF(ISBLANK(C46),\"\",INDEX('Výsledková listina'!$H:$I,MATCH($C46,'Výsledková listina'!$C:$C,0),2))","v":""},{"$f":"IF(ISBLANK($A46),\"\",SUM(D46:D48))","v":""},{"$f":"IF(ISBLANK($A46),\"\",SUM(E46:E48))","v":""},{"$f":"IF(ISBLANK($A46),\"\",RANK(G46,G:G,1))","v":""},{"$f":"IF(ISBLANK(C46),\"\",INDEX('Výsledková listina'!$L:$M,MATCH($C46,'Výsledková listina'!$C:$C,0),1))","v":""},{"$f":"IF(ISBLANK(C46),\"\",INDEX('Výsledková listina'!$L:$M,MATCH($C46,'Výsledková listina'!$C:$C,0),2))","v":""},{"$f":"IF(ISBLANK($A46),\"\",SUM(I46:I48))","v":""},{"$f":"IF(ISBLANK($A46),\"\",SUM(J46:J48))","v":""},{"$f":"IF(ISBLANK($A46),\"\",RANK(L46,L:L,1))","v":""},{"$f":"IF(ISBLANK($A46),\"\",SUM(F46,K46))","v":""},{"$f":"IF(ISBLANK($A46),\"\",SUM(G46,L46))","v":""},{"$f":"IF(ISBLANK($A46),\"\",RANK(O46,O:O,1))","v":""}]
[null,{"$f":"IF(ISBLANK($C47),\"\",INDEX('Výsledková listina'!$B:$B,MATCH($C47,'Výsledková listina'!$C:$C,0),1))","v":""},null,{"$f":"IF(ISBLANK(C47),\"\",INDEX('Výsledková listina'!$H:$I,MATCH($C47,'Výsledková listina'!$C:$C,0),1))","v":""},{"$f":"IF(ISBLANK(C47),\"\",INDEX('Výsledková listina'!$H:$I,MATCH($C47,'Výsledková listina'!$C:$C,0),2))","v":""},null,null,null,{"$f":"IF(ISBLANK(C47),\"\",INDEX('Výsledková listina'!$L:$M,MATCH($C47,'Výsledková listina'!$C:$C,0),1))","v":""},{"$f":"IF(ISBLANK(C47),\"\",INDEX('Výsledková listina'!$L:$M,MATCH($C47,'Výsledková listina'!$C:$C,0),2))","v":""}]
[null,{"$f":"IF(ISBLANK($C48),\"\",INDEX('Výsledková listina'!$B:$B,MATCH($C48,'Výsledková listina'!$C:$C,0),1))","v":""},null,{"$f":"IF(ISBLANK(C48),\"\",INDEX('Výsledková listina'!$H:$I,MATCH($C48,'Výsledková listina'!$C:$C,0),1))","v":""},{"$f":"IF(ISBLANK(C48),\"\",INDEX('Výsledková listina'!$H:$I,MATCH($C48,'Výsledková listina'!$C:$C,0),2))","v":""},null,null,null,{"$f":"IF(ISBLANK(C48),\"\",INDEX('Výsledková listina'!$L:$M,MATCH($C48,'Výsledková listina'!$C:$C,0),1))","v":""},{"$f":"IF(ISBLANK(C48),\"\",INDEX('Výsledková listina'!$L:$M,MATCH($C48,'Výsledková listina'!$C:$C,0),2))","v":""}]
[null,{"$f":"IF(ISBLANK($C49),\"\",INDEX('Výsledková listina'!$B:$B,MATCH($C49,'Výsledková listina'!$C:$C,0),1))","v":""},null,{"$f":"IF(ISBLANK(C49),\"\",INDEX('Výsledková listina'!$H:$I,MATCH($C49,'Výsledková listina'!$C:$C,0),1))","v":""},{"$f":"IF(ISBLANK(C49),\"\",INDEX('Výsledková listina'!$H:$I,MATCH($C49,'Výsledková listina'!$C:$C,0),2))","v":""},{"$f":"IF(ISBLANK($A49),\"\",SUM(D49:D51))","v":""},{"$f":"IF(ISBLANK($A49),\"\",SUM(E49:E51))","v":""},{"$f":"IF(ISBLANK($A49),\"\",RANK(G49,G:G,1))","v":""},{"$f":"IF(ISBLANK(C49),\"\",INDEX('Výsledková listina'!$L:$M,MATCH($C49,'Výsledková listina'!$C:$C,0),1))","v":""},{"$f":"IF(ISBLANK(C49),\"\",INDEX('Výsledková listina'!$L:$M,MATCH($C49,'Výsledková listina'!$C:$C,0),2))","v":""},{"$f":"IF(ISBLANK($A49),\"\",SUM(I49:I51))","v":""},{"$f":"IF(ISBLANK($A49),\"\",SUM(J49:J51))","v":""},{"$f":"IF(ISBLANK($A49),\"\",RANK(L49,L:L,1))","v":""},{"$f":"IF(ISBLANK($A49),\"\",SUM(F49,K49))","v":""},{"$f":"IF(ISBLANK($A49),\"\",SUM(G49,L49))","v":""},{"$f":"IF(ISBLANK($A49),\"\",RANK(O49,O:O,1))","v":""}]
[null,{"$f":"IF(ISBLANK($C50),\"\",INDEX('Výsledková listina'!$B:$B,MATCH($C50,'Výsledková listina'!$C:$C,0),1))","v":""},null,{"$f":"IF(ISBLANK(C50),\"\",INDEX('Výsledková listina'!$H:$I,MATCH($C50,'Výsledková listina'!$C:$C,0),1))","v":""},{"$f":"IF(ISBLANK(C50),\"\",INDEX('Výsledková listina'!$H:$I,MATCH($C50,'Výsledková listina'!$C:$C,0),2))","v":""},null,null,null,{"$f":"IF(ISBLANK(C50),\"\",INDEX('Výsledková listina'!$L:$M,MATCH($C50,'Výsledková listina'!$C:$C,0),1))","v":""},{"$f":"IF(ISBLANK(C50),\"\",INDEX('Výsledková listina'!$L:$M,MATCH($C50,'Výsledková listina'!$C:$C,0),2))","v":""}]
[null,{"$f":"IF(ISBLANK($C51),\"\",INDEX('Výsledková listina'!$B:$B,MATCH($C51,'Výsledková listina'!$C:$C,0),1))","v":""},null,{"$f":"IF(ISBLANK(C51),\"\",INDEX('Výsledková listina'!$H:$I,MATCH($C51,'Výsledková listina'!$C:$C,0),1))","v":""},{"$f":"IF(ISBLANK(C51),\"\",INDEX('Výsledková listina'!$H:$I,MATCH($C51,'Výsledková listina'!$C:$C,0),2))","v":""},null,null,null,{"$f":"IF(ISBLANK(C51),\"\",INDEX('Výsledková listina'!$L:$M,MATCH($C51,'Výsledková listina'!$C:$C,0),1))","v":""},{"$f":"IF(ISBLANK(C51),\"\",INDEX('Výsledková listina'!$L:$M,MATCH($C51,'Výsledková listina'!$C:$C,0),2))","v":""}]
[null,{"$f":"IF(ISBLANK($C52),\"\",INDEX('Výsledková listina'!$B:$B,MATCH($C52,'Výsledková listina'!$C:$C,0),1))","v":""},null,{"$f":"IF(ISBLANK(C52),\"\",INDEX('Výsledková listina'!$H:$I,MATCH($C52,'Výsledková listina'!$C:$C,0),1))","v":""},{"$f":"IF(ISBLANK(C52),\"\",INDEX('Výsledková listina'!$H:$I,MATCH($C52,'Výsledková listina'!$C:$C,0),2))","v":""},{"$f":"IF(ISBLANK($A52),\"\",SUM(D52:D54))","v":""},{"$f":"IF(ISBLANK($A52),\"\",SUM(E52:E54))","v":""},{"$f":"IF(ISBLANK($A52),\"\",RANK(G52,G:G,1))","v":""},{"$f":"IF(ISBLANK(C52),\"\",INDEX('Výsledková listina'!$L:$M,MATCH($C52,'Výsledková listina'!$C:$C,0),1))","v":""},{"$f":"IF(ISBLANK(C52),\"\",INDEX('Výsledková listina'!$L:$M,MATCH($C52,'Výsledková listina'!$C:$C,0),2))","v":""},{"$f":"IF(ISBLANK($A52),\"\",SUM(I52:I54))","v":""},{"$f":"IF(ISBLANK($A52),\"\",SUM(J52:J54))","v":""},{"$f":"IF(ISBLANK($A52),\"\",RANK(L52,L:L,1))","v":""},{"$f":"IF(ISBLANK($A52),\"\",SUM(F52,K52))","v":""},{"$f":"IF(ISBLANK($A52),\"\",SUM(G52,L52))","v":""},{"$f":"IF(ISBLANK($A52),\"\",RANK(O52,O:O,1))","v":""}]
[null,{"$f":"IF(ISBLANK($C53),\"\",INDEX('Výsledková listina'!$B:$B,MATCH($C53,'Výsledková listina'!$C:$C,0),1))","v":""},null,{"$f":"IF(ISBLANK(C53),\"\",INDEX('Výsledková listina'!$H:$I,MATCH($C53,'Výsledková listina'!$C:$C,0),1))","v":""},{"$f":"IF(ISBLANK(C53),\"\",INDEX('Výsledková listina'!$H:$I,MATCH($C53,'Výsledková listina'!$C:$C,0),2))","v":""},null,null,null,{"$f":"IF(ISBLANK(C53),\"\",INDEX('Výsledková listina'!$L:$M,MATCH($C53,'Výsledková listina'!$C:$C,0),1))","v":""},{"$f":"IF(ISBLANK(C53),\"\",INDEX('Výsledková listina'!$L:$M,MATCH($C53,'Výsledková listina'!$C:$C,0),2))","v":""}]
[null,{"$f":"IF(ISBLANK($C54),\"\",INDEX('Výsledková listina'!$B:$B,MATCH($C54,'Výsledková listina'!$C:$C,0),1))","v":""},null,{"$f":"IF(ISBLANK(C54),\"\",INDEX('Výsledková listina'!$H:$I,MATCH($C54,'Výsledková listina'!$C:$C,0),1))","v":""},{"$f":"IF(ISBLANK(C54),\"\",INDEX('Výsledková listina'!$H:$I,MATCH($C54,'Výsledková listina'!$C:$C,0),2))","v":""},null,null,null,{"$f":"IF(ISBLANK(C54),\"\",INDEX('Výsledková listina'!$L:$M,MATCH($C54,'Výsledková listina'!$C:$C,0),1))","v":""},{"$f":"IF(ISBLANK(C54),\"\",INDEX('Výsledková listina'!$L:$M,MATCH($C54,'Výsledková listina'!$C:$C,0),2))","v":""}]
[null,{"$f":"IF(ISBLANK($C55),\"\",INDEX('Výsledková listina'!$B:$B,MATCH($C55,'Výsledková listina'!$C:$C,0),1))","v":""},null,{"$f":"IF(ISBLANK(C55),\"\",INDEX('Výsledková listina'!$H:$I,MATCH($C55,'Výsledková listina'!$C:$C,0),1))","v":""},{"$f":"IF(ISBLANK(C55),\"\",INDEX('Výsledková listina'!$H:$I,MATCH($C55,'Výsledková listina'!$C:$C,0),2))","v":""},{"$f":"IF(ISBLANK($A55),\"\",SUM(D55:D57))","v":""},{"$f":"IF(ISBLANK($A55),\"\",SUM(E55:E57))","v":""},{"$f":"IF(ISBLANK($A55),\"\",RANK(G55,G:G,1))","v":""},{"$f":"IF(ISBLANK(C55),\"\",INDEX('Výsledková listina'!$L:$M,MATCH($C55,'Výsledková listina'!$C:$C,0),1))","v":""},{"$f":"IF(ISBLANK(C55),\"\",INDEX('Výsledková listina'!$L:$M,MATCH($C55,'Výsledková listina'!$C:$C,0),2))","v":""},{"$f":"IF(ISBLANK($A55),\"\",SUM(I55:I57))","v":""},{"$f":"IF(ISBLANK($A55),\"\",SUM(J55:J57))","v":""},{"$f":"IF(ISBLANK($A55),\"\",RANK(L55,L:L,1))","v":""},{"$f":"IF(ISBLANK($A55),\"\",SUM(F55,K55))","v":""},{"$f":"IF(ISBLANK($A55),\"\",SUM(G55,L55))","v":""},{"$f":"IF(ISBLANK($A55),\"\",RANK(O55,O:O,1))","v":""}]
[null,{"$f":"IF(ISBLANK($C56),\"\",INDEX('Výsledková listina'!$B:$B,MATCH($C56,'Výsledková listina'!$C:$C,0),1))","v":""},null,{"$f":"IF(ISBLANK(C56),\"\",INDEX('Výsledková listina'!$H:$I,MATCH($C56,'Výsledková listina'!$C:$C,0),1))","v":""},{"$f":"IF(ISBLANK(C56),\"\",INDEX('Výsledková listina'!$H:$I,MATCH($C56,'Výsledková listina'!$C:$C,0),2))","v":""},null,null,null,{"$f":"IF(ISBLANK(C56),\"\",INDEX('Výsledková listina'!$L:$M,MATCH($C56,'Výsledková listina'!$C:$C,0),1))","v":""},{"$f":"IF(ISBLANK(C56),\"\",INDEX('Výsledková listina'!$L:$M,MATCH($C56,'Výsledková listina'!$C:$C,0),2))","v":""}]
[null,{"$f":"IF(ISBLANK($C57),\"\",INDEX('Výsledková listina'!$B:$B,MATCH($C57,'Výsledková listina'!$C:$C,0),1))","v":""},null,{"$f":"IF(ISBLANK(C57),\"\",INDEX('Výsledková listina'!$H:$I,MATCH($C57,'Výsledková listina'!$C:$C,0),1))","v":""},{"$f":"IF(ISBLANK(C57),\"\",INDEX('Výsledková listina'!$H:$I,MATCH($C57,'Výsledková listina'!$C:$C,0),2))","v":""},null,null,null,{"$f":"IF(ISBLANK(C57),\"\",INDEX('Výsledková listina'!$L:$M,MATCH($C57,'Výsledková listina'!$C:$C,0),1))","v":""},{"$f":"IF(ISBLANK(C57),\"\",INDEX('Výsledková listina'!$L:$M,MATCH($C57,'Výsledková listina'!$C:$C,0),2))","v":""}]
[null,{"$f":"IF(ISBLANK($C58),\"\",INDEX('Výsledková listina'!$B:$B,MATCH($C58,'Výsledková listina'!$C:$C,0),1))","v":""},null,{"$f":"IF(ISBLANK(C58),\"\",INDEX('Výsledková listina'!$H:$I,MATCH($C58,'Výsledková listina'!$C:$C,0),1))","v":""},{"$f":"IF(ISBLANK(C58),\"\",INDEX('Výsledková listina'!$H:$I,MATCH($C58,'Výsledková listina'!$C:$C,0),2))","v":""},{"$f":"IF(ISBLANK($A58),\"\",SUM(D58:D60))","v":""},{"$f":"IF(ISBLANK($A58),\"\",SUM(E58:E60))","v":""},{"$f":"IF(ISBLANK($A58),\"\",RANK(G58,G:G,1))","v":""},{"$f":"IF(ISBLANK(C58),\"\",INDEX('Výsledková listina'!$L:$M,MATCH($C58,'Výsledková listina'!$C:$C,0),1))","v":""},{"$f":"IF(ISBLANK(C58),\"\",INDEX('Výsledková listina'!$L:$M,MATCH($C58,'Výsledková listina'!$C:$C,0),2))","v":""},{"$f":"IF(ISBLANK($A58),\"\",SUM(I58:I60))","v":""},{"$f":"IF(ISBLANK($A58),\"\",SUM(J58:J60))","v":""},{"$f":"IF(ISBLANK($A58),\"\",RANK(L58,L:L,1))","v":""},{"$f":"IF(ISBLANK($A58),\"\",SUM(F58,K58))","v":""},{"$f":"IF(ISBLANK($A58),\"\",SUM(G58,L58))","v":""},{"$f":"IF(ISBLANK($A58),\"\",RANK(O58,O:O,1))","v":""}]
[null,{"$f":"IF(ISBLANK($C59),\"\",INDEX('Výsledková listina'!$B:$B,MATCH($C59,'Výsledková listina'!$C:$C,0),1))","v":""},null,{"$f":"IF(ISBLANK(C59),\"\",INDEX('Výsledková listina'!$H:$I,MATCH($C59,'Výsledková listina'!$C:$C,0),1))","v":""},{"$f":"IF(ISBLANK(C59),\"\",INDEX('Výsledková listina'!$H:$I,MATCH($C59,'Výsledková listina'!$C:$C,0),2))","v":""},null,null,null,{"$f":"IF(ISBLANK(C59),\"\",INDEX('Výsledková listina'!$L:$M,MATCH($C59,'Výsledková listina'!$C:$C,0),1))","v":""},{"$f":"IF(ISBLANK(C59),\"\",INDEX('Výsledková listina'!$L:$M,MATCH($C59,'Výsledková listina'!$C:$C,0),2))","v":""}]
[null,{"$f":"IF(ISBLANK($C60),\"\",INDEX('Výsledková listina'!$B:$B,MATCH($C60,'Výsledková listina'!$C:$C,0),1))","v":""},null,{"$f":"IF(ISBLANK(C60),\"\",INDEX('Výsledková listina'!$H:$I,MATCH($C60,'Výsledková listina'!$C:$C,0),1))","v":""},{"$f":"IF(ISBLANK(C60),\"\",INDEX('Výsledková listina'!$H:$I,MATCH($C60,'Výsledková listina'!$C:$C,0),2))","v":""},null,null,null,{"$f":"IF(ISBLANK(C60),\"\",INDEX('Výsledková listina'!$L:$M,MATCH($C60,'Výsledková listina'!$C:$C,0),1))","v":""},{"$f":"IF(ISBLANK(C60),\"\",INDEX('Výsledková listina'!$L:$M,MATCH($C60,'Výsledková listina'!$C:$C,0),2))","v":""}]
[null,{"$f":"IF(ISBLANK($C61),\"\",INDEX('Výsledková listina'!$B:$B,MATCH($C61,'Výsledková listina'!$C:$C,0),1))","v":""},null,{"$f":"IF(ISBLANK(C61),\"\",INDEX('Výsledková listina'!$H:$I,MATCH($C61,'Výsledková listina'!$C:$C,0),1))","v":""},{"$f":"IF(ISBLANK(C61),\"\",INDEX('Výsledková listina'!$H:$I,MATCH($C61,'Výsledková listina'!$C:$C,0),2))","v":""},{"$f":"IF(ISBLANK($A61),\"\",SUM(D61:D63))","v":""},{"$f":"IF(ISBLANK($A61),\"\",SUM(E61:E63))","v":""},{"$f":"IF(ISBLANK($A61),\"\",RANK(G61,G:G,1))","v":""},{"$f":"IF(ISBLANK(C61),\"\",INDEX('Výsledková listina'!$L:$M,MATCH($C61,'Výsledková listina'!$C:$C,0),1))","v":""},{"$f":"IF(ISBLANK(C61),\"\",INDEX('Výsledková listina'!$L:$M,MATCH($C61,'Výsledková listina'!$C:$C,0),2))","v":""},{"$f":"IF(ISBLANK($A61),\"\",SUM(I61:I63))","v":""},{"$f":"IF(ISBLANK($A61),\"\",SUM(J61:J63))","v":""},{"$f":"IF(ISBLANK($A61),\"\",RANK(L61,L:L,1))","v":""},{"$f":"IF(ISBLANK($A61),\"\",SUM(F61,K61))","v":""},{"$f":"IF(ISBLANK($A61),\"\",SUM(G61,L61))","v":""},{"$f":"IF(ISBLANK($A61),\"\",RANK(O61,O:O,1))","v":""}]
[null,{"$f":"IF(ISBLANK($C62),\"\",INDEX('Výsledková listina'!$B:$B,MATCH($C62,'Výsledková listina'!$C:$C,0),1))","v":""},null,{"$f":"IF(ISBLANK(C62),\"\",INDEX('Výsledková listina'!$H:$I,MATCH($C62,'Výsledková listina'!$C:$C,0),1))","v":""},{"$f":"IF(ISBLANK(C62),\"\",INDEX('Výsledková listina'!$H:$I,MATCH($C62,'Výsledková listina'!$C:$C,0),2))","v":""},null,null,null,{"$f":"IF(ISBLANK(C62),\"\",INDEX('Výsledková listina'!$L:$M,MATCH($C62,'Výsledková listina'!$C:$C,0),1))","v":""},{"$f":"IF(ISBLANK(C62),\"\",INDEX('Výsledková listina'!$L:$M,MATCH($C62,'Výsledková listina'!$C:$C,0),2))","v":""}]
[null,{"$f":"IF(ISBLANK($C63),\"\",INDEX('Výsledková listina'!$B:$B,MATCH($C63,'Výsledková listina'!$C:$C,0),1))","v":""},null,{"$f":"IF(ISBLANK(C63),\"\",INDEX('Výsledková listina'!$H:$I,MATCH($C63,'Výsledková listina'!$C:$C,0),1))","v":""},{"$f":"IF(ISBLANK(C63),\"\",INDEX('Výsledková listina'!$H:$I,MATCH($C63,'Výsledková listina'!$C:$C,0),2))","v":""},null,null,null,{"$f":"IF(ISBLANK(C63),\"\",INDEX('Výsledková listina'!$L:$M,MATCH($C63,'Výsledková listina'!$C:$C,0),1))","v":""},{"$f":"IF(ISBLANK(C63),\"\",INDEX('Výsledková listina'!$L:$M,MATCH($C63,'Výsledková listina'!$C:$C,0),2))","v":""}]
[null,{"$f":"IF(ISBLANK($C64),\"\",INDEX('Výsledková listina'!$B:$B,MATCH($C64,'Výsledková listina'!$C:$C,0),1))","v":""},null,{"$f":"IF(ISBLANK(C64),\"\",INDEX('Výsledková listina'!$H:$I,MATCH($C64,'Výsledková listina'!$C:$C,0),1))","v":""},{"$f":"IF(ISBLANK(C64),\"\",INDEX('Výsledková listina'!$H:$I,MATCH($C64,'Výsledková listina'!$C:$C,0),2))","v":""},{"$f":"IF(ISBLANK($A64),\"\",SUM(D64:D66))","v":""},{"$f":"IF(ISBLANK($A64),\"\",SUM(E64:E66))","v":""},{"$f":"IF(ISBLANK($A64),\"\",RANK(G64,G:G,1))","v":""},{"$f":"IF(ISBLANK(C64),\"\",INDEX('Výsledková listina'!$L:$M,MATCH($C64,'Výsledková listina'!$C:$C,0),1))","v":""},{"$f":"IF(ISBLANK(C64),\"\",INDEX('Výsledková listina'!$L:$M,MATCH($C64,'Výsledková listina'!$C:$C,0),2))","v":""},{"$f":"IF(ISBLANK($A64),\"\",SUM(I64:I66))","v":""},{"$f":"IF(ISBLANK($A64),\"\",SUM(J64:J66))","v":""},{"$f":"IF(ISBLANK($A64),\"\",RANK(L64,L:L,1))","v":""},{"$f":"IF(ISBLANK($A64),\"\",SUM(F64,K64))","v":""},{"$f":"IF(ISBLANK($A64),\"\",SUM(G64,L64))","v":""},{"$f":"IF(ISBLANK($A64),\"\",RANK(O64,O:O,1))","v":""}]
[null,{"$f":"IF(ISBLANK($C65),\"\",INDEX('Výsledková listina'!$B:$B,MATCH($C65,'Výsledková listina'!$C:$C,0),1))","v":""},null,{"$f":"IF(ISBLANK(C65),\"\",INDEX('Výsledková listina'!$H:$I,MATCH($C65,'Výsledková listina'!$C:$C,0),1))","v":""},{"$f":"IF(ISBLANK(C65),\"\",INDEX('Výsledková listina'!$H:$I,MATCH($C65,'Výsledková listina'!$C:$C,0),2))","v":""},null,null,null,{"$f":"IF(ISBLANK(C65),\"\",INDEX('Výsledková listina'!$L:$M,MATCH($C65,'Výsledková listina'!$C:$C,0),1))","v":""},{"$f":"IF(ISBLANK(C65),\"\",INDEX('Výsledková listina'!$L:$M,MATCH($C65,'Výsledková listina'!$C:$C,0),2))","v":""}]
[null,{"$f":"IF(ISBLANK($C66),\"\",INDEX('Výsledková listina'!$B:$B,MATCH($C66,'Výsledková listina'!$C:$C,0),1))","v":""},null,{"$f":"IF(ISBLANK(C66),\"\",INDEX('Výsledková listina'!$H:$I,MATCH($C66,'Výsledková listina'!$C:$C,0),1))","v":""},{"$f":"IF(ISBLANK(C66),\"\",INDEX('Výsledková listina'!$H:$I,MATCH($C66,'Výsledková listina'!$C:$C,0),2))","v":""},null,null,null,{"$f":"IF(ISBLANK(C66),\"\",INDEX('Výsledková listina'!$L:$M,MATCH($C66,'Výsledková listina'!$C:$C,0),1))","v":""},{"$f":"IF(ISBLANK(C66),\"\",INDEX('Výsledková listina'!$L:$M,MATCH($C66,'Výsledková listina'!$C:$C,0),2))","v":""}]
[null,{"$f":"IF(ISBLANK($C67),\"\",INDEX('Výsledková listina'!$B:$B,MATCH($C67,'Výsledková listina'!$C:$C,0),1))","v":""},null,{"$f":"IF(ISBLANK(C67),\"\",INDEX('Výsledková listina'!$H:$I,MATCH($C67,'Výsledková listina'!$C:$C,0),1))","v":""},{"$f":"IF(ISBLANK(C67),\"\",INDEX('Výsledková listina'!$H:$I,MATCH($C67,'Výsledková listina'!$C:$C,0),2))","v":""},{"$f":"IF(ISBLANK($A67),\"\",SUM(D67:D69))","v":""},{"$f":"IF(ISBLANK($A67),\"\",SUM(E67:E69))","v":""},{"$f":"IF(ISBLANK($A67),\"\",RANK(G67,G:G,1))","v":""},{"$f":"IF(ISBLANK(C67),\"\",INDEX('Výsledková listina'!$L:$M,MATCH($C67,'Výsledková listina'!$C:$C,0),1))","v":""},{"$f":"IF(ISBLANK(C67),\"\",INDEX('Výsledková listina'!$L:$M,MATCH($C67,'Výsledková listina'!$C:$C,0),2))","v":""},{"$f":"IF(ISBLANK($A67),\"\",SUM(I67:I69))","v":""},{"$f":"IF(ISBLANK($A67),\"\",SUM(J67:J69))","v":""},{"$f":"IF(ISBLANK($A67),\"\",RANK(L67,L:L,1))","v":""},{"$f":"IF(ISBLANK($A67),\"\",SUM(F67,K67))","v":""},{"$f":"IF(ISBLANK($A67),\"\",SUM(G67,L67))","v":""},{"$f":"IF(ISBLANK($A67),\"\",RANK(O67,O:O,1))","v":""}]
[null,{"$f":"IF(ISBLANK($C68),\"\",INDEX('Výsledková listina'!$B:$B,MATCH($C68,'Výsledková listina'!$C:$C,0),1))","v":""},null,{"$f":"IF(ISBLANK(C68),\"\",INDEX('Výsledková listina'!$H:$I,MATCH($C68,'Výsledková listina'!$C:$C,0),1))","v":""},{"$f":"IF(ISBLANK(C68),\"\",INDEX('Výsledková listina'!$H:$I,MATCH($C68,'Výsledková listina'!$C:$C,0),2))","v":""},null,null,null,{"$f":"IF(ISBLANK(C68),\"\",INDEX('Výsledková listina'!$L:$M,MATCH($C68,'Výsledková listina'!$C:$C,0),1))","v":""},{"$f":"IF(ISBLANK(C68),\"\",INDEX('Výsledková listina'!$L:$M,MATCH($C68,'Výsledková listina'!$C:$C,0),2))","v":""}]
[null,{"$f":"IF(ISBLANK($C69),\"\",INDEX('Výsledková listina'!$B:$B,MATCH($C69,'Výsledková listina'!$C:$C,0),1))","v":""},null,{"$f":"IF(ISBLANK(C69),\"\",INDEX('Výsledková listina'!$H:$I,MATCH($C69,'Výsledková listina'!$C:$C,0),1))","v":""},{"$f":"IF(ISBLANK(C69),\"\",INDEX('Výsledková listina'!$H:$I,MATCH($C69,'Výsledková listina'!$C:$C,0),2))","v":""},null,null,null,{"$f":"IF(ISBLANK(C69),\"\",INDEX('Výsledková listina'!$L:$M,MATCH($C69,'Výsledková listina'!$C:$C,0),1))","v":""},{"$f":"IF(ISBLANK(C69),\"\",INDEX('Výsledková listina'!$L:$M,MATCH($C69,'Výsledková listina'!$C:$C,0),2))","v":""}]
[null,{"$f":"IF(ISBLANK($C70),\"\",INDEX('Výsledková listina'!$B:$B,MATCH($C70,'Výsledková listina'!$C:$C,0),1))","v":""},null,{"$f":"IF(ISBLANK(C70),\"\",INDEX('Výsledková listina'!$H:$I,MATCH($C70,'Výsledková listina'!$C:$C,0),1))","v":""},{"$f":"IF(ISBLANK(C70),\"\",INDEX('Výsledková listina'!$H:$I,MATCH($C70,'Výsledková listina'!$C:$C,0),2))","v":""},{"$f":"IF(ISBLANK($A70),\"\",SUM(D70:D72))","v":""},{"$f":"IF(ISBLANK($A70),\"\",SUM(E70:E72))","v":""},{"$f":"IF(ISBLANK($A70),\"\",RANK(G70,G:G,1))","v":""},{"$f":"IF(ISBLANK(C70),\"\",INDEX('Výsledková listina'!$L:$M,MATCH($C70,'Výsledková listina'!$C:$C,0),1))","v":""},{"$f":"IF(ISBLANK(C70),\"\",INDEX('Výsledková listina'!$L:$M,MATCH($C70,'Výsledková listina'!$C:$C,0),2))","v":""},{"$f":"IF(ISBLANK($A70),\"\",SUM(I70:I72))","v":""},{"$f":"IF(ISBLANK($A70),\"\",SUM(J70:J72))","v":""},{"$f":"IF(ISBLANK($A70),\"\",RANK(L70,L:L,1))","v":""},{"$f":"IF(ISBLANK($A70),\"\",SUM(F70,K70))","v":""},{"$f":"IF(ISBLANK($A70),\"\",SUM(G70,L70))","v":""},{"$f":"IF(ISBLANK($A70),\"\",RANK(O70,O:O,1))","v":""}]
[null,{"$f":"IF(ISBLANK($C71),\"\",INDEX('Výsledková listina'!$B:$B,MATCH($C71,'Výsledková listina'!$C:$C,0),1))","v":""},null,{"$f":"IF(ISBLANK(C71),\"\",INDEX('Výsledková listina'!$H:$I,MATCH($C71,'Výsledková listina'!$C:$C,0),1))","v":""},{"$f":"IF(ISBLANK(C71),\"\",INDEX('Výsledková listina'!$H:$I,MATCH($C71,'Výsledková listina'!$C:$C,0),2))","v":""},null,null,null,{"$f":"IF(ISBLANK(C71),\"\",INDEX('Výsledková listina'!$L:$M,MATCH($C71,'Výsledková listina'!$C:$C,0),1))","v":""},{"$f":"IF(ISBLANK(C71),\"\",INDEX('Výsledková listina'!$L:$M,MATCH($C71,'Výsledková listina'!$C:$C,0),2))","v":""}]
[null,{"$f":"IF(ISBLANK($C72),\"\",INDEX('Výsledková listina'!$B:$B,MATCH($C72,'Výsledková listina'!$C:$C,0),1))","v":""},null,{"$f":"IF(ISBLANK(C72),\"\",INDEX('Výsledková listina'!$H:$I,MATCH($C72,'Výsledková listina'!$C:$C,0),1))","v":""},{"$f":"IF(ISBLANK(C72),\"\",INDEX('Výsledková listina'!$H:$I,MATCH($C72,'Výsledková listina'!$C:$C,0),2))","v":""},null,null,null,{"$f":"IF(ISBLANK(C72),\"\",INDEX('Výsledková listina'!$L:$M,MATCH($C72,'Výsledková listina'!$C:$C,0),1))","v":""},{"$f":"IF(ISBLANK(C72),\"\",INDEX('Výsledková listina'!$L:$M,MATCH($C72,'Výsledková listina'!$C:$C,0),2))","v":""}]
[null,{"$f":"IF(ISBLANK($C73),\"\",INDEX('Výsledková listina'!$B:$B,MATCH($C73,'Výsledková listina'!$C:$C,0),1))","v":""},null,{"$f":"IF(ISBLANK(C73),\"\",INDEX('Výsledková listina'!$H:$I,MATCH($C73,'Výsledková listina'!$C:$C,0),1))","v":""},{"$f":"IF(ISBLANK(C73),\"\",INDEX('Výsledková listina'!$H:$I,MATCH($C73,'Výsledková listina'!$C:$C,0),2))","v":""},{"$f":"IF(ISBLANK($A73),\"\",SUM(D73:D75))","v":""},{"$f":"IF(ISBLANK($A73),\"\",SUM(E73:E75))","v":""},{"$f":"IF(ISBLANK($A73),\"\",RANK(G73,G:G,1))","v":""},{"$f":"IF(ISBLANK(C73),\"\",INDEX('Výsledková listina'!$L:$M,MATCH($C73,'Výsledková listina'!$C:$C,0),1))","v":""},{"$f":"IF(ISBLANK(C73),\"\",INDEX('Výsledková listina'!$L:$M,MATCH($C73,'Výsledková listina'!$C:$C,0),2))","v":""},{"$f":"IF(ISBLANK($A73),\"\",SUM(I73:I75))","v":""},{"$f":"IF(ISBLANK($A73),\"\",SUM(J73:J75))","v":""},{"$f":"IF(ISBLANK($A73),\"\",RANK(L73,L:L,1))","v":""},{"$f":"IF(ISBLANK($A73),\"\",SUM(F73,K73))","v":""},{"$f":"IF(ISBLANK($A73),\"\",SUM(G73,L73))","v":""},{"$f":"IF(ISBLANK($A73),\"\",RANK(O73,O:O,1))","v":""}]
[null,{"$f":"IF(ISBLANK($C74),\"\",INDEX('Výsledková listina'!$B:$B,MATCH($C74,'Výsledková listina'!$C:$C,0),1))","v":""},null,{"$f":"IF(ISBLANK(C74),\"\",INDEX('Výsledková listina'!$H:$I,MATCH($C74,'Výsledková listina'!$C:$C,0),1))","v":""},{"$f":"IF(ISBLANK(C74),\"\",INDEX('Výsledková listina'!$H:$I,MATCH($C74,'Výsledková listina'!$C:$C,0),2))","v":""},null,null,null,{"$f":"IF(ISBLANK(C74),\"\",INDEX('Výsledková listina'!$L:$M,MATCH($C74,'Výsledková listina'!$C:$C,0),1))","v":""},{"$f":"IF(ISBLANK(C74),\"\",INDEX('Výsledková listina'!$L:$M,MATCH($C74,'Výsledková listina'!$C:$C,0),2))","v":""}]
[null,{"$f":"IF(ISBLANK($C75),\"\",INDEX('Výsledková listina'!$B:$B,MATCH($C75,'Výsledková listina'!$C:$C,0),1))","v":""},null,{"$f":"IF(ISBLANK(C75),\"\",INDEX('Výsledková listina'!$H:$I,MATCH($C75,'Výsledková listina'!$C:$C,0),1))","v":""},{"$f":"IF(ISBLANK(C75),\"\",INDEX('Výsledková listina'!$H:$I,MATCH($C75,'Výsledková listina'!$C:$C,0),2))","v":""},null,null,null,{"$f":"IF(ISBLANK(C75),\"\",INDEX('Výsledková listina'!$L:$M,MATCH($C75,'Výsledková listina'!$C:$C,0),1))","v":""},{"$f":"IF(ISBLANK(C75),\"\",INDEX('Výsledková listina'!$L:$M,MATCH($C75,'Výsledková listina'!$C:$C,0),2))","v":""}]
[null,{"$f":"IF(ISBLANK($C76),\"\",INDEX('Výsledková listina'!$B:$B,MATCH($C76,'Výsledková listina'!$C:$C,0),1))","v":""},null,{"$f":"IF(ISBLANK(C76),\"\",INDEX('Výsledková listina'!$H:$I,MATCH($C76,'Výsledková listina'!$C:$C,0),1))","v":""},{"$f":"IF(ISBLANK(C76),\"\",INDEX('Výsledková listina'!$H:$I,MATCH($C76,'Výsledková listina'!$C:$C,0),2))","v":""},{"$f":"IF(ISBLANK($A76),\"\",SUM(D76:D78))","v":""},{"$f":"IF(ISBLANK($A76),\"\",SUM(E76:E78))","v":""},{"$f":"IF(ISBLANK($A76),\"\",RANK(G76,G:G,1))","v":""},{"$f":"IF(ISBLANK(C76),\"\",INDEX('Výsledková listina'!$L:$M,MATCH($C76,'Výsledková listina'!$C:$C,0),1))","v":""},{"$f":"IF(ISBLANK(C76),\"\",INDEX('Výsledková listina'!$L:$M,MATCH($C76,'Výsledková listina'!$C:$C,0),2))","v":""},{"$f":"IF(ISBLANK($A76),\"\",SUM(I76:I78))","v":""},{"$f":"IF(ISBLANK($A76),\"\",SUM(J76:J78))","v":""},{"$f":"IF(ISBLANK($A76),\"\",RANK(L76,L:L,1))","v":""},{"$f":"IF(ISBLANK($A76),\"\",SUM(F76,K76))","v":""},{"$f":"IF(ISBLANK($A76),\"\",SUM(G76,L76))","v":""},{"$f":"IF(ISBLANK($A76),\"\",RANK(O76,O:O,1))","v":""}]
[null,{"$f":"IF(ISBLANK($C77),\"\",INDEX('Výsledková listina'!$B:$B,MATCH($C77,'Výsledková listina'!$C:$C,0),1))","v":""},null,{"$f":"IF(ISBLANK(C77),\"\",INDEX('Výsledková listina'!$H:$I,MATCH($C77,'Výsledková listina'!$C:$C,0),1))","v":""},{"$f":"IF(ISBLANK(C77),\"\",INDEX('Výsledková listina'!$H:$I,MATCH($C77,'Výsledková listina'!$C:$C,0),2))","v":""},null,null,null,{"$f":"IF(ISBLANK(C77),\"\",INDEX('Výsledková listina'!$L:$M,MATCH($C77,'Výsledková listina'!$C:$C,0),1))","v":""},{"$f":"IF(ISBLANK(C77),\"\",INDEX('Výsledková listina'!$L:$M,MATCH($C77,'Výsledková listina'!$C:$C,0),2))","v":""}]
[null,{"$f":"IF(ISBLANK($C78),\"\",INDEX('Výsledková listina'!$B:$B,MATCH($C78,'Výsledková listina'!$C:$C,0),1))","v":""},null,{"$f":"IF(ISBLANK(C78),\"\",INDEX('Výsledková listina'!$H:$I,MATCH($C78,'Výsledková listina'!$C:$C,0),1))","v":""},{"$f":"IF(ISBLANK(C78),\"\",INDEX('Výsledková listina'!$H:$I,MATCH($C78,'Výsledková listina'!$C:$C,0),2))","v":""},null,null,null,{"$f":"IF(ISBLANK(C78),\"\",INDEX('Výsledková listina'!$L:$M,MATCH($C78,'Výsledková listina'!$C:$C,0),1))","v":""},{"$f":"IF(ISBLANK(C78),\"\",INDEX('Výsledková listina'!$L:$M,MATCH($C78,'Výsledková listina'!$C:$C,0),2))","v":""}]
[null,{"$f":"IF(ISBLANK($C79),\"\",INDEX('Výsledková listina'!$B:$B,MATCH($C79,'Výsledková listina'!$C:$C,0),1))","v":""},null,{"$f":"IF(ISBLANK(C79),\"\",INDEX('Výsledková listina'!$H:$I,MATCH($C79,'Výsledková listina'!$C:$C,0),1))","v":""},{"$f":"IF(ISBLANK(C79),\"\",INDEX('Výsledková listina'!$H:$I,MATCH($C79,'Výsledková listina'!$C:$C,0),2))","v":""},{"$f":"IF(ISBLANK($A79),\"\",SUM(D79:D81))","v":""},{"$f":"IF(ISBLANK($A79),\"\",SUM(E79:E81))","v":""},{"$f":"IF(ISBLANK($A79),\"\",RANK(G79,G:G,1))","v":""},{"$f":"IF(ISBLANK(C79),\"\",INDEX('Výsledková listina'!$L:$M,MATCH($C79,'Výsledková listina'!$C:$C,0),1))","v":""},{"$f":"IF(ISBLANK(C79),\"\",INDEX('Výsledková listina'!$L:$M,MATCH($C79,'Výsledková listina'!$C:$C,0),2))","v":""},{"$f":"IF(ISBLANK($A79),\"\",SUM(I79:I81))","v":""},{"$f":"IF(ISBLANK($A79),\"\",SUM(J79:J81))","v":""},{"$f":"IF(ISBLANK($A79),\"\",RANK(L79,L:L,1))","v":""},{"$f":"IF(ISBLANK($A79),\"\",SUM(F79,K79))","v":""},{"$f":"IF(ISBLANK($A79),\"\",SUM(G79,L79))","v":""},{"$f":"IF(ISBLANK($A79),\"\",RANK(O79,O:O,1))","v":""}]
[null,{"$f":"IF(ISBLANK($C80),\"\",INDEX('Výsledková listina'!$B:$B,MATCH($C80,'Výsledková listina'!$C:$C,0),1))","v":""},null,{"$f":"IF(ISBLANK(C80),\"\",INDEX('Výsledková listina'!$H:$I,MATCH($C80,'Výsledková listina'!$C:$C,0),1))","v":""},{"$f":"IF(ISBLANK(C80),\"\",INDEX('Výsledková listina'!$H:$I,MATCH($C80,'Výsledková listina'!$C:$C,0),2))","v":""},null,null,null,{"$f":"IF(ISBLANK(C80),\"\",INDEX('Výsledková listina'!$L:$M,MATCH($C80,'Výsledková listina'!$C:$C,0),1))","v":""},{"$f":"IF(ISBLANK(C80),\"\",INDEX('Výsledková listina'!$L:$M,MATCH($C80,'Výsledková listina'!$C:$C,0),2))","v":""}]
[null,{"$f":"IF(ISBLANK($C81),\"\",INDEX('Výsledková listina'!$B:$B,MATCH($C81,'Výsledková listina'!$C:$C,0),1))","v":""},null,{"$f":"IF(ISBLANK(C81),\"\",INDEX('Výsledková listina'!$H:$I,MATCH($C81,'Výsledková listina'!$C:$C,0),1))","v":""},{"$f":"IF(ISBLANK(C81),\"\",INDEX('Výsledková listina'!$H:$I,MATCH($C81,'Výsledková listina'!$C:$C,0),2))","v":""},null,null,null,{"$f":"IF(ISBLANK(C81),\"\",INDEX('Výsledková listina'!$L:$M,MATCH($C81,'Výsledková listina'!$C:$C,0),1))","v":""},{"$f":"IF(ISBLANK(C81),\"\",INDEX('Výsledková listina'!$L:$M,MATCH($C81,'Výsledková listina'!$C:$C,0),2))","v":""}]
[null,{"$f":"IF(ISBLANK($C82),\"\",INDEX('Výsledková listina'!$B:$B,MATCH($C82,'Výsledková listina'!$C:$C,0),1))","v":""},null,{"$f":"IF(ISBLANK(C82),\"\",INDEX('Výsledková listina'!$H:$I,MATCH($C82,'Výsledková listina'!$C:$C,0),1))","v":""},{"$f":"IF(ISBLANK(C82),\"\",INDEX('Výsledková listina'!$H:$I,MATCH($C82,'Výsledková listina'!$C:$C,0),2))","v":""},{"$f":"IF(ISBLANK($A82),\"\",SUM(D82:D84))","v":""},{"$f":"IF(ISBLANK($A82),\"\",SUM(E82:E84))","v":""},{"$f":"IF(ISBLANK($A82),\"\",RANK(G82,G:G,1))","v":""},{"$f":"IF(ISBLANK(C82),\"\",INDEX('Výsledková listina'!$L:$M,MATCH($C82,'Výsledková listina'!$C:$C,0),1))","v":""},{"$f":"IF(ISBLANK(C82),\"\",INDEX('Výsledková listina'!$L:$M,MATCH($C82,'Výsledková listina'!$C:$C,0),2))","v":""},{"$f":"IF(ISBLANK($A82),\"\",SUM(I82:I84))","v":""},{"$f":"IF(ISBLANK($A82),\"\",SUM(J82:J84))","v":""},{"$f":"IF(ISBLANK($A82),\"\",RANK(L82,L:L,1))","v":""},{"$f":"IF(ISBLANK($A82),\"\",SUM(F82,K82))","v":""},{"$f":"IF(ISBLANK($A82),\"\",SUM(G82,L82))","v":""},{"$f":"IF(ISBLANK($A82),\"\",RANK(O82,O:O,1))","v":""}]
[null,{"$f":"IF(ISBLANK($C83),\"\",INDEX('Výsledková listina'!$B:$B,MATCH($C83,'Výsledková listina'!$C:$C,0),1))","v":""},null,{"$f":"IF(ISBLANK(C83),\"\",INDEX('Výsledková listina'!$H:$I,MATCH($C83,'Výsledková listina'!$C:$C,0),1))","v":""},{"$f":"IF(ISBLANK(C83),\"\",INDEX('Výsledková listina'!$H:$I,MATCH($C83,'Výsledková listina'!$C:$C,0),2))","v":""},null,null,null,{"$f":"IF(ISBLANK(C83),\"\",INDEX('Výsledková listina'!$L:$M,MATCH($C83,'Výsledková listina'!$C:$C,0),1))","v":""},{"$f":"IF(ISBLANK(C83),\"\",INDEX('Výsledková listina'!$L:$M,MATCH($C83,'Výsledková listina'!$C:$C,0),2))","v":""}]
[null,{"$f":"IF(ISBLANK($C84),\"\",INDEX('Výsledková listina'!$B:$B,MATCH($C84,'Výsledková listina'!$C:$C,0),1))","v":""},null,{"$f":"IF(ISBLANK(C84),\"\",INDEX('Výsledková listina'!$H:$I,MATCH($C84,'Výsledková listina'!$C:$C,0),1))","v":""},{"$f":"IF(ISBLANK(C84),\"\",INDEX('Výsledková listina'!$H:$I,MATCH($C84,'Výsledková listina'!$C:$C,0),2))","v":""},null,null,null,{"$f":"IF(ISBLANK(C84),\"\",INDEX('Výsledková listina'!$L:$M,MATCH($C84,'Výsledková listina'!$C:$C,0),1))","v":""},{"$f":"IF(ISBLANK(C84),\"\",INDEX('Výsledková listina'!$L:$M,MATCH($C84,'Výsledková listina'!$C:$C,0),2))","v":""}]
[null,{"$f":"IF(ISBLANK($C85),\"\",INDEX('Výsledková listina'!$B:$B,MATCH($C85,'Výsledková listina'!$C:$C,0),1))","v":""},null,{"$f":"IF(ISBLANK(C85),\"\",INDEX('Výsledková listina'!$H:$I,MATCH($C85,'Výsledková listina'!$C:$C,0),1))","v":""},{"$f":"IF(ISBLANK(C85),\"\",INDEX('Výsledková listina'!$H:$I,MATCH($C85,'Výsledková listina'!$C:$C,0),2))","v":""},{"$f":"IF(ISBLANK($A85),\"\",SUM(D85:D87))","v":""},"",{"$f":"IF(ISBLANK($A85),\"\",RANK(G85,G:G,1))","v":""},{"$f":"IF(ISBLANK(C85),\"\",INDEX('Výsledková listina'!$L:$M,MATCH($C85,'Výsledková listina'!$C:$C,0),1))","v":""},{"$f":"IF(ISBLANK(C85),\"\",INDEX('Výsledková listina'!$L:$M,MATCH($C85,'Výsledková listina'!$C:$C,0),2))","v":""},{"$f":"IF(ISBLANK($A85),\"\",SUM(I85:I87))","v":""},"",{"$f":"IF(ISBLANK($A85),\"\",RANK(L85,L:L,1))","v":""},{"$f":"IF(ISBLANK($A85),\"\",SUM(F85,K85))","v":""},{"$f":"IF(ISBLANK($A85),\"\",SUM(G85,L85))","v":""},{"$f":"IF(ISBLANK($A85),\"\",RANK(O85,O:O,1))","v":""}]
[null,{"$f":"IF(ISBLANK($C86),\"\",INDEX('Výsledková listina'!$B:$B,MATCH($C86,'Výsledková listina'!$C:$C,0),1))","v":""},null,{"$f":"IF(ISBLANK(C86),\"\",INDEX('Výsledková listina'!$H:$I,MATCH($C86,'Výsledková listina'!$C:$C,0),1))","v":""},{"$f":"IF(ISBLANK(C86),\"\",INDEX('Výsledková listina'!$H:$I,MATCH($C86,'Výsledková listina'!$C:$C,0),2))","v":""},null,null,null,{"$f":"IF(ISBLANK(C86),\"\",INDEX('Výsledková listina'!$L:$M,MATCH($C86,'Výsledková listina'!$C:$C,0),1))","v":""},{"$f":"IF(ISBLANK(C86),\"\",INDEX('Výsledková listina'!$L:$M,MATCH($C86,'Výsledková listina'!$C:$C,0),2))","v":""}]
[null,{"$f":"IF(ISBLANK($C87),\"\",INDEX('Výsledková listina'!$B:$B,MATCH($C87,'Výsledková listina'!$C:$C,0),1))","v":""},null,{"$f":"IF(ISBLANK(C87),\"\",INDEX('Výsledková listina'!$H:$I,MATCH($C87,'Výsledková listina'!$C:$C,0),1))","v":""},{"$f":"IF(ISBLANK(C87),\"\",INDEX('Výsledková listina'!$H:$I,MATCH($C87,'Výsledková listina'!$C:$C,0),2))","v":""},null,null,null,{"$f":"IF(ISBLANK(C87),\"\",INDEX('Výsledková listina'!$L:$M,MATCH($C87,'Výsledková listina'!$C:$C,0),1))","v":""},{"$f":"IF(ISBLANK(C87),\"\",INDEX('Výsledková listina'!$L:$M,MATCH($C87,'Výsledková listina'!$C:$C,0),2))","v":""}]
[null,{"$f":"IF(ISBLANK($C88),\"\",INDEX('Výsledková listina'!$B:$B,MATCH($C88,'Výsledková listina'!$C:$C,0),1))","v":""},null,{"$f":"IF(ISBLANK(C88),\"\",INDEX('Výsledková listina'!$H:$I,MATCH($C88,'Výsledková listina'!$C:$C,0),1))","v":""},{"$f":"IF(ISBLANK(C88),\"\",INDEX('Výsledková listina'!$H:$I,MATCH($C88,'Výsledková listina'!$C:$C,0),2))","v":""},{"$f":"IF(ISBLANK($A88),\"\",SUM(D88:D90))","v":""},"",{"$f":"IF(ISBLANK($A88),\"\",RANK(G88,G:G,1))","v":""},{"$f":"IF(ISBLANK(C88),\"\",INDEX('Výsledková listina'!$L:$M,MATCH($C88,'Výsledková listina'!$C:$C,0),1))","v":""},{"$f":"IF(ISBLANK(C88),\"\",INDEX('Výsledková listina'!$L:$M,MATCH($C88,'Výsledková listina'!$C:$C,0),2))","v":""},{"$f":"IF(ISBLANK($A88),\"\",SUM(I88:I90))","v":""},"",{"$f":"IF(ISBLANK($A88),\"\",RANK(L88,L:L,1))","v":""},{"$f":"IF(ISBLANK($A88),\"\",SUM(F88,K88))","v":""},{"$f":"IF(ISBLANK($A88),\"\",SUM(G88,L88))","v":""},{"$f":"IF(ISBLANK($A88),\"\",RANK(O88,O:O,1))","v":""}]
[null,{"$f":"IF(ISBLANK($C89),\"\",INDEX('Výsledková listina'!$B:$B,MATCH($C89,'Výsledková listina'!$C:$C,0),1))","v":""},null,{"$f":"IF(ISBLANK(C89),\"\",INDEX('Výsledková listina'!$H:$I,MATCH($C89,'Výsledková listina'!$C:$C,0),1))","v":""},{"$f":"IF(ISBLANK(C89),\"\",INDEX('Výsledková listina'!$H:$I,MATCH($C89,'Výsledková listina'!$C:$C,0),2))","v":""},null,null,null,{"$f":"IF(ISBLANK(C89),\"\",INDEX('Výsledková listina'!$L:$M,MATCH($C89,'Výsledková listina'!$C:$C,0),1))","v":""},{"$f":"IF(ISBLANK(C89),\"\",INDEX('Výsledková listina'!$L:$M,MATCH($C89,'Výsledková listina'!$C:$C,0),2))","v":""}]
[null,{"$f":"IF(ISBLANK($C90),\"\",INDEX('Výsledková listina'!$B:$B,MATCH($C90,'Výsledková listina'!$C:$C,0),1))","v":""},null,{"$f":"IF(ISBLANK(C90),\"\",INDEX('Výsledková listina'!$H:$I,MATCH($C90,'Výsledková listina'!$C:$C,0),1))","v":""},{"$f":"IF(ISBLANK(C90),\"\",INDEX('Výsledková listina'!$H:$I,MATCH($C90,'Výsledková listina'!$C:$C,0),2))","v":""},null,null,null,{"$f":"IF(ISBLANK(C90),\"\",INDEX('Výsledková listina'!$L:$M,MATCH($C90,'Výsledková listina'!$C:$C,0),1))","v":""},{"$f":"IF(ISBLANK(C90),\"\",INDEX('Výsledková listina'!$L:$M,MATCH($C90,'Výsledková listina'!$C:$C,0),2))","v":""}]
[null,{"$f":"IF(ISBLANK($C91),\"\",INDEX('Výsledková listina'!$B:$B,MATCH($C91,'Výsledková listina'!$C:$C,0),1))","v":""},null,{"$f":"IF(ISBLANK(C91),\"\",INDEX('Výsledková listina'!$H:$I,MATCH($C91,'Výsledková listina'!$C:$C,0),1))","v":""},{"$f":"IF(ISBLANK(C91),\"\",INDEX('Výsledková listina'!$H:$I,MATCH($C91,'Výsledková listina'!$C:$C,0),2))","v":""},{"$f":"IF(ISBLANK($A91),\"\",SUM(D91:D93))","v":""},"",{"$f":"IF(ISBLANK($A91),\"\",RANK(G91,G:G,1))","v":""},{"$f":"IF(ISBLANK(C91),\"\",INDEX('Výsledková listina'!$L:$M,MATCH($C91,'Výsledková listina'!$C:$C,0),1))","v":""},{"$f":"IF(ISBLANK(C91),\"\",INDEX('Výsledková listina'!$L:$M,MATCH($C91,'Výsledková listina'!$C:$C,0),2))","v":""},{"$f":"IF(ISBLANK($A91),\"\",SUM(I91:I93))","v":""},"",{"$f":"IF(ISBLANK($A91),\"\",RANK(L91,L:L,1))","v":""},{"$f":"IF(ISBLANK($A91),\"\",SUM(F91,K91))","v":""},{"$f":"IF(ISBLANK($A91),\"\",SUM(G91,L91))","v":""},{"$f":"IF(ISBLANK($A91),\"\",RANK(O91,O:O,1))","v":""}]
[null,{"$f":"IF(ISBLANK($C92),\"\",INDEX('Výsledková listina'!$B:$B,MATCH($C92,'Výsledková listina'!$C:$C,0),1))","v":""},null,{"$f":"IF(ISBLANK(C92),\"\",INDEX('Výsledková listina'!$H:$I,MATCH($C92,'Výsledková listina'!$C:$C,0),1))","v":""},{"$f":"IF(ISBLANK(C92),\"\",INDEX('Výsledková listina'!$H:$I,MATCH($C92,'Výsledková listina'!$C:$C,0),2))","v":""},null,null,null,{"$f":"IF(ISBLANK(C92),\"\",INDEX('Výsledková listina'!$L:$M,MATCH($C92,'Výsledková listina'!$C:$C,0),1))","v":""},{"$f":"IF(ISBLANK(C92),\"\",INDEX('Výsledková listina'!$L:$M,MATCH($C92,'Výsledková listina'!$C:$C,0),2))","v":""}]
[null,{"$f":"IF(ISBLANK($C93),\"\",INDEX('Výsledková listina'!$B:$B,MATCH($C93,'Výsledková listina'!$C:$C,0),1))","v":""},null,{"$f":"IF(ISBLANK(C93),\"\",INDEX('Výsledková listina'!$H:$I,MATCH($C93,'Výsledková listina'!$C:$C,0),1))","v":""},{"$f":"IF(ISBLANK(C93),\"\",INDEX('Výsledková listina'!$H:$I,MATCH($C93,'Výsledková listina'!$C:$C,0),2))","v":""},null,null,null,{"$f":"IF(ISBLANK(C93),\"\",INDEX('Výsledková listina'!$L:$M,MATCH($C93,'Výsledková listina'!$C:$C,0),1))","v":""},{"$f":"IF(ISBLANK(C93),\"\",INDEX('Výsledková listina'!$L:$M,MATCH($C93,'Výsledková listina'!$C:$C,0),2))","v":""}]
[null,{"$f":"IF(ISBLANK($C94),\"\",INDEX('Výsledková listina'!$B:$B,MATCH($C94,'Výsledková listina'!$C:$C,0),1))","v":""},null,{"$f":"IF(ISBLANK(C94),\"\",INDEX('Výsledková listina'!$H:$I,MATCH($C94,'Výsledková listina'!$C:$C,0),1))","v":""},{"$f":"IF(ISBLANK(C94),\"\",INDEX('Výsledková listina'!$H:$I,MATCH($C94,'Výsledková listina'!$C:$C,0),2))","v":""},{"$f":"IF(ISBLANK($A94),\"\",SUM(D94:D96))","v":""},"",{"$f":"IF(ISBLANK($A94),\"\",RANK(G94,G:G,1))","v":""},{"$f":"IF(ISBLANK(C94),\"\",INDEX('Výsledková listina'!$L:$M,MATCH($C94,'Výsledková listina'!$C:$C,0),1))","v":""},{"$f":"IF(ISBLANK(C94),\"\",INDEX('Výsledková listina'!$L:$M,MATCH($C94,'Výsledková listina'!$C:$C,0),2))","v":""},{"$f":"IF(ISBLANK($A94),\"\",SUM(I94:I96))","v":""},"",{"$f":"IF(ISBLANK($A94),\"\",RANK(L94,L:L,1))","v":""},{"$f":"IF(ISBLANK($A94),\"\",SUM(F94,K94))","v":""},{"$f":"IF(ISBLANK($A94),\"\",SUM(G94,L94))","v":""},{"$f":"IF(ISBLANK($A94),\"\",RANK(O94,O:O,1))","v":""}]
[null,{"$f":"IF(ISBLANK($C95),\"\",INDEX('Výsledková listina'!$B:$B,MATCH($C95,'Výsledková listina'!$C:$C,0),1))","v":""},null,{"$f":"IF(ISBLANK(C95),\"\",INDEX('Výsledková listina'!$H:$I,MATCH($C95,'Výsledková listina'!$C:$C,0),1))","v":""},{"$f":"IF(ISBLANK(C95),\"\",INDEX('Výsledková listina'!$H:$I,MATCH($C95,'Výsledková listina'!$C:$C,0),2))","v":""},null,null,null,{"$f":"IF(ISBLANK(C95),\"\",INDEX('Výsledková listina'!$L:$M,MATCH($C95,'Výsledková listina'!$C:$C,0),1))","v":""},{"$f":"IF(ISBLANK(C95),\"\",INDEX('Výsledková listina'!$L:$M,MATCH($C95,'Výsledková listina'!$C:$C,0),2))","v":""}]
[null,{"$f":"IF(ISBLANK($C96),\"\",INDEX('Výsledková listina'!$B:$B,MATCH($C96,'Výsledková listina'!$C:$C,0),1))","v":""},null,{"$f":"IF(ISBLANK(C96),\"\",INDEX('Výsledková listina'!$H:$I,MATCH($C96,'Výsledková listina'!$C:$C,0),1))","v":""},{"$f":"IF(ISBLANK(C96),\"\",INDEX('Výsledková listina'!$H:$I,MATCH($C96,'Výsledková listina'!$C:$C,0),2))","v":""},null,null,null,{"$f":"IF(ISBLANK(C96),\"\",INDEX('Výsledková listina'!$L:$M,MATCH($C96,'Výsledková listina'!$C:$C,0),1))","v":""},{"$f":"IF(ISBLANK(C96),\"\",INDEX('Výsledková listina'!$L:$M,MATCH($C96,'Výsledková listina'!$C:$C,0),2))","v":""}]
[null,{"$f":"IF(ISBLANK($C97),\"\",INDEX('Výsledková listina'!$B:$B,MATCH($C97,'Výsledková listina'!$C:$C,0),1))","v":""},null,{"$f":"IF(ISBLANK(C97),\"\",INDEX('Výsledková listina'!$H:$I,MATCH($C97,'Výsledková listina'!$C:$C,0),1))","v":""},{"$f":"IF(ISBLANK(C97),\"\",INDEX('Výsledková listina'!$H:$I,MATCH($C97,'Výsledková listina'!$C:$C,0),2))","v":""},{"$f":"IF(ISBLANK($A97),\"\",SUM(D97:D99))","v":""},"",{"$f":"IF(ISBLANK($A97),\"\",RANK(G97,G:G,1))","v":""},{"$f":"IF(ISBLANK(C97),\"\",INDEX('Výsledková listina'!$L:$M,MATCH($C97,'Výsledková listina'!$C:$C,0),1))","v":""},{"$f":"IF(ISBLANK(C97),\"\",INDEX('Výsledková listina'!$L:$M,MATCH($C97,'Výsledková listina'!$C:$C,0),2))","v":""},{"$f":"IF(ISBLANK($A97),\"\",SUM(I97:I99))","v":""},"",{"$f":"IF(ISBLANK($A97),\"\",RANK(L97,L:L,1))","v":""},{"$f":"IF(ISBLANK($A97),\"\",SUM(F97,K97))","v":""},{"$f":"IF(ISBLANK($A97),\"\",SUM(G97,L97))","v":""},{"$f":"IF(ISBLANK($A97),\"\",RANK(O97,O:O,1))","v":""}]
[null,{"$f":"IF(ISBLANK($C98),\"\",INDEX('Výsledková listina'!$B:$B,MATCH($C98,'Výsledková listina'!$C:$C,0),1))","v":""},null,{"$f":"IF(ISBLANK(C98),\"\",INDEX('Výsledková listina'!$H:$I,MATCH($C98,'Výsledková listina'!$C:$C,0),1))","v":""},{"$f":"IF(ISBLANK(C98),\"\",INDEX('Výsledková listina'!$H:$I,MATCH($C98,'Výsledková listina'!$C:$C,0),2))","v":""},null,null,null,{"$f":"IF(ISBLANK(C98),\"\",INDEX('Výsledková listina'!$L:$M,MATCH($C98,'Výsledková listina'!$C:$C,0),1))","v":""},{"$f":"IF(ISBLANK(C98),\"\",INDEX('Výsledková listina'!$L:$M,MATCH($C98,'Výsledková listina'!$C:$C,0),2))","v":""}]
[null,{"$f":"IF(ISBLANK($C99),\"\",INDEX('Výsledková listina'!$B:$B,MATCH($C99,'Výsledková listina'!$C:$C,0),1))","v":""},null,{"$f":"IF(ISBLANK(C99),\"\",INDEX('Výsledková listina'!$H:$I,MATCH($C99,'Výsledková listina'!$C:$C,0),1))","v":""},{"$f":"IF(ISBLANK(C99),\"\",INDEX('Výsledková listina'!$H:$I,MATCH($C99,'Výsledková listina'!$C:$C,0),2))","v":""},null,null,null,{"$f":"IF(ISBLANK(C99),\"\",INDEX('Výsledková listina'!$L:$M,MATCH($C99,'Výsledková listina'!$C:$C,0),1))","v":""},{"$f":"IF(ISBLANK(C99),\"\",INDEX('Výsledková listina'!$L:$M,MATCH($C99,'Výsledková listina'!$C:$C,0),2))","v":""}]
[null,{"$f":"IF(ISBLANK($C100),\"\",INDEX('Výsledková listina'!$B:$B,MATCH($C100,'Výsledková listina'!$C:$C,0),1))","v":""},null,{"$f":"IF(ISBLANK(C100),\"\",INDEX('Výsledková listina'!$H:$I,MATCH($C100,'Výsledková listina'!$C:$C,0),1))","v":""},{"$f":"IF(ISBLANK(C100),\"\",INDEX('Výsledková listina'!$H:$I,MATCH($C100,'Výsledková listina'!$C:$C,0),2))","v":""},{"$f":"IF(ISBLANK($A100),\"\",SUM(D100:D102))","v":""},"",{"$f":"IF(ISBLANK($A100),\"\",RANK(G100,G:G,1))","v":""},{"$f":"IF(ISBLANK(C100),\"\",INDEX('Výsledková listina'!$L:$M,MATCH($C100,'Výsledková listina'!$C:$C,0),1))","v":""},{"$f":"IF(ISBLANK(C100),\"\",INDEX('Výsledková listina'!$L:$M,MATCH($C100,'Výsledková listina'!$C:$C,0),2))","v":""},{"$f":"IF(ISBLANK($A100),\"\",SUM(I100:I102))","v":""},"",{"$f":"IF(ISBLANK($A100),\"\",RANK(L100,L:L,1))","v":""},{"$f":"IF(ISBLANK($A100),\"\",SUM(F100,K100))","v":""},{"$f":"IF(ISBLANK($A100),\"\",SUM(G100,L100))","v":""},{"$f":"IF(ISBLANK($A100),\"\",RANK(O100,O:O,1))","v":""}]
[null,{"$f":"IF(ISBLANK($C101),\"\",INDEX('Výsledková listina'!$B:$B,MATCH($C101,'Výsledková listina'!$C:$C,0),1))","v":""},null,{"$f":"IF(ISBLANK(C101),\"\",INDEX('Výsledková listina'!$H:$I,MATCH($C101,'Výsledková listina'!$C:$C,0),1))","v":""},{"$f":"IF(ISBLANK(C101),\"\",INDEX('Výsledková listina'!$H:$I,MATCH($C101,'Výsledková listina'!$C:$C,0),2))","v":""},null,null,null,{"$f":"IF(ISBLANK(C101),\"\",INDEX('Výsledková listina'!$L:$M,MATCH($C101,'Výsledková listina'!$C:$C,0),1))","v":""},{"$f":"IF(ISBLANK(C101),\"\",INDEX('Výsledková listina'!$L:$M,MATCH($C101,'Výsledková listina'!$C:$C,0),2))","v":""}]
[null,{"$f":"IF(ISBLANK($C102),\"\",INDEX('Výsledková listina'!$B:$B,MATCH($C102,'Výsledková listina'!$C:$C,0),1))","v":""},null,{"$f":"IF(ISBLANK(C102),\"\",INDEX('Výsledková listina'!$H:$I,MATCH($C102,'Výsledková listina'!$C:$C,0),1))","v":""},{"$f":"IF(ISBLANK(C102),\"\",INDEX('Výsledková listina'!$H:$I,MATCH($C102,'Výsledková listina'!$C:$C,0),2))","v":""},null,null,null,{"$f":"IF(ISBLANK(C102),\"\",INDEX('Výsledková listina'!$L:$M,MATCH($C102,'Výsledková listina'!$C:$C,0),1))","v":""},{"$f":"IF(ISBLANK(C102),\"\",INDEX('Výsledková listina'!$L:$M,MATCH($C102,'Výsledková listina'!$C:$C,0),2))","v":""}]
[null,{"$f":"IF(ISBLANK($C103),\"\",INDEX('Výsledková listina'!$B:$B,MATCH($C103,'Výsledková listina'!$C:$C,0),1))","v":""},null,{"$f":"IF(ISBLANK(C103),\"\",INDEX('Výsledková listina'!$H:$I,MATCH($C103,'Výsledková listina'!$C:$C,0),1))","v":""},{"$f":"IF(ISBLANK(C103),\"\",INDEX('Výsledková listina'!$H:$I,MATCH($C103,'Výsledková listina'!$C:$C,0),2))","v":""},{"$f":"IF(ISBLANK($A103),\"\",SUM(D103:D105))","v":""},"",{"$f":"IF(ISBLANK($A103),\"\",RANK(G103,G:G,1))","v":""},{"$f":"IF(ISBLANK(C103),\"\",INDEX('Výsledková listina'!$L:$M,MATCH($C103,'Výsledková listina'!$C:$C,0),1))","v":""},{"$f":"IF(ISBLANK(C103),\"\",INDEX('Výsledková listina'!$L:$M,MATCH($C103,'Výsledková listina'!$C:$C,0),2))","v":""},{"$f":"IF(ISBLANK($A103),\"\",SUM(I103:I105))","v":""},"",{"$f":"IF(ISBLANK($A103),\"\",RANK(L103,L:L,1))","v":""},{"$f":"IF(ISBLANK($A103),\"\",SUM(F103,K103))","v":""},{"$f":"IF(ISBLANK($A103),\"\",SUM(G103,L103))","v":""},{"$f":"IF(ISBLANK($A103),\"\",RANK(O103,O:O,1))","v":""}]
[null,{"$f":"IF(ISBLANK($C104),\"\",INDEX('Výsledková listina'!$B:$B,MATCH($C104,'Výsledková listina'!$C:$C,0),1))","v":""},null,{"$f":"IF(ISBLANK(C104),\"\",INDEX('Výsledková listina'!$H:$I,MATCH($C104,'Výsledková listina'!$C:$C,0),1))","v":""},{"$f":"IF(ISBLANK(C104),\"\",INDEX('Výsledková listina'!$H:$I,MATCH($C104,'Výsledková listina'!$C:$C,0),2))","v":""},null,null,null,{"$f":"IF(ISBLANK(C104),\"\",INDEX('Výsledková listina'!$L:$M,MATCH($C104,'Výsledková listina'!$C:$C,0),1))","v":""},{"$f":"IF(ISBLANK(C104),\"\",INDEX('Výsledková listina'!$L:$M,MATCH($C104,'Výsledková listina'!$C:$C,0),2))","v":""}]
[null,{"$f":"IF(ISBLANK($C105),\"\",INDEX('Výsledková listina'!$B:$B,MATCH($C105,'Výsledková listina'!$C:$C,0),1))","v":""},null,{"$f":"IF(ISBLANK(C105),\"\",INDEX('Výsledková listina'!$H:$I,MATCH($C105,'Výsledková listina'!$C:$C,0),1))","v":""},{"$f":"IF(ISBLANK(C105),\"\",INDEX('Výsledková listina'!$H:$I,MATCH($C105,'Výsledková listina'!$C:$C,0),2))","v":""},null,null,null,{"$f":"IF(ISBLANK(C105),\"\",INDEX('Výsledková listina'!$L:$M,MATCH($C105,'Výsledková listina'!$C:$C,0),1))","v":""},{"$f":"IF(ISBLANK(C105),\"\",INDEX('Výsledková listina'!$L:$M,MATCH($C105,'Výsledková listina'!$C:$C,0),2))","v":""}]
[null,{"$f":"IF(ISBLANK($C106),\"\",INDEX('Výsledková listina'!$B:$B,MATCH($C106,'Výsledková listina'!$C:$C,0),1))","v":""},null,{"$f":"IF(ISBLANK(C106),\"\",INDEX('Výsledková listina'!$H:$I,MATCH($C106,'Výsledková listina'!$C:$C,0),1))","v":""},{"$f":"IF(ISBLANK(C106),\"\",INDEX('Výsledková listina'!$H:$I,MATCH($C106,'Výsledková listina'!$C:$C,0),2))","v":""},{"$f":"IF(ISBLANK($A106),\"\",SUM(D106:D108))","v":""},"",{"$f":"IF(ISBLANK($A106),\"\",RANK(G106,G:G,1))","v":""},{"$f":"IF(ISBLANK(C106),\"\",INDEX('Výsledková listina'!$L:$M,MATCH($C106,'Výsledková listina'!$C:$C,0),1))","v":""},{"$f":"IF(ISBLANK(C106),\"\",INDEX('Výsledková listina'!$L:$M,MATCH($C106,'Výsledková listina'!$C:$C,0),2))","v":""},{"$f":"IF(ISBLANK($A106),\"\",SUM(I106:I108))","v":""},"",{"$f":"IF(ISBLANK($A106),\"\",RANK(L106,L:L,1))","v":""},{"$f":"IF(ISBLANK($A106),\"\",SUM(F106,K106))","v":""},{"$f":"IF(ISBLANK($A106),\"\",SUM(G106,L106))","v":""},{"$f":"IF(ISBLANK($A106),\"\",RANK(O106,O:O,1))","v":""}]
[null,{"$f":"IF(ISBLANK($C107),\"\",INDEX('Výsledková listina'!$B:$B,MATCH($C107,'Výsledková listina'!$C:$C,0),1))","v":""},null,{"$f":"IF(ISBLANK(C107),\"\",INDEX('Výsledková listina'!$H:$I,MATCH($C107,'Výsledková listina'!$C:$C,0),1))","v":""},{"$f":"IF(ISBLANK(C107),\"\",INDEX('Výsledková listina'!$H:$I,MATCH($C107,'Výsledková listina'!$C:$C,0),2))","v":""},null,null,null,{"$f":"IF(ISBLANK(C107),\"\",INDEX('Výsledková listina'!$L:$M,MATCH($C107,'Výsledková listina'!$C:$C,0),1))","v":""},{"$f":"IF(ISBLANK(C107),\"\",INDEX('Výsledková listina'!$L:$M,MATCH($C107,'Výsledková listina'!$C:$C,0),2))","v":""}]
[null,{"$f":"IF(ISBLANK($C108),\"\",INDEX('Výsledková listina'!$B:$B,MATCH($C108,'Výsledková listina'!$C:$C,0),1))","v":""},null,{"$f":"IF(ISBLANK(C108),\"\",INDEX('Výsledková listina'!$H:$I,MATCH($C108,'Výsledková listina'!$C:$C,0),1))","v":""},{"$f":"IF(ISBLANK(C108),\"\",INDEX('Výsledková listina'!$H:$I,MATCH($C108,'Výsledková listina'!$C:$C,0),2))","v":""},null,null,null,{"$f":"IF(ISBLANK(C108),\"\",INDEX('Výsledková listina'!$L:$M,MATCH($C108,'Výsledková listina'!$C:$C,0),1))","v":""},{"$f":"IF(ISBLANK(C108),\"\",INDEX('Výsledková listina'!$L:$M,MATCH($C108,'Výsledková listina'!$C:$C,0),2))","v":""}]
[null,{"$f":"IF(ISBLANK($C109),\"\",INDEX('Výsledková listina'!$B:$B,MATCH($C109,'Výsledková listina'!$C:$C,0),1))","v":""},null,{"$f":"IF(ISBLANK(C109),\"\",INDEX('Výsledková listina'!$H:$I,MATCH($C109,'Výsledková listina'!$C:$C,0),1))","v":""},{"$f":"IF(ISBLANK(C109),\"\",INDEX('Výsledková listina'!$H:$I,MATCH($C109,'Výsledková listina'!$C:$C,0),2))","v":""},{"$f":"IF(ISBLANK($A109),\"\",SUM(D109:D111))","v":""},{"$f":"IF(ISBLANK($A109),\"\",SUM(E109:E111))","v":""},{"$f":"IF(ISBLANK($A109),\"\",RANK(G109,G:G,1))","v":""},{"$f":"IF(ISBLANK(C109),\"\",INDEX('Výsledková listina'!$L:$M,MATCH($C109,'Výsledková listina'!$C:$C,0),1))","v":""},{"$f":"IF(ISBLANK(C109),\"\",INDEX('Výsledková listina'!$L:$M,MATCH($C109,'Výsledková listina'!$C:$C,0),2))","v":""},{"$f":"IF(ISBLANK($A109),\"\",SUM(I109:I111))","v":""},{"$f":"IF(ISBLANK($A109),\"\",SUM(J109:J111))","v":""},{"$f":"IF(ISBLANK($A109),\"\",RANK(L109,L:L,1))","v":""},{"$f":"IF(ISBLANK($A109),\"\",SUM(F109,K109))","v":""},{"$f":"IF(ISBLANK($A109),\"\",SUM(G109,L109))","v":""},{"$f":"IF(ISBLANK($A109),\"\",RANK(O109,O:O,1))","v":""}]
[null,{"$f":"IF(ISBLANK($C110),\"\",INDEX('Výsledková listina'!$B:$B,MATCH($C110,'Výsledková listina'!$C:$C,0),1))","v":""},null,{"$f":"IF(ISBLANK(C110),\"\",INDEX('Výsledková listina'!$H:$I,MATCH($C110,'Výsledková listina'!$C:$C,0),1))","v":""},{"$f":"IF(ISBLANK(C110),\"\",INDEX('Výsledková listina'!$H:$I,MATCH($C110,'Výsledková listina'!$C:$C,0),2))","v":""},null,null,null,{"$f":"IF(ISBLANK(C110),\"\",INDEX('Výsledková listina'!$L:$M,MATCH($C110,'Výsledková listina'!$C:$C,0),1))","v":""},{"$f":"IF(ISBLANK(C110),\"\",INDEX('Výsledková listina'!$L:$M,MATCH($C110,'Výsledková listina'!$C:$C,0),2))","v":""}]
[null,{"$f":"IF(ISBLANK($C111),\"\",INDEX('Výsledková listina'!$B:$B,MATCH($C111,'Výsledková listina'!$C:$C,0),1))","v":""},null,{"$f":"IF(ISBLANK(C111),\"\",INDEX('Výsledková listina'!$H:$I,MATCH($C111,'Výsledková listina'!$C:$C,0),1))","v":""},{"$f":"IF(ISBLANK(C111),\"\",INDEX('Výsledková listina'!$H:$I,MATCH($C111,'Výsledková listina'!$C:$C,0),2))","v":""},null,null,null,{"$f":"IF(ISBLANK(C111),\"\",INDEX('Výsledková listina'!$L:$M,MATCH($C111,'Výsledková listina'!$C:$C,0),1))","v":""},{"$f":"IF(ISBLANK(C111),\"\",INDEX('Výsledková listina'!$L:$M,MATCH($C111,'Výsledková listina'!$C:$C,0),2))","v":""}]
[null,{"$f":"IF(ISBLANK($C112),\"\",INDEX('Výsledková listina'!$B:$B,MATCH($C112,'Výsledková listina'!$C:$C,0),1))","v":""},null,{"$f":"IF(ISBLANK(C112),\"\",INDEX('Výsledková listina'!$H:$I,MATCH($C112,'Výsledková listina'!$C:$C,0),1))","v":""},{"$f":"IF(ISBLANK(C112),\"\",INDEX('Výsledková listina'!$H:$I,MATCH($C112,'Výsledková listina'!$C:$C,0),2))","v":""},{"$f":"IF(ISBLANK($A112),\"\",SUM(D112:D114))","v":""},{"$f":"IF(ISBLANK($A112),\"\",SUM(E112:E114))","v":""},{"$f":"IF(ISBLANK($A112),\"\",RANK(G112,G:G,1))","v":""},{"$f":"IF(ISBLANK(C112),\"\",INDEX('Výsledková listina'!$L:$M,MATCH($C112,'Výsledková listina'!$C:$C,0),1))","v":""},{"$f":"IF(ISBLANK(C112),\"\",INDEX('Výsledková listina'!$L:$M,MATCH($C112,'Výsledková listina'!$C:$C,0),2))","v":""},{"$f":"IF(ISBLANK($A112),\"\",SUM(I112:I114))","v":""},{"$f":"IF(ISBLANK($A112),\"\",SUM(J112:J114))","v":""},{"$f":"IF(ISBLANK($A112),\"\",RANK(L112,L:L,1))","v":""},{"$f":"IF(ISBLANK($A112),\"\",SUM(F112,K112))","v":""},{"$f":"IF(ISBLANK($A112),\"\",SUM(G112,L112))","v":""},{"$f":"IF(ISBLANK($A112),\"\",RANK(O112,O:O,1))","v":""}]
[null,{"$f":"IF(ISBLANK($C113),\"\",INDEX('Výsledková listina'!$B:$B,MATCH($C113,'Výsledková listina'!$C:$C,0),1))","v":""},null,{"$f":"IF(ISBLANK(C113),\"\",INDEX('Výsledková listina'!$H:$I,MATCH($C113,'Výsledková listina'!$C:$C,0),1))","v":""},{"$f":"IF(ISBLANK(C113),\"\",INDEX('Výsledková listina'!$H:$I,MATCH($C113,'Výsledková listina'!$C:$C,0),2))","v":""},null,null,null,{"$f":"IF(ISBLANK(C113),\"\",INDEX('Výsledková listina'!$L:$M,MATCH($C113,'Výsledková listina'!$C:$C,0),1))","v":""},{"$f":"IF(ISBLANK(C113),\"\",INDEX('Výsledková listina'!$L:$M,MATCH($C113,'Výsledková listina'!$C:$C,0),2))","v":""}]
[null,{"$f":"IF(ISBLANK($C114),\"\",INDEX('Výsledková listina'!$B:$B,MATCH($C114,'Výsledková listina'!$C:$C,0),1))","v":""},null,{"$f":"IF(ISBLANK(C114),\"\",INDEX('Výsledková listina'!$H:$I,MATCH($C114,'Výsledková listina'!$C:$C,0),1))","v":""},{"$f":"IF(ISBLANK(C114),\"\",INDEX('Výsledková listina'!$H:$I,MATCH($C114,'Výsledková listina'!$C:$C,0),2))","v":""},null,null,null,{"$f":"IF(ISBLANK(C114),\"\",INDEX('Výsledková listina'!$L:$M,MATCH($C114,'Výsledková listina'!$C:$C,0),1))","v":""},{"$f":"IF(ISBLANK(C114),\"\",INDEX('Výsledková listina'!$L:$M,MATCH($C114,'Výsledková listina'!$C:$C,0),2))","v":""}]
[null,{"$f":"IF(ISBLANK($C115),\"\",INDEX('Výsledková listina'!$B:$B,MATCH($C115,'Výsledková listina'!$C:$C,0),1))","v":""},null,{"$f":"IF(ISBLANK(C115),\"\",INDEX('Výsledková listina'!$H:$I,MATCH($C115,'Výsledková listina'!$C:$C,0),1))","v":""},{"$f":"IF(ISBLANK(C115),\"\",INDEX('Výsledková listina'!$H:$I,MATCH($C115,'Výsledková listina'!$C:$C,0),2))","v":""},{"$f":"IF(ISBLANK($A115),\"\",SUM(D115:D117))","v":""},{"$f":"IF(ISBLANK($A115),\"\",SUM(E115:E117))","v":""},{"$f":"IF(ISBLANK($A115),\"\",RANK(G115,G:G,1))","v":""},{"$f":"IF(ISBLANK(C115),\"\",INDEX('Výsledková listina'!$L:$M,MATCH($C115,'Výsledková listina'!$C:$C,0),1))","v":""},{"$f":"IF(ISBLANK(C115),\"\",INDEX('Výsledková listina'!$L:$M,MATCH($C115,'Výsledková listina'!$C:$C,0),2))","v":""},{"$f":"IF(ISBLANK($A115),\"\",SUM(I115:I117))","v":""},{"$f":"IF(ISBLANK($A115),\"\",SUM(J115:J117))","v":""},{"$f":"IF(ISBLANK($A115),\"\",RANK(L115,L:L,1))","v":""},{"$f":"IF(ISBLANK($A115),\"\",SUM(F115,K115))","v":""},{"$f":"IF(ISBLANK($A115),\"\",SUM(G115,L115))","v":""},{"$f":"IF(ISBLANK($A115),\"\",RANK(O115,O:O,1))","v":""}]
[null,{"$f":"IF(ISBLANK($C116),\"\",INDEX('Výsledková listina'!$B:$B,MATCH($C116,'Výsledková listina'!$C:$C,0),1))","v":""},null,{"$f":"IF(ISBLANK(C116),\"\",INDEX('Výsledková listina'!$H:$I,MATCH($C116,'Výsledková listina'!$C:$C,0),1))","v":""},{"$f":"IF(ISBLANK(C116),\"\",INDEX('Výsledková listina'!$H:$I,MATCH($C116,'Výsledková listina'!$C:$C,0),2))","v":""},null,null,null,{"$f":"IF(ISBLANK(C116),\"\",INDEX('Výsledková listina'!$L:$M,MATCH($C116,'Výsledková listina'!$C:$C,0),1))","v":""},{"$f":"IF(ISBLANK(C116),\"\",INDEX('Výsledková listina'!$L:$M,MATCH($C116,'Výsledková listina'!$C:$C,0),2))","v":""}]
[null,{"$f":"IF(ISBLANK($C117),\"\",INDEX('Výsledková listina'!$B:$B,MATCH($C117,'Výsledková listina'!$C:$C,0),1))","v":""},null,{"$f":"IF(ISBLANK(C117),\"\",INDEX('Výsledková listina'!$H:$I,MATCH($C117,'Výsledková listina'!$C:$C,0),1))","v":""},{"$f":"IF(ISBLANK(C117),\"\",INDEX('Výsledková listina'!$H:$I,MATCH($C117,'Výsledková listina'!$C:$C,0),2))","v":""},null,null,null,{"$f":"IF(ISBLANK(C117),\"\",INDEX('Výsledková listina'!$L:$M,MATCH($C117,'Výsledková listina'!$C:$C,0),1))","v":""},{"$f":"IF(ISBLANK(C117),\"\",INDEX('Výsledková listina'!$L:$M,MATCH($C117,'Výsledková listina'!$C:$C,0),2))","v":""}]
[null,{"$f":"IF(ISBLANK($C118),\"\",INDEX('Výsledková listina'!$B:$B,MATCH($C118,'Výsledková listina'!$C:$C,0),1))","v":""},null,{"$f":"IF(ISBLANK(C118),\"\",INDEX('Výsledková listina'!$H:$I,MATCH($C118,'Výsledková listina'!$C:$C,0),1))","v":""},{"$f":"IF(ISBLANK(C118),\"\",INDEX('Výsledková listina'!$H:$I,MATCH($C118,'Výsledková listina'!$C:$C,0),2))","v":""},{"$f":"IF(ISBLANK($A118),\"\",SUM(D118:D120))","v":""},{"$f":"IF(ISBLANK($A118),\"\",SUM(E118:E120))","v":""},{"$f":"IF(ISBLANK($A118),\"\",RANK(G118,G:G,1))","v":""},{"$f":"IF(ISBLANK(C118),\"\",INDEX('Výsledková listina'!$L:$M,MATCH($C118,'Výsledková listina'!$C:$C,0),1))","v":""},{"$f":"IF(ISBLANK(C118),\"\",INDEX('Výsledková listina'!$L:$M,MATCH($C118,'Výsledková listina'!$C:$C,0),2))","v":""},{"$f":"IF(ISBLANK($A118),\"\",SUM(I118:I120))","v":""},{"$f":"IF(ISBLANK($A118),\"\",SUM(J118:J120))","v":""},{"$f":"IF(ISBLANK($A118),\"\",RANK(L118,L:L,1))","v":""},{"$f":"IF(ISBLANK($A118),\"\",SUM(F118,K118))","v":""},{"$f":"IF(ISBLANK($A118),\"\",SUM(G118,L118))","v":""},{"$f":"IF(ISBLANK($A118),\"\",RANK(O118,O:O,1))","v":""}]
[null,{"$f":"IF(ISBLANK($C119),\"\",INDEX('Výsledková listina'!$B:$B,MATCH($C119,'Výsledková listina'!$C:$C,0),1))","v":""},null,{"$f":"IF(ISBLANK(C119),\"\",INDEX('Výsledková listina'!$H:$I,MATCH($C119,'Výsledková listina'!$C:$C,0),1))","v":""},{"$f":"IF(ISBLANK(C119),\"\",INDEX('Výsledková listina'!$H:$I,MATCH($C119,'Výsledková listina'!$C:$C,0),2))","v":""},null,null,null,{"$f":"IF(ISBLANK(C119),\"\",INDEX('Výsledková listina'!$L:$M,MATCH($C119,'Výsledková listina'!$C:$C,0),1))","v":""},{"$f":"IF(ISBLANK(C119),\"\",INDEX('Výsledková listina'!$L:$M,MATCH($C119,'Výsledková listina'!$C:$C,0),2))","v":""}]
[null,{"$f":"IF(ISBLANK($C120),\"\",INDEX('Výsledková listina'!$B:$B,MATCH($C120,'Výsledková listina'!$C:$C,0),1))","v":""},null,{"$f":"IF(ISBLANK(C120),\"\",INDEX('Výsledková listina'!$H:$I,MATCH($C120,'Výsledková listina'!$C:$C,0),1))","v":""},{"$f":"IF(ISBLANK(C120),\"\",INDEX('Výsledková listina'!$H:$I,MATCH($C120,'Výsledková listina'!$C:$C,0),2))","v":""},null,null,null,{"$f":"IF(ISBLANK(C120),\"\",INDEX('Výsledková listina'!$L:$M,MATCH($C120,'Výsledková listina'!$C:$C,0),1))","v":""},{"$f":"IF(ISBLANK(C120),\"\",INDEX('Výsledková listina'!$L:$M,MATCH($C120,'Výsledková listina'!$C:$C,0),2))","v":""}]
[null,{"$f":"IF(ISBLANK($C121),\"\",INDEX('Výsledková listina'!$B:$B,MATCH($C121,'Výsledková listina'!$C:$C,0),1))","v":""},null,{"$f":"IF(ISBLANK(C121),\"\",INDEX('Výsledková listina'!$H:$I,MATCH($C121,'Výsledková listina'!$C:$C,0),1))","v":""},{"$f":"IF(ISBLANK(C121),\"\",INDEX('Výsledková listina'!$H:$I,MATCH($C121,'Výsledková listina'!$C:$C,0),2))","v":""},{"$f":"IF(ISBLANK($A121),\"\",SUM(D121:D123))","v":""},{"$f":"IF(ISBLANK($A121),\"\",SUM(E121:E123))","v":""},{"$f":"IF(ISBLANK($A121),\"\",RANK(G121,G:G,1))","v":""},{"$f":"IF(ISBLANK(C121),\"\",INDEX('Výsledková listina'!$L:$M,MATCH($C121,'Výsledková listina'!$C:$C,0),1))","v":""},{"$f":"IF(ISBLANK(C121),\"\",INDEX('Výsledková listina'!$L:$M,MATCH($C121,'Výsledková listina'!$C:$C,0),2))","v":""},{"$f":"IF(ISBLANK($A121),\"\",SUM(I121:I123))","v":""},{"$f":"IF(ISBLANK($A121),\"\",SUM(J121:J123))","v":""},{"$f":"IF(ISBLANK($A121),\"\",RANK(L121,L:L,1))","v":""},{"$f":"IF(ISBLANK($A121),\"\",SUM(F121,K121))","v":""},{"$f":"IF(ISBLANK($A121),\"\",SUM(G121,L121))","v":""},{"$f":"IF(ISBLANK($A121),\"\",RANK(O121,O:O,1))","v":""}]
[null,{"$f":"IF(ISBLANK($C122),\"\",INDEX('Výsledková listina'!$B:$B,MATCH($C122,'Výsledková listina'!$C:$C,0),1))","v":""},null,{"$f":"IF(ISBLANK(C122),\"\",INDEX('Výsledková listina'!$H:$I,MATCH($C122,'Výsledková listina'!$C:$C,0),1))","v":""},{"$f":"IF(ISBLANK(C122),\"\",INDEX('Výsledková listina'!$H:$I,MATCH($C122,'Výsledková listina'!$C:$C,0),2))","v":""},null,null,null,{"$f":"IF(ISBLANK(C122),\"\",INDEX('Výsledková listina'!$L:$M,MATCH($C122,'Výsledková listina'!$C:$C,0),1))","v":""},{"$f":"IF(ISBLANK(C122),\"\",INDEX('Výsledková listina'!$L:$M,MATCH($C122,'Výsledková listina'!$C:$C,0),2))","v":""}]
[null,{"$f":"IF(ISBLANK($C123),\"\",INDEX('Výsledková listina'!$B:$B,MATCH($C123,'Výsledková listina'!$C:$C,0),1))","v":""},null,{"$f":"IF(ISBLANK(C123),\"\",INDEX('Výsledková listina'!$H:$I,MATCH($C123,'Výsledková listina'!$C:$C,0),1))","v":""},{"$f":"IF(ISBLANK(C123),\"\",INDEX('Výsledková listina'!$H:$I,MATCH($C123,'Výsledková listina'!$C:$C,0),2))","v":""},null,null,null,{"$f":"IF(ISBLANK(C123),\"\",INDEX('Výsledková listina'!$L:$M,MATCH($C123,'Výsledková listina'!$C:$C,0),1))","v":""},{"$f":"IF(ISBLANK(C123),\"\",INDEX('Výsledková listina'!$L:$M,MATCH($C123,'Výsledková listina'!$C:$C,0),2))","v":""}]
[null,{"$f":"IF(ISBLANK($C124),\"\",INDEX('Výsledková listina'!$B:$B,MATCH($C124,'Výsledková listina'!$C:$C,0),1))","v":""},null,{"$f":"IF(ISBLANK(C124),\"\",INDEX('Výsledková listina'!$H:$I,MATCH($C124,'Výsledková listina'!$C:$C,0),1))","v":""},{"$f":"IF(ISBLANK(C124),\"\",INDEX('Výsledková listina'!$H:$I,MATCH($C124,'Výsledková listina'!$C:$C,0),2))","v":""},{"$f":"IF(ISBLANK($A124),\"\",SUM(D124:D126))","v":""},{"$f":"IF(ISBLANK($A124),\"\",SUM(E124:E126))","v":""},{"$f":"IF(ISBLANK($A124),\"\",RANK(G124,G:G,1))","v":""},{"$f":"IF(ISBLANK(C124),\"\",INDEX('Výsledková listina'!$L:$M,MATCH($C124,'Výsledková listina'!$C:$C,0),1))","v":""},{"$f":"IF(ISBLANK(C124),\"\",INDEX('Výsledková listina'!$L:$M,MATCH($C124,'Výsledková listina'!$C:$C,0),2))","v":""},{"$f":"IF(ISBLANK($A124),\"\",SUM(I124:I126))","v":""},{"$f":"IF(ISBLANK($A124),\"\",SUM(J124:J126))","v":""},{"$f":"IF(ISBLANK($A124),\"\",RANK(L124,L:L,1))","v":""},{"$f":"IF(ISBLANK($A124),\"\",SUM(F124,K124))","v":""},{"$f":"IF(ISBLANK($A124),\"\",SUM(G124,L124))","v":""},{"$f":"IF(ISBLANK($A124),\"\",RANK(O124,O:O,1))","v":""}]
[null,{"$f":"IF(ISBLANK($C125),\"\",INDEX('Výsledková listina'!$B:$B,MATCH($C125,'Výsledková listina'!$C:$C,0),1))","v":""},null,{"$f":"IF(ISBLANK(C125),\"\",INDEX('Výsledková listina'!$H:$I,MATCH($C125,'Výsledková listina'!$C:$C,0),1))","v":""},{"$f":"IF(ISBLANK(C125),\"\",INDEX('Výsledková listina'!$H:$I,MATCH($C125,'Výsledková listina'!$C:$C,0),2))","v":""},null,null,null,{"$f":"IF(ISBLANK(C125),\"\",INDEX('Výsledková listina'!$L:$M,MATCH($C125,'Výsledková listina'!$C:$C,0),1))","v":""},{"$f":"IF(ISBLANK(C125),\"\",INDEX('Výsledková listina'!$L:$M,MATCH($C125,'Výsledková listina'!$C:$C,0),2))","v":""}]
[null,{"$f":"IF(ISBLANK($C126),\"\",INDEX('Výsledková listina'!$B:$B,MATCH($C126,'Výsledková listina'!$C:$C,0),1))","v":""},null,{"$f":"IF(ISBLANK(C126),\"\",INDEX('Výsledková listina'!$H:$I,MATCH($C126,'Výsledková listina'!$C:$C,0),1))","v":""},{"$f":"IF(ISBLANK(C126),\"\",INDEX('Výsledková listina'!$H:$I,MATCH($C126,'Výsledková listina'!$C:$C,0),2))","v":""},null,null,null,{"$f":"IF(ISBLANK(C126),\"\",INDEX('Výsledková listina'!$L:$M,MATCH($C126,'Výsledková listina'!$C:$C,0),1))","v":""},{"$f":"IF(ISBLANK(C126),\"\",INDEX('Výsledková listina'!$L:$M,MATCH($C126,'Výsledková listina'!$C:$C,0),2))","v":""}]

{"sheet":"1. závod","index":3,"n_rows":35,"n_cols":86,"rows_kept":35,"cut":false,"hidden":false,"merged":[[3,81,3,85],[0,81,0,85],[1,81,1,85],[2,81,2,85],[0,76,0,80],[1,76,1,80],[3,76,3,80],[2,76,2,80],[2,71,2,75],[2,61,2,65],[3,61,3,65],[2,66,2,70],[3,66,3,70],[3,71,3,75],[0,55,0,60],[2,55,2,60],[3,55,3,60],[2,49,2,54],[3,49,3,54],[0,49,0,54],[0,71,0,75],[1,71,1,75],[1,66,1,70],[0,61,0,65],[1,61,1,65],[0,66,0,70],[3,19,3,24],[3,25,3,30],[3,31,3,36],[3,37,3,42],[1,55,1,60],[3,43,3,48],[2,43,2,48],[1,49,1,54],[2,31,2,36],[2,25,2,30],[2,37,2,42],[0,25,0,30],[1,25,1,30],[0,43,0,48],[0,31,0,36],[1,43,1,48],[0,37,0,42],[1,37,1,42],[1,31,1,36],[2,0,4,0],[1,19,1,24],[0,1,0,6],[1,1,1,6],[0,7,0,12],[1,7,1,12],[0,13,0,18],[1,13,1,18],[3,13,3,18],[2,13,2,18],[2,1,2,6],[3,1,3,6],[2,19,2,24],[0,19,0,24],[2,7,2,12],[3,7,3,12]]}
[null,{"$f":"CONCATENATE('Základní list'!$E$3)","v":"AWA-S cup 2017"},null,null,null,null,null,{"$f":"CONCATENATE('Základní list'!$E$3)","v":"AWA-S cup 2017"},null,null,null,null,null,{"$f":"CONCATENATE('Základní list'!$E$3)","v":"AWA-S cup 2017"},null,null,null,null,null,{"$f":"CONCATENATE('Základní list'!$E$3)","v":"AWA-S cup 2017"},null,null,null,null,null,{"$f":"CONCATENATE('Základní list'!$E$3)","v":"AWA-S cup 2017"},null,null,null,null,null,{"$f":"CONCATENATE('Základní list'!$E$3)","v":"AWA-S cup 2017"},null,null,null,null,null,{"$f":"CONCATENATE('Základní list'!$E$3)","v":"AWA-S cup 2017"},null,null,null,null,null,{"$f":"CONCATENATE('Základní list'!$E$3)","v":"AWA-S cup 2017"},null,null,null,null,null,{"$f":"CONCATENATE('Základní list'!$E$3)","v":"AWA-S cup 2017"},null,null,null,null,null,{"$f":"CONCATENATE('Základní list'!$E$3)","v":"AWA-S cup 2017"},null,null,null,null,null,{"$f":"CONCATENATE('Základní list'!$E$3)","v":"AWA-S cup 2017"},null,null,null,null,{"$f":"CONCATENATE('Základní list'!$E$3)","v":"AWA-S cup 2017"},null,null,null,null,{"$f":"CONCATENATE('Základní list'!$E$3)","v":"AWA-S cup 2017"},null,null,null,null,{"$f":"CONCATENATE('Základní list'!$E$3)","v":"AWA-S cup 2017"},null,null,null,null,{"$f":"CONCATENATE('Základní list'!$E$3)","v":"AWA-S cup 2017"}]
[null,{"$f":"CONCATENATE('Základní list'!$D$4)","v":"26.8.2017"},null,null,null,null,null,{"$f":"CONCATENATE('Základní list'!$D$4)","v":"26.8.2017"},null,null,null,null,null,{"$f":"CONCATENATE('Základní list'!$D$4)","v":"26.8.2017"},null,null,null,null,null,{"$f":"CONCATENATE('Základní list'!$D$4)","v":"26.8.2017"},null,null,null,null,null,{"$f":"CONCATENATE('Základní list'!$D$4)","v":"26.8.2017"},null,null,null,null,null,{"$f":"CONCATENATE('Základní list'!$D$4)","v":"26.8.2017"},null,null,null,null,null,{"$f":"CONCATENATE('Základní list'!$D$4)","v":"26.8.2017"},null,null,null,null,null,{"$f":"CONCATENATE('Základní list'!$D$4)","v":"26.8.2017"},null,null,null,null,null,{"$f":"CONCATENATE('Základní list'!$D$4)","v":"26.8.2017"},null,null,null,null,null,{"$f":"CONCATENATE('Základní list'!$D$4)","v":"26.8.2017"},null,null,null,null,null,{"$f":"CONCATENATE('Základní list'!$D$4)","v":"26.8.2017"},null,null,null,null,{"$f":"CONCATENATE('Základní list'!$D$4)","v":"26.8.2017"},null,null,null,null,{"$f":"CONCATENATE('Základní list'!$D$4)","v":"26.8.2017"},null,null,null,null,{"$f":"CONCATENATE('Základní list'!$D$4)","v":"26.8.2017"},null,null,null,null,{"$f":"CONCATENATE('Základní list'!$D$4)","v":"26.8.2017"}]
["čís. sek","SEKTOR",null,null,null,null,null,"SEKTOR",null,null,null,null,null,"SEKTOR",null,null,null,null,null,"SEKTOR",null,null,null,null,null,"SEKTOR",null,null,null,null,null,"SEKTOR",null,null,null,null,null,"SEKTOR",null,null,null,null,null,"SEKTOR",null,null,null,null,null,"SEKTOR",null,null,null,null,null,"SEKTOR",null,null,null,null,null,"SEKTOR",null,null,null,"Podpis","SEKTOR",null,null,null,"Podpis","SEKTOR",null,null,null,"Podpis","SEKTOR",null,null,null,"Podpis","SEKTOR",null,null,null,"Podpis"]
[null,{"$f":"IF(ISBLANK('Základní list'!$C11),\"\",'Základní list'!$A11)","v":"A"},null,null,null,null,null,{"$f":"IF(ISBLANK('Základní list'!$C12),\"\",'Základní list'!$A12)","v":"B"},null,null,null,null,null,{"$f":"IF(ISBLANK('Základní list'!$C13),\"\",'Základní list'!$A13)","v":"C"},null,null,null,null,null,{"$f":"IF(ISBLANK('Základní list'!$C14),\"\",'Základní list'!$A14)","v":"D"},null,null,null,null,null,{"$f":"IF(ISBLANK('Základní list'!$C15),\"\",'Základní list'!$A15)","v":"E"},null,null,null,null,null,{"$f":"IF(ISBLANK('Základní list'!$C16),\"\",'Základní list'!$A16)","v":"F"},null,null,null,null,null,{"$f":"IF(ISBLANK('Základní list'!$C17),\"\",'Základní list'!$A17)","v":"G"},null,null,null,null,null,{"$f":"IF(ISBLANK('Základní list'!$C18),\"\",'Základní list'!$A18)","v":"H"},null,null,null,null,null,{"$f":"IF(ISBLANK('Základní list'!$C19),\"\",'Základní list'!$A19)","v":"I"},null,null,null,null,null,{"$f":"IF(ISBLANK('Základní list'!$C20),\"\",'Základní list'!$A20)","v":"J"},null,null,null,null,null,{"$f":"IF(ISBLANK('Základní list'!$C21),\"\",'Základní list'!$A21)","v":"K"},null,null,null,null,{"$f":"IF(ISBLANK('Základní list'!$C22),\"\",'Základní list'!$A22)","v":"L"},null,null,null,null,{"$f":"IF(ISBLANK('Základní list'!$C23),\"\",'Základní list'!$A23)","v":"M"},null,null,null,null,{"$f":"IF(ISBLANK('Základní list'!$C24),\"\",'Základní list'!$A24)","v":"O"},null,null,null,null,{"$f":"IF(ISBLANK('Základní list'!$C25),\"\",'Základní list'!$A25)","v":"P"}]
[null,"Závodník","Družstvo","hmotn.","P","um.","Podpis","Závodník","Družstvo","hmotn.","P","um.","Podpis","Závodník","Družstvo","hmotn.","P","um.","Podpis","Závodník","Družstvo","hmotn.","P","um.","Podpis","Závodník","Družstvo","hmotn.","P","um.","Podpis","Závodník","Družstvo","hmotn.","P","um.","Podpis","Závodník","Družstvo","hmotn.","P","um.","Podpis","Závodník","Družstvo","hmotn.","P","um.","Podpis","Závodník","Družstvo","hmotn.","P","um.","Podpis","Závodník","Družstvo","hmotn.","P","um.","Podpis","Závodník","Družstvo","hmotn.","um.","Podpis","Závodník","Družstvo","hmotn.","um.","Podpis","Závodník","Družstvo","hmotn.","um.","Podpis","Závodník","Družstvo","hmotn.","um.","Podpis","Závodník","Družstvo","hmotn.","um.","Podpis"]
[1,{"$f":"IF(ISNA(MATCH(CONCATENATE(B$4,$A6),'Výsledková listina'!$N:$N,0)),\"\",INDEX('Výsledková listina'!$C:$C,MATCH(CONCATENATE(B$4,$A6),'Výsledková listina'!$N:$N,0),1))","v":"Peřina Josef"},{"$f":"IF(ISNA(MATCH(CONCATENATE(B$4,$A6),'Výsledková listina'!$N:$N,0)),\"\",INDEX('Výsledková listina'!$P:$P,MATCH(CONCATENATE(B$4,$A6),'Výsledková listina'!$N:$N,0),1))","v":"MILO Feeder Team JIHOSEVERÁCI"},4360,null,{"$f":"IF(D6=\"\",\"\",RANK(D6,D:D,0)+(COUNT(D:D)+1-RANK(D6,D:D,0)-RANK(D6,D:D,1))/2+E6)","v":6},null,{"$f":"IF(ISNA(MATCH(CONCATENATE(H$4,$A6),'Výsledková listina'!$N:$N,0)),\"\",INDEX('Výsledková listina'!$C:$C,MATCH(CONCATENATE(H$4,$A6),'Výsledková listina'!$N:$N,0),1))","v":"Ohera Tomáš"},{"$f":"IF(ISNA(MATCH(CONCATENATE(H$4,$A6),'Výsledková listina'!$N:$N,0)),\"\",INDEX('Výsledková listina'!$P:$P,MATCH(CONCATENATE(H$4,$A6),'Výsledková listina'!$N:$N,0),1))","v":"MILO Feeder Team JIHOSEVERÁCI"},4700,null,{"$f":"IF(J6=\"\",\"\",RANK(J6,J:J,0)+(COUNT(J:J)+1-RANK(J6,J:J,0)-RANK(J6,J:J,1))/2+K6)","v":6},null,{"$f":"IF(ISNA(MATCH(CONCATENATE(N$4,$A6),'Výsledková listina'!$N:$N,0)),\"\",INDEX('Výsledková listina'!$C:$C,MATCH(CONCATENATE(N$4,$A6),'Výsledková listina'!$N:$N,0),1))","v":"Chadraba Petr"},{"$f":"IF(ISNA(MATCH(CONCATENATE(N$4,$A6),'Výsledková listina'!$N:$N,0)),\"\",INDEX('Výsledková listina'!$P:$P,MATCH(CONCATENATE(N$4,$A6),'Výsledková listina'!$N:$N,0),1))","v":"MILO Feeder Team JIHOSEVERÁCI"},7960,null,{"$f":"IF(P6=\"\",\"\",RANK(P6,P:P,0)+(COUNT(P:P)+1-RANK(P6,P:P,0)-RANK(P6,P:P,1))/2+Q6)","v":3},null,{"$f":"IF(ISNA(MATCH(CONCATENATE(T$4,$A6),'Výsledková listina'!$N:$N,0)),\"\",INDEX('Výsledková listina'!$C:$C,MATCH(CONCATENATE(T$4,$A6),'Výsledková listina'!$N:$N,0),1))","v":""},{"$f":"IF(ISNA(MATCH(CONCATENATE(T$4,$A6),'Výsledková listina'!$N:$N,0)),\"\",INDEX('Výsledková listina'!$P:$P,MATCH(CONCATENATE(T$4,$A6),'Výsledková listina'!$N:$N,0),1))","v":""},null,null,{"$f":"IF(V6=\"\",\"\",RANK(V6,V:V,0)+(COUNT(V:V)+1-RANK(V6,V:V,0)-RANK(V6,V:V,1))/2+W6)","v":""},null,{"$f":"IF(ISNA(MATCH(CONCATENATE(Z$4,$A6),'Výsledková listina'!$N:$N,0)),\"\",INDEX('Výsledková listina'!$C:$C,MATCH(CONCATENATE(Z$4,$A6),'Výsledková listina'!$N:$N,0),1))","v":""},{"$f":"IF(ISNA(MATCH(CONCATENATE(Z$4,$A6),'Výsledková listina'!$N:$N,0)),\"\",INDEX('Výsledková listina'!$P:$P,MATCH(CONCATENATE(Z$4,$A6),'Výsledková listina'!$N:$N,0),1))","v":""},null,null,{"$f":"IF(AB6=\"\",\"\",RANK(AB6,AB:AB,0)+(COUNT(AB:AB)+1-RANK(AB6,AB:AB,0)-RANK(AB6,AB:AB,1))/2+AC6)","v":""},null,{"$f":"IF(ISNA(MATCH(CONCATENATE(AF$4,$A6),'Výsledková listina'!$N:$N,0)),\"\",INDEX('Výsledková listina'!$C:$C,MATCH(CONCATENATE(AF$4,$A6),'Výsledková listina'!$N:$N,0),1))","v":""},{"$f":"IF(ISNA(MATCH(CONCATENATE(AF$4,$A6),'Výsledková listina'!$N:$N,0)),\"\",INDEX('Výsledková listina'!$P:$P,MATCH(CONCATENATE(AF$4,$A6),'Výsledková listina'!$N:$N,0),1))","v":""},null,null,{"$f":"IF(AH6=\"\",\"\",RANK(AH6,AH:AH,0)+(COUNT(AH:AH)+1-RANK(AH6,AH:AH,0)-RANK(AH6,AH:AH,1))/2+AI6)","v":""},null,{"$f":"IF(ISNA(MATCH(CONCATENATE(AL$4,$A6),'Výsledková listina'!$N:$N,0)),\"\",INDEX('Výsledková listina'!$C:$C,MATCH(CONCATENATE(AL$4,$A6),'Výsledková listina'!$N:$N,0),1))","v":""},{"$f":"IF(ISNA(MATCH(CONCATENATE(AL$4,$A6),'Výsledková listina'!$N:$N,0)),\"\",INDEX('Výsledková listina'!$P:$P,MATCH(CONCATENATE(AL$4,$A6),'Výsledková listina'!$N:$N,0),1))","v":""},null,null,{"$f":"IF(AN6=\"\",\"\",RANK(AN6,AN:AN,0)+(COUNT(AN:AN)+1-RANK(AN6,AN:AN,0)-RANK(AN6,AN:AN,1))/2+AO6)","v":""},null,{"$f":"IF(ISNA(MATCH(CONCATENATE(AR$4,$A6),'Výsledková listina'!$N:$N,0)),\"\",INDEX('Výsledková listina'!$C:$C,MATCH(CONCATENATE(AR$4,$A6),'Výsledková listina'!$N:$N,0),1))","v":""},{"$f":"IF(ISNA(MATCH(CONCATENATE(AR$4,$A6),'Výsledková listina'!$N:$N,0)),\"\",INDEX('Výsledková listina'!$P:$P,MATCH(CONCATENATE(AR$4,$A6),'Výsledková listina'!$N:$N,0),1))","v":""},null,null,{"$f":"IF(AT6=\"\",\"\",RANK(AT6,AT:AT,0)+(COUNT(AT:AT)+1-RANK(AT6,AT:AT,0)-RANK(AT6,AT:AT,1))/2+AU6)","v":""},null,{"$f":"IF(ISNA(MATCH(CONCATENATE(AX$4,$A6),'Výsledková listina'!$N:$N,0)),\"\",INDEX('Výsledková listina'!$C:$C,MATCH(CONCATENATE(AX$4,$A6),'Výsledková listina'!$N:$N,0),1))","v":""},{"$f":"IF(ISNA(MATCH(CONCATENATE(AX$4,$A6),'Výsledková listina'!$N:$N,0)),\"\",INDEX('Výsledková listina'!$P:$P,MATCH(CONCATENATE(AX$4,$A6),'Výsledková listina'!$N:$N,0),1))","v":""},null,null,{"$f":"IF(AZ6=\"\",\"\",RANK(AZ6,AZ:AZ,0)+(COUNT(AZ:AZ)+1-RANK(AZ6,AZ:AZ,0)-RANK(AZ6,AZ:AZ,1))/2+BA6)","v":""},null,{"$f":"IF(ISNA(MATCH(CONCATENATE(BD$4,$A6),'Výsledková listina'!$N:$N,0)),\"\",INDEX('Výsledková listina'!$C:$C,MATCH(CONCATENATE(BD$4,$A6),'Výsledková listina'!$N:$N,0),1))","v":""},{"$f":"IF(ISNA(MATCH(CONCATENATE(BD$4,$A6),'Výsledková listina'!$N:$N,0)),\"\",INDEX('Výsledková listina'!$P:$P,MATCH(CONCATENATE(BD$4,$A6),'Výsledková listina'!$N:$N,0),1))","v":""},null,null,{"$f":"IF(BF6=\"\",\"\",RANK(BF6,BF:BF,0)+(COUNT(BF:BF)+1-RANK(BF6,BF:BF,0)-RANK(BF6,BF:BF,1))/2+BG6)","v":""},null,{"$f":"IF(ISNA(MATCH(CONCATENATE(BJ$4,$A6),'Výsledková listina'!$N:$N,0)),\"\",INDEX('Výsledková listina'!$C:$C,MATCH(CONCATENATE(BJ$4,$A6),'Výsledková listina'!$N:$N,0),1))","v":""},{"$f":"IF(ISNA(MATCH(CONCATENATE(BJ$4,$A6),'Výsledková listina'!$N:$N,0)),\"\",INDEX('Výsledková listina'!$P:$P,MATCH(CONCATENATE(BJ$4,$A6),'Výsledková listina'!$N:$N,0),1))","v":""},null,{"$f":"IF(BL6=\"\",\"\",RANK(BL6,BL:BL,0)+(COUNT(BL:BL)+1-RANK(BL6,BL:BL,0)-RANK(BL6,BL:BL,1))/2)","v":""},null,{"$f":"IF(ISNA(MATCH(CONCATENATE(BO$4,$A6),'Výsledková listina'!$N:$N,0)),\"\",INDEX('Výsledková listina'!$C:$C,MATCH(CONCATENATE(BO$4,$A6),'Výsledková listina'!$N:$N,0),1))","v":""},{"$f":"IF(ISNA(MATCH(CONCATENATE(BO$4,$A6),'Výsledková listina'!$N:$N,0)),\"\",INDEX('Výsledková listina'!$P:$P,MATCH(CONCATENATE(BO$4,$A6),'Výsledková listina'!$N:$N,0),1))","v":""},null,{"$f":"IF(BQ6=\"\",\"\",RANK(BQ6,BQ:BQ,0)+(COUNT(BQ:BQ)+1-RANK(BQ6,BQ:BQ,0)-RANK(BQ6,BQ:BQ,1))/2)","v":""},null,{"$f":"IF(ISNA(MATCH(CONCATENATE(BT$4,$A6),'Výsledková listina'!$N:$N,0)),\"\",INDEX('Výsledková listina'!$C:$C,MATCH(CONCATENATE(BT$4,$A6),'Výsledková listina'!$N:$N,0),1))","v":""},{"$f":"IF(ISNA(MATCH(CONCATENATE(BT$4,$A6),'Výsledková listina'!$N:$N,0)),\"\",INDEX('Výsledková listina'!$P:$P,MATCH(CONCATENATE(BT$4,$A6),'Výsledková listina'!$N:$N,0),1))","v":""},null,{"$f":"IF(BV6=\"\",\"\",RANK(BV6,BV:BV,0)+(COUNT(BV:BV)+1-RANK(BV6,BV:BV,0)-RANK(BV6,BV:BV,1))/2)","v":""},null,{"$f":"IF(ISNA(MATCH(CONCATENATE(BY$4,$A6),'Výsledková listina'!$N:$N,0)),\"\",INDEX('Výsledková listina'!$C:$C,MATCH(CONCATENATE(BY$4,$A6),'Výsledková listina'!$N:$N,0),1))","v":""},{"$f":"IF(ISNA(MATCH(CONCATENATE(BY$4,$A6),'Výsledková listina'!$N:$N,0)),\"\",INDEX('Výsledková listina'!$P:$P,MATCH(CONCATENATE(BY$4,$A6),'Výsledková listina'!$N:$N,0),1))","v":""},null,{"$f":"IF(CA6=\"\",\"\",RANK(CA6,CA:CA,0)+(COUNT(CA:CA)+1-RANK(CA6,CA:CA,0)-RANK(CA6,CA:CA,1))/2)","v":""},null,{"$f":"IF(ISNA(MATCH(CONCATENATE(CD$4,$A6),'Výsledková listina'!$N:$N,0)),\"\",INDEX('Výsledková listina'!$C:$C,MATCH(CONCATENATE(CD$4,$A6),'Výsledková listina'!$N:$N,0),1))","v":""},{"$f":"IF(ISNA(MATCH(CONCATENATE(CD$4,$A6),'Výsledková listina'!$N:$N,0)),\"\",INDEX('Výsledková listina'!$P:$P,MATCH(CONCATENATE(CD$4,$A6),'Výsledková listina'!$N:$N,0),1))","v":""},null,{"$f":"IF(CF6=\"\",\"\",RANK(CF6,CF:CF,0)+(COUNT(CF:CF)+1-RANK(CF6,CF:CF,0)-RANK(CF6,CF:CF,1))/2)","v":""}]
[2,{"$f":"IF(ISNA(MATCH(CONCATENATE(B$4,$A7),'Výsledková listina'!$N:$N,0)),\"\",INDEX('Výsledková listina'!$C:$C,MATCH(CONCATENATE(B$4,$A7),'Výsledková listina'!$N:$N,0),1))","v":"Vitásek Jiří "},{"$f":"IF(ISNA(MATCH(CONCATENATE(B$4,$A7),'Výsledková listina'!$N:$N,0)),\"\",INDEX('Výsledková listina'!$P:$P,MATCH(CONCATENATE(B$4,$A7),'Výsledková listina'!$N:$N,0),1))","v":"Ševčovi pacholci"},6780,null,3,null,{"$f":"IF(ISNA(MATCH(CONCATENATE(H$4,$A7),'Výsledková listina'!$N:$N,0)),\"\",INDEX('Výsledková listina'!$C:$C,MATCH(CONCATENATE(H$4,$A7),'Výsledková listina'!$N:$N,0),1))","v":"Ševčík Ladislav"},{"$f":"IF(ISNA(MATCH(CONCATENATE(H$4,$A7),'Výsledková listina'!$N:$N,0)),\"\",INDEX('Výsledková listina'!$P:$P,MATCH(CONCATENATE(H$4,$A7),'Výsledková listina'!$N:$N,0),1))","v":"Ševčovi pacholci"},6160,null,5,null,{"$f":"IF(ISNA(MATCH(CONCATENATE(N$4,$A7),'Výsledková listina'!$N:$N,0)),\"\",INDEX('Výsledková listina'!$C:$C,MATCH(CONCATENATE(N$4,$A7),'Výsledková listina'!$N:$N,0),1))","v":"Radek Černý"},{"$f":"IF(ISNA(MATCH(CONCATENATE(N$4,$A7),'Výsledková listina'!$N:$N,0)),\"\",INDEX('Výsledková listina'!$P:$P,MATCH(CONCATENATE(N$4,$A7),'Výsledková listina'!$N:$N,0),1))","v":"Ševčovi pacholci"},14560,null,1,null,{"$f":"IF(ISNA(MATCH(CONCATENATE(T$4,$A7),'Výsledková listina'!$N:$N,0)),\"\",INDEX('Výsledková listina'!$C:$C,MATCH(CONCATENATE(T$4,$A7),'Výsledková listina'!$N:$N,0),1))","v":""},{"$f":"IF(ISNA(MATCH(CONCATENATE(T$4,$A7),'Výsledková listina'!$N:$N,0)),\"\",INDEX('Výsledková listina'!$P:$P,MATCH(CONCATENATE(T$4,$A7),'Výsledková listina'!$N:$N,0),1))","v":""},null,null,"",null,{"$f":"IF(ISNA(MATCH(CONCATENATE(Z$4,$A7),'Výsledková listina'!$N:$N,0)),\"\",INDEX('Výsledková listina'!$C:$C,MATCH(CONCATENATE(Z$4,$A7),'Výsledková listina'!$N:$N,0),1))","v":""},{"$f":"IF(ISNA(MATCH(CONCATENATE(Z$4,$A7),'Výsledková listina'!$N:$N,0)),\"\",INDEX('Výsledková listina'!$P:$P,MATCH(CONCATENATE(Z$4,$A7),'Výsledková listina'!$N:$N,0),1))","v":""},null,null,"",null,{"$f":"IF(ISNA(MATCH(CONCATENATE(AF$4,$A7),'Výsledková listina'!$N:$N,0)),\"\",INDEX('Výsledková listina'!$C:$C,MATCH(CONCATENATE(AF$4,$A7),'Výsledková listina'!$N:$N,0),1))","v":""},{"$f":"IF(ISNA(MATCH(CONCATENATE(AF$4,$A7),'Výsledková listina'!$N:$N,0)),\"\",INDEX('Výsledková listina'!$P:$P,MATCH(CONCATENATE(AF$4,$A7),'Výsledková listina'!$N:$N,0),1))","v":""},null,null,"",null,{"$f":"IF(ISNA(MATCH(CONCATENATE(AL$4,$A7),'Výsledková listina'!$N:$N,0)),\"\",INDEX('Výsledková listina'!$C:$C,MATCH(CONCATENATE(AL$4,$A7),'Výsledková listina'!$N:$N,0),1))","v":""},{"$f":"IF(ISNA(MATCH(CONCATENATE(AL$4,$A7),'Výsledková listina'!$N:$N,0)),\"\",INDEX('Výsledková listina'!$P:$P,MATCH(CONCATENATE(AL$4,$A7),'Výsledková listina'!$N:$N,0),1))","v":""},null,null,"",null,{"$f":"IF(ISNA(MATCH(CONCATENATE(AR$4,$A7),'Výsledková listina'!$N:$N,0)),\"\",INDEX('Výsledková listina'!$C:$C,MATCH(CONCATENATE(AR$4,$A7),'Výsledková listina'!$N:$N,0),1))","v":""},{"$f":"IF(ISNA(MATCH(CONCATENATE(AR$4,$A7),'Výsledková listina'!$N:$N,0)),\"\",INDEX('Výsledková listina'!$P:$P,MATCH(CONCATENATE(AR$4,$A7),'Výsledková listina'!$N:$N,0),1))","v":""},null,null,"",null,{"$f":"IF(ISNA(MATCH(CONCATENATE(AX$4,$A7),'Výsledková listina'!$N:$N,0)),\"\",INDEX('Výsledková listina'!$C:$C,MATCH(CONCATENATE(AX$4,$A7),'Výsledková listina'!$N:$N,0),1))","v":""},{"$f":"IF(ISNA(MATCH(CONCATENATE(AX$4,$A7),'Výsledková listina'!$N:$N,0)),\"\",INDEX('Výsledková listina'!$P:$P,MATCH(CONCATENATE(AX$4,$A7),'Výsledková listina'!$N:$N,0),1))","v":""},null,null,"",null,{"$f":"IF(ISNA(MATCH(CONCATENATE(BD$4,$A7),'Výsledková listina'!$N:$N,0)),\"\",INDEX('Výsledková listina'!$C:$C,MATCH(CONCATENATE(BD$4,$A7),'Výsledková listina'!$N:$N,0),1))","v":""},{"$f":"IF(ISNA(MATCH(CONCATENATE(BD$4,$A7),'Výsledková listina'!$N:$N,0)),\"\",INDEX('Výsledková listina'!$P:$P,MATCH(CONCATENATE(BD$4,$A7),'Výsledková listina'!$N:$N,0),1))","v":""},null,null,"",null,{"$f":"IF(ISNA(MATCH(CONCATENATE(BJ$4,$A7),'Výsledková listina'!$N:$N,0)),\"\",INDEX('Výsledková listina'!$C:$C,MATCH(CONCATENATE(BJ$4,$A7),'Výsledková listina'!$N:$N,0),1))","v":""},{"$f":"IF(ISNA(MATCH(CONCATENATE(BJ$4,$A7),'Výsledková listina'!$N:$N,0)),\"\",INDEX('Výsledková listina'!$P:$P,MATCH(CONCATENATE(BJ$4,$A7),'Výsledková listina'!$N:$N,0),1))","v":""},null,"",null,{"$f":"IF(ISNA(MATCH(CONCATENATE(BO$4,$A7),'Výsledková listina'!$N:$N,0)),\"\",INDEX('Výsledková listina'!$C:$C,MATCH(CONCATENATE(BO$4,$A7),'Výsledková listina'!$N:$N,0),1))","v":""},{"$f":"IF(ISNA(MATCH(CONCATENATE(BO$4,$A7),'Výsledková listina'!$N:$N,0)),\"\",INDEX('Výsledková listina'!$P:$P,MATCH(CONCATENATE(BO$4,$A7),'Výsledková listina'!$N:$N,0),1))","v":""},null,"",null,{"$f":"IF(ISNA(MATCH(CONCATENATE(BT$4,$A7),'Výsledková listina'!$N:$N,0)),\"\",INDEX('Výsledková listina'!$C:$C,MATCH(CONCATENATE(BT$4,$A7),'Výsledková listina'!$N:$N,0),1))","v":""},{"$f":"IF(ISNA(MATCH(CONCATENATE(BT$4,$A7),'Výsledková listina'!$N:$N,0)),\"\",INDEX('Výsledková listina'!$P:$P,MATCH(CONCATENATE(BT$4,$A7),'Výsledková listina'!$N:$N,0),1))","v":""},null,"",null,{"$f":"IF(ISNA(MATCH(CONCATENATE(BY$4,$A7),'Výsledková listina'!$N:$N,0)),\"\",INDEX('Výsledková listina'!$C:$C,MATCH(CONCATENATE(BY$4,$A7),'Výsledková listina'!$N:$N,0),1))","v":""},{"$f":"IF(ISNA(MATCH(CONCATENATE(BY$4,$A7),'Výsledková listina'!$N:$N,0)),\"\",INDEX('Výsledková listina'!$P:$P,MATCH(CONCATENATE(BY$4,$A7),'Výsledková listina'!$N:$N,0),1))","v":""},null,"",null,{"$f":"IF(ISNA(MATCH(CONCATENATE(CD$4,$A7),'Výsledková listina'!$N:$N,0)),\"\",INDEX('Výsledková listina'!$C:$C,MATCH(CONCATENATE(CD$4,$A7),'Výsledková listina'!$N:$N,0),1))","v":""},{"$f":"IF(ISNA(MATCH(CONCATENATE(CD$4,$A7),'Výsledková listina'!$N:$N,0)),\"\",INDEX('Výsledková listina'!$P:$P,MATCH(CONCATENATE(CD$4,$A7),'Výsledková listina'!$N:$N,0),1))","v":""},null,""]
[3,{"$f":"IF(ISNA(MATCH(CONCATENATE(B$4,$A8),'Výsledková listina'!$N:$N,0)),\"\",INDEX('Výsledková listina'!$C:$C,MATCH(CONCATENATE(B$4,$A8),'Výsledková listina'!$N:$N,0),1))","v":"Fabík Zdeněk"},{"$f":"IF(ISNA(MATCH(CONCATENATE(B$4,$A8),'Výsledková listina'!$N:$N,0)),\"\",INDEX('Výsledková listina'!$P:$P,MATCH(CONCATENATE(B$4,$A8),'Výsledková listina'!$N:$N,0),1))","v":"Ždárský kavky"},5860,null,5,null,{"$f":"IF(ISNA(MATCH(CONCATENATE(H$4,$A8),'Výsledková listina'!$N:$N,0)),\"\",INDEX('Výsledková listina'!$C:$C,MATCH(CONCATENATE(H$4,$A8),'Výsledková listina'!$N:$N,0),1))","v":"Ondráček Petr"},{"$f":"IF(ISNA(MATCH(CONCATENATE(H$4,$A8),'Výsledková listina'!$N:$N,0)),\"\",INDEX('Výsledková listina'!$P:$P,MATCH(CONCATENATE(H$4,$A8),'Výsledková listina'!$N:$N,0),1))","v":"Ždárský kavky"},2700,null,8,null,{"$f":"IF(ISNA(MATCH(CONCATENATE(N$4,$A8),'Výsledková listina'!$N:$N,0)),\"\",INDEX('Výsledková listina'!$C:$C,MATCH(CONCATENATE(N$4,$A8),'Výsledková listina'!$N:$N,0),1))","v":"Stárek Jan"},{"$f":"IF(ISNA(MATCH(CONCATENATE(N$4,$A8),'Výsledková listina'!$N:$N,0)),\"\",INDEX('Výsledková listina'!$P:$P,MATCH(CONCATENATE(N$4,$A8),'Výsledková listina'!$N:$N,0),1))","v":"Ždárský kavky"},12600,null,2,null,{"$f":"IF(ISNA(MATCH(CONCATENATE(T$4,$A8),'Výsledková listina'!$N:$N,0)),\"\",INDEX('Výsledková listina'!$C:$C,MATCH(CONCATENATE(T$4,$A8),'Výsledková listina'!$N:$N,0),1))","v":""},{"$f":"IF(ISNA(MATCH(CONCATENATE(T$4,$A8),'Výsledková listina'!$N:$N,0)),\"\",INDEX('Výsledková listina'!$P:$P,MATCH(CONCATENATE(T$4,$A8),'Výsledková listina'!$N:$N,0),1))","v":""},null,null,"",null,{"$f":"IF(ISNA(MATCH(CONCATENATE(Z$4,$A8),'Výsledková listina'!$N:$N,0)),\"\",INDEX('Výsledková listina'!$C:$C,MATCH(CONCATENATE(Z$4,$A8),'Výsledková listina'!$N:$N,0),1))","v":""},{"$f":"IF(ISNA(MATCH(CONCATENATE(Z$4,$A8),'Výsledková listina'!$N:$N,0)),\"\",INDEX('Výsledková listina'!$P:$P,MATCH(CONCATENATE(Z$4,$A8),'Výsledková listina'!$N:$N,0),1))","v":""},null,null,"",null,{"$f":"IF(ISNA(MATCH(CONCATENATE(AF$4,$A8),'Výsledková listina'!$N:$N,0)),\"\",INDEX('Výsledková listina'!$C:$C,MATCH(CONCATENATE(AF$4,$A8),'Výsledková listina'!$N:$N,0),1))","v":""},{"$f":"IF(ISNA(MATCH(CONCATENATE(AF$4,$A8),'Výsledková listina'!$N:$N,0)),\"\",INDEX('Výsledková listina'!$P:$P,MATCH(CONCATENATE(AF$4,$A8),'Výsledková listina'!$N:$N,0),1))","v":""},null,null,"",null,{"$f":"IF(ISNA(MATCH(CONCATENATE(AL$4,$A8),'Výsledková listina'!$N:$N,0)),\"\",INDEX('Výsledková listina'!$C:$C,MATCH(CONCATENATE(AL$4,$A8),'Výsledková listina'!$N:$N,0),1))","v":""},{"$f":"IF(ISNA(MATCH(CONCATENATE(AL$4,$A8),'Výsledková listina'!$N:$N,0)),\"\",INDEX('Výsledková listina'!$P:$P,MATCH(CONCATENATE(AL$4,$A8),'Výsledková listina'!$N:$N,0),1))","v":""},null,null,"",null,{"$f":"IF(ISNA(MATCH(CONCATENATE(AR$4,$A8),'Výsledková listina'!$N:$N,0)),\"\",INDEX('Výsledková listina'!$C:$C,MATCH(CONCATENATE(AR$4,$A8),'Výsledková listina'!$N:$N,0),1))","v":""},{"$f":"IF(ISNA(MATCH(CONCATENATE(AR$4,$A8),'Výsledková listina'!$N:$N,0)),\"\",INDEX('Výsledková listina'!$P:$P,MATCH(CONCATENATE(AR$4,$A8),'Výsledková listina'!$N:$N,0),1))","v":""},null,null,"",null,{"$f":"IF(ISNA(MATCH(CONCATENATE(AX$4,$A8),'Výsledková listina'!$N:$N,0)),\"\",INDEX('Výsledková listina'!$C:$C,MATCH(CONCATENATE(AX$4,$A8),'Výsledková listina'!$N:$N,0),1))","v":""},{"$f":"IF(ISNA(MATCH(CONCATENATE(AX$4,$A8),'Výsledková listina'!$N:$N,0)),\"\",INDEX('Výsledková listina'!$P:$P,MATCH(CONCATENATE(AX$4,$A8),'Výsledková listina'!$N:$N,0),1))","v":""},null,null,"",null,{"$f":"IF(ISNA(MATCH(CONCATENATE(BD$4,$A8),'Výsledková listina'!$N:$N,0)),\"\",INDEX('Výsledková listina'!$C:$C,MATCH(CONCATENATE(BD$4,$A8),'Výsledková listina'!$N:$N,0),1))","v":""},{"$f":"IF(ISNA(MATCH(CONCATENATE(BD$4,$A8),'Výsledková listina'!$N:$N,0)),\"\",INDEX('Výsledková listina'!$P:$P,MATCH(CONCATENATE(BD$4,$A8),'Výsledková listina'!$N:$N,0),1))","v":""},null,null,"",null,{"$f":"IF(ISNA(MATCH(CONCATENATE(BJ$4,$A8),'Výsledková listina'!$N:$N,0)),\"\",INDEX('Výsledková listina'!$C:$C,MATCH(CONCATENATE(BJ$4,$A8),'Výsledková listina'!$N:$N,0),1))","v":""},{"$f":"IF(ISNA(MATCH(CONCATENATE(BJ$4,$A8),'Výsledková listina'!$N:$N,0)),\"\",INDEX('Výsledková listina'!$P:$P,MATCH(CONCATENATE(BJ$4,$A8),'Výsledková listina'!$N:$N,0),1))","v":""},null,"",null,{"$f":"IF(ISNA(MATCH(CONCATENATE(BO$4,$A8),'Výsledková listina'!$N:$N,0)),\"\",INDEX('Výsledková listina'!$C:$C,MATCH(CONCATENATE(BO$4,$A8),'Výsledková listina'!$N:$N,0),1))","v":""},{"$f":"IF(ISNA(MATCH(CONCATENATE(BO$4,$A8),'Výsledková listina'!$N:$N,0)),\"\",INDEX('Výsledková listina'!$P:$P,MATCH(CONCATENATE(BO$4,$A8),'Výsledková listina'!$N:$N,0),1))","v":""},null,"",null,{"$f":"IF(ISNA(MATCH(CONCATENATE(BT$4,$A8),'Výsledková listina'!$N:$N,0)),\"\",INDEX('Výsledková listina'!$C:$C,MATCH(CONCATENATE(BT$4,$A8),'Výsledková listina'!$N:$N,0),1))","v":""},{"$f":"IF(ISNA(MATCH(CONCATENATE(BT$4,$A8),'Výsledková listina'!$N:$N,0)),\"\",INDEX('Výsledková listina'!$P:$P,MATCH(CONCATENATE(BT$4,$A8),'Výsledková listina'!$N:$N,0),1))","v":""},null,"",null,{"$f":"IF(ISNA(MATCH(CONCATENATE(BY$4,$A8),'Výsledková listina'!$N:$N,0)),\"\",INDEX('Výsledková listina'!$C:$C,MATCH(CONCATENATE(BY$4,$A8),'Výsledková listina'!$N:$N,0),1))","v":""},{"$f":"IF(ISNA(MATCH(CONCATENATE(BY$4,$A8),'Výsledková listina'!$N:$N,0)),\"\",INDEX('Výsledková listina'!$P:$P,MATCH(CONCATENATE(BY$4,$A8),'Výsledková listina'!$N:$N,0),1))","v":""},null,"",null,{"$f":"IF(ISNA(MATCH(CONCATENATE(CD$4,$A8),'Výsledková listina'!$N:$N,0)),\"\",INDEX('Výsledková listina'!$C:$C,MATCH(CONCATENATE(CD$4,$A8),'Výsledková listina'!$N:$N,0),1))","v":""},{"$f":"IF(ISNA(MATCH(CONCATENATE(CD$4,$A8),'Výsledková listina'!$N:$N,0)),\"\",INDEX('Výsledková listina'!$P:$P,MATCH(CONCATENATE(CD$4,$A8),'Výsledková listina'!$N:$N,0),1))","v":""},null,""]
[4,{"$f":"IF(ISNA(MATCH(CONCATENATE(B$4,$A9),'Výsledková listina'!$N:$N,0)),\"\",INDEX('Výsledková listina'!$C:$C,MATCH(CONCATENATE(B$4,$A9),'Výsledková listina'!$N:$N,0),1))","v":"Pečta Radek"},{"$f":"IF(ISNA(MATCH(CONCATENATE(B$4,$A9),'Výsledková listina'!$N:$N,0)),\"\",INDEX('Výsledková listina'!$P:$P,MATCH(CONCATENATE(B$4,$A9),'Výsledková listina'!$N:$N,0),1))","v":"Fídrové komando"},7880,null,2,null,{"$f":"IF(ISNA(MATCH(CONCATENATE(H$4,$A9),'Výsledková listina'!$N:$N,0)),\"\",INDEX('Výsledková listina'!$C:$C,MATCH(CONCATENATE(H$4,$A9),'Výsledková listina'!$N:$N,0),1))","v":"Bruckner Martin"},{"$f":"IF(ISNA(MATCH(CONCATENATE(H$4,$A9),'Výsledková listina'!$N:$N,0)),\"\",INDEX('Výsledková listina'!$P:$P,MATCH(CONCATENATE(H$4,$A9),'Výsledková listina'!$N:$N,0),1))","v":"Fídrové komando"},6880,null,3,null,{"$f":"IF(ISNA(MATCH(CONCATENATE(N$4,$A9),'Výsledková listina'!$N:$N,0)),\"\",INDEX('Výsledková listina'!$C:$C,MATCH(CONCATENATE(N$4,$A9),'Výsledková listina'!$N:$N,0),1))","v":"Frič Michal"},{"$f":"IF(ISNA(MATCH(CONCATENATE(N$4,$A9),'Výsledková listina'!$N:$N,0)),\"\",INDEX('Výsledková listina'!$P:$P,MATCH(CONCATENATE(N$4,$A9),'Výsledková listina'!$N:$N,0),1))","v":"Fídrové komando"},1960,null,8,null,{"$f":"IF(ISNA(MATCH(CONCATENATE(T$4,$A9),'Výsledková listina'!$N:$N,0)),\"\",INDEX('Výsledková listina'!$C:$C,MATCH(CONCATENATE(T$4,$A9),'Výsledková listina'!$N:$N,0),1))","v":""},{"$f":"IF(ISNA(MATCH(CONCATENATE(T$4,$A9),'Výsledková listina'!$N:$N,0)),\"\",INDEX('Výsledková listina'!$P:$P,MATCH(CONCATENATE(T$4,$A9),'Výsledková listina'!$N:$N,0),1))","v":""},null,null,"",null,{"$f":"IF(ISNA(MATCH(CONCATENATE(Z$4,$A9),'Výsledková listina'!$N:$N,0)),\"\",INDEX('Výsledková listina'!$C:$C,MATCH(CONCATENATE(Z$4,$A9),'Výsledková listina'!$N:$N,0),1))","v":""},{"$f":"IF(ISNA(MATCH(CONCATENATE(Z$4,$A9),'Výsledková listina'!$N:$N,0)),\"\",INDEX('Výsledková listina'!$P:$P,MATCH(CONCATENATE(Z$4,$A9),'Výsledková listina'!$N:$N,0),1))","v":""},null,null,"",null,{"$f":"IF(ISNA(MATCH(CONCATENATE(AF$4,$A9),'Výsledková listina'!$N:$N,0)),\"\",INDEX('Výsledková listina'!$C:$C,MATCH(CONCATENATE(AF$4,$A9),'Výsledková listina'!$N:$N,0),1))","v":""},{"$f":"IF(ISNA(MATCH(CONCATENATE(AF$4,$A9),'Výsledková listina'!$N:$N,0)),\"\",INDEX('Výsledková listina'!$P:$P,MATCH(CONCATENATE(AF$4,$A9),'Výsledková listina'!$N:$N,0),1))","v":""},null,null,"",null,{"$f":"IF(ISNA(MATCH(CONCATENATE(AL$4,$A9),'Výsledková listina'!$N:$N,0)),\"\",INDEX('Výsledková listina'!$C:$C,MATCH(CONCATENATE(AL$4,$A9),'Výsledková listina'!$N:$N,0),1))","v":""},{"$f":"IF(ISNA(MATCH(CONCATENATE(AL$4,$A9),'Výsledková listina'!$N:$N,0)),\"\",INDEX('Výsledková listina'!$P:$P,MATCH(CONCATENATE(AL$4,$A9),'Výsledková listina'!$N:$N,0),1))","v":""},null,null,"",null,{"$f":"IF(ISNA(MATCH(CONCATENATE(AR$4,$A9),'Výsledková listina'!$N:$N,0)),\"\",INDEX('Výsledková listina'!$C:$C,MATCH(CONCATENATE(AR$4,$A9),'Výsledková listina'!$N:$N,0),1))","v":""},{"$f":"IF(ISNA(MATCH(CONCATENATE(AR$4,$A9),'Výsledková listina'!$N:$N,0)),\"\",INDEX('Výsledková listina'!$P:$P,MATCH(CONCATENATE(AR$4,$A9),'Výsledková listina'!$N:$N,0),1))","v":""},null,null,"",null,{"$f":"IF(ISNA(MATCH(CONCATENATE(AX$4,$A9),'Výsledková listina'!$N:$N,0)),\"\",INDEX('Výsledková listina'!$C:$C,MATCH(CONCATENATE(AX$4,$A9),'Výsledková listina'!$N:$N,0),1))","v":""},{"$f":"IF(ISNA(MATCH(CONCATENATE(AX$4,$A9),'Výsledková listina'!$N:$N,0)),\"\",INDEX('Výsledková listina'!$P:$P,MATCH(CONCATENATE(AX$4,$A9),'Výsledková listina'!$N:$N,0),1))","v":""},null,null,"",null,{"$f":"IF(ISNA(MATCH(CONCATENATE(BD$4,$A9),'Výsledková listina'!$N:$N,0)),\"\",INDEX('Výsledková listina'!$C:$C,MATCH(CONCATENATE(BD$4,$A9),'Výsledková listina'!$N:$N,0),1))","v":""},{"$f":"IF(ISNA(MATCH(CONCATENATE(BD$4,$A9),'Výsledková listina'!$N:$N,0)),\"\",INDEX('Výsledková listina'!$P:$P,MATCH(CONCATENATE(BD$4,$A9),'Výsledková listina'!$N:$N,0),1))","v":""},null,null,"",null,{"$f":"IF(ISNA(MATCH(CONCATENATE(BJ$4,$A9),'Výsledková listina'!$N:$N,0)),\"\",INDEX('Výsledková listina'!$C:$C,MATCH(CONCATENATE(BJ$4,$A9),'Výsledková listina'!$N:$N,0),1))","v":""},{"$f":"IF(ISNA(MATCH(CONCATENATE(BJ$4,$A9),'Výsledková listina'!$N:$N,0)),\"\",INDEX('Výsledková listina'!$P:$P,MATCH(CONCATENATE(BJ$4,$A9),'Výsledková listina'!$N:$N,0),1))","v":""},null,"",null,{"$f":"IF(ISNA(MATCH(CONCATENATE(BO$4,$A9),'Výsledková listina'!$N:$N,0)),\"\",INDEX('Výsledková listina'!$C:$C,MATCH(CONCATENATE(BO$4,$A9),'Výsledková listina'!$N:$N,0),1))","v":""},{"$f":"IF(ISNA(MATCH(CONCATENATE(BO$4,$A9),'Výsledková listina'!$N:$N,0)),\"\",INDEX('Výsledková listina'!$P:$P,MATCH(CONCATENATE(BO$4,$A9),'Výsledková listina'!$N:$N,0),1))","v":""},null,"",null,{"$f":"IF(ISNA(MATCH(CONCATENATE(BT$4,$A9),'Výsledková listina'!$N:$N,0)),\"\",INDEX('Výsledková listina'!$C:$C,MATCH(CONCATENATE(BT$4,$A9),'Výsledková listina'!$N:$N,0),1))","v":""},{"$f":"IF(ISNA(MATCH(CONCATENATE(BT$4,$A9),'Výsledková listina'!$N:$N,0)),\"\",INDEX('Výsledková listina'!$P:$P,MATCH(CONCATENATE(BT$4,$A9),'Výsledková listina'!$N:$N,0),1))","v":""},null,"",null,{"$f":"IF(ISNA(MATCH(CONCATENATE(BY$4,$A9),'Výsledková listina'!$N:$N,0)),\"\",INDEX('Výsledková listina'!$C:$C,MATCH(CONCATENATE(BY$4,$A9),'Výsledková listina'!$N:$N,0),1))","v":""},{"$f":"IF(ISNA(MATCH(CONCATENATE(BY$4,$A9),'Výsledková listina'!$N:$N,0)),\"\",INDEX('Výsledková listina'!$P:$P,MATCH(CONCATENATE(BY$4,$A9),'Výsledková listina'!$N:$N,0),1))","v":""},null,"",null,{"$f":"IF(ISNA(MATCH(CONCATENATE(CD$4,$A9),'Výsledková listina'!$N:$N,0)),\"\",INDEX('Výsledková listina'!$C:$C,MATCH(CONCATENATE(CD$4,$A9),'Výsledková listina'!$N:$N,0),1))","v":""},{"$f":"IF(ISNA(MATCH(CONCATENATE(CD$4,$A9),'Výsledková listina'!$N:$N,0)),\"\",INDEX('Výsledková listina'!$P:$P,MATCH(CONCATENATE(CD$4,$A9),'Výsledková listina'!$N:$N,0),1))","v":""},null,""]
[5,{"$f":"IF(ISNA(MATCH(CONCATENATE(B$4,$A10),'Výsledková listina'!$N:$N,0)),\"\",INDEX('Výsledková listina'!$C:$C,MATCH(CONCATENATE(B$4,$A10),'Výsledková listina'!$N:$N,0),1))","v":"Kunst Antonín"},{"$f":"IF(ISNA(MATCH(CONCATENATE(B$4,$A10),'Výsledková listina'!$N:$N,0)),\"\",INDEX('Výsledková listina'!$P:$P,MATCH(CONCATENATE(B$4,$A10),'Výsledková listina'!$N:$N,0),1))","v":"Fish Angels"},9880,null,1,null,{"$f":"IF(ISNA(MATCH(CONCATENATE(H$4,$A10),'Výsledková listina'!$N:$N,0)),\"\",INDEX('Výsledková listina'!$C:$C,MATCH(CONCATENATE(H$4,$A10),'Výsledková listina'!$N:$N,0),1))","v":"Šabata Jakub"},{"$f":"IF(ISNA(MATCH(CONCATENATE(H$4,$A10),'Výsledková listina'!$N:$N,0)),\"\",INDEX('Výsledková listina'!$P:$P,MATCH(CONCATENATE(H$4,$A10),'Výsledková listina'!$N:$N,0),1))","v":"Fish Angels"},9760,null,2,null,{"$f":"IF(ISNA(MATCH(CONCATENATE(N$4,$A10),'Výsledková listina'!$N:$N,0)),\"\",INDEX('Výsledková listina'!$C:$C,MATCH(CONCATENATE(N$4,$A10),'Výsledková listina'!$N:$N,0),1))","v":"Denemarek Jiří"},{"$f":"IF(ISNA(MATCH(CONCATENATE(N$4,$A10),'Výsledková listina'!$N:$N,0)),\"\",INDEX('Výsledková listina'!$P:$P,MATCH(CONCATENATE(N$4,$A10),'Výsledková listina'!$N:$N,0),1))","v":"Fish Angels"},5240,null,6,null,{"$f":"IF(ISNA(MATCH(CONCATENATE(T$4,$A10),'Výsledková listina'!$N:$N,0)),\"\",INDEX('Výsledková listina'!$C:$C,MATCH(CONCATENATE(T$4,$A10),'Výsledková listina'!$N:$N,0),1))","v":""},{"$f":"IF(ISNA(MATCH(CONCATENATE(T$4,$A10),'Výsledková listina'!$N:$N,0)),\"\",INDEX('Výsledková listina'!$P:$P,MATCH(CONCATENATE(T$4,$A10),'Výsledková listina'!$N:$N,0),1))","v":""},null,null,"",null,{"$f":"IF(ISNA(MATCH(CONCATENATE(Z$4,$A10),'Výsledková listina'!$N:$N,0)),\"\",INDEX('Výsledková listina'!$C:$C,MATCH(CONCATENATE(Z$4,$A10),'Výsledková listina'!$N:$N,0),1))","v":""},{"$f":"IF(ISNA(MATCH(CONCATENATE(Z$4,$A10),'Výsledková listina'!$N:$N,0)),\"\",INDEX('Výsledková listina'!$P:$P,MATCH(CONCATENATE(Z$4,$A10),'Výsledková listina'!$N:$N,0),1))","v":""},null,null,"",null,{"$f":"IF(ISNA(MATCH(CONCATENATE(AF$4,$A10),'Výsledková listina'!$N:$N,0)),\"\",INDEX('Výsledková listina'!$C:$C,MATCH(CONCATENATE(AF$4,$A10),'Výsledková listina'!$N:$N,0),1))","v":""},{"$f":"IF(ISNA(MATCH(CONCATENATE(AF$4,$A10),'Výsledková listina'!$N:$N,0)),\"\",INDEX('Výsledková listina'!$P:$P,MATCH(CONCATENATE(AF$4,$A10),'Výsledková listina'!$N:$N,0),1))","v":""},null,null,"",null,{"$f":"IF(ISNA(MATCH(CONCATENATE(AL$4,$A10),'Výsledková listina'!$N:$N,0)),\"\",INDEX('Výsledková listina'!$C:$C,MATCH(CONCATENATE(AL$4,$A10),'Výsledková listina'!$N:$N,0),1))","v":""},{"$f":"IF(ISNA(MATCH(CONCATENATE(AL$4,$A10),'Výsledková listina'!$N:$N,0)),\"\",INDEX('Výsledková listina'!$P:$P,MATCH(CONCATENATE(AL$4,$A10),'Výsledková listina'!$N:$N,0),1))","v":""},null,null,"",null,{"$f":"IF(ISNA(MATCH(CONCATENATE(AR$4,$A10),'Výsledková listina'!$N:$N,0)),\"\",INDEX('Výsledková listina'!$C:$C,MATCH(CONCATENATE(AR$4,$A10),'Výsledková listina'!$N:$N,0),1))","v":""},{"$f":"IF(ISNA(MATCH(CONCATENATE(AR$4,$A10),'Výsledková listina'!$N:$N,0)),\"\",INDEX('Výsledková listina'!$P:$P,MATCH(CONCATENATE(AR$4,$A10),'Výsledková listina'!$N:$N,0),1))","v":""},null,null,"",null,{"$f":"IF(ISNA(MATCH(CONCATENATE(AX$4,$A10),'Výsledková listina'!$N:$N,0)),\"\",INDEX('Výsledková listina'!$C:$C,MATCH(CONCATENATE(AX$4,$A10),'Výsledková listina'!$N:$N,0),1))","v":""},{"$f":"IF(ISNA(MATCH(CONCATENATE(AX$4,$A10),'Výsledková listina'!$N:$N,0)),\"\",INDEX('Výsledková listina'!$P:$P,MATCH(CONCATENATE(AX$4,$A10),'Výsledková listina'!$N:$N,0),1))","v":""},null,null,"",null,{"$f":"IF(ISNA(MATCH(CONCATENATE(BD$4,$A10),'Výsledková listina'!$N:$N,0)),\"\",INDEX('Výsledková listina'!$C:$C,MATCH(CONCATENATE(BD$4,$A10),'Výsledková listina'!$N:$N,0),1))","v":""},{"$f":"IF(ISNA(MATCH(CONCATENATE(BD$4,$A10),'Výsledková listina'!$N:$N,0)),\"\",INDEX('Výsledková listina'!$P:$P,MATCH(CONCATENATE(BD$4,$A10),'Výsledková listina'!$N:$N,0),1))","v":""},null,null,"",null,{"$f":"IF(ISNA(MATCH(CONCATENATE(BJ$4,$A10),'Výsledková listina'!$N:$N,0)),\"\",INDEX('Výsledková listina'!$C:$C,MATCH(CONCATENATE(BJ$4,$A10),'Výsledková listina'!$N:$N,0),1))","v":""},{"$f":"IF(ISNA(MATCH(CONCATENATE(BJ$4,$A10),'Výsledková listina'!$N:$N,0)),\"\",INDEX('Výsledková listina'!$P:$P,MATCH(CONCATENATE(BJ$4,$A10),'Výsledková listina'!$N:$N,0),1))","v":""},null,"",null,{"$f":"IF(ISNA(MATCH(CONCATENATE(BO$4,$A10),'Výsledková listina'!$N:$N,0)),\"\",INDEX('Výsledková listina'!$C:$C,MATCH(CONCATENATE(BO$4,$A10),'Výsledková listina'!$N:$N,0),1))","v":""},{"$f":"IF(ISNA(MATCH(CONCATENATE(BO$4,$A10),'Výsledková listina'!$N:$N,0)),\"\",INDEX('Výsledková listina'!$P:$P,MATCH(CONCATENATE(BO$4,$A10),'Výsledková listina'!$N:$N,0),1))","v":""},null,"",null,{"$f":"IF(ISNA(MATCH(CONCATENATE(BT$4,$A10),'Výsledková listina'!$N:$N,0)),\"\",INDEX('Výsledková listina'!$C:$C,MATCH(CONCATENATE(BT$4,$A10),'Výsledková listina'!$N:$N,0),1))","v":""},{"$f":"IF(ISNA(MATCH(CONCATENATE(BT$4,$A10),'Výsledková listina'!$N:$N,0)),\"\",INDEX('Výsledková listina'!$P:$P,MATCH(CONCATENATE(BT$4,$A10),'Výsledková listina'!$N:$N,0),1))","v":""},null,"",null,{"$f":"IF(ISNA(MATCH(CONCATENATE(BY$4,$A10),'Výsledková listina'!$N:$N,0)),\"\",INDEX('Výsledková listina'!$C:$C,MATCH(CONCATENATE(BY$4,$A10),'Výsledková listina'!$N:$N,0),1))","v":""},{"$f":"IF(ISNA(MATCH(CONCATENATE(BY$4,$A10),'Výsledková listina'!$N:$N,0)),\"\",INDEX('Výsledková listina'!$P:$P,MATCH(CONCATENATE(BY$4,$A10),'Výsledková listina'!$N:$N,0),1))","v":""},null,"",null,{"$f":"IF(ISNA(MATCH(CONCATENATE(CD$4,$A10),'Výsledková listina'!$N:$N,0)),\"\",INDEX('Výsledková listina'!$C:$C,MATCH(CONCATENATE(CD$4,$A10),'Výsledková listina'!$N:$N,0),1))","v":""},{"$f":"IF(ISNA(MATCH(CONCATENATE(CD$4,$A10),'Výsledková listina'!$N:$N,0)),\"\",INDEX('Výsledková listina'!$P:$P,MATCH(CONCATENATE(CD$4,$A10),'Výsledková listina'!$N:$N,0),1))","v":""},null,""]
[6,{"$f":"IF(ISNA(MATCH(CONCATENATE(B$4,$A11),'Výsledková listina'!$N:$N,0)),\"\",INDEX('Výsledková listina'!$C:$C,MATCH(CONCATENATE(B$4,$A11),'Výsledková listina'!$N:$N,0),1))","v":"Revai Miroslav"},{"$f":"IF(ISNA(MATCH(CONCATENATE(B$4,$A11),'Výsledková listina'!$N:$N,0)),\"\",INDEX('Výsledková listina'!$P:$P,MATCH(CONCATENATE(B$4,$A11),'Výsledková listina'!$N:$N,0),1))","v":"Feeder team Vlci-MRS"},3360,null,7,null,{"$f":"IF(ISNA(MATCH(CONCATENATE(H$4,$A11),'Výsledková listina'!$N:$N,0)),\"\",INDEX('Výsledková listina'!$C:$C,MATCH(CONCATENATE(H$4,$A11),'Výsledková listina'!$N:$N,0),1))","v":"Koucký Milan"},{"$f":"IF(ISNA(MATCH(CONCATENATE(H$4,$A11),'Výsledková listina'!$N:$N,0)),\"\",INDEX('Výsledková listina'!$P:$P,MATCH(CONCATENATE(H$4,$A11),'Výsledková listina'!$N:$N,0),1))","v":"Feeder team Vlci-Mrs"},6260,null,4,null,{"$f":"IF(ISNA(MATCH(CONCATENATE(N$4,$A11),'Výsledková listina'!$N:$N,0)),\"\",INDEX('Výsledková listina'!$C:$C,MATCH(CONCATENATE(N$4,$A11),'Výsledková listina'!$N:$N,0),1))","v":"Bartl Petr"},{"$f":"IF(ISNA(MATCH(CONCATENATE(N$4,$A11),'Výsledková listina'!$N:$N,0)),\"\",INDEX('Výsledková listina'!$P:$P,MATCH(CONCATENATE(N$4,$A11),'Výsledková listina'!$N:$N,0),1))","v":"Feeder team Vlci-Mrs"},5280,null,5,null,{"$f":"IF(ISNA(MATCH(CONCATENATE(T$4,$A11),'Výsledková listina'!$N:$N,0)),\"\",INDEX('Výsledková listina'!$C:$C,MATCH(CONCATENATE(T$4,$A11),'Výsledková listina'!$N:$N,0),1))","v":""},{"$f":"IF(ISNA(MATCH(CONCATENATE(T$4,$A11),'Výsledková listina'!$N:$N,0)),\"\",INDEX('Výsledková listina'!$P:$P,MATCH(CONCATENATE(T$4,$A11),'Výsledková listina'!$N:$N,0),1))","v":""},null,null,"",null,{"$f":"IF(ISNA(MATCH(CONCATENATE(Z$4,$A11),'Výsledková listina'!$N:$N,0)),\"\",INDEX('Výsledková listina'!$C:$C,MATCH(CONCATENATE(Z$4,$A11),'Výsledková listina'!$N:$N,0),1))","v":""},{"$f":"IF(ISNA(MATCH(CONCATENATE(Z$4,$A11),'Výsledková listina'!$N:$N,0)),\"\",INDEX('Výsledková listina'!$P:$P,MATCH(CONCATENATE(Z$4,$A11),'Výsledková listina'!$N:$N,0),1))","v":""},null,null,"",null,{"$f":"IF(ISNA(MATCH(CONCATENATE(AF$4,$A11),'Výsledková listina'!$N:$N,0)),\"\",INDEX('Výsledková listina'!$C:$C,MATCH(CONCATENATE(AF$4,$A11),'Výsledková listina'!$N:$N,0),1))","v":""},{"$f":"IF(ISNA(MATCH(CONCATENATE(AF$4,$A11),'Výsledková listina'!$N:$N,0)),\"\",INDEX('Výsledková listina'!$P:$P,MATCH(CONCATENATE(AF$4,$A11),'Výsledková listina'!$N:$N,0),1))","v":""},null,null,"",null,{"$f":"IF(ISNA(MATCH(CONCATENATE(AL$4,$A11),'Výsledková listina'!$N:$N,0)),\"\",INDEX('Výsledková listina'!$C:$C,MATCH(CONCATENATE(AL$4,$A11),'Výsledková listina'!$N:$N,0),1))","v":""},{"$f":"IF(ISNA(MATCH(CONCATENATE(AL$4,$A11),'Výsledková listina'!$N:$N,0)),\"\",INDEX('Výsledková listina'!$P:$P,MATCH(CONCATENATE(AL$4,$A11),'Výsledková listina'!$N:$N,0),1))","v":""},null,null,"",null,{"$f":"IF(ISNA(MATCH(CONCATENATE(AR$4,$A11),'Výsledková listina'!$N:$N,0)),\"\",INDEX('Výsledková listina'!$C:$C,MATCH(CONCATENATE(AR$4,$A11),'Výsledková listina'!$N:$N,0),1))","v":""},{"$f":"IF(ISNA(MATCH(CONCATENATE(AR$4,$A11),'Výsledková listina'!$N:$N,0)),\"\",INDEX('Výsledková listina'!$P:$P,MATCH(CONCATENATE(AR$4,$A11),'Výsledková listina'!$N:$N,0),1))","v":""},null,null,"",null,{"$f":"IF(ISNA(MATCH(CONCATENATE(AX$4,$A11),'Výsledková listina'!$N:$N,0)),\"\",INDEX('Výsledková listina'!$C:$C,MATCH(CONCATENATE(AX$4,$A11),'Výsledková listina'!$N:$N,0),1))","v":""},{"$f":"IF(ISNA(MATCH(CONCATENATE(AX$4,$A11),'Výsledková listina'!$N:$N,0)),\"\",INDEX('Výsledková listina'!$P:$P,MATCH(CONCATENATE(AX$4,$A11),'Výsledková listina'!$N:$N,0),1))","v":""},null,null,"",null,{"$f":"IF(ISNA(MATCH(CONCATENATE(BD$4,$A11),'Výsledková listina'!$N:$N,0)),\"\",INDEX('Výsledková listina'!$C:$C,MATCH(CONCATENATE(BD$4,$A11),'Výsledková listina'!$N:$N,0),1))","v":""},{"$f":"IF(ISNA(MATCH(CONCATENATE(BD$4,$A11),'Výsledková listina'!$N:$N,0)),\"\",INDEX('Výsledková listina'!$P:$P,MATCH(CONCATENATE(BD$4,$A11),'Výsledková listina'!$N:$N,0),1))","v":""},null,null,"",null,{"$f":"IF(ISNA(MATCH(CONCATENATE(BJ$4,$A11),'Výsledková listina'!$N:$N,0)),\"\",INDEX('Výsledková listina'!$C:$C,MATCH(CONCATENATE(BJ$4,$A11),'Výsledková listina'!$N:$N,0),1))","v":""},{"$f":"IF(ISNA(MATCH(CONCATENATE(BJ$4,$A11),'Výsledková listina'!$N:$N,0)),\"\",INDEX('Výsledková listina'!$P:$P,MATCH(CONCATENATE(BJ$4,$A11),'Výsledková listina'!$N:$N,0),1))","v":""},null,"",null,{"$f":"IF(ISNA(MATCH(CONCATENATE(BO$4,$A11),'Výsledková listina'!$N:$N,0)),\"\",INDEX('Výsledková listina'!$C:$C,MATCH(CONCATENATE(BO$4,$A11),'Výsledková listina'!$N:$N,0),1))","v":""},{"$f":"IF(ISNA(MATCH(CONCATENATE(BO$4,$A11),'Výsledková listina'!$N:$N,0)),\"\",INDEX('Výsledková listina'!$P:$P,MATCH(CONCATENATE(BO$4,$A11),'Výsledková listina'!$N:$N,0),1))","v":""},null,"",null,{"$f":"IF(ISNA(MATCH(CONCATENATE(BT$4,$A11),'Výsledková listina'!$N:$N,0)),\"\",INDEX('Výsledková listina'!$C:$C,MATCH(CONCATENATE(BT$4,$A11),'Výsledková listina'!$N:$N,0),1))","v":""},{"$f":"IF(ISNA(MATCH(CONCATENATE(BT$4,$A11),'Výsledková listina'!$N:$N,0)),\"\",INDEX('Výsledková listina'!$P:$P,MATCH(CONCATENATE(BT$4,$A11),'Výsledková listina'!$N:$N,0),1))","v":""},null,"",null,{"$f":"IF(ISNA(MATCH(CONCATENATE(BY$4,$A11),'Výsledková listina'!$N:$N,0)),\"\",INDEX('Výsledková listina'!$C:$C,MATCH(CONCATENATE(BY$4,$A11),'Výsledková listina'!$N:$N,0),1))","v":""},{"$f":"IF(ISNA(MATCH(CONCATENATE(BY$4,$A11),'Výsledková listina'!$N:$N,0)),\"\",INDEX('Výsledková listina'!$P:$P,MATCH(CONCATENATE(BY$4,$A11),'Výsledková listina'!$N:$N,0),1))","v":""},null,"",null,{"$f":"IF(ISNA(MATCH(CONCATENATE(CD$4,$A11),'Výsledková listina'!$N:$N,0)),\"\",INDEX('Výsledková listina'!$C:$C,MATCH(CONCATENATE(CD$4,$A11),'Výsledková listina'!$N:$N,0),1))","v":""},{"$f":"IF(ISNA(MATCH(CONCATENATE(CD$4,$A11),'Výsledková listina'!$N:$N,0)),\"\",INDEX('Výsledková listina'!$P:$P,MATCH(CONCATENATE(CD$4,$A11),'Výsledková listina'!$N:$N,0),1))","v":""},null,""]
[7,{"$f":"IF(ISNA(MATCH(CONCATENATE(B$4,$A12),'Výsledková listina'!$N:$N,0)),\"\",INDEX('Výsledková listina'!$C:$C,MATCH(CONCATENATE(B$4,$A12),'Výsledková listina'!$N:$N,0),1))","v":"Pečta Radek st."},{"$f":"IF(ISNA(MATCH(CONCATENATE(B$4,$A12),'Výsledková listina'!$N:$N,0)),\"\",INDEX('Výsledková listina'!$P:$P,MATCH(CONCATENATE(B$4,$A12),'Výsledková listina'!$N:$N,0),1))","v":"Zauwíci"},6420,null,4,null,{"$f":"IF(ISNA(MATCH(CONCATENATE(H$4,$A12),'Výsledková listina'!$N:$N,0)),\"\",INDEX('Výsledková listina'!$C:$C,MATCH(CONCATENATE(H$4,$A12),'Výsledková listina'!$N:$N,0),1))","v":"Zavřel Jan"},{"$f":"IF(ISNA(MATCH(CONCATENATE(H$4,$A12),'Výsledková listina'!$N:$N,0)),\"\",INDEX('Výsledková listina'!$P:$P,MATCH(CONCATENATE(H$4,$A12),'Výsledková listina'!$N:$N,0),1))","v":"Zauwíci"},10340,null,1,null,{"$f":"IF(ISNA(MATCH(CONCATENATE(N$4,$A12),'Výsledková listina'!$N:$N,0)),\"\",INDEX('Výsledková listina'!$C:$C,MATCH(CONCATENATE(N$4,$A12),'Výsledková listina'!$N:$N,0),1))","v":"Šťovčík Viktor"},{"$f":"IF(ISNA(MATCH(CONCATENATE(N$4,$A12),'Výsledková listina'!$N:$N,0)),\"\",INDEX('Výsledková listina'!$P:$P,MATCH(CONCATENATE(N$4,$A12),'Výsledková listina'!$N:$N,0),1))","v":"Zauwíci"},2900,null,7,null,{"$f":"IF(ISNA(MATCH(CONCATENATE(T$4,$A12),'Výsledková listina'!$N:$N,0)),\"\",INDEX('Výsledková listina'!$C:$C,MATCH(CONCATENATE(T$4,$A12),'Výsledková listina'!$N:$N,0),1))","v":""},{"$f":"IF(ISNA(MATCH(CONCATENATE(T$4,$A12),'Výsledková listina'!$N:$N,0)),\"\",INDEX('Výsledková listina'!$P:$P,MATCH(CONCATENATE(T$4,$A12),'Výsledková listina'!$N:$N,0),1))","v":""},null,null,"",null,{"$f":"IF(ISNA(MATCH(CONCATENATE(Z$4,$A12),'Výsledková listina'!$N:$N,0)),\"\",INDEX('Výsledková listina'!$C:$C,MATCH(CONCATENATE(Z$4,$A12),'Výsledková listina'!$N:$N,0),1))","v":""},{"$f":"IF(ISNA(MATCH(CONCATENATE(Z$4,$A12),'Výsledková listina'!$N:$N,0)),\"\",INDEX('Výsledková listina'!$P:$P,MATCH(CONCATENATE(Z$4,$A12),'Výsledková listina'!$N:$N,0),1))","v":""},null,null,"",null,{"$f":"IF(ISNA(MATCH(CONCATENATE(AF$4,$A12),'Výsledková listina'!$N:$N,0)),\"\",INDEX('Výsledková listina'!$C:$C,MATCH(CONCATENATE(AF$4,$A12),'Výsledková listina'!$N:$N,0),1))","v":""},{"$f":"IF(ISNA(MATCH(CONCATENATE(AF$4,$A12),'Výsledková listina'!$N:$N,0)),\"\",INDEX('Výsledková listina'!$P:$P,MATCH(CONCATENATE(AF$4,$A12),'Výsledková listina'!$N:$N,0),1))","v":""},null,null,"",null,{"$f":"IF(ISNA(MATCH(CONCATENATE(AL$4,$A12),'Výsledková listina'!$N:$N,0)),\"\",INDEX('Výsledková listina'!$C:$C,MATCH(CONCATENATE(AL$4,$A12),'Výsledková listina'!$N:$N,0),1))","v":""},{"$f":"IF(ISNA(MATCH(CONCATENATE(AL$4,$A12),'Výsledková listina'!$N:$N,0)),\"\",INDEX('Výsledková listina'!$P:$P,MATCH(CONCATENATE(AL$4,$A12),'Výsledková listina'!$N:$N,0),1))","v":""},null,null,"",null,{"$f":"IF(ISNA(MATCH(CONCATENATE(AR$4,$A12),'Výsledková listina'!$N:$N,0)),\"\",INDEX('Výsledková listina'!$C:$C,MATCH(CONCATENATE(AR$4,$A12),'Výsledková listina'!$N:$N,0),1))","v":""},{"$f":"IF(ISNA(MATCH(CONCATENATE(AR$4,$A12),'Výsledková listina'!$N:$N,0)),\"\",INDEX('Výsledková listina'!$P:$P,MATCH(CONCATENATE(AR$4,$A12),'Výsledková listina'!$N:$N,0),1))","v":""},null,null,"",null,{"$f":"IF(ISNA(MATCH(CONCATENATE(AX$4,$A12),'Výsledková listina'!$N:$N,0)),\"\",INDEX('Výsledková listina'!$C:$C,MATCH(CONCATENATE(AX$4,$A12),'Výsledková listina'!$N:$N,0),1))","v":""},{"$f":"IF(ISNA(MATCH(CONCATENATE(AX$4,$A12),'Výsledková listina'!$N:$N,0)),\"\",INDEX('Výsledková listina'!$P:$P,MATCH(CONCATENATE(AX$4,$A12),'Výsledková listina'!$N:$N,0),1))","v":""},null,null,"",null,{"$f":"IF(ISNA(MATCH(CONCATENATE(BD$4,$A12),'Výsledková listina'!$N:$N,0)),\"\",INDEX('Výsledková listina'!$C:$C,MATCH(CONCATENATE(BD$4,$A12),'Výsledková listina'!$N:$N,0),1))","v":""},{"$f":"IF(ISNA(MATCH(CONCATENATE(BD$4,$A12),'Výsledková listina'!$N:$N,0)),\"\",INDEX('Výsledková listina'!$P:$P,MATCH(CONCATENATE(BD$4,$A12),'Výsledková listina'!$N:$N,0),1))","v":""},null,null,"",null,{"$f":"IF(ISNA(MATCH(CONCATENATE(BJ$4,$A12),'Výsledková listina'!$N:$N,0)),\"\",INDEX('Výsledková listina'!$C:$C,MATCH(CONCATENATE(BJ$4,$A12),'Výsledková listina'!$N:$N,0),1))","v":""},{"$f":"IF(ISNA(MATCH(CONCATENATE(BJ$4,$A12),'Výsledková listina'!$N:$N,0)),\"\",INDEX('Výsledková listina'!$P:$P,MATCH(CONCATENATE(BJ$4,$A12),'Výsledková listina'!$N:$N,0),1))","v":""},null,"",null,{"$f":"IF(ISNA(MATCH(CONCATENATE(BO$4,$A12),'Výsledková listina'!$N:$N,0)),\"\",INDEX('Výsledková listina'!$C:$C,MATCH(CONCATENATE(BO$4,$A12),'Výsledková listina'!$N:$N,0),1))","v":""},{"$f":"IF(ISNA(MATCH(CONCATENATE(BO$4,$A12),'Výsledková listina'!$N:$N,0)),\"\",INDEX('Výsledková listina'!$P:$P,MATCH(CONCATENATE(BO$4,$A12),'Výsledková listina'!$N:$N,0),1))","v":""},null,"",null,{"$f":"IF(ISNA(MATCH(CONCATENATE(BT$4,$A12),'Výsledková listina'!$N:$N,0)),\"\",INDEX('Výsledková listina'!$C:$C,MATCH(CONCATENATE(BT$4,$A12),'Výsledková listina'!$N:$N,0),1))","v":""},{"$f":"IF(ISNA(MATCH(CONCATENATE(BT$4,$A12),'Výsledková listina'!$N:$N,0)),\"\",INDEX('Výsledková listina'!$P:$P,MATCH(CONCATENATE(BT$4,$A12),'Výsledková listina'!$N:$N,0),1))","v":""},null,"",null,{"$f":"IF(ISNA(MATCH(CONCATENATE(BY$4,$A12),'Výsledková listina'!$N:$N,0)),\"\",INDEX('Výsledková listina'!$C:$C,MATCH(CONCATENATE(BY$4,$A12),'Výsledková listina'!$N:$N,0),1))","v":""},{"$f":"IF(ISNA(MATCH(CONCATENATE(BY$4,$A12),'Výsledková listina'!$N:$N,0)),\"\",INDEX('Výsledková listina'!$P:$P,MATCH(CONCATENATE(BY$4,$A12),'Výsledková listina'!$N:$N,0),1))","v":""},null,"",null,{"$f":"IF(ISNA(MATCH(CONCATENATE(CD$4,$A12),'Výsledková listina'!$N:$N,0)),\"\",INDEX('Výsledková listina'!$C:$C,MATCH(CONCATENATE(CD$4,$A12),'Výsledková listina'!$N:$N,0),1))","v":""},{"$f":"IF(ISNA(MATCH(CONCATENATE(CD$4,$A12),'Výsledková listina'!$N:$N,0)),\"\",INDEX('Výsledková listina'!$P:$P,MATCH(CONCATENATE(CD$4,$A12),'Výsledková listina'!$N:$N,0),1))","v":""},null,""]
[8,{"$f":"IF(ISNA(MATCH(CONCATENATE(B$4,$A13),'Výsledková listina'!$N:$N,0)),\"\",INDEX('Výsledková listina'!$C:$C,MATCH(CONCATENATE(B$4,$A13),'Výsledková listina'!$N:$N,0),1))","v":"Novotný Erik"},{"$f":"IF(ISNA(MATCH(CONCATENATE(B$4,$A13),'Výsledková listina'!$N:$N,0)),\"\",INDEX('Výsledková listina'!$P:$P,MATCH(CONCATENATE(B$4,$A13),'Výsledková listina'!$N:$N,0),1))","v":"Speed feeder team"},2960,null,8,null,{"$f":"IF(ISNA(MATCH(CONCATENATE(H$4,$A13),'Výsledková listina'!$N:$N,0)),\"\",INDEX('Výsledková listina'!$C:$C,MATCH(CONCATENATE(H$4,$A13),'Výsledková listina'!$N:$N,0),1))","v":"Prášek Josef"},{"$f":"IF(ISNA(MATCH(CONCATENATE(H$4,$A13),'Výsledková listina'!$N:$N,0)),\"\",INDEX('Výsledková listina'!$P:$P,MATCH(CONCATENATE(H$4,$A13),'Výsledková listina'!$N:$N,0),1))","v":"Speed feeder team"},4480,null,7,null,{"$f":"IF(ISNA(MATCH(CONCATENATE(N$4,$A13),'Výsledková listina'!$N:$N,0)),\"\",INDEX('Výsledková listina'!$C:$C,MATCH(CONCATENATE(N$4,$A13),'Výsledková listina'!$N:$N,0),1))","v":"Tomšík Jan"},{"$f":"IF(ISNA(MATCH(CONCATENATE(N$4,$A13),'Výsledková listina'!$N:$N,0)),\"\",INDEX('Výsledková listina'!$P:$P,MATCH(CONCATENATE(N$4,$A13),'Výsledková listina'!$N:$N,0),1))","v":"Speed feeder team"},5920,null,4,null,{"$f":"IF(ISNA(MATCH(CONCATENATE(T$4,$A13),'Výsledková listina'!$N:$N,0)),\"\",INDEX('Výsledková listina'!$C:$C,MATCH(CONCATENATE(T$4,$A13),'Výsledková listina'!$N:$N,0),1))","v":""},{"$f":"IF(ISNA(MATCH(CONCATENATE(T$4,$A13),'Výsledková listina'!$N:$N,0)),\"\",INDEX('Výsledková listina'!$P:$P,MATCH(CONCATENATE(T$4,$A13),'Výsledková listina'!$N:$N,0),1))","v":""},null,null,"",null,{"$f":"IF(ISNA(MATCH(CONCATENATE(Z$4,$A13),'Výsledková listina'!$N:$N,0)),\"\",INDEX('Výsledková listina'!$C:$C,MATCH(CONCATENATE(Z$4,$A13),'Výsledková listina'!$N:$N,0),1))","v":""},{"$f":"IF(ISNA(MATCH(CONCATENATE(Z$4,$A13),'Výsledková listina'!$N:$N,0)),\"\",INDEX('Výsledková listina'!$P:$P,MATCH(CONCATENATE(Z$4,$A13),'Výsledková listina'!$N:$N,0),1))","v":""},null,null,"",null,{"$f":"IF(ISNA(MATCH(CONCATENATE(AF$4,$A13),'Výsledková listina'!$N:$N,0)),\"\",INDEX('Výsledková listina'!$C:$C,MATCH(CONCATENATE(AF$4,$A13),'Výsledková listina'!$N:$N,0),1))","v":""},{"$f":"IF(ISNA(MATCH(CONCATENATE(AF$4,$A13),'Výsledková listina'!$N:$N,0)),\"\",INDEX('Výsledková listina'!$P:$P,MATCH(CONCATENATE(AF$4,$A13),'Výsledková listina'!$N:$N,0),1))","v":""},null,null,"",null,{"$f":"IF(ISNA(MATCH(CONCATENATE(AL$4,$A13),'Výsledková listina'!$N:$N,0)),\"\",INDEX('Výsledková listina'!$C:$C,MATCH(CONCATENATE(AL$4,$A13),'Výsledková listina'!$N:$N,0),1))","v":""},{"$f":"IF(ISNA(MATCH(CONCATENATE(AL$4,$A13),'Výsledková listina'!$N:$N,0)),\"\",INDEX('Výsledková listina'!$P:$P,MATCH(CONCATENATE(AL$4,$A13),'Výsledková listina'!$N:$N,0),1))","v":""},null,null,"",null,{"$f":"IF(ISNA(MATCH(CONCATENATE(AR$4,$A13),'Výsledková listina'!$N:$N,0)),\"\",INDEX('Výsledková listina'!$C:$C,MATCH(CONCATENATE(AR$4,$A13),'Výsledková listina'!$N:$N,0),1))","v":""},{"$f":"IF(ISNA(MATCH(CONCATENATE(AR$4,$A13),'Výsledková listina'!$N:$N,0)),\"\",INDEX('Výsledková listina'!$P:$P,MATCH(CONCATENATE(AR$4,$A13),'Výsledková listina'!$N:$N,0),1))","v":""},null,null,"",null,{"$f":"IF(ISNA(MATCH(CONCATENATE(AX$4,$A13),'Výsledková listina'!$N:$N,0)),\"\",INDEX('Výsledková listina'!$C:$C,MATCH(CONCATENATE(AX$4,$A13),'Výsledková listina'!$N:$N,0),1))","v":""},{"$f":"IF(ISNA(MATCH(CONCATENATE(AX$4,$A13),'Výsledková listina'!$N:$N,0)),\"\",INDEX('Výsledková listina'!$P:$P,MATCH(CONCATENATE(AX$4,$A13),'Výsledková listina'!$N:$N,0),1))","v":""},null,null,"",null,{"$f":"IF(ISNA(MATCH(CONCATENATE(BD$4,$A13),'Výsledková listina'!$N:$N,0)),\"\",INDEX('Výsledková listina'!$C:$C,MATCH(CONCATENATE(BD$4,$A13),'Výsledková listina'!$N:$N,0),1))","v":""},{"$f":"IF(ISNA(MATCH(CONCATENATE(BD$4,$A13),'Výsledková listina'!$N:$N,0)),\"\",INDEX('Výsledková listina'!$P:$P,MATCH(CONCATENATE(BD$4,$A13),'Výsledková listina'!$N:$N,0),1))","v":""},null,null,"",null,{"$f":"IF(ISNA(MATCH(CONCATENATE(BJ$4,$A13),'Výsledková listina'!$N:$N,0)),\"\",INDEX('Výsledková listina'!$C:$C,MATCH(CONCATENATE(BJ$4,$A13),'Výsledková listina'!$N:$N,0),1))","v":""},{"$f":"IF(ISNA(MATCH(CONCATENATE(BJ$4,$A13),'Výsledková listina'!$N:$N,0)),\"\",INDEX('Výsledková listina'!$P:$P,MATCH(CONCATENATE(BJ$4,$A13),'Výsledková listina'!$N:$N,0),1))","v":""},null,"",null,{"$f":"IF(ISNA(MATCH(CONCATENATE(BO$4,$A13),'Výsledková listina'!$N:$N,0)),\"\",INDEX('Výsledková listina'!$C:$C,MATCH(CONCATENATE(BO$4,$A13),'Výsledková listina'!$N:$N,0),1))","v":""},{"$f":"IF(ISNA(MATCH(CONCATENATE(BO$4,$A13),'Výsledková listina'!$N:$N,0)),\"\",INDEX('Výsledková listina'!$P:$P,MATCH(CONCATENATE(BO$4,$A13),'Výsledková listina'!$N:$N,0),1))","v":""},null,"",null,{"$f":"IF(ISNA(MATCH(CONCATENATE(BT$4,$A13),'Výsledková listina'!$N:$N,0)),\"\",INDEX('Výsledková listina'!$C:$C,MATCH(CONCATENATE(BT$4,$A13),'Výsledková listina'!$N:$N,0),1))","v":""},{"$f":"IF(ISNA(MATCH(CONCATENATE(BT$4,$A13),'Výsledková listina'!$N:$N,0)),\"\",INDEX('Výsledková listina'!$P:$P,MATCH(CONCATENATE(BT$4,$A13),'Výsledková listina'!$N:$N,0),1))","v":""},null,"",null,{"$f":"IF(ISNA(MATCH(CONCATENATE(BY$4,$A13),'Výsledková listina'!$N:$N,0)),\"\",INDEX('Výsledková listina'!$C:$C,MATCH(CONCATENATE(BY$4,$A13),'Výsledková listina'!$N:$N,0),1))","v":""},{"$f":"IF(ISNA(MATCH(CONCATENATE(BY$4,$A13),'Výsledková listina'!$N:$N,0)),\"\",INDEX('Výsledková listina'!$P:$P,MATCH(CONCATENATE(BY$4,$A13),'Výsledková listina'!$N:$N,0),1))","v":""},null,"",null,{"$f":"IF(ISNA(MATCH(CONCATENATE(CD$4,$A13),'Výsledková listina'!$N:$N,0)),\"\",INDEX('Výsledková listina'!$C:$C,MATCH(CONCATENATE(CD$4,$A13),'Výsledková listina'!$N:$N,0),1))","v":""},{"$f":"IF(ISNA(MATCH(CONCATENATE(CD$4,$A13),'Výsledková listina'!$N:$N,0)),\"\",INDEX('Výsledková listina'!$P:$P,MATCH(CONCATENATE(CD$4,$A13),'Výsledková listina'!$N:$N,0),1))","v":""},null,""]
[9,{"$f":"IF(ISNA(MATCH(CONCATENATE(B$4,$A14),'Výsledková listina'!$N:$N,0)),\"\",INDEX('Výsledková listina'!$C:$C,MATCH(CONCATENATE(B$4,$A14),'Výsledková listina'!$N:$N,0),1))","v":""},{"$f":"IF(ISNA(MATCH(CONCATENATE(B$4,$A14),'Výsledková listina'!$N:$N,0)),\"\",INDEX('Výsledková listina'!$P:$P,MATCH(CONCATENATE(B$4,$A14),'Výsledková listina'!$N:$N,0),1))","v":""},null,null,"",null,{"$f":"IF(ISNA(MATCH(CONCATENATE(H$4,$A14),'Výsledková listina'!$N:$N,0)),\"\",INDEX('Výsledková listina'!$C:$C,MATCH(CONCATENATE(H$4,$A14),'Výsledková listina'!$N:$N,0),1))","v":""},{"$f":"IF(ISNA(MATCH(CONCATENATE(H$4,$A14),'Výsledková listina'!$N:$N,0)),\"\",INDEX('Výsledková listina'!$P:$P,MATCH(CONCATENATE(H$4,$A14),'Výsledková listina'!$N:$N,0),1))","v":""},null,null,"",null,{"$f":"IF(ISNA(MATCH(CONCATENATE(N$4,$A14),'Výsledková listina'!$N:$N,0)),\"\",INDEX('Výsledková listina'!$C:$C,MATCH(CONCATENATE(N$4,$A14),'Výsledková listina'!$N:$N,0),1))","v":""},{"$f":"IF(ISNA(MATCH(CONCATENATE(N$4,$A14),'Výsledková listina'!$N:$N,0)),\"\",INDEX('Výsledková listina'!$P:$P,MATCH(CONCATENATE(N$4,$A14),'Výsledková listina'!$N:$N,0),1))","v":""},null,null,"",null,{"$f":"IF(ISNA(MATCH(CONCATENATE(T$4,$A14),'Výsledková listina'!$N:$N,0)),\"\",INDEX('Výsledková listina'!$C:$C,MATCH(CONCATENATE(T$4,$A14),'Výsledková listina'!$N:$N,0),1))","v":""},{"$f":"IF(ISNA(MATCH(CONCATENATE(T$4,$A14),'Výsledková listina'!$N:$N,0)),\"\",INDEX('Výsledková listina'!$P:$P,MATCH(CONCATENATE(T$4,$A14),'Výsledková listina'!$N:$N,0),1))","v":""},null,null,"",null,{"$f":"IF(ISNA(MATCH(CONCATENATE(Z$4,$A14),'Výsledková listina'!$N:$N,0)),\"\",INDEX('Výsledková listina'!$C:$C,MATCH(CONCATENATE(Z$4,$A14),'Výsledková listina'!$N:$N,0),1))","v":""},{"$f":"IF(ISNA(MATCH(CONCATENATE(Z$4,$A14),'Výsledková listina'!$N:$N,0)),\"\",INDEX('Výsledková listina'!$P:$P,MATCH(CONCATENATE(Z$4,$A14),'Výsledková listina'!$N:$N,0),1))","v":""},null,null,"",null,{"$f":"IF(ISNA(MATCH(CONCATENATE(AF$4,$A14),'Výsledková listina'!$N:$N,0)),\"\",INDEX('Výsledková listina'!$C:$C,MATCH(CONCATENATE(AF$4,$A14),'Výsledková listina'!$N:$N,0),1))","v":""},{"$f":"IF(ISNA(MATCH(CONCATENATE(AF$4,$A14),'Výsledková listina'!$N:$N,0)),\"\",INDEX('Výsledková listina'!$P:$P,MATCH(CONCATENATE(AF$4,$A14),'Výsledková listina'!$N:$N,0),1))","v":""},null,null,"",null,{"$f":"IF(ISNA(MATCH(CONCATENATE(AL$4,$A14),'Výsledková listina'!$N:$N,0)),\"\",INDEX('Výsledková listina'!$C:$C,MATCH(CONCATENATE(AL$4,$A14),'Výsledková listina'!$N:$N,0),1))","v":""},{"$f":"IF(ISNA(MATCH(CONCATENATE(AL$4,$A14),'Výsledková listina'!$N:$N,0)),\"\",INDEX('Výsledková listina'!$P:$P,MATCH(CONCATENATE(AL$4,$A14),'Výsledková listina'!$N:$N,0),1))","v":""},null,null,"",null,{"$f":"IF(ISNA(MATCH(CONCATENATE(AR$4,$A14),'Výsledková listina'!$N:$N,0)),\"\",INDEX('Výsledková listina'!$C:$C,MATCH(CONCATENATE(AR$4,$A14),'Výsledková listina'!$N:$N,0),1))","v":""},{"$f":"IF(ISNA(MATCH(CONCATENATE(AR$4,$A14),'Výsledková listina'!$N:$N,0)),\"\",INDEX('Výsledková listina'!$P:$P,MATCH(CONCATENATE(AR$4,$A14),'Výsledková listina'!$N:$N,0),1))","v":""},null,null,"",null,{"$f":"IF(ISNA(MATCH(CONCATENATE(AX$4,$A14),'Výsledková listina'!$N:$N,0)),\"\",INDEX('Výsledková listina'!$C:$C,MATCH(CONCATENATE(AX$4,$A14),'Výsledková listina'!$N:$N,0),1))","v":""},{"$f":"IF(ISNA(MATCH(CONCATENATE(AX$4,$A14),'Výsledková listina'!$N:$N,0)),\"\",INDEX('Výsledková listina'!$P:$P,MATCH(CONCATENATE(AX$4,$A14),'Výsledková listina'!$N:$N,0),1))","v":""},null,null,"",null,{"$f":"IF(ISNA(MATCH(CONCATENATE(BD$4,$A14),'Výsledková listina'!$N:$N,0)),\"\",INDEX('Výsledková listina'!$C:$C,MATCH(CONCATENATE(BD$4,$A14),'Výsledková listina'!$N:$N,0),1))","v":""},{"$f":"IF(ISNA(MATCH(CONCATENATE(BD$4,$A14),'Výsledková listina'!$N:$N,0)),\"\",INDEX('Výsledková listina'!$P:$P,MATCH(CONCATENATE(BD$4,$A14),'Výsledková listina'!$N:$N,0),1))","v":""},null,null,"",null,{"$f":"IF(ISNA(MATCH(CONCATENATE(BJ$4,$A14),'Výsledková listina'!$N:$N,0)),\"\",INDEX('Výsledková listina'!$C:$C,MATCH(CONCATENATE(BJ$4,$A14),'Výsledková listina'!$N:$N,0),1))","v":""},{"$f":"IF(ISNA(MATCH(CONCATENATE(BJ$4,$A14),'Výsledková listina'!$N:$N,0)),\"\",INDEX('Výsledková listina'!$P:$P,MATCH(CONCATENATE(BJ$4,$A14),'Výsledková listina'!$N:$N,0),1))","v":""},null,"",null,{"$f":"IF(ISNA(MATCH(CONCATENATE(BO$4,$A14),'Výsledková listina'!$N:$N,0)),\"\",INDEX('Výsledková listina'!$C:$C,MATCH(CONCATENATE(BO$4,$A14),'Výsledková listina'!$N:$N,0),1))","v":""},{"$f":"IF(ISNA(MATCH(CONCATENATE(BO$4,$A14),'Výsledková listina'!$N:$N,0)),\"\",INDEX('Výsledková listina'!$P:$P,MATCH(CONCATENATE(BO$4,$A14),'Výsledková listina'!$N:$N,0),1))","v":""},null,"",null,{"$f":"IF(ISNA(MATCH(CONCATENATE(BT$4,$A14),'Výsledková listina'!$N:$N,0)),\"\",INDEX('Výsledková listina'!$C:$C,MATCH(CONCATENATE(BT$4,$A14),'Výsledková listina'!$N:$N,0),1))","v":""},{"$f":"IF(ISNA(MATCH(CONCATENATE(BT$4,$A14),'Výsledková listina'!$N:$N,0)),\"\",INDEX('Výsledková listina'!$P:$P,MATCH(CONCATENATE(BT$4,$A14),'Výsledková listina'!$N:$N,0),1))","v":""},null,"",null,{"$f":"IF(ISNA(MATCH(CONCATENATE(BY$4,$A14),'Výsledková listina'!$N:$N,0)),\"\",INDEX('Výsledková listina'!$C:$C,MATCH(CONCATENATE(BY$4,$A14),'Výsledková listina'!$N:$N,0),1))","v":""},{"$f":"IF(ISNA(MATCH(CONCATENATE(BY$4,$A14),'Výsledková listina'!$N:$N,0)),\"\",INDEX('Výsledková listina'!$P:$P,MATCH(CONCATENATE(BY$4,$A14),'Výsledková listina'!$N:$N,0),1))","v":""},null,"",null,{"$f":"IF(ISNA(MATCH(CONCATENATE(CD$4,$A14),'Výsledková listina'!$N:$N,0)),\"\",INDEX('Výsledková listina'!$C:$C,MATCH(CONCATENATE(CD$4,$A14),'Výsledková listina'!$N:$N,0),1))","v":""},{"$f":"IF(ISNA(MATCH(CONCATENATE(CD$4,$A14),'Výsledková listina'!$N:$N,0)),\"\",INDEX('Výsledková listina'!$P:$P,MATCH(CONCATENATE(CD$4,$A14),'Výsledková listina'!$N:$N,0),1))","v":""},null,""]
[10,{"$f":"IF(ISNA(MATCH(CONCATENATE(B$4,$A15),'Výsledková listina'!$N:$N,0)),\"\",INDEX('Výsledková listina'!$C:$C,MATCH(CONCATENATE(B$4,$A15),'Výsledková listina'!$N:$N,0),1))","v":""},{"$f":"IF(ISNA(MATCH(CONCATENATE(B$4,$A15),'Výsledková listina'!$N:$N,0)),\"\",INDEX('Výsledková listina'!$P:$P,MATCH(CONCATENATE(B$4,$A15),'Výsledková listina'!$N:$N,0),1))","v":""},null,null,"",null,{"$f":"IF(ISNA(MATCH(CONCATENATE(H$4,$A15),'Výsledková listina'!$N:$N,0)),\"\",INDEX('Výsledková listina'!$C:$C,MATCH(CONCATENATE(H$4,$A15),'Výsledková listina'!$N:$N,0),1))","v":""},{"$f":"IF(ISNA(MATCH(CONCATENATE(H$4,$A15),'Výsledková listina'!$N:$N,0)),\"\",INDEX('Výsledková listina'!$P:$P,MATCH(CONCATENATE(H$4,$A15),'Výsledková listina'!$N:$N,0),1))","v":""},null,null,"",null,{"$f":"IF(ISNA(MATCH(CONCATENATE(N$4,$A15),'Výsledková listina'!$N:$N,0)),\"\",INDEX('Výsledková listina'!$C:$C,MATCH(CONCATENATE(N$4,$A15),'Výsledková listina'!$N:$N,0),1))","v":""},{"$f":"IF(ISNA(MATCH(CONCATENATE(N$4,$A15),'Výsledková listina'!$N:$N,0)),\"\",INDEX('Výsledková listina'!$P:$P,MATCH(CONCATENATE(N$4,$A15),'Výsledková listina'!$N:$N,0),1))","v":""},null,null,"",null,{"$f":"IF(ISNA(MATCH(CONCATENATE(T$4,$A15),'Výsledková listina'!$N:$N,0)),\"\",INDEX('Výsledková listina'!$C:$C,MATCH(CONCATENATE(T$4,$A15),'Výsledková listina'!$N:$N,0),1))","v":""},{"$f":"IF(ISNA(MATCH(CONCATENATE(T$4,$A15),'Výsledková listina'!$N:$N,0)),\"\",INDEX('Výsledková listina'!$P:$P,MATCH(CONCATENATE(T$4,$A15),'Výsledková listina'!$N:$N,0),1))","v":""},null,null,"",null,{"$f":"IF(ISNA(MATCH(CONCATENATE(Z$4,$A15),'Výsledková listina'!$N:$N,0)),\"\",INDEX('Výsledková listina'!$C:$C,MATCH(CONCATENATE(Z$4,$A15),'Výsledková listina'!$N:$N,0),1))","v":""},{"$f":"IF(ISNA(MATCH(CONCATENATE(Z$4,$A15),'Výsledková listina'!$N:$N,0)),\"\",INDEX('Výsledková listina'!$P:$P,MATCH(CONCATENATE(Z$4,$A15),'Výsledková listina'!$N:$N,0),1))","v":""},null,null,"",null,{"$f":"IF(ISNA(MATCH(CONCATENATE(AF$4,$A15),'Výsledková listina'!$N:$N,0)),\"\",INDEX('Výsledková listina'!$C:$C,MATCH(CONCATENATE(AF$4,$A15),'Výsledková listina'!$N:$N,0),1))","v":""},{"$f":"IF(ISNA(MATCH(CONCATENATE(AF$4,$A15),'Výsledková listina'!$N:$N,0)),\"\",INDEX('Výsledková listina'!$P:$P,MATCH(CONCATENATE(AF$4,$A15),'Výsledková listina'!$N:$N,0),1))","v":""},null,null,"",null,{"$f":"IF(ISNA(MATCH(CONCATENATE(AL$4,$A15),'Výsledková listina'!$N:$N,0)),\"\",INDEX('Výsledková listina'!$C:$C,MATCH(CONCATENATE(AL$4,$A15),'Výsledková listina'!$N:$N,0),1))","v":""},{"$f":"IF(ISNA(MATCH(CONCATENATE(AL$4,$A15),'Výsledková listina'!$N:$N,0)),\"\",INDEX('Výsledková listina'!$P:$P,MATCH(CONCATENATE(AL$4,$A15),'Výsledková listina'!$N:$N,0),1))","v":""},null,null,"",null,{"$f":"IF(ISNA(MATCH(CONCATENATE(AR$4,$A15),'Výsledková listina'!$N:$N,0)),\"\",INDEX('Výsledková listina'!$C:$C,MATCH(CONCATENATE(AR$4,$A15),'Výsledková listina'!$N:$N,0),1))","v":""},{"$f":"IF(ISNA(MATCH(CONCATENATE(AR$4,$A15),'Výsledková listina'!$N:$N,0)),\"\",INDEX('Výsledková listina'!$P:$P,MATCH(CONCATENATE(AR$4,$A15),'Výsledková listina'!$N:$N,0),1))","v":""},null,null,"",null,{"$f":"IF(ISNA(MATCH(CONCATENATE(AX$4,$A15),'Výsledková listina'!$N:$N,0)),\"\",INDEX('Výsledková listina'!$C:$C,MATCH(CONCATENATE(AX$4,$A15),'Výsledková listina'!$N:$N,0),1))","v":""},{"$f":"IF(ISNA(MATCH(CONCATENATE(AX$4,$A15),'Výsledková listina'!$N:$N,0)),\"\",INDEX('Výsledková listina'!$P:$P,MATCH(CONCATENATE(AX$4,$A15),'Výsledková listina'!$N:$N,0),1))","v":""},null,null,"",null,{"$f":"IF(ISNA(MATCH(CONCATENATE(BD$4,$A15),'Výsledková listina'!$N:$N,0)),\"\",INDEX('Výsledková listina'!$C:$C,MATCH(CONCATENATE(BD$4,$A15),'Výsledková listina'!$N:$N,0),1))","v":""},{"$f":"IF(ISNA(MATCH(CONCATENATE(BD$4,$A15),'Výsledková listina'!$N:$N,0)),\"\",INDEX('Výsledková listina'!$P:$P,MATCH(CONCATENATE(BD$4,$A15),'Výsledková listina'!$N:$N,0),1))","v":""},null,null,"",null,{"$f":"IF(ISNA(MATCH(CONCATENATE(BJ$4,$A15),'Výsledková listina'!$N:$N,0)),\"\",INDEX('Výsledková listina'!$C:$C,MATCH(CONCATENATE(BJ$4,$A15),'Výsledková listina'!$N:$N,0),1))","v":""},{"$f":"IF(ISNA(MATCH(CONCATENATE(BJ$4,$A15),'Výsledková listina'!$N:$N,0)),\"\",INDEX('Výsledková listina'!$P:$P,MATCH(CONCATENATE(BJ$4,$A15),'Výsledková listina'!$N:$N,0),1))","v":""},null,"",null,{"$f":"IF(ISNA(MATCH(CONCATENATE(BO$4,$A15),'Výsledková listina'!$N:$N,0)),\"\",INDEX('Výsledková listina'!$C:$C,MATCH(CONCATENATE(BO$4,$A15),'Výsledková listina'!$N:$N,0),1))","v":""},{"$f":"IF(ISNA(MATCH(CONCATENATE(BO$4,$A15),'Výsledková listina'!$N:$N,0)),\"\",INDEX('Výsledková listina'!$P:$P,MATCH(CONCATENATE(BO$4,$A15),'Výsledková listina'!$N:$N,0),1))","v":""},null,"",null,{"$f":"IF(ISNA(MATCH(CONCATENATE(BT$4,$A15),'Výsledková listina'!$N:$N,0)),\"\",INDEX('Výsledková listina'!$C:$C,MATCH(CONCATENATE(BT$4,$A15),'Výsledková listina'!$N:$N,0),1))","v":""},{"$f":"IF(ISNA(MATCH(CONCATENATE(BT$4,$A15),'Výsledková listina'!$N:$N,0)),\"\",INDEX('Výsledková listina'!$P:$P,MATCH(CONCATENATE(BT$4,$A15),'Výsledková listina'!$N:$N,0),1))","v":""},null,"",null,{"$f":"IF(ISNA(MATCH(CONCATENATE(BY$4,$A15),'Výsledková listina'!$N:$N,0)),\"\",INDEX('Výsledková listina'!$C:$C,MATCH(CONCATENATE(BY$4,$A15),'Výsledková listina'!$N:$N,0),1))","v":""},{"$f":"IF(ISNA(MATCH(CONCATENATE(BY$4,$A15),'Výsledková listina'!$N:$N,0)),\"\",INDEX('Výsledková listina'!$P:$P,MATCH(CONCATENATE(BY$4,$A15),'Výsledková listina'!$N:$N,0),1))","v":""},null,"",null,{"$f":"IF(ISNA(MATCH(CONCATENATE(CD$4,$A15),'Výsledková listina'!$N:$N,0)),\"\",INDEX('Výsledková listina'!$C:$C,MATCH(CONCATENATE(CD$4,$A15),'Výsledková listina'!$N:$N,0),1))","v":""},{"$f":"IF(ISNA(MATCH(CONCATENATE(CD$4,$A15),'Výsledková listina'!$N:$N,0)),\"\",INDEX('Výsledková listina'!$P:$P,MATCH(CONCATENATE(CD$4,$A15),'Výsledková listina'!$N:$N,0),1))","v":""},null,""]
[11,{"$f":"IF(ISNA(MATCH(CONCATENATE(B$4,$A16),'Výsledková listina'!$N:$N,0)),\"\",INDEX('Výsledková listina'!$C:$C,MATCH(CONCATENATE(B$4,$A16),'Výsledková listina'!$N:$N,0),1))","v":""},{"$f":"IF(ISNA(MATCH(CONCATENATE(B$4,$A16),'Výsledková listina'!$N:$N,0)),\"\",INDEX('Výsledková listina'!$P:$P,MATCH(CONCATENATE(B$4,$A16),'Výsledková listina'!$N:$N,0),1))","v":""},null,null,"",null,{"$f":"IF(ISNA(MATCH(CONCATENATE(H$4,$A16),'Výsledková listina'!$N:$N,0)),\"\",INDEX('Výsledková listina'!$C:$C,MATCH(CONCATENATE(H$4,$A16),'Výsledková listina'!$N:$N,0),1))","v":""},{"$f":"IF(ISNA(MATCH(CONCATENATE(H$4,$A16),'Výsledková listina'!$N:$N,0)),\"\",INDEX('Výsledková listina'!$P:$P,MATCH(CONCATENATE(H$4,$A16),'Výsledková listina'!$N:$N,0),1))","v":""},null,null,"",null,{"$f":"IF(ISNA(MATCH(CONCATENATE(N$4,$A16),'Výsledková listina'!$N:$N,0)),\"\",INDEX('Výsledková listina'!$C:$C,MATCH(CONCATENATE(N$4,$A16),'Výsledková listina'!$N:$N,0),1))","v":""},{"$f":"IF(ISNA(MATCH(CONCATENATE(N$4,$A16),'Výsledková listina'!$N:$N,0)),\"\",INDEX('Výsledková listina'!$P:$P,MATCH(CONCATENATE(N$4,$A16),'Výsledková listina'!$N:$N,0),1))","v":""},null,null,"",null,{"$f":"IF(ISNA(MATCH(CONCATENATE(T$4,$A16),'Výsledková listina'!$N:$N,0)),\"\",INDEX('Výsledková listina'!$C:$C,MATCH(CONCATENATE(T$4,$A16),'Výsledková listina'!$N:$N,0),1))","v":""},{"$f":"IF(ISNA(MATCH(CONCATENATE(T$4,$A16),'Výsledková listina'!$N:$N,0)),\"\",INDEX('Výsledková listina'!$P:$P,MATCH(CONCATENATE(T$4,$A16),'Výsledková listina'!$N:$N,0),1))","v":""},null,null,"",null,{"$f":"IF(ISNA(MATCH(CONCATENATE(Z$4,$A16),'Výsledková listina'!$N:$N,0)),\"\",INDEX('Výsledková listina'!$C:$C,MATCH(CONCATENATE(Z$4,$A16),'Výsledková listina'!$N:$N,0),1))","v":""},{"$f":"IF(ISNA(MATCH(CONCATENATE(Z$4,$A16),'Výsledková listina'!$N:$N,0)),\"\",INDEX('Výsledková listina'!$P:$P,MATCH(CONCATENATE(Z$4,$A16),'Výsledková listina'!$N:$N,0),1))","v":""},null,null,"",null,{"$f":"IF(ISNA(MATCH(CONCATENATE(AF$4,$A16),'Výsledková listina'!$N:$N,0)),\"\",INDEX('Výsledková listina'!$C:$C,MATCH(CONCATENATE(AF$4,$A16),'Výsledková listina'!$N:$N,0),1))","v":""},{"$f":"IF(ISNA(MATCH(CONCATENATE(AF$4,$A16),'Výsledková listina'!$N:$N,0)),\"\",INDEX('Výsledková listina'!$P:$P,MATCH(CONCATENATE(AF$4,$A16),'Výsledková listina'!$N:$N,0),1))","v":""},null,null,"",null,{"$f":"IF(ISNA(MATCH(CONCATENATE(AL$4,$A16),'Výsledková listina'!$N:$N,0)),\"\",INDEX('Výsledková listina'!$C:$C,MATCH(CONCATENATE(AL$4,$A16),'Výsledková listina'!$N:$N,0),1))","v":""},{"$f":"IF(ISNA(MATCH(CONCATENATE(AL$4,$A16),'Výsledková listina'!$N:$N,0)),\"\",INDEX('Výsledková listina'!$P:$P,MATCH(CONCATENATE(AL$4,$A16),'Výsledková listina'!$N:$N,0),1))","v":""},null,null,"",null,{"$f":"IF(ISNA(MATCH(CONCATENATE(AR$4,$A16),'Výsledková listina'!$N:$N,0)),\"\",INDEX('Výsledková listina'!$C:$C,MATCH(CONCATENATE(AR$4,$A16),'Výsledková listina'!$N:$N,0),1))","v":""},{"$f":"IF(ISNA(MATCH(CONCATENATE(AR$4,$A16),'Výsledková listina'!$N:$N,0)),\"\",INDEX('Výsledková listina'!$P:$P,MATCH(CONCATENATE(AR$4,$A16),'Výsledková listina'!$N:$N,0),1))","v":""},null,null,"",null,{"$f":"IF(ISNA(MATCH(CONCATENATE(AX$4,$A16),'Výsledková listina'!$N:$N,0)),\"\",INDEX('Výsledková listina'!$C:$C,MATCH(CONCATENATE(AX$4,$A16),'Výsledková listina'!$N:$N,0),1))","v":""},{"$f":"IF(ISNA(MATCH(CONCATENATE(AX$4,$A16),'Výsledková listina'!$N:$N,0)),\"\",INDEX('Výsledková listina'!$P:$P,MATCH(CONCATENATE(AX$4,$A16),'Výsledková listina'!$N:$N,0),1))","v":""},null,null,"",null,{"$f":"IF(ISNA(MATCH(CONCATENATE(BD$4,$A16),'Výsledková listina'!$N:$N,0)),\"\",INDEX('Výsledková listina'!$C:$C,MATCH(CONCATENATE(BD$4,$A16),'Výsledková listina'!$N:$N,0),1))","v":""},{"$f":"IF(ISNA(MATCH(CONCATENATE(BD$4,$A16),'Výsledková listina'!$N:$N,0)),\"\",INDEX('Výsledková listina'!$P:$P,MATCH(CONCATENATE(BD$4,$A16),'Výsledková listina'!$N:$N,0),1))","v":""},null,null,"",null,{"$f":"IF(ISNA(MATCH(CONCATENATE(BJ$4,$A16),'Výsledková listina'!$N:$N,0)),\"\",INDEX('Výsledková listina'!$C:$C,MATCH(CONCATENATE(BJ$4,$A16),'Výsledková listina'!$N:$N,0),1))","v":""},{"$f":"IF(ISNA(MATCH(CONCATENATE(BJ$4,$A16),'Výsledková listina'!$N:$N,0)),\"\",INDEX('Výsledková listina'!$P:$P,MATCH(CONCATENATE(BJ$4,$A16),'Výsledková listina'!$N:$N,0),1))","v":""},null,"",null,{"$f":"IF(ISNA(MATCH(CONCATENATE(BO$4,$A16),'Výsledková listina'!$N:$N,0)),\"\",INDEX('Výsledková listina'!$C:$C,MATCH(CONCATENATE(BO$4,$A16),'Výsledková listina'!$N:$N,0),1))","v":""},{"$f":"IF(ISNA(MATCH(CONCATENATE(BO$4,$A16),'Výsledková listina'!$N:$N,0)),\"\",INDEX('Výsledková listina'!$P:$P,MATCH(CONCATENATE(BO$4,$A16),'Výsledková listina'!$N:$N,0),1))","v":""},null,"",null,{"$f":"IF(ISNA(MATCH(CONCATENATE(BT$4,$A16),'Výsledková listina'!$N:$N,0)),\"\",INDEX('Výsledková listina'!$C:$C,MATCH(CONCATENATE(BT$4,$A16),'Výsledková listina'!$N:$N,0),1))","v":""},{"$f":"IF(ISNA(MATCH(CONCATENATE(BT$4,$A16),'Výsledková listina'!$N:$N,0)),\"\",INDEX('Výsledková listina'!$P:$P,MATCH(CONCATENATE(BT$4,$A16),'Výsledková listina'!$N:$N,0),1))","v":""},null,"",null,{"$f":"IF(ISNA(MATCH(CONCATENATE(BY$4,$A16),'Výsledková listina'!$N:$N,0)),\"\",INDEX('Výsledková listina'!$C:$C,MATCH(CONCATENATE(BY$4,$A16),'Výsledková listina'!$N:$N,0),1))","v":""},{"$f":"IF(ISNA(MATCH(CONCATENATE(BY$4,$A16),'Výsledková listina'!$N:$N,0)),\"\",INDEX('Výsledková listina'!$P:$P,MATCH(CONCATENATE(BY$4,$A16),'Výsledková listina'!$N:$N,0),1))","v":""},null,"",null,{"$f":"IF(ISNA(MATCH(CONCATENATE(CD$4,$A16),'Výsledková listina'!$N:$N,0)),\"\",INDEX('Výsledková listina'!$C:$C,MATCH(CONCATENATE(CD$4,$A16),'Výsledková listina'!$N:$N,0),1))","v":""},{"$f":"IF(ISNA(MATCH(CONCATENATE(CD$4,$A16),'Výsledková listina'!$N:$N,0)),\"\",INDEX('Výsledková listina'!$P:$P,MATCH(CONCATENATE(CD$4,$A16),'Výsledková listina'!$N:$N,0),1))","v":""},null,""]
[12,{"$f":"IF(ISNA(MATCH(CONCATENATE(B$4,$A17),'Výsledková listina'!$N:$N,0)),\"\",INDEX('Výsledková listina'!$C:$C,MATCH(CONCATENATE(B$4,$A17),'Výsledková listina'!$N:$N,0),1))","v":""},{"$f":"IF(ISNA(MATCH(CONCATENATE(B$4,$A17),'Výsledková listina'!$N:$N,0)),\"\",INDEX('Výsledková listina'!$P:$P,MATCH(CONCATENATE(B$4,$A17),'Výsledková listina'!$N:$N,0),1))","v":""},null,null,"",null,{"$f":"IF(ISNA(MATCH(CONCATENATE(H$4,$A17),'Výsledková listina'!$N:$N,0)),\"\",INDEX('Výsledková listina'!$C:$C,MATCH(CONCATENATE(H$4,$A17),'Výsledková listina'!$N:$N,0),1))","v":""},{"$f":"IF(ISNA(MATCH(CONCATENATE(H$4,$A17),'Výsledková listina'!$N:$N,0)),\"\",INDEX('Výsledková listina'!$P:$P,MATCH(CONCATENATE(H$4,$A17),'Výsledková listina'!$N:$N,0),1))","v":""},null,null,"",null,{"$f":"IF(ISNA(MATCH(CONCATENATE(N$4,$A17),'Výsledková listina'!$N:$N,0)),\"\",INDEX('Výsledková listina'!$C:$C,MATCH(CONCATENATE(N$4,$A17),'Výsledková listina'!$N:$N,0),1))","v":""},{"$f":"IF(ISNA(MATCH(CONCATENATE(N$4,$A17),'Výsledková listina'!$N:$N,0)),\"\",INDEX('Výsledková listina'!$P:$P,MATCH(CONCATENATE(N$4,$A17),'Výsledková listina'!$N:$N,0),1))","v":""},null,null,"",null,{"$f":"IF(ISNA(MATCH(CONCATENATE(T$4,$A17),'Výsledková listina'!$N:$N,0)),\"\",INDEX('Výsledková listina'!$C:$C,MATCH(CONCATENATE(T$4,$A17),'Výsledková listina'!$N:$N,0),1))","v":""},{"$f":"IF(ISNA(MATCH(CONCATENATE(T$4,$A17),'Výsledková listina'!$N:$N,0)),\"\",INDEX('Výsledková listina'!$P:$P,MATCH(CONCATENATE(T$4,$A17),'Výsledková listina'!$N:$N,0),1))","v":""},null,null,"",null,{"$f":"IF(ISNA(MATCH(CONCATENATE(Z$4,$A17),'Výsledková listina'!$N:$N,0)),\"\",INDEX('Výsledková listina'!$C:$C,MATCH(CONCATENATE(Z$4,$A17),'Výsledková listina'!$N:$N,0),1))","v":""},{"$f":"IF(ISNA(MATCH(CONCATENATE(Z$4,$A17),'Výsledková listina'!$N:$N,0)),\"\",INDEX('Výsledková listina'!$P:$P,MATCH(CONCATENATE(Z$4,$A17),'Výsledková listina'!$N:$N,0),1))","v":""},null,null,"",null,{"$f":"IF(ISNA(MATCH(CONCATENATE(AF$4,$A17),'Výsledková listina'!$N:$N,0)),\"\",INDEX('Výsledková listina'!$C:$C,MATCH(CONCATENATE(AF$4,$A17),'Výsledková listina'!$N:$N,0),1))","v":""},{"$f":"IF(ISNA(MATCH(CONCATENATE(AF$4,$A17),'Výsledková listina'!$N:$N,0)),\"\",INDEX('Výsledková listina'!$P:$P,MATCH(CONCATENATE(AF$4,$A17),'Výsledková listina'!$N:$N,0),1))","v":""},null,null,"",null,{"$f":"IF(ISNA(MATCH(CONCATENATE(AL$4,$A17),'Výsledková listina'!$N:$N,0)),\"\",INDEX('Výsledková listina'!$C:$C,MATCH(CONCATENATE(AL$4,$A17),'Výsledková listina'!$N:$N,0),1))","v":""},{"$f":"IF(ISNA(MATCH(CONCATENATE(AL$4,$A17),'Výsledková listina'!$N:$N,0)),\"\",INDEX('Výsledková listina'!$P:$P,MATCH(CONCATENATE(AL$4,$A17),'Výsledková listina'!$N:$N,0),1))","v":""},null,null,"",null,{"$f":"IF(ISNA(MATCH(CONCATENATE(AR$4,$A17),'Výsledková listina'!$N:$N,0)),\"\",INDEX('Výsledková listina'!$C:$C,MATCH(CONCATENATE(AR$4,$A17),'Výsledková listina'!$N:$N,0),1))","v":""},{"$f":"IF(ISNA(MATCH(CONCATENATE(AR$4,$A17),'Výsledková listina'!$N:$N,0)),\"\",INDEX('Výsledková listina'!$P:$P,MATCH(CONCATENATE(AR$4,$A17),'Výsledková listina'!$N:$N,0),1))","v":""},null,null,"",null,{"$f":"IF(ISNA(MATCH(CONCATENATE(AX$4,$A17),'Výsledková listina'!$N:$N,0)),\"\",INDEX('Výsledková listina'!$C:$C,MATCH(CONCATENATE(AX$4,$A17),'Výsledková listina'!$N:$N,0),1))","v":""},{"$f":"IF(ISNA(MATCH(CONCATENATE(AX$4,$A17),'Výsledková listina'!$N:$N,0)),\"\",INDEX('Výsledková listina'!$P:$P,MATCH(CONCATENATE(AX$4,$A17),'Výsledková listina'!$N:$N,0),1))","v":""},null,null,"",null,{"$f":"IF(ISNA(MATCH(CONCATENATE(BD$4,$A17),'Výsledková listina'!$N:$N,0)),\"\",INDEX('Výsledková listina'!$C:$C,MATCH(CONCATENATE(BD$4,$A17),'Výsledková listina'!$N:$N,0),1))","v":""},{"$f":"IF(ISNA(MATCH(CONCATENATE(BD$4,$A17),'Výsledková listina'!$N:$N,0)),\"\",INDEX('Výsledková listina'!$P:$P,MATCH(CONCATENATE(BD$4,$A17),'Výsledková listina'!$N:$N,0),1))","v":""},null,null,"",null,{"$f":"IF(ISNA(MATCH(CONCATENATE(BJ$4,$A17),'Výsledková listina'!$N:$N,0)),\"\",INDEX('Výsledková listina'!$C:$C,MATCH(CONCATENATE(BJ$4,$A17),'Výsledková listina'!$N:$N,0),1))","v":""},{"$f":"IF(ISNA(MATCH(CONCATENATE(BJ$4,$A17),'Výsledková listina'!$N:$N,0)),\"\",INDEX('Výsledková listina'!$P:$P,MATCH(CONCATENATE(BJ$4,$A17),'Výsledková listina'!$N:$N,0),1))","v":""},null,"",null,{"$f":"IF(ISNA(MATCH(CONCATENATE(BO$4,$A17),'Výsledková listina'!$N:$N,0)),\"\",INDEX('Výsledková listina'!$C:$C,MATCH(CONCATENATE(BO$4,$A17),'Výsledková listina'!$N:$N,0),1))","v":""},{"$f":"IF(ISNA(MATCH(CONCATENATE(BO$4,$A17),'Výsledková listina'!$N:$N,0)),\"\",INDEX('Výsledková listina'!$P:$P,MATCH(CONCATENATE(BO$4,$A17),'Výsledková listina'!$N:$N,0),1))","v":""},null,"",null,{"$f":"IF(ISNA(MATCH(CONCATENATE(BT$4,$A17),'Výsledková listina'!$N:$N,0)),\"\",INDEX('Výsledková listina'!$C:$C,MATCH(CONCATENATE(BT$4,$A17),'Výsledková listina'!$N:$N,0),1))","v":""},{"$f":"IF(ISNA(MATCH(CONCATENATE(BT$4,$A17),'Výsledková listina'!$N:$N,0)),\"\",INDEX('Výsledková listina'!$P:$P,MATCH(CONCATENATE(BT$4,$A17),'Výsledková listina'!$N:$N,0),1))","v":""},null,"",null,{"$f":"IF(ISNA(MATCH(CONCATENATE(BY$4,$A17),'Výsledková listina'!$N:$N,0)),\"\",INDEX('Výsledková listina'!$C:$C,MATCH(CONCATENATE(BY$4,$A17),'Výsledková listina'!$N:$N,0),1))","v":""},{"$f":"IF(ISNA(MATCH(CONCATENATE(BY$4,$A17),'Výsledková listina'!$N:$N,0)),\"\",INDEX('Výsledková listina'!$P:$P,MATCH(CONCATENATE(BY$4,$A17),'Výsledková listina'!$N:$N,0),1))","v":""},null,"",null,{"$f":"IF(ISNA(MATCH(CONCATENATE(CD$4,$A17),'Výsledková listina'!$N:$N,0)),\"\",INDEX('Výsledková listina'!$C:$C,MATCH(CONCATENATE(CD$4,$A17),'Výsledková listina'!$N:$N,0),1))","v":""},{"$f":"IF(ISNA(MATCH(CONCATENATE(CD$4,$A17),'Výsledková listina'!$N:$N,0)),\"\",INDEX('Výsledková listina'!$P:$P,MATCH(CONCATENATE(CD$4,$A17),'Výsledková listina'!$N:$N,0),1))","v":""},null,""]
[13,{"$f":"IF(ISNA(MATCH(CONCATENATE(B$4,$A18),'Výsledková listina'!$N:$N,0)),\"\",INDEX('Výsledková listina'!$C:$C,MATCH(CONCATENATE(B$4,$A18),'Výsledková listina'!$N:$N,0),1))","v":""},{"$f":"IF(ISNA(MATCH(CONCATENATE(B$4,$A18),'Výsledková listina'!$N:$N,0)),\"\",INDEX('Výsledková listina'!$P:$P,MATCH(CONCATENATE(B$4,$A18),'Výsledková listina'!$N:$N,0),1))","v":""},null,null,"",null,{"$f":"IF(ISNA(MATCH(CONCATENATE(H$4,$A18),'Výsledková listina'!$N:$N,0)),\"\",INDEX('Výsledková listina'!$C:$C,MATCH(CONCATENATE(H$4,$A18),'Výsledková listina'!$N:$N,0),1))","v":""},{"$f":"IF(ISNA(MATCH(CONCATENATE(H$4,$A18),'Výsledková listina'!$N:$N,0)),\"\",INDEX('Výsledková listina'!$P:$P,MATCH(CONCATENATE(H$4,$A18),'Výsledková listina'!$N:$N,0),1))","v":""},null,null,"",null,{"$f":"IF(ISNA(MATCH(CONCATENATE(N$4,$A18),'Výsledková listina'!$N:$N,0)),\"\",INDEX('Výsledková listina'!$C:$C,MATCH(CONCATENATE(N$4,$A18),'Výsledková listina'!$N:$N,0),1))","v":""},{"$f":"IF(ISNA(MATCH(CONCATENATE(N$4,$A18),'Výsledková listina'!$N:$N,0)),\"\",INDEX('Výsledková listina'!$P:$P,MATCH(CONCATENATE(N$4,$A18),'Výsledková listina'!$N:$N,0),1))","v":""},null,null,"",null,{"$f":"IF(ISNA(MATCH(CONCATENATE(T$4,$A18),'Výsledková listina'!$N:$N,0)),\"\",INDEX('Výsledková listina'!$C:$C,MATCH(CONCATENATE(T$4,$A18),'Výsledková listina'!$N:$N,0),1))","v":""},{"$f":"IF(ISNA(MATCH(CONCATENATE(T$4,$A18),'Výsledková listina'!$N:$N,0)),\"\",INDEX('Výsledková listina'!$P:$P,MATCH(CONCATENATE(T$4,$A18),'Výsledková listina'!$N:$N,0),1))","v":""},null,null,"",null,{"$f":"IF(ISNA(MATCH(CONCATENATE(Z$4,$A18),'Výsledková listina'!$N:$N,0)),\"\",INDEX('Výsledková listina'!$C:$C,MATCH(CONCATENATE(Z$4,$A18),'Výsledková listina'!$N:$N,0),1))","v":""},{"$f":"IF(ISNA(MATCH(CONCATENATE(Z$4,$A18),'Výsledková listina'!$N:$N,0)),\"\",INDEX('Výsledková listina'!$P:$P,MATCH(CONCATENATE(Z$4,$A18),'Výsledková listina'!$N:$N,0),1))","v":""},null,null,"",null,{"$f":"IF(ISNA(MATCH(CONCATENATE(AF$4,$A18),'Výsledková listina'!$N:$N,0)),\"\",INDEX('Výsledková listina'!$C:$C,MATCH(CONCATENATE(AF$4,$A18),'Výsledková listina'!$N:$N,0),1))","v":""},{"$f":"IF(ISNA(MATCH(CONCATENATE(AF$4,$A18),'Výsledková listina'!$N:$N,0)),\"\",INDEX('Výsledková listina'!$P:$P,MATCH(CONCATENATE(AF$4,$A18),'Výsledková listina'!$N:$N,0),1))","v":""},null,null,"",null,{"$f":"IF(ISNA(MATCH(CONCATENATE(AL$4,$A18),'Výsledková listina'!$N:$N,0)),\"\",INDEX('Výsledková listina'!$C:$C,MATCH(CONCATENATE(AL$4,$A18),'Výsledková listina'!$N:$N,0),1))","v":""},{"$f":"IF(ISNA(MATCH(CONCATENATE(AL$4,$A18),'Výsledková listina'!$N:$N,0)),\"\",INDEX('Výsledková listina'!$P:$P,MATCH(CONCATENATE(AL$4,$A18),'Výsledková listina'!$N:$N,0),1))","v":""},null,null,"",null,{"$f":"IF(ISNA(MATCH(CONCATENATE(AR$4,$A18),'Výsledková listina'!$N:$N,0)),\"\",INDEX('Výsledková listina'!$C:$C,MATCH(CONCATENATE(AR$4,$A18),'Výsledková listina'!$N:$N,0),1))","v":""},{"$f":"IF(ISNA(MATCH(CONCATENATE(AR$4,$A18),'Výsledková listina'!$N:$N,0)),\"\",INDEX('Výsledková listina'!$P:$P,MATCH(CONCATENATE(AR$4,$A18),'Výsledková listina'!$N:$N,0),1))","v":""},null,null,"",null,{"$f":"IF(ISNA(MATCH(CONCATENATE(AX$4,$A18),'Výsledková listina'!$N:$N,0)),\"\",INDEX('Výsledková listina'!$C:$C,MATCH(CONCATENATE(AX$4,$A18),'Výsledková listina'!$N:$N,0),1))","v":""},{"$f":"IF(ISNA(MATCH(CONCATENATE(AX$4,$A18),'Výsledková listina'!$N:$N,0)),\"\",INDEX('Výsledková listina'!$P:$P,MATCH(CONCATENATE(AX$4,$A18),'Výsledková listina'!$N:$N,0),1))","v":""},null,null,"",null,{"$f":"IF(ISNA(MATCH(CONCATENATE(BD$4,$A18),'Výsledková listina'!$N:$N,0)),\"\",INDEX('Výsledková listina'!$C:$C,MATCH(CONCATENATE(BD$4,$A18),'Výsledková listina'!$N:$N,0),1))","v":""},{"$f":"IF(ISNA(MATCH(CONCATENATE(BD$4,$A18),'Výsledková listina'!$N:$N,0)),\"\",INDEX('Výsledková listina'!$P:$P,MATCH(CONCATENATE(BD$4,$A18),'Výsledková listina'!$N:$N,0),1))","v":""},null,null,"",null,{"$f":"IF(ISNA(MATCH(CONCATENATE(BJ$4,$A18),'Výsledková listina'!$N:$N,0)),\"\",INDEX('Výsledková listina'!$C:$C,MATCH(CONCATENATE(BJ$4,$A18),'Výsledková listina'!$N:$N,0),1))","v":""},{"$f":"IF(ISNA(MATCH(CONCATENATE(BJ$4,$A18),'Výsledková listina'!$N:$N,0)),\"\",INDEX('Výsledková listina'!$P:$P,MATCH(CONCATENATE(BJ$4,$A18),'Výsledková listina'!$N:$N,0),1))","v":""},null,"",null,{"$f":"IF(ISNA(MATCH(CONCATENATE(BO$4,$A18),'Výsledková listina'!$N:$N,0)),\"\",INDEX('Výsledková listina'!$C:$C,MATCH(CONCATENATE(BO$4,$A18),'Výsledková listina'!$N:$N,0),1))","v":""},{"$f":"IF(ISNA(MATCH(CONCATENATE(BO$4,$A18),'Výsledková listina'!$N:$N,0)),\"\",INDEX('Výsledková listina'!$P:$P,MATCH(CONCATENATE(BO$4,$A18),'Výsledková listina'!$N:$N,0),1))","v":""},null,"",null,{"$f":"IF(ISNA(MATCH(CONCATENATE(BT$4,$A18),'Výsledková listina'!$N:$N,0)),\"\",INDEX('Výsledková listina'!$C:$C,MATCH(CONCATENATE(BT$4,$A18),'Výsledková listina'!$N:$N,0),1))","v":""},{"$f":"IF(ISNA(MATCH(CONCATENATE(BT$4,$A18),'Výsledková listina'!$N:$N,0)),\"\",INDEX('Výsledková listina'!$P:$P,MATCH(CONCATENATE(BT$4,$A18),'Výsledková listina'!$N:$N,0),1))","v":""},null,"",null,{"$f":"IF(ISNA(MATCH(CONCATENATE(BY$4,$A18),'Výsledková listina'!$N:$N,0)),\"\",INDEX('Výsledková listina'!$C:$C,MATCH(CONCATENATE(BY$4,$A18),'Výsledková listina'!$N:$N,0),1))","v":""},{"$f":"IF(ISNA(MATCH(CONCATENATE(BY$4,$A18),'Výsledková listina'!$N:$N,0)),\"\",INDEX('Výsledková listina'!$P:$P,MATCH(CONCATENATE(BY$4,$A18),'Výsledková listina'!$N:$N,0),1))","v":""},null,"",null,{"$f":"IF(ISNA(MATCH(CONCATENATE(CD$4,$A18),'Výsledková listina'!$N:$N,0)),\"\",INDEX('Výsledková listina'!$C:$C,MATCH(CONCATENATE(CD$4,$A18),'Výsledková listina'!$N:$N,0),1))","v":""},{"$f":"IF(ISNA(MATCH(CONCATENATE(CD$4,$A18),'Výsledková listina'!$N:$N,0)),\"\",INDEX('Výsledková listina'!$P:$P,MATCH(CONCATENATE(CD$4,$A18),'Výsledková listina'!$N:$N,0),1))","v":""},null,""]
[14,{"$f":"IF(ISNA(MATCH(CONCATENATE(B$4,$A19),'Výsledková listina'!$N:$N,0)),\"\",INDEX('Výsledková listina'!$C:$C,MATCH(CONCATENATE(B$4,$A19),'Výsledková listina'!$N:$N,0),1))","v":""},{"$f":"IF(ISNA(MATCH(CONCATENATE(B$4,$A19),'Výsledková listina'!$N:$N,0)),\"\",INDEX('Výsledková listina'!$P:$P,MATCH(CONCATENATE(B$4,$A19),'Výsledková listina'!$N:$N,0),1))","v":""},null,null,"",null,{"$f":"IF(ISNA(MATCH(CONCATENATE(H$4,$A19),'Výsledková listina'!$N:$N,0)),\"\",INDEX('Výsledková listina'!$C:$C,MATCH(CONCATENATE(H$4,$A19),'Výsledková listina'!$N:$N,0),1))","v":""},{"$f":"IF(ISNA(MATCH(CONCATENATE(H$4,$A19),'Výsledková listina'!$N:$N,0)),\"\",INDEX('Výsledková listina'!$P:$P,MATCH(CONCATENATE(H$4,$A19),'Výsledková listina'!$N:$N,0),1))","v":""},null,null,"",null,{"$f":"IF(ISNA(MATCH(CONCATENATE(N$4,$A19),'Výsledková listina'!$N:$N,0)),\"\",INDEX('Výsledková listina'!$C:$C,MATCH(CONCATENATE(N$4,$A19),'Výsledková listina'!$N:$N,0),1))","v":""},{"$f":"IF(ISNA(MATCH(CONCATENATE(N$4,$A19),'Výsledková listina'!$N:$N,0)),\"\",INDEX('Výsledková listina'!$P:$P,MATCH(CONCATENATE(N$4,$A19),'Výsledková listina'!$N:$N,0),1))","v":""},null,null,"",null,{"$f":"IF(ISNA(MATCH(CONCATENATE(T$4,$A19),'Výsledková listina'!$N:$N,0)),\"\",INDEX('Výsledková listina'!$C:$C,MATCH(CONCATENATE(T$4,$A19),'Výsledková listina'!$N:$N,0),1))","v":""},{"$f":"IF(ISNA(MATCH(CONCATENATE(T$4,$A19),'Výsledková listina'!$N:$N,0)),\"\",INDEX('Výsledková listina'!$P:$P,MATCH(CONCATENATE(T$4,$A19),'Výsledková listina'!$N:$N,0),1))","v":""},null,null,"",null,{"$f":"IF(ISNA(MATCH(CONCATENATE(Z$4,$A19),'Výsledková listina'!$N:$N,0)),\"\",INDEX('Výsledková listina'!$C:$C,MATCH(CONCATENATE(Z$4,$A19),'Výsledková listina'!$N:$N,0),1))","v":""},{"$f":"IF(ISNA(MATCH(CONCATENATE(Z$4,$A19),'Výsledková listina'!$N:$N,0)),\"\",INDEX('Výsledková listina'!$P:$P,MATCH(CONCATENATE(Z$4,$A19),'Výsledková listina'!$N:$N,0),1))","v":""},null,null,"",null,{"$f":"IF(ISNA(MATCH(CONCATENATE(AF$4,$A19),'Výsledková listina'!$N:$N,0)),\"\",INDEX('Výsledková listina'!$C:$C,MATCH(CONCATENATE(AF$4,$A19),'Výsledková listina'!$N:$N,0),1))","v":""},{"$f":"IF(ISNA(MATCH(CONCATENATE(AF$4,$A19),'Výsledková listina'!$N:$N,0)),\"\",INDEX('Výsledková listina'!$P:$P,MATCH(CONCATENATE(AF$4,$A19),'Výsledková listina'!$N:$N,0),1))","v":""},null,null,"",null,{"$f":"IF(ISNA(MATCH(CONCATENATE(AL$4,$A19),'Výsledková listina'!$N:$N,0)),\"\",INDEX('Výsledková listina'!$C:$C,MATCH(CONCATENATE(AL$4,$A19),'Výsledková listina'!$N:$N,0),1))","v":""},{"$f":"IF(ISNA(MATCH(CONCATENATE(AL$4,$A19),'Výsledková listina'!$N:$N,0)),\"\",INDEX('Výsledková listina'!$P:$P,MATCH(CONCATENATE(AL$4,$A19),'Výsledková listina'!$N:$N,0),1))","v":""},null,null,"",null,{"$f":"IF(ISNA(MATCH(CONCATENATE(AR$4,$A19),'Výsledková listina'!$N:$N,0)),\"\",INDEX('Výsledková listina'!$C:$C,MATCH(CONCATENATE(AR$4,$A19),'Výsledková listina'!$N:$N,0),1))","v":""},{"$f":"IF(ISNA(MATCH(CONCATENATE(AR$4,$A19),'Výsledková listina'!$N:$N,0)),\"\",INDEX('Výsledková listina'!$P:$P,MATCH(CONCATENATE(AR$4,$A19),'Výsledková listina'!$N:$N,0),1))","v":""},null,null,"",null,{"$f":"IF(ISNA(MATCH(CONCATENATE(AX$4,$A19),'Výsledková listina'!$N:$N,0)),\"\",INDEX('Výsledková listina'!$C:$C,MATCH(CONCATENATE(AX$4,$A19),'Výsledková listina'!$N:$N,0),1))","v":""},{"$f":"IF(ISNA(MATCH(CONCATENATE(AX$4,$A19),'Výsledková listina'!$N:$N,0)),\"\",INDEX('Výsledková listina'!$P:$P,MATCH(CONCATENATE(AX$4,$A19),'Výsledková listina'!$N:$N,0),1))","v":""},null,null,"",null,{"$f":"IF(ISNA(MATCH(CONCATENATE(BD$4,$A19),'Výsledková listina'!$N:$N,0)),\"\",INDEX('Výsledková listina'!$C:$C,MATCH(CONCATENATE(BD$4,$A19),'Výsledková listina'!$N:$N,0),1))","v":""},{"$f":"IF(ISNA(MATCH(CONCATENATE(BD$4,$A19),'Výsledková listina'!$N:$N,0)),\"\",INDEX('Výsledková listina'!$P:$P,MATCH(CONCATENATE(BD$4,$A19),'Výsledková listina'!$N:$N,0),1))","v":""},null,null,"",null,{"$f":"IF(ISNA(MATCH(CONCATENATE(BJ$4,$A19),'Výsledková listina'!$N:$N,0)),\"\",INDEX('Výsledková listina'!$C:$C,MATCH(CONCATENATE(BJ$4,$A19),'Výsledková listina'!$N:$N,0),1))","v":""},{"$f":"IF(ISNA(MATCH(CONCATENATE(BJ$4,$A19),'Výsledková listina'!$N:$N,0)),\"\",INDEX('Výsledková listina'!$P:$P,MATCH(CONCATENATE(BJ$4,$A19),'Výsledková listina'!$N:$N,0),1))","v":""},null,"",null,{"$f":"IF(ISNA(MATCH(CONCATENATE(BO$4,$A19),'Výsledková listina'!$N:$N,0)),\"\",INDEX('Výsledková listina'!$C:$C,MATCH(CONCATENATE(BO$4,$A19),'Výsledková listina'!$N:$N,0),1))","v":""},{"$f":"IF(ISNA(MATCH(CONCATENATE(BO$4,$A19),'Výsledková listina'!$N:$N,0)),\"\",INDEX('Výsledková listina'!$P:$P,MATCH(CONCATENATE(BO$4,$A19),'Výsledková listina'!$N:$N,0),1))","v":""},null,"",null,{"$f":"IF(ISNA(MATCH(CONCATENATE(BT$4,$A19),'Výsledková listina'!$N:$N,0)),\"\",INDEX('Výsledková listina'!$C:$C,MATCH(CONCATENATE(BT$4,$A19),'Výsledková listina'!$N:$N,0),1))","v":""},{"$f":"IF(ISNA(MATCH(CONCATENATE(BT$4,$A19),'Výsledková listina'!$N:$N,0)),\"\",INDEX('Výsledková listina'!$P:$P,MATCH(CONCATENATE(BT$4,$A19),'Výsledková listina'!$N:$N,0),1))","v":""},null,"",null,{"$f":"IF(ISNA(MATCH(CONCATENATE(BY$4,$A19),'Výsledková listina'!$N:$N,0)),\"\",INDEX('Výsledková listina'!$C:$C,MATCH(CONCATENATE(BY$4,$A19),'Výsledková listina'!$N:$N,0),1))","v":""},{"$f":"IF(ISNA(MATCH(CONCATENATE(BY$4,$A19),'Výsledková listina'!$N:$N,0)),\"\",INDEX('Výsledková listina'!$P:$P,MATCH(CONCATENATE(BY$4,$A19),'Výsledková listina'!$N:$N,0),1))","v":""},null,"",null,{"$f":"IF(ISNA(MATCH(CONCATENATE(CD$4,$A19),'Výsledková listina'!$N:$N,0)),\"\",INDEX('Výsledková listina'!$C:$C,MATCH(CONCATENATE(CD$4,$A19),'Výsledková listina'!$N:$N,0),1))","v":""},{"$f":"IF(ISNA(MATCH(CONCATENATE(CD$4,$A19),'Výsledková listina'!$N:$N,0)),\"\",INDEX('Výsledková listina'!$P:$P,MATCH(CONCATENATE(CD$4,$A19),'Výsledková listina'!$N:$N,0),1))","v":""},null,""]
[15,{"$f":"IF(ISNA(MATCH(CONCATENATE(B$4,$A20),'Výsledková listina'!$N:$N,0)),\"\",INDEX('Výsledková listina'!$C:$C,MATCH(CONCATENATE(B$4,$A20),'Výsledková listina'!$N:$N,0),1))","v":""},{"$f":"IF(ISNA(MATCH(CONCATENATE(B$4,$A20),'Výsledková listina'!$N:$N,0)),\"\",INDEX('Výsledková listina'!$P:$P,MATCH(CONCATENATE(B$4,$A20),'Výsledková listina'!$N:$N,0),1))","v":""},null,null,"",null,{"$f":"IF(ISNA(MATCH(CONCATENATE(H$4,$A20),'Výsledková listina'!$N:$N,0)),\"\",INDEX('Výsledková listina'!$C:$C,MATCH(CONCATENATE(H$4,$A20),'Výsledková listina'!$N:$N,0),1))","v":""},{"$f":"IF(ISNA(MATCH(CONCATENATE(H$4,$A20),'Výsledková listina'!$N:$N,0)),\"\",INDEX('Výsledková listina'!$P:$P,MATCH(CONCATENATE(H$4,$A20),'Výsledková listina'!$N:$N,0),1))","v":""},null,null,"",null,{"$f":"IF(ISNA(MATCH(CONCATENATE(N$4,$A20),'Výsledková listina'!$N:$N,0)),\"\",INDEX('Výsledková listina'!$C:$C,MATCH(CONCATENATE(N$4,$A20),'Výsledková listina'!$N:$N,0),1))","v":""},{"$f":"IF(ISNA(MATCH(CONCATENATE(N$4,$A20),'Výsledková listina'!$N:$N,0)),\"\",INDEX('Výsledková listina'!$P:$P,MATCH(CONCATENATE(N$4,$A20),'Výsledková listina'!$N:$N,0),1))","v":""},null,null,"",null,{"$f":"IF(ISNA(MATCH(CONCATENATE(T$4,$A20),'Výsledková listina'!$N:$N,0)),\"\",INDEX('Výsledková listina'!$C:$C,MATCH(CONCATENATE(T$4,$A20),'Výsledková listina'!$N:$N,0),1))","v":""},{"$f":"IF(ISNA(MATCH(CONCATENATE(T$4,$A20),'Výsledková listina'!$N:$N,0)),\"\",INDEX('Výsledková listina'!$P:$P,MATCH(CONCATENATE(T$4,$A20),'Výsledková listina'!$N:$N,0),1))","v":""},null,null,"",null,{"$f":"IF(ISNA(MATCH(CONCATENATE(Z$4,$A20),'Výsledková listina'!$N:$N,0)),\"\",INDEX('Výsledková listina'!$C:$C,MATCH(CONCATENATE(Z$4,$A20),'Výsledková listina'!$N:$N,0),1))","v":""},{"$f":"IF(ISNA(MATCH(CONCATENATE(Z$4,$A20),'Výsledková listina'!$N:$N,0)),\"\",INDEX('Výsledková listina'!$P:$P,MATCH(CONCATENATE(Z$4,$A20),'Výsledková listina'!$N:$N,0),1))","v":""},null,null,"",null,{"$f":"IF(ISNA(MATCH(CONCATENATE(AF$4,$A20),'Výsledková listina'!$N:$N,0)),\"\",INDEX('Výsledková listina'!$C:$C,MATCH(CONCATENATE(AF$4,$A20),'Výsledková listina'!$N:$N,0),1))","v":""},{"$f":"IF(ISNA(MATCH(CONCATENATE(AF$4,$A20),'Výsledková listina'!$N:$N,0)),\"\",INDEX('Výsledková listina'!$P:$P,MATCH(CONCATENATE(AF$4,$A20),'Výsledková listina'!$N:$N,0),1))","v":""},null,null,"",null,{"$f":"IF(ISNA(MATCH(CONCATENATE(AL$4,$A20),'Výsledková listina'!$N:$N,0)),\"\",INDEX('Výsledková listina'!$C:$C,MATCH(CONCATENATE(AL$4,$A20),'Výsledková listina'!$N:$N,0),1))","v":""},{"$f":"IF(ISNA(MATCH(CONCATENATE(AL$4,$A20),'Výsledková listina'!$N:$N,0)),\"\",INDEX('Výsledková listina'!$P:$P,MATCH(CONCATENATE(AL$4,$A20),'Výsledková listina'!$N:$N,0),1))","v":""},null,null,"",null,{"$f":"IF(ISNA(MATCH(CONCATENATE(AR$4,$A20),'Výsledková listina'!$N:$N,0)),\"\",INDEX('Výsledková listina'!$C:$C,MATCH(CONCATENATE(AR$4,$A20),'Výsledková listina'!$N:$N,0),1))","v":""},{"$f":"IF(ISNA(MATCH(CONCATENATE(AR$4,$A20),'Výsledková listina'!$N:$N,0)),\"\",INDEX('Výsledková listina'!$P:$P,MATCH(CONCATENATE(AR$4,$A20),'Výsledková listina'!$N:$N,0),1))","v":""},null,null,"",null,{"$f":"IF(ISNA(MATCH(CONCATENATE(AX$4,$A20),'Výsledková listina'!$N:$N,0)),\"\",INDEX('Výsledková listina'!$C:$C,MATCH(CONCATENATE(AX$4,$A20),'Výsledková listina'!$N:$N,0),1))","v":""},{"$f":"IF(ISNA(MATCH(CONCATENATE(AX$4,$A20),'Výsledková listina'!$N:$N,0)),\"\",INDEX('Výsledková listina'!$P:$P,MATCH(CONCATENATE(AX$4,$A20),'Výsledková listina'!$N:$N,0),1))","v":""},null,null,"",null,{"$f":"IF(ISNA(MATCH(CONCATENATE(BD$4,$A20),'Výsledková listina'!$N:$N,0)),\"\",INDEX('Výsledková listina'!$C:$C,MATCH(CONCATENATE(BD$4,$A20),'Výsledková listina'!$N:$N,0),1))","v":""},{"$f":"IF(ISNA(MATCH(CONCATENATE(BD$4,$A20),'Výsledková listina'!$N:$N,0)),\"\",INDEX('Výsledková listina'!$P:$P,MATCH(CONCATENATE(BD$4,$A20),'Výsledková listina'!$N:$N,0),1))","v":""},null,null,"",null,{"$f":"IF(ISNA(MATCH(CONCATENATE(BJ$4,$A20),'Výsledková listina'!$N:$N,0)),\"\",INDEX('Výsledková listina'!$C:$C,MATCH(CONCATENATE(BJ$4,$A20),'Výsledková listina'!$N:$N,0),1))","v":""},{"$f":"IF(ISNA(MATCH(CONCATENATE(BJ$4,$A20),'Výsledková listina'!$N:$N,0)),\"\",INDEX('Výsledková listina'!$P:$P,MATCH(CONCATENATE(BJ$4,$A20),'Výsledková listina'!$N:$N,0),1))","v":""},null,"",null,{"$f":"IF(ISNA(MATCH(CONCATENATE(BO$4,$A20),'Výsledková listina'!$N:$N,0)),\"\",INDEX('Výsledková listina'!$C:$C,MATCH(CONCATENATE(BO$4,$A20),'Výsledková listina'!$N:$N,0),1))","v":""},{"$f":"IF(ISNA(MATCH(CONCATENATE(BO$4,$A20),'Výsledková listina'!$N:$N,0)),\"\",INDEX('Výsledková listina'!$P:$P,MATCH(CONCATENATE(BO$4,$A20),'Výsledková listina'!$N:$N,0),1))","v":""},null,"",null,{"$f":"IF(ISNA(MATCH(CONCATENATE(BT$4,$A20),'Výsledková listina'!$N:$N,0)),\"\",INDEX('Výsledková listina'!$C:$C,MATCH(CONCATENATE(BT$4,$A20),'Výsledková listina'!$N:$N,0),1))","v":""},{"$f":"IF(ISNA(MATCH(CONCATENATE(BT$4,$A20),'Výsledková listina'!$N:$N,0)),\"\",INDEX('Výsledková listina'!$P:$P,MATCH(CONCATENATE(BT$4,$A20),'Výsledková listina'!$N:$N,0),1))","v":""},null,"",null,{"$f":"IF(ISNA(MATCH(CONCATENATE(BY$4,$A20),'Výsledková listina'!$N:$N,0)),\"\",INDEX('Výsledková listina'!$C:$C,MATCH(CONCATENATE(BY$4,$A20),'Výsledková listina'!$N:$N,0),1))","v":""},{"$f":"IF(ISNA(MATCH(CONCATENATE(BY$4,$A20),'Výsledková listina'!$N:$N,0)),\"\",INDEX('Výsledková listina'!$P:$P,MATCH(CONCATENATE(BY$4,$A20),'Výsledková listina'!$N:$N,0),1))","v":""},null,"",null,{"$f":"IF(ISNA(MATCH(CONCATENATE(CD$4,$A20),'Výsledková listina'!$N:$N,0)),\"\",INDEX('Výsledková listina'!$C:$C,MATCH(CONCATENATE(CD$4,$A20),'Výsledková listina'!$N:$N,0),1))","v":""},{"$f":"IF(ISNA(MATCH(CONCATENATE(CD$4,$A20),'Výsledková listina'!$N:$N,0)),\"\",INDEX('Výsledková listina'!$P:$P,MATCH(CONCATENATE(CD$4,$A20),'Výsledková listina'!$N:$N,0),1))","v":""},null,""]
[16,{"$f":"IF(ISNA(MATCH(CONCATENATE(B$4,$A21),'Výsledková listina'!$N:$N,0)),\"\",INDEX('Výsledková listina'!$C:$C,MATCH(CONCATENATE(B$4,$A21),'Výsledková listina'!$N:$N,0),1))","v":""},{"$f":"IF(ISNA(MATCH(CONCATENATE(B$4,$A21),'Výsledková listina'!$N:$N,0)),\"\",INDEX('Výsledková listina'!$P:$P,MATCH(CONCATENATE(B$4,$A21),'Výsledková listina'!$N:$N,0),1))","v":""},null,null,"",null,{"$f":"IF(ISNA(MATCH(CONCATENATE(H$4,$A21),'Výsledková listina'!$N:$N,0)),\"\",INDEX('Výsledková listina'!$C:$C,MATCH(CONCATENATE(H$4,$A21),'Výsledková listina'!$N:$N,0),1))","v":""},{"$f":"IF(ISNA(MATCH(CONCATENATE(H$4,$A21),'Výsledková listina'!$N:$N,0)),\"\",INDEX('Výsledková listina'!$P:$P,MATCH(CONCATENATE(H$4,$A21),'Výsledková listina'!$N:$N,0),1))","v":""},null,null,"",null,{"$f":"IF(ISNA(MATCH(CONCATENATE(N$4,$A21),'Výsledková listina'!$N:$N,0)),\"\",INDEX('Výsledková listina'!$C:$C,MATCH(CONCATENATE(N$4,$A21),'Výsledková listina'!$N:$N,0),1))","v":""},{"$f":"IF(ISNA(MATCH(CONCATENATE(N$4,$A21),'Výsledková listina'!$N:$N,0)),\"\",INDEX('Výsledková listina'!$P:$P,MATCH(CONCATENATE(N$4,$A21),'Výsledková listina'!$N:$N,0),1))","v":""},null,null,"",null,{"$f":"IF(ISNA(MATCH(CONCATENATE(T$4,$A21),'Výsledková listina'!$N:$N,0)),\"\",INDEX('Výsledková listina'!$C:$C,MATCH(CONCATENATE(T$4,$A21),'Výsledková listina'!$N:$N,0),1))","v":""},{"$f":"IF(ISNA(MATCH(CONCATENATE(T$4,$A21),'Výsledková listina'!$N:$N,0)),\"\",INDEX('Výsledková listina'!$P:$P,MATCH(CONCATENATE(T$4,$A21),'Výsledková listina'!$N:$N,0),1))","v":""},null,null,"",null,{"$f":"IF(ISNA(MATCH(CONCATENATE(Z$4,$A21),'Výsledková listina'!$N:$N,0)),\"\",INDEX('Výsledková listina'!$C:$C,MATCH(CONCATENATE(Z$4,$A21),'Výsledková listina'!$N:$N,0),1))","v":""},{"$f":"IF(ISNA(MATCH(CONCATENATE(Z$4,$A21),'Výsledková listina'!$N:$N,0)),\"\",INDEX('Výsledková listina'!$P:$P,MATCH(CONCATENATE(Z$4,$A21),'Výsledková listina'!$N:$N,0),1))","v":""},null,null,"",null,{"$f":"IF(ISNA(MATCH(CONCATENATE(AF$4,$A21),'Výsledková listina'!$N:$N,0)),\"\",INDEX('Výsledková listina'!$C:$C,MATCH(CONCATENATE(AF$4,$A21),'Výsledková listina'!$N:$N,0),1))","v":""},{"$f":"IF(ISNA(MATCH(CONCATENATE(AF$4,$A21),'Výsledková listina'!$N:$N,0)),\"\",INDEX('Výsledková listina'!$P:$P,MATCH(CONCATENATE(AF$4,$A21),'Výsledková listina'!$N:$N,0),1))","v":""},null,null,"",null,{"$f":"IF(ISNA(MATCH(CONCATENATE(AL$4,$A21),'Výsledková listina'!$N:$N,0)),\"\",INDEX('Výsledková listina'!$C:$C,MATCH(CONCATENATE(AL$4,$A21),'Výsledková listina'!$N:$N,0),1))","v":""},{"$f":"IF(ISNA(MATCH(CONCATENATE(AL$4,$A21),'Výsledková listina'!$N:$N,0)),\"\",INDEX('Výsledková listina'!$P:$P,MATCH(CONCATENATE(AL$4,$A21),'Výsledková listina'!$N:$N,0),1))","v":""},null,null,"",null,{"$f":"IF(ISNA(MATCH(CONCATENATE(AR$4,$A21),'Výsledková listina'!$N:$N,0)),\"\",INDEX('Výsledková listina'!$C:$C,MATCH(CONCATENATE(AR$4,$A21),'Výsledková listina'!$N:$N,0),1))","v":""},{"$f":"IF(ISNA(MATCH(CONCATENATE(AR$4,$A21),'Výsledková listina'!$N:$N,0)),\"\",INDEX('Výsledková listina'!$P:$P,MATCH(CONCATENATE(AR$4,$A21),'Výsledková listina'!$N:$N,0),1))","v":""},null,null,"",null,{"$f":"IF(ISNA(MATCH(CONCATENATE(AX$4,$A21),'Výsledková listina'!$N:$N,0)),\"\",INDEX('Výsledková listina'!$C:$C,MATCH(CONCATENATE(AX$4,$A21),'Výsledková listina'!$N:$N,0),1))","v":""},{"$f":"IF(ISNA(MATCH(CONCATENATE(AX$4,$A21),'Výsledková listina'!$N:$N,0)),\"\",INDEX('Výsledková listina'!$P:$P,MATCH(CONCATENATE(AX$4,$A21),'Výsledková listina'!$N:$N,0),1))","v":""},null,null,"",null,{"$f":"IF(ISNA(MATCH(CONCATENATE(BD$4,$A21),'Výsledková listina'!$N:$N,0)),\"\",INDEX('Výsledková listina'!$C:$C,MATCH(CONCATENATE(BD$4,$A21),'Výsledková listina'!$N:$N,0),1))","v":""},{"$f":"IF(ISNA(MATCH(CONCATENATE(BD$4,$A21),'Výsledková listina'!$N:$N,0)),\"\",INDEX('Výsledková listina'!$P:$P,MATCH(CONCATENATE(BD$4,$A21),'Výsledková listina'!$N:$N,0),1))","v":""},null,null,"",null,{"$f":"IF(ISNA(MATCH(CONCATENATE(BJ$4,$A21),'Výsledková listina'!$N:$N,0)),\"\",INDEX('Výsledková listina'!$C:$C,MATCH(CONCATENATE(BJ$4,$A21),'Výsledková listina'!$N:$N,0),1))","v":""},{"$f":"IF(ISNA(MATCH(CONCATENATE(BJ$4,$A21),'Výsledková listina'!$N:$N,0)),\"\",INDEX('Výsledková listina'!$P:$P,MATCH(CONCATENATE(BJ$4,$A21),'Výsledková listina'!$N:$N,0),1))","v":""},null,"",null,{"$f":"IF(ISNA(MATCH(CONCATENATE(BO$4,$A21),'Výsledková listina'!$N:$N,0)),\"\",INDEX('Výsledková listina'!$C:$C,MATCH(CONCATENATE(BO$4,$A21),'Výsledková listina'!$N:$N,0),1))","v":""},{"$f":"IF(ISNA(MATCH(CONCATENATE(BO$4,$A21),'Výsledková listina'!$N:$N,0)),\"\",INDEX('Výsledková listina'!$P:$P,MATCH(CONCATENATE(BO$4,$A21),'Výsledková listina'!$N:$N,0),1))","v":""},null,"",null,{"$f":"IF(ISNA(MATCH(CONCATENATE(BT$4,$A21),'Výsledková listina'!$N:$N,0)),\"\",INDEX('Výsledková listina'!$C:$C,MATCH(CONCATENATE(BT$4,$A21),'Výsledková listina'!$N:$N,0),1))","v":""},{"$f":"IF(ISNA(MATCH(CONCATENATE(BT$4,$A21),'Výsledková listina'!$N:$N,0)),\"\",INDEX('Výsledková listina'!$P:$P,MATCH(CONCATENATE(BT$4,$A21),'Výsledková listina'!$N:$N,0),1))","v":""},null,"",null,{"$f":"IF(ISNA(MATCH(CONCATENATE(BY$4,$A21),'Výsledková listina'!$N:$N,0)),\"\",INDEX('Výsledková listina'!$C:$C,MATCH(CONCATENATE(BY$4,$A21),'Výsledková listina'!$N:$N,0),1))","v":""},{"$f":"IF(ISNA(MATCH(CONCATENATE(BY$4,$A21),'Výsledková listina'!$N:$N,0)),\"\",INDEX('Výsledková listina'!$P:$P,MATCH(CONCATENATE(BY$4,$A21),'Výsledková listina'!$N:$N,0),1))","v":""},null,"",null,{"$f":"IF(ISNA(MATCH(CONCATENATE(CD$4,$A21),'Výsledková listina'!$N:$N,0)),\"\",INDEX('Výsledková listina'!$C:$C,MATCH(CONCATENATE(CD$4,$A21),'Výsledková listina'!$N:$N,0),1))","v":""},{"$f":"IF(ISNA(MATCH(CONCATENATE(CD$4,$A21),'Výsledková listina'!$N:$N,0)),\"\",INDEX('Výsledková listina'!$P:$P,MATCH(CONCATENATE(CD$4,$A21),'Výsledková listina'!$N:$N,0),1))","v":""},null,""]
[17,{"$f":"IF(ISNA(MATCH(CONCATENATE(B$4,$A22),'Výsledková listina'!$N:$N,0)),\"\",INDEX('Výsledková listina'!$C:$C,MATCH(CONCATENATE(B$4,$A22),'Výsledková listina'!$N:$N,0),1))","v":""},{"$f":"IF(ISNA(MATCH(CONCATENATE(B$4,$A22),'Výsledková listina'!$N:$N,0)),\"\",INDEX('Výsledková listina'!$P:$P,MATCH(CONCATENATE(B$4,$A22),'Výsledková listina'!$N:$N,0),1))","v":""},null,null,"",null,{"$f":"IF(ISNA(MATCH(CONCATENATE(H$4,$A22),'Výsledková listina'!$N:$N,0)),\"\",INDEX('Výsledková listina'!$C:$C,MATCH(CONCATENATE(H$4,$A22),'Výsledková listina'!$N:$N,0),1))","v":""},{"$f":"IF(ISNA(MATCH(CONCATENATE(H$4,$A22),'Výsledková listina'!$N:$N,0)),\"\",INDEX('Výsledková listina'!$P:$P,MATCH(CONCATENATE(H$4,$A22),'Výsledková listina'!$N:$N,0),1))","v":""},null,null,"",null,{"$f":"IF(ISNA(MATCH(CONCATENATE(N$4,$A22),'Výsledková listina'!$N:$N,0)),\"\",INDEX('Výsledková listina'!$C:$C,MATCH(CONCATENATE(N$4,$A22),'Výsledková listina'!$N:$N,0),1))","v":""},{"$f":"IF(ISNA(MATCH(CONCATENATE(N$4,$A22),'Výsledková listina'!$N:$N,0)),\"\",INDEX('Výsledková listina'!$P:$P,MATCH(CONCATENATE(N$4,$A22),'Výsledková listina'!$N:$N,0),1))","v":""},null,null,"",null,{"$f":"IF(ISNA(MATCH(CONCATENATE(T$4,$A22),'Výsledková listina'!$N:$N,0)),\"\",INDEX('Výsledková listina'!$C:$C,MATCH(CONCATENATE(T$4,$A22),'Výsledková listina'!$N:$N,0),1))","v":""},{"$f":"IF(ISNA(MATCH(CONCATENATE(T$4,$A22),'Výsledková listina'!$N:$N,0)),\"\",INDEX('Výsledková listina'!$P:$P,MATCH(CONCATENATE(T$4,$A22),'Výsledková listina'!$N:$N,0),1))","v":""},null,null,"",null,{"$f":"IF(ISNA(MATCH(CONCATENATE(Z$4,$A22),'Výsledková listina'!$N:$N,0)),\"\",INDEX('Výsledková listina'!$C:$C,MATCH(CONCATENATE(Z$4,$A22),'Výsledková listina'!$N:$N,0),1))","v":""},{"$f":"IF(ISNA(MATCH(CONCATENATE(Z$4,$A22),'Výsledková listina'!$N:$N,0)),\"\",INDEX('Výsledková listina'!$P:$P,MATCH(CONCATENATE(Z$4,$A22),'Výsledková listina'!$N:$N,0),1))","v":""},null,null,"",null,{"$f":"IF(ISNA(MATCH(CONCATENATE(AF$4,$A22),'Výsledková listina'!$N:$N,0)),\"\",INDEX('Výsledková listina'!$C:$C,MATCH(CONCATENATE(AF$4,$A22),'Výsledková listina'!$N:$N,0),1))","v":""},{"$f":"IF(ISNA(MATCH(CONCATENATE(AF$4,$A22),'Výsledková listina'!$N:$N,0)),\"\",INDEX('Výsledková listina'!$P:$P,MATCH(CONCATENATE(AF$4,$A22),'Výsledková listina'!$N:$N,0),1))","v":""},null,null,"",null,{"$f":"IF(ISNA(MATCH(CONCATENATE(AL$4,$A22),'Výsledková listina'!$N:$N,0)),\"\",INDEX('Výsledková listina'!$C:$C,MATCH(CONCATENATE(AL$4,$A22),'Výsledková listina'!$N:$N,0),1))","v":""},{"$f":"IF(ISNA(MATCH(CONCATENATE(AL$4,$A22),'Výsledková listina'!$N:$N,0)),\"\",INDEX('Výsledková listina'!$P:$P,MATCH(CONCATENATE(AL$4,$A22),'Výsledková listina'!$N:$N,0),1))","v":""},null,null,"",null,{"$f":"IF(ISNA(MATCH(CONCATENATE(AR$4,$A22),'Výsledková listina'!$N:$N,0)),\"\",INDEX('Výsledková listina'!$C:$C,MATCH(CONCATENATE(AR$4,$A22),'Výsledková listina'!$N:$N,0),1))","v":""},{"$f":"IF(ISNA(MATCH(CONCATENATE(AR$4,$A22),'Výsledková listina'!$N:$N,0)),\"\",INDEX('Výsledková listina'!$P:$P,MATCH(CONCATENATE(AR$4,$A22),'Výsledková listina'!$N:$N,0),1))","v":""},null,null,"",null,{"$f":"IF(ISNA(MATCH(CONCATENATE(AX$4,$A22),'Výsledková listina'!$N:$N,0)),\"\",INDEX('Výsledková listina'!$C:$C,MATCH(CONCATENATE(AX$4,$A22),'Výsledková listina'!$N:$N,0),1))","v":""},{"$f":"IF(ISNA(MATCH(CONCATENATE(AX$4,$A22),'Výsledková listina'!$N:$N,0)),\"\",INDEX('Výsledková listina'!$P:$P,MATCH(CONCATENATE(AX$4,$A22),'Výsledková listina'!$N:$N,0),1))","v":""},null,null,"",null,{"$f":"IF(ISNA(MATCH(CONCATENATE(BD$4,$A22),'Výsledková listina'!$N:$N,0)),\"\",INDEX('Výsledková listina'!$C:$C,MATCH(CONCATENATE(BD$4,$A22),'Výsledková listina'!$N:$N,0),1))","v":""},{"$f":"IF(ISNA(MATCH(CONCATENATE(BD$4,$A22),'Výsledková listina'!$N:$N,0)),\"\",INDEX('Výsledková listina'!$P:$P,MATCH(CONCATENATE(BD$4,$A22),'Výsledková listina'!$N:$N,0),1))","v":""},null,null,"",null,{"$f":"IF(ISNA(MATCH(CONCATENATE(BJ$4,$A22),'Výsledková listina'!$N:$N,0)),\"\",INDEX('Výsledková listina'!$C:$C,MATCH(CONCATENATE(BJ$4,$A22),'Výsledková listina'!$N:$N,0),1))","v":""},{"$f":"IF(ISNA(MATCH(CONCATENATE(BJ$4,$A22),'Výsledková listina'!$N:$N,0)),\"\",INDEX('Výsledková listina'!$P:$P,MATCH(CONCATENATE(BJ$4,$A22),'Výsledková listina'!$N:$N,0),1))","v":""},null,"",null,{"$f":"IF(ISNA(MATCH(CONCATENATE(BO$4,$A22),'Výsledková listina'!$N:$N,0)),\"\",INDEX('Výsledková listina'!$C:$C,MATCH(CONCATENATE(BO$4,$A22),'Výsledková listina'!$N:$N,0),1))","v":""},{"$f":"IF(ISNA(MATCH(CONCATENATE(BO$4,$A22),'Výsledková listina'!$N:$N,0)),\"\",INDEX('Výsledková listina'!$P:$P,MATCH(CONCATENATE(BO$4,$A22),'Výsledková listina'!$N:$N,0),1))","v":""},null,"",null,{"$f":"IF(ISNA(MATCH(CONCATENATE(BT$4,$A22),'Výsledková listina'!$N:$N,0)),\"\",INDEX('Výsledková listina'!$C:$C,MATCH(CONCATENATE(BT$4,$A22),'Výsledková listina'!$N:$N,0),1))","v":""},{"$f":"IF(ISNA(MATCH(CONCATENATE(BT$4,$A22),'Výsledková listina'!$N:$N,0)),\"\",INDEX('Výsledková listina'!$P:$P,MATCH(CONCATENATE(BT$4,$A22),'Výsledková listina'!$N:$N,0),1))","v":""},null,"",null,{"$f":"IF(ISNA(MATCH(CONCATENATE(BY$4,$A22),'Výsledková listina'!$N:$N,0)),\"\",INDEX('Výsledková listina'!$C:$C,MATCH(CONCATENATE(BY$4,$A22),'Výsledková listina'!$N:$N,0),1))","v":""},{"$f":"IF(ISNA(MATCH(CONCATENATE(BY$4,$A22),'Výsledková listina'!$N:$N,0)),\"\",INDEX('Výsledková listina'!$P:$P,MATCH(CONCATENATE(BY$4,$A22),'Výsledková listina'!$N:$N,0),1))","v":""},null,"",null,{"$f":"IF(ISNA(MATCH(CONCATENATE(CD$4,$A22),'Výsledková listina'!$N:$N,0)),\"\",INDEX('Výsledková listina'!$C:$C,MATCH(CONCATENATE(CD$4,$A22),'Výsledková listina'!$N:$N,0),1))","v":""},{"$f":"IF(ISNA(MATCH(CONCATENATE(CD$4,$A22),'Výsledková listina'!$N:$N,0)),\"\",INDEX('Výsledková listina'!$P:$P,MATCH(CONCATENATE(CD$4,$A22),'Výsledková listina'!$N:$N,0),1))","v":""},null,""]
[18,{"$f":"IF(ISNA(MATCH(CONCATENATE(B$4,$A23),'Výsledková listina'!$N:$N,0)),\"\",INDEX('Výsledková listina'!$C:$C,MATCH(CONCATENATE(B$4,$A23),'Výsledková listina'!$N:$N,0),1))","v":""},{"$f":"IF(ISNA(MATCH(CONCATENATE(B$4,$A23),'Výsledková listina'!$N:$N,0)),\"\",INDEX('Výsledková listina'!$P:$P,MATCH(CONCATENATE(B$4,$A23),'Výsledková listina'!$N:$N,0),1))","v":""},null,null,"",null,{"$f":"IF(ISNA(MATCH(CONCATENATE(H$4,$A23),'Výsledková listina'!$N:$N,0)),\"\",INDEX('Výsledková listina'!$C:$C,MATCH(CONCATENATE(H$4,$A23),'Výsledková listina'!$N:$N,0),1))","v":""},{"$f":"IF(ISNA(MATCH(CONCATENATE(H$4,$A23),'Výsledková listina'!$N:$N,0)),\"\",INDEX('Výsledková listina'!$P:$P,MATCH(CONCATENATE(H$4,$A23),'Výsledková listina'!$N:$N,0),1))","v":""},null,null,"",null,{"$f":"IF(ISNA(MATCH(CONCATENATE(N$4,$A23),'Výsledková listina'!$N:$N,0)),\"\",INDEX('Výsledková listina'!$C:$C,MATCH(CONCATENATE(N$4,$A23),'Výsledková listina'!$N:$N,0),1))","v":""},{"$f":"IF(ISNA(MATCH(CONCATENATE(N$4,$A23),'Výsledková listina'!$N:$N,0)),\"\",INDEX('Výsledková listina'!$P:$P,MATCH(CONCATENATE(N$4,$A23),'Výsledková listina'!$N:$N,0),1))","v":""},null,null,"",null,{"$f":"IF(ISNA(MATCH(CONCATENATE(T$4,$A23),'Výsledková listina'!$N:$N,0)),\"\",INDEX('Výsledková listina'!$C:$C,MATCH(CONCATENATE(T$4,$A23),'Výsledková listina'!$N:$N,0),1))","v":""},{"$f":"IF(ISNA(MATCH(CONCATENATE(T$4,$A23),'Výsledková listina'!$N:$N,0)),\"\",INDEX('Výsledková listina'!$P:$P,MATCH(CONCATENATE(T$4,$A23),'Výsledková listina'!$N:$N,0),1))","v":""},null,null,"",null,{"$f":"IF(ISNA(MATCH(CONCATENATE(Z$4,$A23),'Výsledková listina'!$N:$N,0)),\"\",INDEX('Výsledková listina'!$C:$C,MATCH(CONCATENATE(Z$4,$A23),'Výsledková listina'!$N:$N,0),1))","v":""},{"$f":"IF(ISNA(MATCH(CONCATENATE(Z$4,$A23),'Výsledková listina'!$N:$N,0)),\"\",INDEX('Výsledková listina'!$P:$P,MATCH(CONCATENATE(Z$4,$A23),'Výsledková listina'!$N:$N,0),1))","v":""},null,null,"",null,{"$f":"IF(ISNA(MATCH(CONCATENATE(AF$4,$A23),'Výsledková listina'!$N:$N,0)),\"\",INDEX('Výsledková listina'!$C:$C,MATCH(CONCATENATE(AF$4,$A23),'Výsledková listina'!$N:$N,0),1))","v":""},{"$f":"IF(ISNA(MATCH(CONCATENATE(AF$4,$A23),'Výsledková listina'!$N:$N,0)),\"\",INDEX('Výsledková listina'!$P:$P,MATCH(CONCATENATE(AF$4,$A23),'Výsledková listina'!$N:$N,0),1))","v":""},null,null,"",null,{"$f":"IF(ISNA(MATCH(CONCATENATE(AL$4,$A23),'Výsledková listina'!$N:$N,0)),\"\",INDEX('Výsledková listina'!$C:$C,MATCH(CONCATENATE(AL$4,$A23),'Výsledková listina'!$N:$N,0),1))","v":""},{"$f":"IF(ISNA(MATCH(CONCATENATE(AL$4,$A23),'Výsledková listina'!$N:$N,0)),\"\",INDEX('Výsledková listina'!$P:$P,MATCH(CONCATENATE(AL$4,$A23),'Výsledková listina'!$N:$N,0),1))","v":""},null,null,"",null,{"$f":"IF(ISNA(MATCH(CONCATENATE(AR$4,$A23),'Výsledková listina'!$N:$N,0)),\"\",INDEX('Výsledková listina'!$C:$C,MATCH(CONCATENATE(AR$4,$A23),'Výsledková listina'!$N:$N,0),1))","v":""},{"$f":"IF(ISNA(MATCH(CONCATENATE(AR$4,$A23),'Výsledková listina'!$N:$N,0)),\"\",INDEX('Výsledková listina'!$P:$P,MATCH(CONCATENATE(AR$4,$A23),'Výsledková listina'!$N:$N,0),1))","v":""},null,null,"",null,{"$f":"IF(ISNA(MATCH(CONCATENATE(AX$4,$A23),'Výsledková listina'!$N:$N,0)),\"\",INDEX('Výsledková listina'!$C:$C,MATCH(CONCATENATE(AX$4,$A23),'Výsledková listina'!$N:$N,0),1))","v":""},{"$f":"IF(ISNA(MATCH(CONCATENATE(AX$4,$A23),'Výsledková listina'!$N:$N,0)),\"\",INDEX('Výsledková listina'!$P:$P,MATCH(CONCATENATE(AX$4,$A23),'Výsledková listina'!$N:$N,0),1))","v":""},null,null,"",null,{"$f":"IF(ISNA(MATCH(CONCATENATE(BD$4,$A23),'Výsledková listina'!$N:$N,0)),\"\",INDEX('Výsledková listina'!$C:$C,MATCH(CONCATENATE(BD$4,$A23),'Výsledková listina'!$N:$N,0),1))","v":""},{"$f":"IF(ISNA(MATCH(CONCATENATE(BD$4,$A23),'Výsledková listina'!$N:$N,0)),\"\",INDEX('Výsledková listina'!$P:$P,MATCH(CONCATENATE(BD$4,$A23),'Výsledková listina'!$N:$N,0),1))","v":""},null,null,"",null,{"$f":"IF(ISNA(MATCH(CONCATENATE(BJ$4,$A23),'Výsledková listina'!$N:$N,0)),\"\",INDEX('Výsledková listina'!$C:$C,MATCH(CONCATENATE(BJ$4,$A23),'Výsledková listina'!$N:$N,0),1))","v":""},{"$f":"IF(ISNA(MATCH(CONCATENATE(BJ$4,$A23),'Výsledková listina'!$N:$N,0)),\"\",INDEX('Výsledková listina'!$P:$P,MATCH(CONCATENATE(BJ$4,$A23),'Výsledková listina'!$N:$N,0),1))","v":""},null,"",null,{"$f":"IF(ISNA(MATCH(CONCATENATE(BO$4,$A23),'Výsledková listina'!$N:$N,0)),\"\",INDEX('Výsledková listina'!$C:$C,MATCH(CONCATENATE(BO$4,$A23),'Výsledková listina'!$N:$N,0),1))","v":""},{"$f":"IF(ISNA(MATCH(CONCATENATE(BO$4,$A23),'Výsledková listina'!$N:$N,0)),\"\",INDEX('Výsledková listina'!$P:$P,MATCH(CONCATENATE(BO$4,$A23),'Výsledková listina'!$N:$N,0),1))","v":""},null,"",null,{"$f":"IF(ISNA(MATCH(CONCATENATE(BT$4,$A23),'Výsledková listina'!$N:$N,0)),\"\",INDEX('Výsledková listina'!$C:$C,MATCH(CONCATENATE(BT$4,$A23),'Výsledková listina'!$N:$N,0),1))","v":""},{"$f":"IF(ISNA(MATCH(CONCATENATE(BT$4,$A23),'Výsledková listina'!$N:$N,0)),\"\",INDEX('Výsledková listina'!$P:$P,MATCH(CONCATENATE(BT$4,$A23),'Výsledková listina'!$N:$N,0),1))","v":""},null,"",null,{"$f":"IF(ISNA(MATCH(CONCATENATE(BY$4,$A23),'Výsledková listina'!$N:$N,0)),\"\",INDEX('Výsledková listina'!$C:$C,MATCH(CONCATENATE(BY$4,$A23),'Výsledková listina'!$N:$N,0),1))","v":""},{"$f":"IF(ISNA(MATCH(CONCATENATE(BY$4,$A23),'Výsledková listina'!$N:$N,0)),\"\",INDEX('Výsledková listina'!$P:$P,MATCH(CONCATENATE(BY$4,$A23),'Výsledková listina'!$N:$N,0),1))","v":""},null,"",null,{"$f":"IF(ISNA(MATCH(CONCATENATE(CD$4,$A23),'Výsledková listina'!$N:$N,0)),\"\",INDEX('Výsledková listina'!$C:$C,MATCH(CONCATENATE(CD$4,$A23),'Výsledková listina'!$N:$N,0),1))","v":""},{"$f":"IF(ISNA(MATCH(CONCATENATE(CD$4,$A23),'Výsledková listina'!$N:$N,0)),\"\",INDEX('Výsledková listina'!$P:$P,MATCH(CONCATENATE(CD$4,$A23),'Výsledková listina'!$N:$N,0),1))","v":""},null,""]
[19,{"$f":"IF(ISNA(MATCH(CONCATENATE(B$4,$A24),'Výsledková listina'!$N:$N,0)),\"\",INDEX('Výsledková listina'!$C:$C,MATCH(CONCATENATE(B$4,$A24),'Výsledková listina'!$N:$N,0),1))","v":""},{"$f":"IF(ISNA(MATCH(CONCATENATE(B$4,$A24),'Výsledková listina'!$N:$N,0)),\"\",INDEX('Výsledková listina'!$P:$P,MATCH(CONCATENATE(B$4,$A24),'Výsledková listina'!$N:$N,0),1))","v":""},null,null,"",null,{"$f":"IF(ISNA(MATCH(CONCATENATE(H$4,$A24),'Výsledková listina'!$N:$N,0)),\"\",INDEX('Výsledková listina'!$C:$C,MATCH(CONCATENATE(H$4,$A24),'Výsledková listina'!$N:$N,0),1))","v":""},{"$f":"IF(ISNA(MATCH(CONCATENATE(H$4,$A24),'Výsledková listina'!$N:$N,0)),\"\",INDEX('Výsledková listina'!$P:$P,MATCH(CONCATENATE(H$4,$A24),'Výsledková listina'!$N:$N,0),1))","v":""},null,null,"",null,{"$f":"IF(ISNA(MATCH(CONCATENATE(N$4,$A24),'Výsledková listina'!$N:$N,0)),\"\",INDEX('Výsledková listina'!$C:$C,MATCH(CONCATENATE(N$4,$A24),'Výsledková listina'!$N:$N,0),1))","v":""},{"$f":"IF(ISNA(MATCH(CONCATENATE(N$4,$A24),'Výsledková listina'!$N:$N,0)),\"\",INDEX('Výsledková listina'!$P:$P,MATCH(CONCATENATE(N$4,$A24),'Výsledková listina'!$N:$N,0),1))","v":""},null,null,"",null,{"$f":"IF(ISNA(MATCH(CONCATENATE(T$4,$A24),'Výsledková listina'!$N:$N,0)),\"\",INDEX('Výsledková listina'!$C:$C,MATCH(CONCATENATE(T$4,$A24),'Výsledková listina'!$N:$N,0),1))","v":""},{"$f":"IF(ISNA(MATCH(CONCATENATE(T$4,$A24),'Výsledková listina'!$N:$N,0)),\"\",INDEX('Výsledková listina'!$P:$P,MATCH(CONCATENATE(T$4,$A24),'Výsledková listina'!$N:$N,0),1))","v":""},null,null,"",null,{"$f":"IF(ISNA(MATCH(CONCATENATE(Z$4,$A24),'Výsledková listina'!$N:$N,0)),\"\",INDEX('Výsledková listina'!$C:$C,MATCH(CONCATENATE(Z$4,$A24),'Výsledková listina'!$N:$N,0),1))","v":""},{"$f":"IF(ISNA(MATCH(CONCATENATE(Z$4,$A24),'Výsledková listina'!$N:$N,0)),\"\",INDEX('Výsledková listina'!$P:$P,MATCH(CONCATENATE(Z$4,$A24),'Výsledková listina'!$N:$N,0),1))","v":""},null,null,"",null,{"$f":"IF(ISNA(MATCH(CONCATENATE(AF$4,$A24),'Výsledková listina'!$N:$N,0)),\"\",INDEX('Výsledková listina'!$C:$C,MATCH(CONCATENATE(AF$4,$A24),'Výsledková listina'!$N:$N,0),1))","v":""},{"$f":"IF(ISNA(MATCH(CONCATENATE(AF$4,$A24),'Výsledková listina'!$N:$N,0)),\"\",INDEX('Výsledková listina'!$P:$P,MATCH(CONCATENATE(AF$4,$A24),'Výsledková listina'!$N:$N,0),1))","v":""},null,null,"",null,{"$f":"IF(ISNA(MATCH(CONCATENATE(AL$4,$A24),'Výsledková listina'!$N:$N,0)),\"\",INDEX('Výsledková listina'!$C:$C,MATCH(CONCATENATE(AL$4,$A24),'Výsledková listina'!$N:$N,0),1))","v":""},{"$f":"IF(ISNA(MATCH(CONCATENATE(AL$4,$A24),'Výsledková listina'!$N:$N,0)),\"\",INDEX('Výsledková listina'!$P:$P,MATCH(CONCATENATE(AL$4,$A24),'Výsledková listina'!$N:$N,0),1))","v":""},null,null,"",null,{"$f":"IF(ISNA(MATCH(CONCATENATE(AR$4,$A24),'Výsledková listina'!$N:$N,0)),\"\",INDEX('Výsledková listina'!$C:$C,MATCH(CONCATENATE(AR$4,$A24),'Výsledková listina'!$N:$N,0),1))","v":""},{"$f":"IF(ISNA(MATCH(CONCATENATE(AR$4,$A24),'Výsledková listina'!$N:$N,0)),\"\",INDEX('Výsledková listina'!$P:$P,MATCH(CONCATENATE(AR$4,$A24),'Výsledková listina'!$N:$N,0),1))","v":""},null,null,"",null,{"$f":"IF(ISNA(MATCH(CONCATENATE(AX$4,$A24),'Výsledková listina'!$N:$N,0)),\"\",INDEX('Výsledková listina'!$C:$C,MATCH(CONCATENATE(AX$4,$A24),'Výsledková listina'!$N:$N,0),1))","v":""},{"$f":"IF(ISNA(MATCH(CONCATENATE(AX$4,$A24),'Výsledková listina'!$N:$N,0)),\"\",INDEX('Výsledková listina'!$P:$P,MATCH(CONCATENATE(AX$4,$A24),'Výsledková listina'!$N:$N,0),1))","v":""},null,null,"",null,{"$f":"IF(ISNA(MATCH(CONCATENATE(BD$4,$A24),'Výsledková listina'!$N:$N,0)),\"\",INDEX('Výsledková listina'!$C:$C,MATCH(CONCATENATE(BD$4,$A24),'Výsledková listina'!$N:$N,0),1))","v":""},{"$f":"IF(ISNA(MATCH(CONCATENATE(BD$4,$A24),'Výsledková listina'!$N:$N,0)),\"\",INDEX('Výsledková listina'!$P:$P,MATCH(CONCATENATE(BD$4,$A24),'Výsledková listina'!$N:$N,0),1))","v":""},null,null,"",null,{"$f":"IF(ISNA(MATCH(CONCATENATE(BJ$4,$A24),'Výsledková listina'!$N:$N,0)),\"\",INDEX('Výsledková listina'!$C:$C,MATCH(CONCATENATE(BJ$4,$A24),'Výsledková listina'!$N:$N,0),1))","v":""},{"$f":"IF(ISNA(MATCH(CONCATENATE(BJ$4,$A24),'Výsledková listina'!$N:$N,0)),\"\",INDEX('Výsledková listina'!$P:$P,MATCH(CONCATENATE(BJ$4,$A24),'Výsledková listina'!$N:$N,0),1))","v":""},null,"",null,{"$f":"IF(ISNA(MATCH(CONCATENATE(BO$4,$A24),'Výsledková listina'!$N:$N,0)),\"\",INDEX('Výsledková listina'!$C:$C,MATCH(CONCATENATE(BO$4,$A24),'Výsledková listina'!$N:$N,0),1))","v":""},{"$f":"IF(ISNA(MATCH(CONCATENATE(BO$4,$A24),'Výsledková listina'!$N:$N,0)),\"\",INDEX('Výsledková listina'!$P:$P,MATCH(CONCATENATE(BO$4,$A24),'Výsledková listina'!$N:$N,0),1))","v":""},null,"",null,{"$f":"IF(ISNA(MATCH(CONCATENATE(BT$4,$A24),'Výsledková listina'!$N:$N,0)),\"\",INDEX('Výsledková listina'!$C:$C,MATCH(CONCATENATE(BT$4,$A24),'Výsledková listina'!$N:$N,0),1))","v":""},{"$f":"IF(ISNA(MATCH(CONCATENATE(BT$4,$A24),'Výsledková listina'!$N:$N,0)),\"\",INDEX('Výsledková listina'!$P:$P,MATCH(CONCATENATE(BT$4,$A24),'Výsledková listina'!$N:$N,0),1))","v":""},null,"",null,{"$f":"IF(ISNA(MATCH(CONCATENATE(BY$4,$A24),'Výsledková listina'!$N:$N,0)),\"\",INDEX('Výsledková listina'!$C:$C,MATCH(CONCATENATE(BY$4,$A24),'Výsledková listina'!$N:$N,0),1))","v":""},{"$f":"IF(ISNA(MATCH(CONCATENATE(BY$4,$A24),'Výsledková listina'!$N:$N,0)),\"\",INDEX('Výsledková listina'!$P:$P,MATCH(CONCATENATE(BY$4,$A24),'Výsledková listina'!$N:$N,0),1))","v":""},null,"",null,{"$f":"IF(ISNA(MATCH(CONCATENATE(CD$4,$A24),'Výsledková listina'!$N:$N,0)),\"\",INDEX('Výsledková listina'!$C:$C,MATCH(CONCATENATE(CD$4,$A24),'Výsledková listina'!$N:$N,0),1))","v":""},{"$f":"IF(ISNA(MATCH(CONCATENATE(CD$4,$A24),'Výsledková listina'!$N:$N,0)),\"\",INDEX('Výsledková listina'!$P:$P,MATCH(CONCATENATE(CD$4,$A24),'Výsledková listina'!$N:$N,0),1))","v":""},null,""]
[20,{"$f":"IF(ISNA(MATCH(CONCATENATE(B$4,$A25),'Výsledková listina'!$N:$N,0)),\"\",INDEX('Výsledková listina'!$C:$C,MATCH(CONCATENATE(B$4,$A25),'Výsledková listina'!$N:$N,0),1))","v":""},{"$f":"IF(ISNA(MATCH(CONCATENATE(B$4,$A25),'Výsledková listina'!$N:$N,0)),\"\",INDEX('Výsledková listina'!$P:$P,MATCH(CONCATENATE(B$4,$A25),'Výsledková listina'!$N:$N,0),1))","v":""},null,null,"",null,{"$f":"IF(ISNA(MATCH(CONCATENATE(H$4,$A25),'Výsledková listina'!$N:$N,0)),\"\",INDEX('Výsledková listina'!$C:$C,MATCH(CONCATENATE(H$4,$A25),'Výsledková listina'!$N:$N,0),1))","v":""},{"$f":"IF(ISNA(MATCH(CONCATENATE(H$4,$A25),'Výsledková listina'!$N:$N,0)),\"\",INDEX('Výsledková listina'!$P:$P,MATCH(CONCATENATE(H$4,$A25),'Výsledková listina'!$N:$N,0),1))","v":""},null,null,"",null,{"$f":"IF(ISNA(MATCH(CONCATENATE(N$4,$A25),'Výsledková listina'!$N:$N,0)),\"\",INDEX('Výsledková listina'!$C:$C,MATCH(CONCATENATE(N$4,$A25),'Výsledková listina'!$N:$N,0),1))","v":""},{"$f":"IF(ISNA(MATCH(CONCATENATE(N$4,$A25),'Výsledková listina'!$N:$N,0)),\"\",INDEX('Výsledková listina'!$P:$P,MATCH(CONCATENATE(N$4,$A25),'Výsledková listina'!$N:$N,0),1))","v":""},null,null,"",null,{"$f":"IF(ISNA(MATCH(CONCATENATE(T$4,$A25),'Výsledková listina'!$N:$N,0)),\"\",INDEX('Výsledková listina'!$C:$C,MATCH(CONCATENATE(T$4,$A25),'Výsledková listina'!$N:$N,0),1))","v":""},{"$f":"IF(ISNA(MATCH(CONCATENATE(T$4,$A25),'Výsledková listina'!$N:$N,0)),\"\",INDEX('Výsledková listina'!$P:$P,MATCH(CONCATENATE(T$4,$A25),'Výsledková listina'!$N:$N,0),1))","v":""},null,null,"",null,{"$f":"IF(ISNA(MATCH(CONCATENATE(Z$4,$A25),'Výsledková listina'!$N:$N,0)),\"\",INDEX('Výsledková listina'!$C:$C,MATCH(CONCATENATE(Z$4,$A25),'Výsledková listina'!$N:$N,0),1))","v":""},{"$f":"IF(ISNA(MATCH(CONCATENATE(Z$4,$A25),'Výsledková listina'!$N:$N,0)),\"\",INDEX('Výsledková listina'!$P:$P,MATCH(CONCATENATE(Z$4,$A25),'Výsledková listina'!$N:$N,0),1))","v":""},null,null,"",null,{"$f":"IF(ISNA(MATCH(CONCATENATE(AF$4,$A25),'Výsledková listina'!$N:$N,0)),\"\",INDEX('Výsledková listina'!$C:$C,MATCH(CONCATENATE(AF$4,$A25),'Výsledková listina'!$N:$N,0),1))","v":""},{"$f":"IF(ISNA(MATCH(CONCATENATE(AF$4,$A25),'Výsledková listina'!$N:$N,0)),\"\",INDEX('Výsledková listina'!$P:$P,MATCH(CONCATENATE(AF$4,$A25),'Výsledková listina'!$N:$N,0),1))","v":""},null,null,"",null,{"$f":"IF(ISNA(MATCH(CONCATENATE(AL$4,$A25),'Výsledková listina'!$N:$N,0)),\"\",INDEX('Výsledková listina'!$C:$C,MATCH(CONCATENATE(AL$4,$A25),'Výsledková listina'!$N:$N,0),1))","v":""},{"$f":"IF(ISNA(MATCH(CONCATENATE(AL$4,$A25),'Výsledková listina'!$N:$N,0)),\"\",INDEX('Výsledková listina'!$P:$P,MATCH(CONCATENATE(AL$4,$A25),'Výsledková listina'!$N:$N,0),1))","v":""},null,null,"",null,{"$f":"IF(ISNA(MATCH(CONCATENATE(AR$4,$A25),'Výsledková listina'!$N:$N,0)),\"\",INDEX('Výsledková listina'!$C:$C,MATCH(CONCATENATE(AR$4,$A25),'Výsledková listina'!$N:$N,0),1))","v":""},{"$f":"IF(ISNA(MATCH(CONCATENATE(AR$4,$A25),'Výsledková listina'!$N:$N,0)),\"\",INDEX('Výsledková listina'!$P:$P,MATCH(CONCATENATE(AR$4,$A25),'Výsledková listina'!$N:$N,0),1))","v":""},null,null,"",null,{"$f":"IF(ISNA(MATCH(CONCATENATE(AX$4,$A25),'Výsledková listina'!$N:$N,0)),\"\",INDEX('Výsledková listina'!$C:$C,MATCH(CONCATENATE(AX$4,$A25),'Výsledková listina'!$N:$N,0),1))","v":""},{"$f":"IF(ISNA(MATCH(CONCATENATE(AX$4,$A25),'Výsledková listina'!$N:$N,0)),\"\",INDEX('Výsledková listina'!$P:$P,MATCH(CONCATENATE(AX$4,$A25),'Výsledková listina'!$N:$N,0),1))","v":""},null,null,"",null,{"$f":"IF(ISNA(MATCH(CONCATENATE(BD$4,$A25),'Výsledková listina'!$N:$N,0)),\"\",INDEX('Výsledková listina'!$C:$C,MATCH(CONCATENATE(BD$4,$A25),'Výsledková listina'!$N:$N,0),1))","v":""},{"$f":"IF(ISNA(MATCH(CONCATENATE(BD$4,$A25),'Výsledková listina'!$N:$N,0)),\"\",INDEX('Výsledková listina'!$P:$P,MATCH(CONCATENATE(BD$4,$A25),'Výsledková listina'!$N:$N,0),1))","v":""},null,null,"",null,{"$f":"IF(ISNA(MATCH(CONCATENATE(BJ$4,$A25),'Výsledková listina'!$N:$N,0)),\"\",INDEX('Výsledková listina'!$C:$C,MATCH(CONCATENATE(BJ$4,$A25),'Výsledková listina'!$N:$N,0),1))","v":""},{"$f":"IF(ISNA(MATCH(CONCATENATE(BJ$4,$A25),'Výsledková listina'!$N:$N,0)),\"\",INDEX('Výsledková listina'!$P:$P,MATCH(CONCATENATE(BJ$4,$A25),'Výsledková listina'!$N:$N,0),1))","v":""},null,"",null,{"$f":"IF(ISNA(MATCH(CONCATENATE(BO$4,$A25),'Výsledková listina'!$N:$N,0)),\"\",INDEX('Výsledková listina'!$C:$C,MATCH(CONCATENATE(BO$4,$A25),'Výsledková listina'!$N:$N,0),1))","v":""},{"$f":"IF(ISNA(MATCH(CONCATENATE(BO$4,$A25),'Výsledková listina'!$N:$N,0)),\"\",INDEX('Výsledková listina'!$P:$P,MATCH(CONCATENATE(BO$4,$A25),'Výsledková listina'!$N:$N,0),1))","v":""},null,"",null,{"$f":"IF(ISNA(MATCH(CONCATENATE(BT$4,$A25),'Výsledková listina'!$N:$N,0)),\"\",INDEX('Výsledková listina'!$C:$C,MATCH(CONCATENATE(BT$4,$A25),'Výsledková listina'!$N:$N,0),1))","v":""},{"$f":"IF(ISNA(MATCH(CONCATENATE(BT$4,$A25),'Výsledková listina'!$N:$N,0)),\"\",INDEX('Výsledková listina'!$P:$P,MATCH(CONCATENATE(BT$4,$A25),'Výsledková listina'!$N:$N,0),1))","v":""},null,"",null,{"$f":"IF(ISNA(MATCH(CONCATENATE(BY$4,$A25),'Výsledková listina'!$N:$N,0)),\"\",INDEX('Výsledková listina'!$C:$C,MATCH(CONCATENATE(BY$4,$A25),'Výsledková listina'!$N:$N,0),1))","v":""},{"$f":"IF(ISNA(MATCH(CONCATENATE(BY$4,$A25),'Výsledková listina'!$N:$N,0)),\"\",INDEX('Výsledková listina'!$P:$P,MATCH(CONCATENATE(BY$4,$A25),'Výsledková listina'!$N:$N,0),1))","v":""},null,"",null,{"$f":"IF(ISNA(MATCH(CONCATENATE(CD$4,$A25),'Výsledková listina'!$N:$N,0)),\"\",INDEX('Výsledková listina'!$C:$C,MATCH(CONCATENATE(CD$4,$A25),'Výsledková listina'!$N:$N,0),1))","v":""},{"$f":"IF(ISNA(MATCH(CONCATENATE(CD$4,$A25),'Výsledková listina'!$N:$N,0)),\"\",INDEX('Výsledková listina'!$P:$P,MATCH(CONCATENATE(CD$4,$A25),'Výsledková listina'!$N:$N,0),1))","v":""},null,""]
[21,{"$f":"IF(ISNA(MATCH(CONCATENATE(B$4,$A26),'Výsledková listina'!$N:$N,0)),\"\",INDEX('Výsledková listina'!$C:$C,MATCH(CONCATENATE(B$4,$A26),'Výsledková listina'!$N:$N,0),1))","v":""},{"$f":"IF(ISNA(MATCH(CONCATENATE(B$4,$A26),'Výsledková listina'!$N:$N,0)),\"\",INDEX('Výsledková listina'!$P:$P,MATCH(CONCATENATE(B$4,$A26),'Výsledková listina'!$N:$N,0),1))","v":""},null,null,"",null,{"$f":"IF(ISNA(MATCH(CONCATENATE(H$4,$A26),'Výsledková listina'!$N:$N,0)),\"\",INDEX('Výsledková listina'!$C:$C,MATCH(CONCATENATE(H$4,$A26),'Výsledková listina'!$N:$N,0),1))","v":""},{"$f":"IF(ISNA(MATCH(CONCATENATE(H$4,$A26),'Výsledková listina'!$N:$N,0)),\"\",INDEX('Výsledková listina'!$P:$P,MATCH(CONCATENATE(H$4,$A26),'Výsledková listina'!$N:$N,0),1))","v":""},null,null,"",null,{"$f":"IF(ISNA(MATCH(CONCATENATE(N$4,$A26),'Výsledková listina'!$N:$N,0)),\"\",INDEX('Výsledková listina'!$C:$C,MATCH(CONCATENATE(N$4,$A26),'Výsledková listina'!$N:$N,0),1))","v":""},{"$f":"IF(ISNA(MATCH(CONCATENATE(N$4,$A26),'Výsledková listina'!$N:$N,0)),\"\",INDEX('Výsledková listina'!$P:$P,MATCH(CONCATENATE(N$4,$A26),'Výsledková listina'!$N:$N,0),1))","v":""},null,null,"",null,{"$f":"IF(ISNA(MATCH(CONCATENATE(T$4,$A26),'Výsledková listina'!$N:$N,0)),\"\",INDEX('Výsledková listina'!$C:$C,MATCH(CONCATENATE(T$4,$A26),'Výsledková listina'!$N:$N,0),1))","v":""},{"$f":"IF(ISNA(MATCH(CONCATENATE(T$4,$A26),'Výsledková listina'!$N:$N,0)),\"\",INDEX('Výsledková listina'!$P:$P,MATCH(CONCATENATE(T$4,$A26),'Výsledková listina'!$N:$N,0),1))","v":""},null,null,"",null,{"$f":"IF(ISNA(MATCH(CONCATENATE(Z$4,$A26),'Výsledková listina'!$N:$N,0)),\"\",INDEX('Výsledková listina'!$C:$C,MATCH(CONCATENATE(Z$4,$A26),'Výsledková listina'!$N:$N,0),1))","v":""},{"$f":"IF(ISNA(MATCH(CONCATENATE(Z$4,$A26),'Výsledková listina'!$N:$N,0)),\"\",INDEX('Výsledková listina'!$P:$P,MATCH(CONCATENATE(Z$4,$A26),'Výsledková listina'!$N:$N,0),1))","v":""},null,null,"",null,{"$f":"IF(ISNA(MATCH(CONCATENATE(AF$4,$A26),'Výsledková listina'!$N:$N,0)),\"\",INDEX('Výsledková listina'!$C:$C,MATCH(CONCATENATE(AF$4,$A26),'Výsledková listina'!$N:$N,0),1))","v":""},{"$f":"IF(ISNA(MATCH(CONCATENATE(AF$4,$A26),'Výsledková listina'!$N:$N,0)),\"\",INDEX('Výsledková listina'!$P:$P,MATCH(CONCATENATE(AF$4,$A26),'Výsledková listina'!$N:$N,0),1))","v":""},null,null,"",null,{"$f":"IF(ISNA(MATCH(CONCATENATE(AL$4,$A26),'Výsledková listina'!$N:$N,0)),\"\",INDEX('Výsledková listina'!$C:$C,MATCH(CONCATENATE(AL$4,$A26),'Výsledková listina'!$N:$N,0),1))","v":""},{"$f":"IF(ISNA(MATCH(CONCATENATE(AL$4,$A26),'Výsledková listina'!$N:$N,0)),\"\",INDEX('Výsledková listina'!$P:$P,MATCH(CONCATENATE(AL$4,$A26),'Výsledková listina'!$N:$N,0),1))","v":""},null,null,"",null,{"$f":"IF(ISNA(MATCH(CONCATENATE(AR$4,$A26),'Výsledková listina'!$N:$N,0)),\"\",INDEX('Výsledková listina'!$C:$C,MATCH(CONCATENATE(AR$4,$A26),'Výsledková listina'!$N:$N,0),1))","v":""},{"$f":"IF(ISNA(MATCH(CONCATENATE(AR$4,$A26),'Výsledková listina'!$N:$N,0)),\"\",INDEX('Výsledková listina'!$P:$P,MATCH(CONCATENATE(AR$4,$A26),'Výsledková listina'!$N:$N,0),1))","v":""},null,null,"",null,{"$f":"IF(ISNA(MATCH(CONCATENATE(AX$4,$A26),'Výsledková listina'!$N:$N,0)),\"\",INDEX('Výsledková listina'!$C:$C,MATCH(CONCATENATE(AX$4,$A26),'Výsledková listina'!$N:$N,0),1))","v":""},{"$f":"IF(ISNA(MATCH(CONCATENATE(AX$4,$A26),'Výsledková listina'!$N:$N,0)),\"\",INDEX('Výsledková listina'!$P:$P,MATCH(CONCATENATE(AX$4,$A26),'Výsledková listina'!$N:$N,0),1))","v":""},null,null,"",null,{"$f":"IF(ISNA(MATCH(CONCATENATE(BD$4,$A26),'Výsledková listina'!$N:$N,0)),\"\",INDEX('Výsledková listina'!$C:$C,MATCH(CONCATENATE(BD$4,$A26),'Výsledková listina'!$N:$N,0),1))","v":""},{"$f":"IF(ISNA(MATCH(CONCATENATE(BD$4,$A26),'Výsledková listina'!$N:$N,0)),\"\",INDEX('Výsledková listina'!$P:$P,MATCH(CONCATENATE(BD$4,$A26),'Výsledková listina'!$N:$N,0),1))","v":""},null,null,"",null,{"$f":"IF(ISNA(MATCH(CONCATENATE(BJ$4,$A26),'Výsledková listina'!$N:$N,0)),\"\",INDEX('Výsledková listina'!$C:$C,MATCH(CONCATENATE(BJ$4,$A26),'Výsledková listina'!$N:$N,0),1))","v":""},{"$f":"IF(ISNA(MATCH(CONCATENATE(BJ$4,$A26),'Výsledková listina'!$N:$N,0)),\"\",INDEX('Výsledková listina'!$P:$P,MATCH(CONCATENATE(BJ$4,$A26),'Výsledková listina'!$N:$N,0),1))","v":""},null,"",null,{"$f":"IF(ISNA(MATCH(CONCATENATE(BO$4,$A26),'Výsledková listina'!$N:$N,0)),\"\",INDEX('Výsledková listina'!$C:$C,MATCH(CONCATENATE(BO$4,$A26),'Výsledková listina'!$N:$N,0),1))","v":""},{"$f":"IF(ISNA(MATCH(CONCATENATE(BO$4,$A26),'Výsledková listina'!$N:$N,0)),\"\",INDEX('Výsledková listina'!$P:$P,MATCH(CONCATENATE(BO$4,$A26),'Výsledková listina'!$N:$N,0),1))","v":""},null,"",null,{"$f":"IF(ISNA(MATCH(CONCATENATE(BT$4,$A26),'Výsledková listina'!$N:$N,0)),\"\",INDEX('Výsledková listina'!$C:$C,MATCH(CONCATENATE(BT$4,$A26),'Výsledková listina'!$N:$N,0),1))","v":""},{"$f":"IF(ISNA(MATCH(CONCATENATE(BT$4,$A26),'Výsledková listina'!$N:$N,0)),\"\",INDEX('Výsledková listina'!$P:$P,MATCH(CONCATENATE(BT$4,$A26),'Výsledková listina'!$N:$N,0),1))","v":""},null,"",null,{"$f":"IF(ISNA(MATCH(CONCATENATE(BY$4,$A26),'Výsledková listina'!$N:$N,0)),\"\",INDEX('Výsledková listina'!$C:$C,MATCH(CONCATENATE(BY$4,$A26),'Výsledková listina'!$N:$N,0),1))","v":""},{"$f":"IF(ISNA(MATCH(CONCATENATE(BY$4,$A26),'Výsledková listina'!$N:$N,0)),\"\",INDEX('Výsledková listina'!$P:$P,MATCH(CONCATENATE(BY$4,$A26),'Výsledková listina'!$N:$N,0),1))","v":""},null,"",null,{"$f":"IF(ISNA(MATCH(CONCATENATE(CD$4,$A26),'Výsledková listina'!$N:$N,0)),\"\",INDEX('Výsledková listina'!$C:$C,MATCH(CONCATENATE(CD$4,$A26),'Výsledková listina'!$N:$N,0),1))","v":""},{"$f":"IF(ISNA(MATCH(CONCATENATE(CD$4,$A26),'Výsledková listina'!$N:$N,0)),\"\",INDEX('Výsledková listina'!$P:$P,MATCH(CONCATENATE(CD$4,$A26),'Výsledková listina'!$N:$N,0),1))","v":""},null,""]
[22,{"$f":"IF(ISNA(MATCH(CONCATENATE(B$4,$A27),'Výsledková listina'!$N:$N,0)),\"\",INDEX('Výsledková listina'!$C:$C,MATCH(CONCATENATE(B$4,$A27),'Výsledková listina'!$N:$N,0),1))","v":""},{"$f":"IF(ISNA(MATCH(CONCATENATE(B$4,$A27),'Výsledková listina'!$N:$N,0)),\"\",INDEX('Výsledková listina'!$P:$P,MATCH(CONCATENATE(B$4,$A27),'Výsledková listina'!$N:$N,0),1))","v":""},null,null,"",null,{"$f":"IF(ISNA(MATCH(CONCATENATE(H$4,$A27),'Výsledková listina'!$N:$N,0)),\"\",INDEX('Výsledková listina'!$C:$C,MATCH(CONCATENATE(H$4,$A27),'Výsledková listina'!$N:$N,0),1))","v":""},{"$f":"IF(ISNA(MATCH(CONCATENATE(H$4,$A27),'Výsledková listina'!$N:$N,0)),\"\",INDEX('Výsledková listina'!$P:$P,MATCH(CONCATENATE(H$4,$A27),'Výsledková listina'!$N:$N,0),1))","v":""},null,null,"",null,{"$f":"IF(ISNA(MATCH(CONCATENATE(N$4,$A27),'Výsledková listina'!$N:$N,0)),\"\",INDEX('Výsledková listina'!$C:$C,MATCH(CONCATENATE(N$4,$A27),'Výsledková listina'!$N:$N,0),1))","v":""},{"$f":"IF(ISNA(MATCH(CONCATENATE(N$4,$A27),'Výsledková listina'!$N:$N,0)),\"\",INDEX('Výsledková listina'!$P:$P,MATCH(CONCATENATE(N$4,$A27),'Výsledková listina'!$N:$N,0),1))","v":""},null,null,"",null,{"$f":"IF(ISNA(MATCH(CONCATENATE(T$4,$A27),'Výsledková listina'!$N:$N,0)),\"\",INDEX('Výsledková listina'!$C:$C,MATCH(CONCATENATE(T$4,$A27),'Výsledková listina'!$N:$N,0),1))","v":""},{"$f":"IF(ISNA(MATCH(CONCATENATE(T$4,$A27),'Výsledková listina'!$N:$N,0)),\"\",INDEX('Výsledková listina'!$P:$P,MATCH(CONCATENATE(T$4,$A27),'Výsledková listina'!$N:$N,0),1))","v":""},null,null,"",null,{"$f":"IF(ISNA(MATCH(CONCATENATE(Z$4,$A27),'Výsledková listina'!$N:$N,0)),\"\",INDEX('Výsledková listina'!$C:$C,MATCH(CONCATENATE(Z$4,$A27),'Výsledková listina'!$N:$N,0),1))","v":""},{"$f":"IF(ISNA(MATCH(CONCATENATE(Z$4,$A27),'Výsledková listina'!$N:$N,0)),\"\",INDEX('Výsledková listina'!$P:$P,MATCH(CONCATENATE(Z$4,$A27),'Výsledková listina'!$N:$N,0),1))","v":""},null,null,"",null,{"$f":"IF(ISNA(MATCH(CONCATENATE(AF$4,$A27),'Výsledková listina'!$N:$N,0)),\"\",INDEX('Výsledková listina'!$C:$C,MATCH(CONCATENATE(AF$4,$A27),'Výsledková listina'!$N:$N,0),1))","v":""},{"$f":"IF(ISNA(MATCH(CONCATENATE(AF$4,$A27),'Výsledková listina'!$N:$N,0)),\"\",INDEX('Výsledková listina'!$P:$P,MATCH(CONCATENATE(AF$4,$A27),'Výsledková listina'!$N:$N,0),1))","v":""},null,null,"",null,{"$f":"IF(ISNA(MATCH(CONCATENATE(AL$4,$A27),'Výsledková listina'!$N:$N,0)),\"\",INDEX('Výsledková listina'!$C:$C,MATCH(CONCATENATE(AL$4,$A27),'Výsledková listina'!$N:$N,0),1))","v":""},{"$f":"IF(ISNA(MATCH(CONCATENATE(AL$4,$A27),'Výsledková listina'!$N:$N,0)),\"\",INDEX('Výsledková listina'!$P:$P,MATCH(CONCATENATE(AL$4,$A27),'Výsledková listina'!$N:$N,0),1))","v":""},null,null,"",null,{"$f":"IF(ISNA(MATCH(CONCATENATE(AR$4,$A27),'Výsledková listina'!$N:$N,0)),\"\",INDEX('Výsledková listina'!$C:$C,MATCH(CONCATENATE(AR$4,$A27),'Výsledková listina'!$N:$N,0),1))","v":""},{"$f":"IF(ISNA(MATCH(CONCATENATE(AR$4,$A27),'Výsledková listina'!$N:$N,0)),\"\",INDEX('Výsledková listina'!$P:$P,MATCH(CONCATENATE(AR$4,$A27),'Výsledková listina'!$N:$N,0),1))","v":""},null,null,"",null,{"$f":"IF(ISNA(MATCH(CONCATENATE(AX$4,$A27),'Výsledková listina'!$N:$N,0)),\"\",INDEX('Výsledková listina'!$C:$C,MATCH(CONCATENATE(AX$4,$A27),'Výsledková listina'!$N:$N,0),1))","v":""},{"$f":"IF(ISNA(MATCH(CONCATENATE(AX$4,$A27),'Výsledková listina'!$N:$N,0)),\"\",INDEX('Výsledková listina'!$P:$P,MATCH(CONCATENATE(AX$4,$A27),'Výsledková listina'!$N:$N,0),1))","v":""},null,null,"",null,{"$f":"IF(ISNA(MATCH(CONCATENATE(BD$4,$A27),'Výsledková listina'!$N:$N,0)),\"\",INDEX('Výsledková listina'!$C:$C,MATCH(CONCATENATE(BD$4,$A27),'Výsledková listina'!$N:$N,0),1))","v":""},{"$f":"IF(ISNA(MATCH(CONCATENATE(BD$4,$A27),'Výsledková listina'!$N:$N,0)),\"\",INDEX('Výsledková listina'!$P:$P,MATCH(CONCATENATE(BD$4,$A27),'Výsledková listina'!$N:$N,0),1))","v":""},null,null,"",null,{"$f":"IF(ISNA(MATCH(CONCATENATE(BJ$4,$A27),'Výsledková listina'!$N:$N,0)),\"\",INDEX('Výsledková listina'!$C:$C,MATCH(CONCATENATE(BJ$4,$A27),'Výsledková listina'!$N:$N,0),1))","v":""},{"$f":"IF(ISNA(MATCH(CONCATENATE(BJ$4,$A27),'Výsledková listina'!$N:$N,0)),\"\",INDEX('Výsledková listina'!$P:$P,MATCH(CONCATENATE(BJ$4,$A27),'Výsledková listina'!$N:$N,0),1))","v":""},null,"",null,{"$f":"IF(ISNA(MATCH(CONCATENATE(BO$4,$A27),'Výsledková listina'!$N:$N,0)),\"\",INDEX('Výsledková listina'!$C:$C,MATCH(CONCATENATE(BO$4,$A27),'Výsledková listina'!$N:$N,0),1))","v":""},{"$f":"IF(ISNA(MATCH(CONCATENATE(BO$4,$A27),'Výsledková listina'!$N:$N,0)),\"\",INDEX('Výsledková listina'!$P:$P,MATCH(CONCATENATE(BO$4,$A27),'Výsledková listina'!$N:$N,0),1))","v":""},null,"",null,{"$f":"IF(ISNA(MATCH(CONCATENATE(BT$4,$A27),'Výsledková listina'!$N:$N,0)),\"\",INDEX('Výsledková listina'!$C:$C,MATCH(CONCATENATE(BT$4,$A27),'Výsledková listina'!$N:$N,0),1))","v":""},{"$f":"IF(ISNA(MATCH(CONCATENATE(BT$4,$A27),'Výsledková listina'!$N:$N,0)),\"\",INDEX('Výsledková listina'!$P:$P,MATCH(CONCATENATE(BT$4,$A27),'Výsledková listina'!$N:$N,0),1))","v":""},null,"",null,{"$f":"IF(ISNA(MATCH(CONCATENATE(BY$4,$A27),'Výsledková listina'!$N:$N,0)),\"\",INDEX('Výsledková listina'!$C:$C,MATCH(CONCATENATE(BY$4,$A27),'Výsledková listina'!$N:$N,0),1))","v":""},{"$f":"IF(ISNA(MATCH(CONCATENATE(BY$4,$A27),'Výsledková listina'!$N:$N,0)),\"\",INDEX('Výsledková listina'!$P:$P,MATCH(CONCATENATE(BY$4,$A27),'Výsledková listina'!$N:$N,0),1))","v":""},null,"",null,{"$f":"IF(ISNA(MATCH(CONCATENATE(CD$4,$A27),'Výsledková listina'!$N:$N,0)),\"\",INDEX('Výsledková listina'!$C:$C,MATCH(CONCATENATE(CD$4,$A27),'Výsledková listina'!$N:$N,0),1))","v":""},{"$f":"IF(ISNA(MATCH(CONCATENATE(CD$4,$A27),'Výsledková listina'!$N:$N,0)),\"\",INDEX('Výsledková listina'!$P:$P,MATCH(CONCATENATE(CD$4,$A27),'Výsledková listina'!$N:$N,0),1))","v":""},null,""]
[23,{"$f":"IF(ISNA(MATCH(CONCATENATE(B$4,$A28),'Výsledková listina'!$N:$N,0)),\"\",INDEX('Výsledková listina'!$C:$C,MATCH(CONCATENATE(B$4,$A28),'Výsledková listina'!$N:$N,0),1))","v":""},{"$f":"IF(ISNA(MATCH(CONCATENATE(B$4,$A28),'Výsledková listina'!$N:$N,0)),\"\",INDEX('Výsledková listina'!$P:$P,MATCH(CONCATENATE(B$4,$A28),'Výsledková listina'!$N:$N,0),1))","v":""},null,null,"",null,{"$f":"IF(ISNA(MATCH(CONCATENATE(H$4,$A28),'Výsledková listina'!$N:$N,0)),\"\",INDEX('Výsledková listina'!$C:$C,MATCH(CONCATENATE(H$4,$A28),'Výsledková listina'!$N:$N,0),1))","v":""},{"$f":"IF(ISNA(MATCH(CONCATENATE(H$4,$A28),'Výsledková listina'!$N:$N,0)),\"\",INDEX('Výsledková listina'!$P:$P,MATCH(CONCATENATE(H$4,$A28),'Výsledková listina'!$N:$N,0),1))","v":""},null,null,"",null,{"$f":"IF(ISNA(MATCH(CONCATENATE(N$4,$A28),'Výsledková listina'!$N:$N,0)),\"\",INDEX('Výsledková listina'!$C:$C,MATCH(CONCATENATE(N$4,$A28),'Výsledková listina'!$N:$N,0),1))","v":""},{"$f":"IF(ISNA(MATCH(CONCATENATE(N$4,$A28),'Výsledková listina'!$N:$N,0)),\"\",INDEX('Výsledková listina'!$P:$P,MATCH(CONCATENATE(N$4,$A28),'Výsledková listina'!$N:$N,0),1))","v":""},null,null,"",null,{"$f":"IF(ISNA(MATCH(CONCATENATE(T$4,$A28),'Výsledková listina'!$N:$N,0)),\"\",INDEX('Výsledková listina'!$C:$C,MATCH(CONCATENATE(T$4,$A28),'Výsledková listina'!$N:$N,0),1))","v":""},{"$f":"IF(ISNA(MATCH(CONCATENATE(T$4,$A28),'Výsledková listina'!$N:$N,0)),\"\",INDEX('Výsledková listina'!$P:$P,MATCH(CONCATENATE(T$4,$A28),'Výsledková listina'!$N:$N,0),1))","v":""},null,null,"",null,{"$f":"IF(ISNA(MATCH(CONCATENATE(Z$4,$A28),'Výsledková listina'!$N:$N,0)),\"\",INDEX('Výsledková listina'!$C:$C,MATCH(CONCATENATE(Z$4,$A28),'Výsledková listina'!$N:$N,0),1))","v":""},{"$f":"IF(ISNA(MATCH(CONCATENATE(Z$4,$A28),'Výsledková listina'!$N:$N,0)),\"\",INDEX('Výsledková listina'!$P:$P,MATCH(CONCATENATE(Z$4,$A28),'Výsledková listina'!$N:$N,0),1))","v":""},null,null,"",null,{"$f":"IF(ISNA(MATCH(CONCATENATE(AF$4,$A28),'Výsledková listina'!$N:$N,0)),\"\",INDEX('Výsledková listina'!$C:$C,MATCH(CONCATENATE(AF$4,$A28),'Výsledková listina'!$N:$N,0),1))","v":""},{"$f":"IF(ISNA(MATCH(CONCATENATE(AF$4,$A28),'Výsledková listina'!$N:$N,0)),\"\",INDEX('Výsledková listina'!$P:$P,MATCH(CONCATENATE(AF$4,$A28),'Výsledková listina'!$N:$N,0),1))","v":""},null,null,"",null,{"$f":"IF(ISNA(MATCH(CONCATENATE(AL$4,$A28),'Výsledková listina'!$N:$N,0)),\"\",INDEX('Výsledková listina'!$C:$C,MATCH(CONCATENATE(AL$4,$A28),'Výsledková listina'!$N:$N,0),1))","v":""},{"$f":"IF(ISNA(MATCH(CONCATENATE(AL$4,$A28),'Výsledková listina'!$N:$N,0)),\"\",INDEX('Výsledková listina'!$P:$P,MATCH(CONCATENATE(AL$4,$A28),'Výsledková listina'!$N:$N,0),1))","v":""},null,null,"",null,{"$f":"IF(ISNA(MATCH(CONCATENATE(AR$4,$A28),'Výsledková listina'!$N:$N,0)),\"\",INDEX('Výsledková listina'!$C:$C,MATCH(CONCATENATE(AR$4,$A28),'Výsledková listina'!$N:$N,0),1))","v":""},{"$f":"IF(ISNA(MATCH(CONCATENATE(AR$4,$A28),'Výsledková listina'!$N:$N,0)),\"\",INDEX('Výsledková listina'!$P:$P,MATCH(CONCATENATE(AR$4,$A28),'Výsledková listina'!$N:$N,0),1))","v":""},null,null,"",null,{"$f":"IF(ISNA(MATCH(CONCATENATE(AX$4,$A28),'Výsledková listina'!$N:$N,0)),\"\",INDEX('Výsledková listina'!$C:$C,MATCH(CONCATENATE(AX$4,$A28),'Výsledková listina'!$N:$N,0),1))","v":""},{"$f":"IF(ISNA(MATCH(CONCATENATE(AX$4,$A28),'Výsledková listina'!$N:$N,0)),\"\",INDEX('Výsledková listina'!$P:$P,MATCH(CONCATENATE(AX$4,$A28),'Výsledková listina'!$N:$N,0),1))","v":""},null,null,"",null,{"$f":"IF(ISNA(MATCH(CONCATENATE(BD$4,$A28),'Výsledková listina'!$N:$N,0)),\"\",INDEX('Výsledková listina'!$C:$C,MATCH(CONCATENATE(BD$4,$A28),'Výsledková listina'!$N:$N,0),1))","v":""},{"$f":"IF(ISNA(MATCH(CONCATENATE(BD$4,$A28),'Výsledková listina'!$N:$N,0)),\"\",INDEX('Výsledková listina'!$P:$P,MATCH(CONCATENATE(BD$4,$A28),'Výsledková listina'!$N:$N,0),1))","v":""},null,null,"",null,{"$f":"IF(ISNA(MATCH(CONCATENATE(BJ$4,$A28),'Výsledková listina'!$N:$N,0)),\"\",INDEX('Výsledková listina'!$C:$C,MATCH(CONCATENATE(BJ$4,$A28),'Výsledková listina'!$N:$N,0),1))","v":""},{"$f":"IF(ISNA(MATCH(CONCATENATE(BJ$4,$A28),'Výsledková listina'!$N:$N,0)),\"\",INDEX('Výsledková listina'!$P:$P,MATCH(CONCATENATE(BJ$4,$A28),'Výsledková listina'!$N:$N,0),1))","v":""},null,"",null,{"$f":"IF(ISNA(MATCH(CONCATENATE(BO$4,$A28),'Výsledková listina'!$N:$N,0)),\"\",INDEX('Výsledková listina'!$C:$C,MATCH(CONCATENATE(BO$4,$A28),'Výsledková listina'!$N:$N,0),1))","v":""},{"$f":"IF(ISNA(MATCH(CONCATENATE(BO$4,$A28),'Výsledková listina'!$N:$N,0)),\"\",INDEX('Výsledková listina'!$P:$P,MATCH(CONCATENATE(BO$4,$A28),'Výsledková listina'!$N:$N,0),1))","v":""},null,"",null,{"$f":"IF(ISNA(MATCH(CONCATENATE(BT$4,$A28),'Výsledková listina'!$N:$N,0)),\"\",INDEX('Výsledková listina'!$C:$C,MATCH(CONCATENATE(BT$4,$A28),'Výsledková listina'!$N:$N,0),1))","v":""},{"$f":"IF(ISNA(MATCH(CONCATENATE(BT$4,$A28),'Výsledková listina'!$N:$N,0)),\"\",INDEX('Výsledková listina'!$P:$P,MATCH(CONCATENATE(BT$4,$A28),'Výsledková listina'!$N:$N,0),1))","v":""},null,"",null,{"$f":"IF(ISNA(MATCH(CONCATENATE(BY$4,$A28),'Výsledková listina'!$N:$N,0)),\"\",INDEX('Výsledková listina'!$C:$C,MATCH(CONCATENATE(BY$4,$A28),'Výsledková listina'!$N:$N,0),1))","v":""},{"$f":"IF(ISNA(MATCH(CONCATENATE(BY$4,$A28),'Výsledková listina'!$N:$N,0)),\"\",INDEX('Výsledková listina'!$P:$P,MATCH(CONCATENATE(BY$4,$A28),'Výsledková listina'!$N:$N,0),1))","v":""},null,"",null,{"$f":"IF(ISNA(MATCH(CONCATENATE(CD$4,$A28),'Výsledková listina'!$N:$N,0)),\"\",INDEX('Výsledková listina'!$C:$C,MATCH(CONCATENATE(CD$4,$A28),'Výsledková listina'!$N:$N,0),1))","v":""},{"$f":"IF(ISNA(MATCH(CONCATENATE(CD$4,$A28),'Výsledková listina'!$N:$N,0)),\"\",INDEX('Výsledková listina'!$P:$P,MATCH(CONCATENATE(CD$4,$A28),'Výsledková listina'!$N:$N,0),1))","v":""},null,""]
[24,{"$f":"IF(ISNA(MATCH(CONCATENATE(B$4,$A29),'Výsledková listina'!$N:$N,0)),\"\",INDEX('Výsledková listina'!$C:$C,MATCH(CONCATENATE(B$4,$A29),'Výsledková listina'!$N:$N,0),1))","v":""},{"$f":"IF(ISNA(MATCH(CONCATENATE(B$4,$A29),'Výsledková listina'!$N:$N,0)),\"\",INDEX('Výsledková listina'!$P:$P,MATCH(CONCATENATE(B$4,$A29),'Výsledková listina'!$N:$N,0),1))","v":""},null,null,"",null,{"$f":"IF(ISNA(MATCH(CONCATENATE(H$4,$A29),'Výsledková listina'!$N:$N,0)),\"\",INDEX('Výsledková listina'!$C:$C,MATCH(CONCATENATE(H$4,$A29),'Výsledková listina'!$N:$N,0),1))","v":""},{"$f":"IF(ISNA(MATCH(CONCATENATE(H$4,$A29),'Výsledková listina'!$N:$N,0)),\"\",INDEX('Výsledková listina'!$P:$P,MATCH(CONCATENATE(H$4,$A29),'Výsledková listina'!$N:$N,0),1))","v":""},null,null,"",null,{"$f":"IF(ISNA(MATCH(CONCATENATE(N$4,$A29),'Výsledková listina'!$N:$N,0)),\"\",INDEX('Výsledková listina'!$C:$C,MATCH(CONCATENATE(N$4,$A29),'Výsledková listina'!$N:$N,0),1))","v":""},{"$f":"IF(ISNA(MATCH(CONCATENATE(N$4,$A29),'Výsledková listina'!$N:$N,0)),\"\",INDEX('Výsledková listina'!$P:$P,MATCH(CONCATENATE(N$4,$A29),'Výsledková listina'!$N:$N,0),1))","v":""},null,null,"",null,{"$f":"IF(ISNA(MATCH(CONCATENATE(T$4,$A29),'Výsledková listina'!$N:$N,0)),\"\",INDEX('Výsledková listina'!$C:$C,MATCH(CONCATENATE(T$4,$A29),'Výsledková listina'!$N:$N,0),1))","v":""},{"$f":"IF(ISNA(MATCH(CONCATENATE(T$4,$A29),'Výsledková listina'!$N:$N,0)),\"\",INDEX('Výsledková listina'!$P:$P,MATCH(CONCATENATE(T$4,$A29),'Výsledková listina'!$N:$N,0),1))","v":""},null,null,"",null,{"$f":"IF(ISNA(MATCH(CONCATENATE(Z$4,$A29),'Výsledková listina'!$N:$N,0)),\"\",INDEX('Výsledková listina'!$C:$C,MATCH(CONCATENATE(Z$4,$A29),'Výsledková listina'!$N:$N,0),1))","v":""},{"$f":"IF(ISNA(MATCH(CONCATENATE(Z$4,$A29),'Výsledková listina'!$N:$N,0)),\"\",INDEX('Výsledková listina'!$P:$P,MATCH(CONCATENATE(Z$4,$A29),'Výsledková listina'!$N:$N,0),1))","v":""},null,null,"",null,{"$f":"IF(ISNA(MATCH(CONCATENATE(AF$4,$A29),'Výsledková listina'!$N:$N,0)),\"\",INDEX('Výsledková listina'!$C:$C,MATCH(CONCATENATE(AF$4,$A29),'Výsledková listina'!$N:$N,0),1))","v":""},{"$f":"IF(ISNA(MATCH(CONCATENATE(AF$4,$A29),'Výsledková listina'!$N:$N,0)),\"\",INDEX('Výsledková listina'!$P:$P,MATCH(CONCATENATE(AF$4,$A29),'Výsledková listina'!$N:$N,0),1))","v":""},null,null,"",null,{"$f":"IF(ISNA(MATCH(CONCATENATE(AL$4,$A29),'Výsledková listina'!$N:$N,0)),\"\",INDEX('Výsledková listina'!$C:$C,MATCH(CONCATENATE(AL$4,$A29),'Výsledková listina'!$N:$N,0),1))","v":""},{"$f":"IF(ISNA(MATCH(CONCATENATE(AL$4,$A29),'Výsledková listina'!$N:$N,0)),\"\",INDEX('Výsledková listina'!$P:$P,MATCH(CONCATENATE(AL$4,$A29),'Výsledková listina'!$N:$N,0),1))","v":""},null,null,"",null,{"$f":"IF(ISNA(MATCH(CONCATENATE(AR$4,$A29),'Výsledková listina'!$N:$N,0)),\"\",INDEX('Výsledková listina'!$C:$C,MATCH(CONCATENATE(AR$4,$A29),'Výsledková listina'!$N:$N,0),1))","v":""},{"$f":"IF(ISNA(MATCH(CONCATENATE(AR$4,$A29),'Výsledková listina'!$N:$N,0)),\"\",INDEX('Výsledková listina'!$P:$P,MATCH(CONCATENATE(AR$4,$A29),'Výsledková listina'!$N:$N,0),1))","v":""},null,null,"",null,{"$f":"IF(ISNA(MATCH(CONCATENATE(AX$4,$A29),'Výsledková listina'!$N:$N,0)),\"\",INDEX('Výsledková listina'!$C:$C,MATCH(CONCATENATE(AX$4,$A29),'Výsledková listina'!$N:$N,0),1))","v":""},{"$f":"IF(ISNA(MATCH(CONCATENATE(AX$4,$A29),'Výsledková listina'!$N:$N,0)),\"\",INDEX('Výsledková listina'!$P:$P,MATCH(CONCATENATE(AX$4,$A29),'Výsledková listina'!$N:$N,0),1))","v":""},null,null,"",null,{"$f":"IF(ISNA(MATCH(CONCATENATE(BD$4,$A29),'Výsledková listina'!$N:$N,0)),\"\",INDEX('Výsledková listina'!$C:$C,MATCH(CONCATENATE(BD$4,$A29),'Výsledková listina'!$N:$N,0),1))","v":""},{"$f":"IF(ISNA(MATCH(CONCATENATE(BD$4,$A29),'Výsledková listina'!$N:$N,0)),\"\",INDEX('Výsledková listina'!$P:$P,MATCH(CONCATENATE(BD$4,$A29),'Výsledková listina'!$N:$N,0),1))","v":""},null,null,"",null,{"$f":"IF(ISNA(MATCH(CONCATENATE(BJ$4,$A29),'Výsledková listina'!$N:$N,0)),\"\",INDEX('Výsledková listina'!$C:$C,MATCH(CONCATENATE(BJ$4,$A29),'Výsledková listina'!$N:$N,0),1))","v":""},{"$f":"IF(ISNA(MATCH(CONCATENATE(BJ$4,$A29),'Výsledková listina'!$N:$N,0)),\"\",INDEX('Výsledková listina'!$P:$P,MATCH(CONCATENATE(BJ$4,$A29),'Výsledková listina'!$N:$N,0),1))","v":""},null,"",null,{"$f":"IF(ISNA(MATCH(CONCATENATE(BO$4,$A29),'Výsledková listina'!$N:$N,0)),\"\",INDEX('Výsledková listina'!$C:$C,MATCH(CONCATENATE(BO$4,$A29),'Výsledková listina'!$N:$N,0),1))","v":""},{"$f":"IF(ISNA(MATCH(CONCATENATE(BO$4,$A29),'Výsledková listina'!$N:$N,0)),\"\",INDEX('Výsledková listina'!$P:$P,MATCH(CONCATENATE(BO$4,$A29),'Výsledková listina'!$N:$N,0),1))","v":""},null,"",null,{"$f":"IF(ISNA(MATCH(CONCATENATE(BT$4,$A29),'Výsledková listina'!$N:$N,0)),\"\",INDEX('Výsledková listina'!$C:$C,MATCH(CONCATENATE(BT$4,$A29),'Výsledková listina'!$N:$N,0),1))","v":""},{"$f":"IF(ISNA(MATCH(CONCATENATE(BT$4,$A29),'Výsledková listina'!$N:$N,0)),\"\",INDEX('Výsledková listina'!$P:$P,MATCH(CONCATENATE(BT$4,$A29),'Výsledková listina'!$N:$N,0),1))","v":""},null,"",null,{"$f":"IF(ISNA(MATCH(CONCATENATE(BY$4,$A29),'Výsledková listina'!$N:$N,0)),\"\",INDEX('Výsledková listina'!$C:$C,MATCH(CONCATENATE(BY$4,$A29),'Výsledková listina'!$N:$N,0),1))","v":""},{"$f":"IF(ISNA(MATCH(CONCATENATE(BY$4,$A29),'Výsledková listina'!$N:$N,0)),\"\",INDEX('Výsledková listina'!$P:$P,MATCH(CONCATENATE(BY$4,$A29),'Výsledková listina'!$N:$N,0),1))","v":""},null,"",null,{"$f":"IF(ISNA(MATCH(CONCATENATE(CD$4,$A29),'Výsledková listina'!$N:$N,0)),\"\",INDEX('Výsledková listina'!$C:$C,MATCH(CONCATENATE(CD$4,$A29),'Výsledková listina'!$N:$N,0),1))","v":""},{"$f":"IF(ISNA(MATCH(CONCATENATE(CD$4,$A29),'Výsledková listina'!$N:$N,0)),\"\",INDEX('Výsledková listina'!$P:$P,MATCH(CONCATENATE(CD$4,$A29),'Výsledková listina'!$N:$N,0),1))","v":""},null,""]
[25,{"$f":"IF(ISNA(MATCH(CONCATENATE(B$4,$A30),'Výsledková listina'!$N:$N,0)),\"\",INDEX('Výsledková listina'!$C:$C,MATCH(CONCATENATE(B$4,$A30),'Výsledková listina'!$N:$N,0),1))","v":""},{"$f":"IF(ISNA(MATCH(CONCATENATE(B$4,$A30),'Výsledková listina'!$N:$N,0)),\"\",INDEX('Výsledková listina'!$P:$P,MATCH(CONCATENATE(B$4,$A30),'Výsledková listina'!$N:$N,0),1))","v":""},null,null,"",null,{"$f":"IF(ISNA(MATCH(CONCATENATE(H$4,$A30),'Výsledková listina'!$N:$N,0)),\"\",INDEX('Výsledková listina'!$C:$C,MATCH(CONCATENATE(H$4,$A30),'Výsledková listina'!$N:$N,0),1))","v":""},{"$f":"IF(ISNA(MATCH(CONCATENATE(H$4,$A30),'Výsledková listina'!$N:$N,0)),\"\",INDEX('Výsledková listina'!$P:$P,MATCH(CONCATENATE(H$4,$A30),'Výsledková listina'!$N:$N,0),1))","v":""},null,null,"",null,{"$f":"IF(ISNA(MATCH(CONCATENATE(N$4,$A30),'Výsledková listina'!$N:$N,0)),\"\",INDEX('Výsledková listina'!$C:$C,MATCH(CONCATENATE(N$4,$A30),'Výsledková listina'!$N:$N,0),1))","v":""},{"$f":"IF(ISNA(MATCH(CONCATENATE(N$4,$A30),'Výsledková listina'!$N:$N,0)),\"\",INDEX('Výsledková listina'!$P:$P,MATCH(CONCATENATE(N$4,$A30),'Výsledková listina'!$N:$N,0),1))","v":""},null,null,"",null,{"$f":"IF(ISNA(MATCH(CONCATENATE(T$4,$A30),'Výsledková listina'!$N:$N,0)),\"\",INDEX('Výsledková listina'!$C:$C,MATCH(CONCATENATE(T$4,$A30),'Výsledková listina'!$N:$N,0),1))","v":""},{"$f":"IF(ISNA(MATCH(CONCATENATE(T$4,$A30),'Výsledková listina'!$N:$N,0)),\"\",INDEX('Výsledková listina'!$P:$P,MATCH(CONCATENATE(T$4,$A30),'Výsledková listina'!$N:$N,0),1))","v":""},null,null,"",null,{"$f":"IF(ISNA(MATCH(CONCATENATE(Z$4,$A30),'Výsledková listina'!$N:$N,0)),\"\",INDEX('Výsledková listina'!$C:$C,MATCH(CONCATENATE(Z$4,$A30),'Výsledková listina'!$N:$N,0),1))","v":""},{"$f":"IF(ISNA(MATCH(CONCATENATE(Z$4,$A30),'Výsledková listina'!$N:$N,0)),\"\",INDEX('Výsledková listina'!$P:$P,MATCH(CONCATENATE(Z$4,$A30),'Výsledková listina'!$N:$N,0),1))","v":""},null,null,"",null,{"$f":"IF(ISNA(MATCH(CONCATENATE(AF$4,$A30),'Výsledková listina'!$N:$N,0)),\"\",INDEX('Výsledková listina'!$C:$C,MATCH(CONCATENATE(AF$4,$A30),'Výsledková listina'!$N:$N,0),1))","v":""},{"$f":"IF(ISNA(MATCH(CONCATENATE(AF$4,$A30),'Výsledková listina'!$N:$N,0)),\"\",INDEX('Výsledková listina'!$P:$P,MATCH(CONCATENATE(AF$4,$A30),'Výsledková listina'!$N:$N,0),1))","v":""},null,null,"",null,{"$f":"IF(ISNA(MATCH(CONCATENATE(AL$4,$A30),'Výsledková listina'!$N:$N,0)),\"\",INDEX('Výsledková listina'!$C:$C,MATCH(CONCATENATE(AL$4,$A30),'Výsledková listina'!$N:$N,0),1))","v":""},{"$f":"IF(ISNA(MATCH(CONCATENATE(AL$4,$A30),'Výsledková listina'!$N:$N,0)),\"\",INDEX('Výsledková listina'!$P:$P,MATCH(CONCATENATE(AL$4,$A30),'Výsledková listina'!$N:$N,0),1))","v":""},null,null,"",null,{"$f":"IF(ISNA(MATCH(CONCATENATE(AR$4,$A30),'Výsledková listina'!$N:$N,0)),\"\",INDEX('Výsledková listina'!$C:$C,MATCH(CONCATENATE(AR$4,$A30),'Výsledková listina'!$N:$N,0),1))","v":""},{"$f":"IF(ISNA(MATCH(CONCATENATE(AR$4,$A30),'Výsledková listina'!$N:$N,0)),\"\",INDEX('Výsledková listina'!$P:$P,MATCH(CONCATENATE(AR$4,$A30),'Výsledková listina'!$N:$N,0),1))","v":""},null,null,"",null,{"$f":"IF(ISNA(MATCH(CONCATENATE(AX$4,$A30),'Výsledková listina'!$N:$N,0)),\"\",INDEX('Výsledková listina'!$C:$C,MATCH(CONCATENATE(AX$4,$A30),'Výsledková listina'!$N:$N,0),1))","v":""},{"$f":"IF(ISNA(MATCH(CONCATENATE(AX$4,$A30),'Výsledková listina'!$N:$N,0)),\"\",INDEX('Výsledková listina'!$P:$P,MATCH(CONCATENATE(AX$4,$A30),'Výsledková listina'!$N:$N,0),1))","v":""},null,null,"",null,{"$f":"IF(ISNA(MATCH(CONCATENATE(BD$4,$A30),'Výsledková listina'!$N:$N,0)),\"\",INDEX('Výsledková listina'!$C:$C,MATCH(CONCATENATE(BD$4,$A30),'Výsledková listina'!$N:$N,0),1))","v":""},{"$f":"IF(ISNA(MATCH(CONCATENATE(BD$4,$A30),'Výsledková listina'!$N:$N,0)),\"\",INDEX('Výsledková listina'!$P:$P,MATCH(CONCATENATE(BD$4,$A30),'Výsledková listina'!$N:$N,0),1))","v":""},null,null,"",null,{"$f":"IF(ISNA(MATCH(CONCATENATE(BJ$4,$A30),'Výsledková listina'!$N:$N,0)),\"\",INDEX('Výsledková listina'!$C:$C,MATCH(CONCATENATE(BJ$4,$A30),'Výsledková listina'!$N:$N,0),1))","v":""},{"$f":"IF(ISNA(MATCH(CONCATENATE(BJ$4,$A30),'Výsledková listina'!$N:$N,0)),\"\",INDEX('Výsledková listina'!$P:$P,MATCH(CONCATENATE(BJ$4,$A30),'Výsledková listina'!$N:$N,0),1))","v":""},null,"",null,{"$f":"IF(ISNA(MATCH(CONCATENATE(BO$4,$A30),'Výsledková listina'!$N:$N,0)),\"\",INDEX('Výsledková listina'!$C:$C,MATCH(CONCATENATE(BO$4,$A30),'Výsledková listina'!$N:$N,0),1))","v":""},{"$f":"IF(ISNA(MATCH(CONCATENATE(BO$4,$A30),'Výsledková listina'!$N:$N,0)),\"\",INDEX('Výsledková listina'!$P:$P,MATCH(CONCATENATE(BO$4,$A30),'Výsledková listina'!$N:$N,0),1))","v":""},null,"",null,{"$f":"IF(ISNA(MATCH(CONCATENATE(BT$4,$A30),'Výsledková listina'!$N:$N,0)),\"\",INDEX('Výsledková listina'!$C:$C,MATCH(CONCATENATE(BT$4,$A30),'Výsledková listina'!$N:$N,0),1))","v":""},{"$f":"IF(ISNA(MATCH(CONCATENATE(BT$4,$A30),'Výsledková listina'!$N:$N,0)),\"\",INDEX('Výsledková listina'!$P:$P,MATCH(CONCATENATE(BT$4,$A30),'Výsledková listina'!$N:$N,0),1))","v":""},null,"",null,{"$f":"IF(ISNA(MATCH(CONCATENATE(BY$4,$A30),'Výsledková listina'!$N:$N,0)),\"\",INDEX('Výsledková listina'!$C:$C,MATCH(CONCATENATE(BY$4,$A30),'Výsledková listina'!$N:$N,0),1))","v":""},{"$f":"IF(ISNA(MATCH(CONCATENATE(BY$4,$A30),'Výsledková listina'!$N:$N,0)),\"\",INDEX('Výsledková listina'!$P:$P,MATCH(CONCATENATE(BY$4,$A30),'Výsledková listina'!$N:$N,0),1))","v":""},null,"",null,{"$f":"IF(ISNA(MATCH(CONCATENATE(CD$4,$A30),'Výsledková listina'!$N:$N,0)),\"\",INDEX('Výsledková listina'!$C:$C,MATCH(CONCATENATE(CD$4,$A30),'Výsledková listina'!$N:$N,0),1))","v":""},{"$f":"IF(ISNA(MATCH(CONCATENATE(CD$4,$A30),'Výsledková listina'!$N:$N,0)),\"\",INDEX('Výsledková listina'!$P:$P,MATCH(CONCATENATE(CD$4,$A30),'Výsledková listina'!$N:$N,0),1))","v":""},null,""]
[26,{"$f":"IF(ISNA(MATCH(CONCATENATE(B$4,$A31),'Výsledková listina'!$N:$N,0)),\"\",INDEX('Výsledková listina'!$C:$C,MATCH(CONCATENATE(B$4,$A31),'Výsledková listina'!$N:$N,0),1))","v":""},{"$f":"IF(ISNA(MATCH(CONCATENATE(B$4,$A31),'Výsledková listina'!$N:$N,0)),\"\",INDEX('Výsledková listina'!$P:$P,MATCH(CONCATENATE(B$4,$A31),'Výsledková listina'!$N:$N,0),1))","v":""},null,null,"",null,{"$f":"IF(ISNA(MATCH(CONCATENATE(H$4,$A31),'Výsledková listina'!$N:$N,0)),\"\",INDEX('Výsledková listina'!$C:$C,MATCH(CONCATENATE(H$4,$A31),'Výsledková listina'!$N:$N,0),1))","v":""},{"$f":"IF(ISNA(MATCH(CONCATENATE(H$4,$A31),'Výsledková listina'!$N:$N,0)),\"\",INDEX('Výsledková listina'!$P:$P,MATCH(CONCATENATE(H$4,$A31),'Výsledková listina'!$N:$N,0),1))","v":""},null,null,"",null,{"$f":"IF(ISNA(MATCH(CONCATENATE(N$4,$A31),'Výsledková listina'!$N:$N,0)),\"\",INDEX('Výsledková listina'!$C:$C,MATCH(CONCATENATE(N$4,$A31),'Výsledková listina'!$N:$N,0),1))","v":""},{"$f":"IF(ISNA(MATCH(CONCATENATE(N$4,$A31),'Výsledková listina'!$N:$N,0)),\"\",INDEX('Výsledková listina'!$P:$P,MATCH(CONCATENATE(N$4,$A31),'Výsledková listina'!$N:$N,0),1))","v":""},null,null,"",null,{"$f":"IF(ISNA(MATCH(CONCATENATE(T$4,$A31),'Výsledková listina'!$N:$N,0)),\"\",INDEX('Výsledková listina'!$C:$C,MATCH(CONCATENATE(T$4,$A31),'Výsledková listina'!$N:$N,0),1))","v":""},{"$f":"IF(ISNA(MATCH(CONCATENATE(T$4,$A31),'Výsledková listina'!$N:$N,0)),\"\",INDEX('Výsledková listina'!$P:$P,MATCH(CONCATENATE(T$4,$A31),'Výsledková listina'!$N:$N,0),1))","v":""},null,null,"",null,{"$f":"IF(ISNA(MATCH(CONCATENATE(Z$4,$A31),'Výsledková listina'!$N:$N,0)),\"\",INDEX('Výsledková listina'!$C:$C,MATCH(CONCATENATE(Z$4,$A31),'Výsledková listina'!$N:$N,0),1))","v":""},{"$f":"IF(ISNA(MATCH(CONCATENATE(Z$4,$A31),'Výsledková listina'!$N:$N,0)),\"\",INDEX('Výsledková listina'!$P:$P,MATCH(CONCATENATE(Z$4,$A31),'Výsledková listina'!$N:$N,0),1))","v":""},null,null,"",null,{"$f":"IF(ISNA(MATCH(CONCATENATE(AF$4,$A31),'Výsledková listina'!$N:$N,0)),\"\",INDEX('Výsledková listina'!$C:$C,MATCH(CONCATENATE(AF$4,$A31),'Výsledková listina'!$N:$N,0),1))","v":""},{"$f":"IF(ISNA(MATCH(CONCATENATE(AF$4,$A31),'Výsledková listina'!$N:$N,0)),\"\",INDEX('Výsledková listina'!$P:$P,MATCH(CONCATENATE(AF$4,$A31),'Výsledková listina'!$N:$N,0),1))","v":""},null,null,"",null,{"$f":"IF(ISNA(MATCH(CONCATENATE(AL$4,$A31),'Výsledková listina'!$N:$N,0)),\"\",INDEX('Výsledková listina'!$C:$C,MATCH(CONCATENATE(AL$4,$A31),'Výsledková listina'!$N:$N,0),1))","v":""},{"$f":"IF(ISNA(MATCH(CONCATENATE(AL$4,$A31),'Výsledková listina'!$N:$N,0)),\"\",INDEX('Výsledková listina'!$P:$P,MATCH(CONCATENATE(AL$4,$A31),'Výsledková listina'!$N:$N,0),1))","v":""},null,null,"",null,{"$f":"IF(ISNA(MATCH(CONCATENATE(AR$4,$A31),'Výsledková listina'!$N:$N,0)),\"\",INDEX('Výsledková listina'!$C:$C,MATCH(CONCATENATE(AR$4,$A31),'Výsledková listina'!$N:$N,0),1))","v":""},{"$f":"IF(ISNA(MATCH(CONCATENATE(AR$4,$A31),'Výsledková listina'!$N:$N,0)),\"\",INDEX('Výsledková listina'!$P:$P,MATCH(CONCATENATE(AR$4,$A31),'Výsledková listina'!$N:$N,0),1))","v":""},null,null,"",null,{"$f":"IF(ISNA(MATCH(CONCATENATE(AX$4,$A31),'Výsledková listina'!$N:$N,0)),\"\",INDEX('Výsledková listina'!$C:$C,MATCH(CONCATENATE(AX$4,$A31),'Výsledková listina'!$N:$N,0),1))","v":""},{"$f":"IF(ISNA(MATCH(CONCATENATE(AX$4,$A31),'Výsledková listina'!$N:$N,0)),\"\",INDEX('Výsledková listina'!$P:$P,MATCH(CONCATENATE(AX$4,$A31),'Výsledková listina'!$N:$N,0),1))","v":""},null,null,"",null,{"$f":"IF(ISNA(MATCH(CONCATENATE(BD$4,$A31),'Výsledková listina'!$N:$N,0)),\"\",INDEX('Výsledková listina'!$C:$C,MATCH(CONCATENATE(BD$4,$A31),'Výsledková listina'!$N:$N,0),1))","v":""},{"$f":"IF(ISNA(MATCH(CONCATENATE(BD$4,$A31),'Výsledková listina'!$N:$N,0)),\"\",INDEX('Výsledková listina'!$P:$P,MATCH(CONCATENATE(BD$4,$A31),'Výsledková listina'!$N:$N,0),1))","v":""},null,null,"",null,{"$f":"IF(ISNA(MATCH(CONCATENATE(BJ$4,$A31),'Výsledková listina'!$N:$N,0)),\"\",INDEX('Výsledková listina'!$C:$C,MATCH(CONCATENATE(BJ$4,$A31),'Výsledková listina'!$N:$N,0),1))","v":""},{"$f":"IF(ISNA(MATCH(CONCATENATE(BJ$4,$A31),'Výsledková listina'!$N:$N,0)),\"\",INDEX('Výsledková listina'!$P:$P,MATCH(CONCATENATE(BJ$4,$A31),'Výsledková listina'!$N:$N,0),1))","v":""},null,"",null,{"$f":"IF(ISNA(MATCH(CONCATENATE(BO$4,$A31),'Výsledková listina'!$N:$N,0)),\"\",INDEX('Výsledková listina'!$C:$C,MATCH(CONCATENATE(BO$4,$A31),'Výsledková listina'!$N:$N,0),1))","v":""},{"$f":"IF(ISNA(MATCH(CONCATENATE(BO$4,$A31),'Výsledková listina'!$N:$N,0)),\"\",INDEX('Výsledková listina'!$P:$P,MATCH(CONCATENATE(BO$4,$A31),'Výsledková listina'!$N:$N,0),1))","v":""},null,"",null,{"$f":"IF(ISNA(MATCH(CONCATENATE(BT$4,$A31),'Výsledková listina'!$N:$N,0)),\"\",INDEX('Výsledková listina'!$C:$C,MATCH(CONCATENATE(BT$4,$A31),'Výsledková listina'!$N:$N,0),1))","v":""},{"$f":"IF(ISNA(MATCH(CONCATENATE(BT$4,$A31),'Výsledková listina'!$N:$N,0)),\"\",INDEX('Výsledková listina'!$P:$P,MATCH(CONCATENATE(BT$4,$A31),'Výsledková listina'!$N:$N,0),1))","v":""},null,"",null,{"$f":"IF(ISNA(MATCH(CONCATENATE(BY$4,$A31),'Výsledková listina'!$N:$N,0)),\"\",INDEX('Výsledková listina'!$C:$C,MATCH(CONCATENATE(BY$4,$A31),'Výsledková listina'!$N:$N,0),1))","v":""},{"$f":"IF(ISNA(MATCH(CONCATENATE(BY$4,$A31),'Výsledková listina'!$N:$N,0)),\"\",INDEX('Výsledková listina'!$P:$P,MATCH(CONCATENATE(BY$4,$A31),'Výsledková listina'!$N:$N,0),1))","v":""},null,"",null,{"$f":"IF(ISNA(MATCH(CONCATENATE(CD$4,$A31),'Výsledková listina'!$N:$N,0)),\"\",INDEX('Výsledková listina'!$C:$C,MATCH(CONCATENATE(CD$4,$A31),'Výsledková listina'!$N:$N,0),1))","v":""},{"$f":"IF(ISNA(MATCH(CONCATENATE(CD$4,$A31),'Výsledková listina'!$N:$N,0)),\"\",INDEX('Výsledková listina'!$P:$P,MATCH(CONCATENATE(CD$4,$A31),'Výsledková listina'!$N:$N,0),1))","v":""},null,""]
[27,{"$f":"IF(ISNA(MATCH(CONCATENATE(B$4,$A32),'Výsledková listina'!$N:$N,0)),\"\",INDEX('Výsledková listina'!$C:$C,MATCH(CONCATENATE(B$4,$A32),'Výsledková listina'!$N:$N,0),1))","v":""},{"$f":"IF(ISNA(MATCH(CONCATENATE(B$4,$A32),'Výsledková listina'!$N:$N,0)),\"\",INDEX('Výsledková listina'!$P:$P,MATCH(CONCATENATE(B$4,$A32),'Výsledková listina'!$N:$N,0),1))","v":""},null,null,"",null,{"$f":"IF(ISNA(MATCH(CONCATENATE(H$4,$A32),'Výsledková listina'!$N:$N,0)),\"\",INDEX('Výsledková listina'!$C:$C,MATCH(CONCATENATE(H$4,$A32),'Výsledková listina'!$N:$N,0),1))","v":""},{"$f":"IF(ISNA(MATCH(CONCATENATE(H$4,$A32),'Výsledková listina'!$N:$N,0)),\"\",INDEX('Výsledková listina'!$P:$P,MATCH(CONCATENATE(H$4,$A32),'Výsledková listina'!$N:$N,0),1))","v":""},null,null,"",null,{"$f":"IF(ISNA(MATCH(CONCATENATE(N$4,$A32),'Výsledková listina'!$N:$N,0)),\"\",INDEX('Výsledková listina'!$C:$C,MATCH(CONCATENATE(N$4,$A32),'Výsledková listina'!$N:$N,0),1))","v":""},{"$f":"IF(ISNA(MATCH(CONCATENATE(N$4,$A32),'Výsledková listina'!$N:$N,0)),\"\",INDEX('Výsledková listina'!$P:$P,MATCH(CONCATENATE(N$4,$A32),'Výsledková listina'!$N:$N,0),1))","v":""},null,null,"",null,{"$f":"IF(ISNA(MATCH(CONCATENATE(T$4,$A32),'Výsledková listina'!$N:$N,0)),\"\",INDEX('Výsledková listina'!$C:$C,MATCH(CONCATENATE(T$4,$A32),'Výsledková listina'!$N:$N,0),1))","v":""},{"$f":"IF(ISNA(MATCH(CONCATENATE(T$4,$A32),'Výsledková listina'!$N:$N,0)),\"\",INDEX('Výsledková listina'!$P:$P,MATCH(CONCATENATE(T$4,$A32),'Výsledková listina'!$N:$N,0),1))","v":""},null,null,"",null,{"$f":"IF(ISNA(MATCH(CONCATENATE(Z$4,$A32),'Výsledková listina'!$N:$N,0)),\"\",INDEX('Výsledková listina'!$C:$C,MATCH(CONCATENATE(Z$4,$A32),'Výsledková listina'!$N:$N,0),1))","v":""},{"$f":"IF(ISNA(MATCH(CONCATENATE(Z$4,$A32),'Výsledková listina'!$N:$N,0)),\"\",INDEX('Výsledková listina'!$P:$P,MATCH(CONCATENATE(Z$4,$A32),'Výsledková listina'!$N:$N,0),1))","v":""},null,null,"",null,{"$f":"IF(ISNA(MATCH(CONCATENATE(AF$4,$A32),'Výsledková listina'!$N:$N,0)),\"\",INDEX('Výsledková listina'!$C:$C,MATCH(CONCATENATE(AF$4,$A32),'Výsledková listina'!$N:$N,0),1))","v":""},{"$f":"IF(ISNA(MATCH(CONCATENATE(AF$4,$A32),'Výsledková listina'!$N:$N,0)),\"\",INDEX('Výsledková listina'!$P:$P,MATCH(CONCATENATE(AF$4,$A32),'Výsledková listina'!$N:$N,0),1))","v":""},null,null,"",null,{"$f":"IF(ISNA(MATCH(CONCATENATE(AL$4,$A32),'Výsledková listina'!$N:$N,0)),\"\",INDEX('Výsledková listina'!$C:$C,MATCH(CONCATENATE(AL$4,$A32),'Výsledková listina'!$N:$N,0),1))","v":""},{"$f":"IF(ISNA(MATCH(CONCATENATE(AL$4,$A32),'Výsledková listina'!$N:$N,0)),\"\",INDEX('Výsledková listina'!$P:$P,MATCH(CONCATENATE(AL$4,$A32),'Výsledková listina'!$N:$N,0),1))","v":""},null,null,"",null,{"$f":"IF(ISNA(MATCH(CONCATENATE(AR$4,$A32),'Výsledková listina'!$N:$N,0)),\"\",INDEX('Výsledková listina'!$C:$C,MATCH(CONCATENATE(AR$4,$A32),'Výsledková listina'!$N:$N,0),1))","v":""},{"$f":"IF(ISNA(MATCH(CONCATENATE(AR$4,$A32),'Výsledková listina'!$N:$N,0)),\"\",INDEX('Výsledková listina'!$P:$P,MATCH(CONCATENATE(AR$4,$A32),'Výsledková listina'!$N:$N,0),1))","v":""},null,null,"",null,{"$f":"IF(ISNA(MATCH(CONCATENATE(AX$4,$A32),'Výsledková listina'!$N:$N,0)),\"\",INDEX('Výsledková listina'!$C:$C,MATCH(CONCATENATE(AX$4,$A32),'Výsledková listina'!$N:$N,0),1))","v":""},{"$f":"IF(ISNA(MATCH(CONCATENATE(AX$4,$A32),'Výsledková listina'!$N:$N,0)),\"\",INDEX('Výsledková listina'!$P:$P,MATCH(CONCATENATE(AX$4,$A32),'Výsledková listina'!$N:$N,0),1))","v":""},null,null,"",null,{"$f":"IF(ISNA(MATCH(CONCATENATE(BD$4,$A32),'Výsledková listina'!$N:$N,0)),\"\",INDEX('Výsledková listina'!$C:$C,MATCH(CONCATENATE(BD$4,$A32),'Výsledková listina'!$N:$N,0),1))","v":""},{"$f":"IF(ISNA(MATCH(CONCATENATE(BD$4,$A32),'Výsledková listina'!$N:$N,0)),\"\",INDEX('Výsledková listina'!$P:$P,MATCH(CONCATENATE(BD$4,$A32),'Výsledková listina'!$N:$N,0),1))","v":""},null,null,"",null,{"$f":"IF(ISNA(MATCH(CONCATENATE(BJ$4,$A32),'Výsledková listina'!$N:$N,0)),\"\",INDEX('Výsledková listina'!$C:$C,MATCH(CONCATENATE(BJ$4,$A32),'Výsledková listina'!$N:$N,0),1))","v":""},{"$f":"IF(ISNA(MATCH(CONCATENATE(BJ$4,$A32),'Výsledková listina'!$N:$N,0)),\"\",INDEX('Výsledková listina'!$P:$P,MATCH(CONCATENATE(BJ$4,$A32),'Výsledková listina'!$N:$N,0),1))","v":""},null,"",null,{"$f":"IF(ISNA(MATCH(CONCATENATE(BO$4,$A32),'Výsledková listina'!$N:$N,0)),\"\",INDEX('Výsledková listina'!$C:$C,MATCH(CONCATENATE(BO$4,$A32),'Výsledková listina'!$N:$N,0),1))","v":""},{"$f":"IF(ISNA(MATCH(CONCATENATE(BO$4,$A32),'Výsledková listina'!$N:$N,0)),\"\",INDEX('Výsledková listina'!$P:$P,MATCH(CONCATENATE(BO$4,$A32),'Výsledková listina'!$N:$N,0),1))","v":""},null,"",null,{"$f":"IF(ISNA(MATCH(CONCATENATE(BT$4,$A32),'Výsledková listina'!$N:$N,0)),\"\",INDEX('Výsledková listina'!$C:$C,MATCH(CONCATENATE(BT$4,$A32),'Výsledková listina'!$N:$N,0),1))","v":""},{"$f":"IF(ISNA(MATCH(CONCATENATE(BT$4,$A32),'Výsledková listina'!$N:$N,0)),\"\",INDEX('Výsledková listina'!$P:$P,MATCH(CONCATENATE(BT$4,$A32),'Výsledková listina'!$N:$N,0),1))","v":""},null,"",null,{"$f":"IF(ISNA(MATCH(CONCATENATE(BY$4,$A32),'Výsledková listina'!$N:$N,0)),\"\",INDEX('Výsledková listina'!$C:$C,MATCH(CONCATENATE(BY$4,$A32),'Výsledková listina'!$N:$N,0),1))","v":""},{"$f":"IF(ISNA(MATCH(CONCATENATE(BY$4,$A32),'Výsledková listina'!$N:$N,0)),\"\",INDEX('Výsledková listina'!$P:$P,MATCH(CONCATENATE(BY$4,$A32),'Výsledková listina'!$N:$N,0),1))","v":""},null,"",null,{"$f":"IF(ISNA(MATCH(CONCATENATE(CD$4,$A32),'Výsledková listina'!$N:$N,0)),\"\",INDEX('Výsledková listina'!$C:$C,MATCH(CONCATENATE(CD$4,$A32),'Výsledková listina'!$N:$N,0),1))","v":""},{"$f":"IF(ISNA(MATCH(CONCATENATE(CD$4,$A32),'Výsledková listina'!$N:$N,0)),\"\",INDEX('Výsledková listina'!$P:$P,MATCH(CONCATENATE(CD$4,$A32),'Výsledková listina'!$N:$N,0),1))","v":""},null,""]
[28,{"$f":"IF(ISNA(MATCH(CONCATENATE(B$4,$A33),'Výsledková listina'!$N:$N,0)),\"\",INDEX('Výsledková listina'!$C:$C,MATCH(CONCATENATE(B$4,$A33),'Výsledková listina'!$N:$N,0),1))","v":""},{"$f":"IF(ISNA(MATCH(CONCATENATE(B$4,$A33),'Výsledková listina'!$N:$N,0)),\"\",INDEX('Výsledková listina'!$P:$P,MATCH(CONCATENATE(B$4,$A33),'Výsledková listina'!$N:$N,0),1))","v":""},null,null,"",null,{"$f":"IF(ISNA(MATCH(CONCATENATE(H$4,$A33),'Výsledková listina'!$N:$N,0)),\"\",INDEX('Výsledková listina'!$C:$C,MATCH(CONCATENATE(H$4,$A33),'Výsledková listina'!$N:$N,0),1))","v":""},{"$f":"IF(ISNA(MATCH(CONCATENATE(H$4,$A33),'Výsledková listina'!$N:$N,0)),\"\",INDEX('Výsledková listina'!$P:$P,MATCH(CONCATENATE(H$4,$A33),'Výsledková listina'!$N:$N,0),1))","v":""},null,null,"",null,{"$f":"IF(ISNA(MATCH(CONCATENATE(N$4,$A33),'Výsledková listina'!$N:$N,0)),\"\",INDEX('Výsledková listina'!$C:$C,MATCH(CONCATENATE(N$4,$A33),'Výsledková listina'!$N:$N,0),1))","v":""},{"$f":"IF(ISNA(MATCH(CONCATENATE(N$4,$A33),'Výsledková listina'!$N:$N,0)),\"\",INDEX('Výsledková listina'!$P:$P,MATCH(CONCATENATE(N$4,$A33),'Výsledková listina'!$N:$N,0),1))","v":""},null,null,"",null,{"$f":"IF(ISNA(MATCH(CONCATENATE(T$4,$A33),'Výsledková listina'!$N:$N,0)),\"\",INDEX('Výsledková listina'!$C:$C,MATCH(CONCATENATE(T$4,$A33),'Výsledková listina'!$N:$N,0),1))","v":""},{"$f":"IF(ISNA(MATCH(CONCATENATE(T$4,$A33),'Výsledková listina'!$N:$N,0)),\"\",INDEX('Výsledková listina'!$P:$P,MATCH(CONCATENATE(T$4,$A33),'Výsledková listina'!$N:$N,0),1))","v":""},null,null,"",null,{"$f":"IF(ISNA(MATCH(CONCATENATE(Z$4,$A33),'Výsledková listina'!$N:$N,0)),\"\",INDEX('Výsledková listina'!$C:$C,MATCH(CONCATENATE(Z$4,$A33),'Výsledková listina'!$N:$N,0),1))","v":""},{"$f":"IF(ISNA(MATCH(CONCATENATE(Z$4,$A33),'Výsledková listina'!$N:$N,0)),\"\",INDEX('Výsledková listina'!$P:$P,MATCH(CONCATENATE(Z$4,$A33),'Výsledková listina'!$N:$N,0),1))","v":""},null,null,"",null,{"$f":"IF(ISNA(MATCH(CONCATENATE(AF$4,$A33),'Výsledková listina'!$N:$N,0)),\"\",INDEX('Výsledková listina'!$C:$C,MATCH(CONCATENATE(AF$4,$A33),'Výsledková listina'!$N:$N,0),1))","v":""},{"$f":"IF(ISNA(MATCH(CONCATENATE(AF$4,$A33),'Výsledková listina'!$N:$N,0)),\"\",INDEX('Výsledková listina'!$P:$P,MATCH(CONCATENATE(AF$4,$A33),'Výsledková listina'!$N:$N,0),1))","v":""},null,null,"",null,{"$f":"IF(ISNA(MATCH(CONCATENATE(AL$4,$A33),'Výsledková listina'!$N:$N,0)),\"\",INDEX('Výsledková listina'!$C:$C,MATCH(CONCATENATE(AL$4,$A33),'Výsledková listina'!$N:$N,0),1))","v":""},{"$f":"IF(ISNA(MATCH(CONCATENATE(AL$4,$A33),'Výsledková listina'!$N:$N,0)),\"\",INDEX('Výsledková listina'!$P:$P,MATCH(CONCATENATE(AL$4,$A33),'Výsledková listina'!$N:$N,0),1))","v":""},null,null,"",null,{"$f":"IF(ISNA(MATCH(CONCATENATE(AR$4,$A33),'Výsledková listina'!$N:$N,0)),\"\",INDEX('Výsledková listina'!$C:$C,MATCH(CONCATENATE(AR$4,$A33),'Výsledková listina'!$N:$N,0),1))","v":""},{"$f":"IF(ISNA(MATCH(CONCATENATE(AR$4,$A33),'Výsledková listina'!$N:$N,0)),\"\",INDEX('Výsledková listina'!$P:$P,MATCH(CONCATENATE(AR$4,$A33),'Výsledková listina'!$N:$N,0),1))","v":""},null,null,"",null,{"$f":"IF(ISNA(MATCH(CONCATENATE(AX$4,$A33),'Výsledková listina'!$N:$N,0)),\"\",INDEX('Výsledková listina'!$C:$C,MATCH(CONCATENATE(AX$4,$A33),'Výsledková listina'!$N:$N,0),1))","v":""},{"$f":"IF(ISNA(MATCH(CONCATENATE(AX$4,$A33),'Výsledková listina'!$N:$N,0)),\"\",INDEX('Výsledková listina'!$P:$P,MATCH(CONCATENATE(AX$4,$A33),'Výsledková listina'!$N:$N,0),1))","v":""},null,null,"",null,{"$f":"IF(ISNA(MATCH(CONCATENATE(BD$4,$A33),'Výsledková listina'!$N:$N,0)),\"\",INDEX('Výsledková listina'!$C:$C,MATCH(CONCATENATE(BD$4,$A33),'Výsledková listina'!$N:$N,0),1))","v":""},{"$f":"IF(ISNA(MATCH(CONCATENATE(BD$4,$A33),'Výsledková listina'!$N:$N,0)),\"\",INDEX('Výsledková listina'!$P:$P,MATCH(CONCATENATE(BD$4,$A33),'Výsledková listina'!$N:$N,0),1))","v":""},null,null,"",null,{"$f":"IF(ISNA(MATCH(CONCATENATE(BJ$4,$A33),'Výsledková listina'!$N:$N,0)),\"\",INDEX('Výsledková listina'!$C:$C,MATCH(CONCATENATE(BJ$4,$A33),'Výsledková listina'!$N:$N,0),1))","v":""},{"$f":"IF(ISNA(MATCH(CONCATENATE(BJ$4,$A33),'Výsledková listina'!$N:$N,0)),\"\",INDEX('Výsledková listina'!$P:$P,MATCH(CONCATENATE(BJ$4,$A33),'Výsledková listina'!$N:$N,0),1))","v":""},null,"",null,{"$f":"IF(ISNA(MATCH(CONCATENATE(BO$4,$A33),'Výsledková listina'!$N:$N,0)),\"\",INDEX('Výsledková listina'!$C:$C,MATCH(CONCATENATE(BO$4,$A33),'Výsledková listina'!$N:$N,0),1))","v":""},{"$f":"IF(ISNA(MATCH(CONCATENATE(BO$4,$A33),'Výsledková listina'!$N:$N,0)),\"\",INDEX('Výsledková listina'!$P:$P,MATCH(CONCATENATE(BO$4,$A33),'Výsledková listina'!$N:$N,0),1))","v":""},null,"",null,{"$f":"IF(ISNA(MATCH(CONCATENATE(BT$4,$A33),'Výsledková listina'!$N:$N,0)),\"\",INDEX('Výsledková listina'!$C:$C,MATCH(CONCATENATE(BT$4,$A33),'Výsledková listina'!$N:$N,0),1))","v":""},{"$f":"IF(ISNA(MATCH(CONCATENATE(BT$4,$A33),'Výsledková listina'!$N:$N,0)),\"\",INDEX('Výsledková listina'!$P:$P,MATCH(CONCATENATE(BT$4,$A33),'Výsledková listina'!$N:$N,0),1))","v":""},null,"",null,{"$f":"IF(ISNA(MATCH(CONCATENATE(BY$4,$A33),'Výsledková listina'!$N:$N,0)),\"\",INDEX('Výsledková listina'!$C:$C,MATCH(CONCATENATE(BY$4,$A33),'Výsledková listina'!$N:$N,0),1))","v":""},{"$f":"IF(ISNA(MATCH(CONCATENATE(BY$4,$A33),'Výsledková listina'!$N:$N,0)),\"\",INDEX('Výsledková listina'!$P:$P,MATCH(CONCATENATE(BY$4,$A33),'Výsledková listina'!$N:$N,0),1))","v":""},null,"",null,{"$f":"IF(ISNA(MATCH(CONCATENATE(CD$4,$A33),'Výsledková listina'!$N:$N,0)),\"\",INDEX('Výsledková listina'!$C:$C,MATCH(CONCATENATE(CD$4,$A33),'Výsledková listina'!$N:$N,0),1))","v":""},{"$f":"IF(ISNA(MATCH(CONCATENATE(CD$4,$A33),'Výsledková listina'!$N:$N,0)),\"\",INDEX('Výsledková listina'!$P:$P,MATCH(CONCATENATE(CD$4,$A33),'Výsledková listina'!$N:$N,0),1))","v":""},null,""]
[29,{"$f":"IF(ISNA(MATCH(CONCATENATE(B$4,$A34),'Výsledková listina'!$N:$N,0)),\"\",INDEX('Výsledková listina'!$C:$C,MATCH(CONCATENATE(B$4,$A34),'Výsledková listina'!$N:$N,0),1))","v":""},{"$f":"IF(ISNA(MATCH(CONCATENATE(B$4,$A34),'Výsledková listina'!$N:$N,0)),\"\",INDEX('Výsledková listina'!$P:$P,MATCH(CONCATENATE(B$4,$A34),'Výsledková listina'!$N:$N,0),1))","v":""},null,null,"",null,{"$f":"IF(ISNA(MATCH(CONCATENATE(H$4,$A34),'Výsledková listina'!$N:$N,0)),\"\",INDEX('Výsledková listina'!$C:$C,MATCH(CONCATENATE(H$4,$A34),'Výsledková listina'!$N:$N,0),1))","v":""},{"$f":"IF(ISNA(MATCH(CONCATENATE(H$4,$A34),'Výsledková listina'!$N:$N,0)),\"\",INDEX('Výsledková listina'!$P:$P,MATCH(CONCATENATE(H$4,$A34),'Výsledková listina'!$N:$N,0),1))","v":""},null,null,"",null,{"$f":"IF(ISNA(MATCH(CONCATENATE(N$4,$A34),'Výsledková listina'!$N:$N,0)),\"\",INDEX('Výsledková listina'!$C:$C,MATCH(CONCATENATE(N$4,$A34),'Výsledková listina'!$N:$N,0),1))","v":""},{"$f":"IF(ISNA(MATCH(CONCATENATE(N$4,$A34),'Výsledková listina'!$N:$N,0)),\"\",INDEX('Výsledková listina'!$P:$P,MATCH(CONCATENATE(N$4,$A34),'Výsledková listina'!$N:$N,0),1))","v":""},null,null,"",null,{"$f":"IF(ISNA(MATCH(CONCATENATE(T$4,$A34),'Výsledková listina'!$N:$N,0)),\"\",INDEX('Výsledková listina'!$C:$C,MATCH(CONCATENATE(T$4,$A34),'Výsledková listina'!$N:$N,0),1))","v":""},{"$f":"IF(ISNA(MATCH(CONCATENATE(T$4,$A34),'Výsledková listina'!$N:$N,0)),\"\",INDEX('Výsledková listina'!$P:$P,MATCH(CONCATENATE(T$4,$A34),'Výsledková listina'!$N:$N,0),1))","v":""},null,null,"",null,{"$f":"IF(ISNA(MATCH(CONCATENATE(Z$4,$A34),'Výsledková listina'!$N:$N,0)),\"\",INDEX('Výsledková listina'!$C:$C,MATCH(CONCATENATE(Z$4,$A34),'Výsledková listina'!$N:$N,0),1))","v":""},{"$f":"IF(ISNA(MATCH(CONCATENATE(Z$4,$A34),'Výsledková listina'!$N:$N,0)),\"\",INDEX('Výsledková listina'!$P:$P,MATCH(CONCATENATE(Z$4,$A34),'Výsledková listina'!$N:$N,0),1))","v":""},null,null,"",null,{"$f":"IF(ISNA(MATCH(CONCATENATE(AF$4,$A34),'Výsledková listina'!$N:$N,0)),\"\",INDEX('Výsledková listina'!$C:$C,MATCH(CONCATENATE(AF$4,$A34),'Výsledková listina'!$N:$N,0),1))","v":""},{"$f":"IF(ISNA(MATCH(CONCATENATE(AF$4,$A34),'Výsledková listina'!$N:$N,0)),\"\",INDEX('Výsledková listina'!$P:$P,MATCH(CONCATENATE(AF$4,$A34),'Výsledková listina'!$N:$N,0),1))","v":""},null,null,"",null,{"$f":"IF(ISNA(MATCH(CONCATENATE(AL$4,$A34),'Výsledková listina'!$N:$N,0)),\"\",INDEX('Výsledková listina'!$C:$C,MATCH(CONCATENATE(AL$4,$A34),'Výsledková listina'!$N:$N,0),1))","v":""},{"$f":"IF(ISNA(MATCH(CONCATENATE(AL$4,$A34),'Výsledková listina'!$N:$N,0)),\"\",INDEX('Výsledková listina'!$P:$P,MATCH(CONCATENATE(AL$4,$A34),'Výsledková listina'!$N:$N,0),1))","v":""},null,null,"",null,{"$f":"IF(ISNA(MATCH(CONCATENATE(AR$4,$A34),'Výsledková listina'!$N:$N,0)),\"\",INDEX('Výsledková listina'!$C:$C,MATCH(CONCATENATE(AR$4,$A34),'Výsledková listina'!$N:$N,0),1))","v":""},{"$f":"IF(ISNA(MATCH(CONCATENATE(AR$4,$A34),'Výsledková listina'!$N:$N,0)),\"\",INDEX('Výsledková listina'!$P:$P,MATCH(CONCATENATE(AR$4,$A34),'Výsledková listina'!$N:$N,0),1))","v":""},null,null,"",null,{"$f":"IF(ISNA(MATCH(CONCATENATE(AX$4,$A34),'Výsledková listina'!$N:$N,0)),\"\",INDEX('Výsledková listina'!$C:$C,MATCH(CONCATENATE(AX$4,$A34),'Výsledková listina'!$N:$N,0),1))","v":""},{"$f":"IF(ISNA(MATCH(CONCATENATE(AX$4,$A34),'Výsledková listina'!$N:$N,0)),\"\",INDEX('Výsledková listina'!$P:$P,MATCH(CONCATENATE(AX$4,$A34),'Výsledková listina'!$N:$N,0),1))","v":""},null,null,"",null,{"$f":"IF(ISNA(MATCH(CONCATENATE(BD$4,$A34),'Výsledková listina'!$N:$N,0)),\"\",INDEX('Výsledková listina'!$C:$C,MATCH(CONCATENATE(BD$4,$A34),'Výsledková listina'!$N:$N,0),1))","v":""},{"$f":"IF(ISNA(MATCH(CONCATENATE(BD$4,$A34),'Výsledková listina'!$N:$N,0)),\"\",INDEX('Výsledková listina'!$P:$P,MATCH(CONCATENATE(BD$4,$A34),'Výsledková listina'!$N:$N,0),1))","v":""},null,null,"",null,{"$f":"IF(ISNA(MATCH(CONCATENATE(BJ$4,$A34),'Výsledková listina'!$N:$N,0)),\"\",INDEX('Výsledková listina'!$C:$C,MATCH(CONCATENATE(BJ$4,$A34),'Výsledková listina'!$N:$N,0),1))","v":""},{"$f":"IF(ISNA(MATCH(CONCATENATE(BJ$4,$A34),'Výsledková listina'!$N:$N,0)),\"\",INDEX('Výsledková listina'!$P:$P,MATCH(CONCATENATE(BJ$4,$A34),'Výsledková listina'!$N:$N,0),1))","v":""},null,"",null,{"$f":"IF(ISNA(MATCH(CONCATENATE(BO$4,$A34),'Výsledková listina'!$N:$N,0)),\"\",INDEX('Výsledková listina'!$C:$C,MATCH(CONCATENATE(BO$4,$A34),'Výsledková listina'!$N:$N,0),1))","v":""},{"$f":"IF(ISNA(MATCH(CONCATENATE(BO$4,$A34),'Výsledková listina'!$N:$N,0)),\"\",INDEX('Výsledková listina'!$P:$P,MATCH(CONCATENATE(BO$4,$A34),'Výsledková listina'!$N:$N,0),1))","v":""},null,"",null,{"$f":"IF(ISNA(MATCH(CONCATENATE(BT$4,$A34),'Výsledková listina'!$N:$N,0)),\"\",INDEX('Výsledková listina'!$C:$C,MATCH(CONCATENATE(BT$4,$A34),'Výsledková listina'!$N:$N,0),1))","v":""},{"$f":"IF(ISNA(MATCH(CONCATENATE(BT$4,$A34),'Výsledková listina'!$N:$N,0)),\"\",INDEX('Výsledková listina'!$P:$P,MATCH(CONCATENATE(BT$4,$A34),'Výsledková listina'!$N:$N,0),1))","v":""},null,"",null,{"$f":"IF(ISNA(MATCH(CONCATENATE(BY$4,$A34),'Výsledková listina'!$N:$N,0)),\"\",INDEX('Výsledková listina'!$C:$C,MATCH(CONCATENATE(BY$4,$A34),'Výsledková listina'!$N:$N,0),1))","v":""},{"$f":"IF(ISNA(MATCH(CONCATENATE(BY$4,$A34),'Výsledková listina'!$N:$N,0)),\"\",INDEX('Výsledková listina'!$P:$P,MATCH(CONCATENATE(BY$4,$A34),'Výsledková listina'!$N:$N,0),1))","v":""},null,"",null,{"$f":"IF(ISNA(MATCH(CONCATENATE(CD$4,$A34),'Výsledková listina'!$N:$N,0)),\"\",INDEX('Výsledková listina'!$C:$C,MATCH(CONCATENATE(CD$4,$A34),'Výsledková listina'!$N:$N,0),1))","v":""},{"$f":"IF(ISNA(MATCH(CONCATENATE(CD$4,$A34),'Výsledková listina'!$N:$N,0)),\"\",INDEX('Výsledková listina'!$P:$P,MATCH(CONCATENATE(CD$4,$A34),'Výsledková listina'!$N:$N,0),1))","v":""},null,""]
[30,{"$f":"IF(ISNA(MATCH(CONCATENATE(B$4,$A35),'Výsledková listina'!$N:$N,0)),\"\",INDEX('Výsledková listina'!$C:$C,MATCH(CONCATENATE(B$4,$A35),'Výsledková listina'!$N:$N,0),1))","v":""},{"$f":"IF(ISNA(MATCH(CONCATENATE(B$4,$A35),'Výsledková listina'!$N:$N,0)),\"\",INDEX('Výsledková listina'!$P:$P,MATCH(CONCATENATE(B$4,$A35),'Výsledková listina'!$N:$N,0),1))","v":""},null,null,"",null,{"$f":"IF(ISNA(MATCH(CONCATENATE(H$4,$A35),'Výsledková listina'!$N:$N,0)),\"\",INDEX('Výsledková listina'!$C:$C,MATCH(CONCATENATE(H$4,$A35),'Výsledková listina'!$N:$N,0),1))","v":""},{"$f":"IF(ISNA(MATCH(CONCATENATE(H$4,$A35),'Výsledková listina'!$N:$N,0)),\"\",INDEX('Výsledková listina'!$P:$P,MATCH(CONCATENATE(H$4,$A35),'Výsledková listina'!$N:$N,0),1))","v":""},null,null,"",null,{"$f":"IF(ISNA(MATCH(CONCATENATE(N$4,$A35),'Výsledková listina'!$N:$N,0)),\"\",INDEX('Výsledková listina'!$C:$C,MATCH(CONCATENATE(N$4,$A35),'Výsledková listina'!$N:$N,0),1))","v":""},{"$f":"IF(ISNA(MATCH(CONCATENATE(N$4,$A35),'Výsledková listina'!$N:$N,0)),\"\",INDEX('Výsledková listina'!$P:$P,MATCH(CONCATENATE(N$4,$A35),'Výsledková listina'!$N:$N,0),1))","v":""},null,null,"",null,{"$f":"IF(ISNA(MATCH(CONCATENATE(T$4,$A35),'Výsledková listina'!$N:$N,0)),\"\",INDEX('Výsledková listina'!$C:$C,MATCH(CONCATENATE(T$4,$A35),'Výsledková listina'!$N:$N,0),1))","v":""},{"$f":"IF(ISNA(MATCH(CONCATENATE(T$4,$A35),'Výsledková listina'!$N:$N,0)),\"\",INDEX('Výsledková listina'!$P:$P,MATCH(CONCATENATE(T$4,$A35),'Výsledková listina'!$N:$N,0),1))","v":""},null,null,"",null,{"$f":"IF(ISNA(MATCH(CONCATENATE(Z$4,$A35),'Výsledková listina'!$N:$N,0)),\"\",INDEX('Výsledková listina'!$C:$C,MATCH(CONCATENATE(Z$4,$A35),'Výsledková listina'!$N:$N,0),1))","v":""},{"$f":"IF(ISNA(MATCH(CONCATENATE(Z$4,$A35),'Výsledková listina'!$N:$N,0)),\"\",INDEX('Výsledková listina'!$P:$P,MATCH(CONCATENATE(Z$4,$A35),'Výsledková listina'!$N:$N,0),1))","v":""},null,null,"",null,{"$f":"IF(ISNA(MATCH(CONCATENATE(AF$4,$A35),'Výsledková listina'!$N:$N,0)),\"\",INDEX('Výsledková listina'!$C:$C,MATCH(CONCATENATE(AF$4,$A35),'Výsledková listina'!$N:$N,0),1))","v":""},{"$f":"IF(ISNA(MATCH(CONCATENATE(AF$4,$A35),'Výsledková listina'!$N:$N,0)),\"\",INDEX('Výsledková listina'!$P:$P,MATCH(CONCATENATE(AF$4,$A35),'Výsledková listina'!$N:$N,0),1))","v":""},null,null,"",null,{"$f":"IF(ISNA(MATCH(CONCATENATE(AL$4,$A35),'Výsledková listina'!$N:$N,0)),\"\",INDEX('Výsledková listina'!$C:$C,MATCH(CONCATENATE(AL$4,$A35),'Výsledková listina'!$N:$N,0),1))","v":""},{"$f":"IF(ISNA(MATCH(CONCATENATE(AL$4,$A35),'Výsledková listina'!$N:$N,0)),\"\",INDEX('Výsledková listina'!$P:$P,MATCH(CONCATENATE(AL$4,$A35),'Výsledková listina'!$N:$N,0),1))","v":""},null,null,"",null,{"$f":"IF(ISNA(MATCH(CONCATENATE(AR$4,$A35),'Výsledková listina'!$N:$N,0)),\"\",INDEX('Výsledková listina'!$C:$C,MATCH(CONCATENATE(AR$4,$A35),'Výsledková listina'!$N:$N,0),1))","v":""},{"$f":"IF(ISNA(MATCH(CONCATENATE(AR$4,$A35),'Výsledková listina'!$N:$N,0)),\"\",INDEX('Výsledková listina'!$P:$P,MATCH(CONCATENATE(AR$4,$A35),'Výsledková listina'!$N:$N,0),1))","v":""},null,null,"",null,{"$f":"IF(ISNA(MATCH(CONCATENATE(AX$4,$A35),'Výsledková listina'!$N:$N,0)),\"\",INDEX('Výsledková listina'!$C:$C,MATCH(CONCATENATE(AX$4,$A35),'Výsledková listina'!$N:$N,0),1))","v":""},{"$f":"IF(ISNA(MATCH(CONCATENATE(AX$4,$A35),'Výsledková listina'!$N:$N,0)),\"\",INDEX('Výsledková listina'!$P:$P,MATCH(CONCATENATE(AX$4,$A35),'Výsledková listina'!$N:$N,0),1))","v":""},null,null,"",null,{"$f":"IF(ISNA(MATCH(CONCATENATE(BD$4,$A35),'Výsledková listina'!$N:$N,0)),\"\",INDEX('Výsledková listina'!$C:$C,MATCH(CONCATENATE(BD$4,$A35),'Výsledková listina'!$N:$N,0),1))","v":""},{"$f":"IF(ISNA(MATCH(CONCATENATE(BD$4,$A35),'Výsledková listina'!$N:$N,0)),\"\",INDEX('Výsledková listina'!$P:$P,MATCH(CONCATENATE(BD$4,$A35),'Výsledková listina'!$N:$N,0),1))","v":""},null,null,"",null,{"$f":"IF(ISNA(MATCH(CONCATENATE(BJ$4,$A35),'Výsledková listina'!$N:$N,0)),\"\",INDEX('Výsledková listina'!$C:$C,MATCH(CONCATENATE(BJ$4,$A35),'Výsledková listina'!$N:$N,0),1))","v":""},{"$f":"IF(ISNA(MATCH(CONCATENATE(BJ$4,$A35),'Výsledková listina'!$N:$N,0)),\"\",INDEX('Výsledková listina'!$P:$P,MATCH(CONCATENATE(BJ$4,$A35),'Výsledková listina'!$N:$N,0),1))","v":""},null,"",null,{"$f":"IF(ISNA(MATCH(CONCATENATE(BO$4,$A35),'Výsledková listina'!$N:$N,0)),\"\",INDEX('Výsledková listina'!$C:$C,MATCH(CONCATENATE(BO$4,$A35),'Výsledková listina'!$N:$N,0),1))","v":""},{"$f":"IF(ISNA(MATCH(CONCATENATE(BO$4,$A35),'Výsledková listina'!$N:$N,0)),\"\",INDEX('Výsledková listina'!$P:$P,MATCH(CONCATENATE(BO$4,$A35),'Výsledková listina'!$N:$N,0),1))","v":""},null,"",null,{"$f":"IF(ISNA(MATCH(CONCATENATE(BT$4,$A35),'Výsledková listina'!$N:$N,0)),\"\",INDEX('Výsledková listina'!$C:$C,MATCH(CONCATENATE(BT$4,$A35),'Výsledková listina'!$N:$N,0),1))","v":""},{"$f":"IF(ISNA(MATCH(CONCATENATE(BT$4,$A35),'Výsledková listina'!$N:$N,0)),\"\",INDEX('Výsledková listina'!$P:$P,MATCH(CONCATENATE(BT$4,$A35),'Výsledková listina'!$N:$N,0),1))","v":""},null,"",null,{"$f":"IF(ISNA(MATCH(CONCATENATE(BY$4,$A35),'Výsledková listina'!$N:$N,0)),\"\",INDEX('Výsledková listina'!$C:$C,MATCH(CONCATENATE(BY$4,$A35),'Výsledková listina'!$N:$N,0),1))","v":""},{"$f":"IF(ISNA(MATCH(CONCATENATE(BY$4,$A35),'Výsledková listina'!$N:$N,0)),\"\",INDEX('Výsledková listina'!$P:$P,MATCH(CONCATENATE(BY$4,$A35),'Výsledková listina'!$N:$N,0),1))","v":""},null,"",null,{"$f":"IF(ISNA(MATCH(CONCATENATE(CD$4,$A35),'Výsledková listina'!$N:$N,0)),\"\",INDEX('Výsledková listina'!$C:$C,MATCH(CONCATENATE(CD$4,$A35),'Výsledková listina'!$N:$N,0),1))","v":""},{"$f":"IF(ISNA(MATCH(CONCATENATE(CD$4,$A35),'Výsledková listina'!$N:$N,0)),\"\",INDEX('Výsledková listina'!$P:$P,MATCH(CONCATENATE(CD$4,$A35),'Výsledková listina'!$N:$N,0),1))","v":""},null,""]

{"sheet":"2. závod","index":4,"n_rows":35,"n_cols":86,"rows_kept":35,"cut":false,"hidden":false,"merged":[[3,25,3,30],[2,25,2,30],[2,13,2,18],[2,19,2,24],[3,55,3,60],[2,31,2,36],[2,37,2,42],[3,31,3,36],[3,37,3,42],[2,43,2,48],[3,43,3,48],[2,49,2,54],[3,49,3,54],[0,13,0,18],[1,13,1,18],[0,19,0,24],[1,19,1,24],[2,0,4,0],[0,1,0,6],[1,1,1,6],[0,7,0,12],[1,7,1,12],[3,7,3,12],[3,1,3,6],[2,1,2,6],[2,7,2,12],[3,13,3,18],[3,19,3,24],[2,61,2,65],[0,37,0,42],[3,61,3,65],[0,55,0,60],[1,55,1,60],[0,61,0,65],[1,61,1,65],[0,43,0,48],[1,43,1,48],[0,49,0,54],[1,49,1,54],[2,55,2,60],[1,31,1,36],[1,37,1,42],[0,25,0,30],[1,25,1,30],[0,31,0,36],[0,66,0,70],[1,66,1,70],[2,66,2,70],[3,66,3,70],[0,71,0,75],[1,71,1,75],[2,71,2,75],[3,71,3,75],[0,76,0,80],[1,76,1,80],[2,76,2,80],[3,76,3,80],[0,81,0,85],[1,81,1,85],[2,81,2,85],[3,81,3,85]]}
[null,{"$f":"CONCATENATE('Základní list'!$E$3)","v":"AWA-S cup 2017"},null,null,null,null,null,{"$f":"CONCATENATE('Základní list'!$E$3)","v":"AWA-S cup 2017"},null,null,null,null,null,{"$f":"CONCATENATE('Základní list'!$E$3)","v":"AWA-S cup 2017"},null,null,null,null,null,{"$f":"CONCATENATE('Základní list'!$E$3)","v":"AWA-S cup 2017"},null,null,null,null,null,{"$f":"CONCATENATE('Základní list'!$E$3)","v":"AWA-S cup 2017"},null,null,null,null,null,{"$f":"CONCATENATE('Základní list'!$E$3)","v":"AWA-S cup 2017"},null,null,null,null,null,{"$f":"CONCATENATE('Základní list'!$E$3)","v":"AWA-S cup 2017"},null,null,null,null,null,{"$f":"CONCATENATE('Základní list'!$E$3)","v":"AWA-S cup 2017"},null,null,null,null,null,{"$f":"CONCATENATE('Základní list'!$E$3)","v":"AWA-S cup 2017"},null,null,null,null,null,{"$f":"CONCATENATE('Základní list'!$E$3)","v":"AWA-S cup 2017"},null,null,null,null,null,{"$f":"CONCATENATE('Základní list'!$E$3)","v":"AWA-S cup 2017"},null,null,null,null,{"$f":"CONCATENATE('Základní list'!$E$3)","v":"AWA-S cup 2017"},null,null,null,null,{"$f":"CONCATENATE('Základní list'!$E$3)","v":"AWA-S cup 2017"},null,null,null,null,{"$f":"CONCATENATE('Základní list'!$E$3)","v":"AWA-S cup 2017"},null,null,null,null,{"$f":"CONCATENATE('Základní list'!$E$3)","v":"AWA-S cup 2017"}]
[null,{"$f":"CONCATENATE('Základní list'!$F$4)","v":"26.8.2017"},null,null,null,null,null,{"$f":"CONCATENATE('Základní list'!$F$4)","v":"26.8.2017"},null,null,null,null,null,{"$f":"CONCATENATE('Základní list'!$F$4)","v":"26.8.2017"},null,null,null,null,null,{"$f":"CONCATENATE('Základní list'!$F$4)","v":"26.8.2017"},null,null,null,null,null,{"$f":"CONCATENATE('Základní list'!$F$4)","v":"26.8.2017"},null,null,null,null,null,{"$f":"CONCATENATE('Základní list'!$F$4)","v":"26.8.2017"},null,null,null,null,null,{"$f":"CONCATENATE('Základní list'!$F$4)","v":"26.8.2017"},null,null,null,null,null,{"$f":"CONCATENATE('Základní list'!$F$4)","v":"26.8.2017"},null,null,null,null,null,{"$f":"CONCATENATE('Základní list'!$F$4)","v":"26.8.2017"},null,null,null,null,null,{"$f":"CONCATENATE('Základní list'!$F$4)","v":"26.8.2017"},null,null,null,null,null,{"$f":"CONCATENATE('Základní list'!$F$4)","v":"26.8.2017"},null,null,null,null,{"$f":"CONCATENATE('Základní list'!$F$4)","v":"26.8.2017"},null,null,null,null,{"$f":"CONCATENATE('Základní list'!$F$4)","v":"26.8.2017"},null,null,null,null,{"$f":"CONCATENATE('Základní list'!$F$4)","v":"26.8.2017"},null,null,null,null,{"$f":"CONCATENATE('Základní list'!$F$4)","v":"26.8.2017"}]
["čís. sek","SEKTOR",null,null,null,null,null,"SEKTOR",null,null,null,null,null,"SEKTOR",null,null,null,null,null,"SEKTOR",null,null,null,null,null,"SEKTOR",null,null,null,null,null,"SEKTOR",null,null,null,null,null,"SEKTOR",null,null,null,null,null,"SEKTOR",null,null,null,null,null,"SEKTOR",null,null,null,null,null,"SEKTOR",null,null,null,null,null,"SEKTOR",null,null,null,"Podpis","SEKTOR",null,null,null,"Podpis","SEKTOR",null,null,null,"Podpis","SEKTOR",null,null,null,"Podpis","SEKTOR",null,null,null,"Podpis"]
[null,{"$f":"IF(ISBLANK('Základní list'!$C11),\"\",'Základní list'!$A11)","v":"A"},null,null,null,null,null,{"$f":"IF(ISBLANK('Základní list'!$C12),\"\",'Základní list'!$A12)","v":"B"},null,null,null,null,null,{"$f":"IF(ISBLANK('Základní list'!$C13),\"\",'Základní list'!$A13)","v":"C"},null,null,null,null,null,{"$f":"IF(ISBLANK('Základní list'!$C14),\"\",'Základní list'!$A14)","v":"D"},null,null,null,null,null,{"$f":"IF(ISBLANK('Základní list'!$C15),\"\",'Základní list'!$A15)","v":"E"},null,null,null,null,null,{"$f":"IF(ISBLANK('Základní list'!$C16),\"\",'Základní list'!$A16)","v":"F"},null,null,null,null,null,{"$f":"IF(ISBLANK('Základní list'!$C17),\"\",'Základní list'!$A17)","v":"G"},null,null,null,null,null,{"$f":"IF(ISBLANK('Základní list'!$C18),\"\",'Základní list'!$A18)","v":"H"},null,null,null,null,null,{"$f":"IF(ISBLANK('Základní list'!$C19),\"\",'Základní list'!$A19)","v":"I"},null,null,null,null,null,{"$f":"IF(ISBLANK('Základní list'!$C20),\"\",'Základní list'!$A20)","v":"J"},null,null,null,null,null,{"$f":"IF(ISBLANK('Základní list'!$C21),\"\",'Základní list'!$A21)","v":"K"},null,null,null,null,{"$f":"IF(ISBLANK('Základní list'!$C22),\"\",'Základní list'!$A22)","v":"L"},null,null,null,null,{"$f":"IF(ISBLANK('Základní list'!$C23),\"\",'Základní list'!$A23)","v":"M"},null,null,null,null,{"$f":"IF(ISBLANK('Základní list'!$C24),\"\",'Základní list'!$A24)","v":"O"},null,null,null,null,{"$f":"IF(ISBLANK('Základní list'!$C25),\"\",'Základní list'!$A25)","v":"P"}]
[null,"Závodník","Družstvo","hmotn.","P","um.","Podpis","Závodník","Družstvo","hmotn.","P","um.","Podpis","Závodník","Družstvo","hmotn.","P","um.","Podpis","Závodník","Družstvo","hmotn.","P","um.","Podpis","Závodník","Družstvo","hmotn.","P","um.","Podpis","Závodník","Družstvo","hmotn.","P","um.","Podpis","Závodník","Družstvo","hmotn.","P","um.","Podpis","Závodník","Družstvo","hmotn.","P","um.","Podpis","Závodník","Družstvo","hmotn.","P","um.","Podpis","Závodník","Družstvo","hmotn.","P","um.","Podpis","Závodník","Družstvo","hmotn.","um.","Podpis","Závodník","Družstvo","hmotn.","um.","Podpis","Závodník","Družstvo","hmotn.","um.","Podpis","Závodník","Družstvo","hmotn.","um.","Podpis","Závodník","Družstvo","hmotn.","um.","Podpis"]
[1,{"$f":"IF(ISNA(MATCH(CONCATENATE(B$4,$A6),'Výsledková listina'!$O:$O,0)),\"\",INDEX('Výsledková listina'!$C:$C,MATCH(CONCATENATE(B$4,$A6),'Výsledková listina'!$O:$O,0),1))","v":"Šabata Jakub"},{"$f":"IF(ISNA(MATCH(CONCATENATE(B$4,$A6),'Výsledková listina'!$O:$O,0)),\"\",INDEX('Výsledková listina'!$P:$P,MATCH(CONCATENATE(B$4,$A6),'Výsledková listina'!$O:$O,0),1))","v":"Fish Angels"},9780,null,{"$f":"IF(D6=\"\",\"\",RANK(D6,D:D,0)+(COUNT(D:D)+1-RANK(D6,D:D,0)-RANK(D6,D:D,1))/2+E6)","v":2},null,{"$f":"IF(ISNA(MATCH(CONCATENATE(H$4,$A6),'Výsledková listina'!$O:$O,0)),\"\",INDEX('Výsledková listina'!$C:$C,MATCH(CONCATENATE(H$4,$A6),'Výsledková listina'!$O:$O,0),1))","v":"Denemarek Jiří"},{"$f":"IF(ISNA(MATCH(CONCATENATE(H$4,$A6),'Výsledková listina'!$O:$O,0)),\"\",INDEX('Výsledková listina'!$P:$P,MATCH(CONCATENATE(H$4,$A6),'Výsledková listina'!$O:$O,0),1))","v":"Fish Angels"},10820,null,{"$f":"IF(J6=\"\",\"\",RANK(J6,J:J,0)+(COUNT(J:J)+1-RANK(J6,J:J,0)-RANK(J6,J:J,1))/2+K6)","v":3},null,{"$f":"IF(ISNA(MATCH(CONCATENATE(N$4,$A6),'Výsledková listina'!$O:$O,0)),\"\",INDEX('Výsledková listina'!$C:$C,MATCH(CONCATENATE(N$4,$A6),'Výsledková listina'!$O:$O,0),1))","v":"Kunst Antonín"},{"$f":"IF(ISNA(MATCH(CONCATENATE(N$4,$A6),'Výsledková listina'!$O:$O,0)),\"\",INDEX('Výsledková listina'!$P:$P,MATCH(CONCATENATE(N$4,$A6),'Výsledková listina'!$O:$O,0),1))","v":"Fish Angels"},9300,null,{"$f":"IF(P6=\"\",\"\",RANK(P6,P:P,0)+(COUNT(P:P)+1-RANK(P6,P:P,0)-RANK(P6,P:P,1))/2+Q6)","v":1},null,{"$f":"IF(ISNA(MATCH(CONCATENATE(T$4,$A6),'Výsledková listina'!$O:$O,0)),\"\",INDEX('Výsledková listina'!$C:$C,MATCH(CONCATENATE(T$4,$A6),'Výsledková listina'!$O:$O,0),1))","v":""},{"$f":"IF(ISNA(MATCH(CONCATENATE(T$4,$A6),'Výsledková listina'!$O:$O,0)),\"\",INDEX('Výsledková listina'!$P:$P,MATCH(CONCATENATE(T$4,$A6),'Výsledková listina'!$O:$O,0),1))","v":""},null,null,{"$f":"IF(V6=\"\",\"\",RANK(V6,V:V,0)+(COUNT(V:V)+1-RANK(V6,V:V,0)-RANK(V6,V:V,1))/2+W6)","v":""},null,{"$f":"IF(ISNA(MATCH(CONCATENATE(Z$4,$A6),'Výsledková listina'!$O:$O,0)),\"\",INDEX('Výsledková listina'!$C:$C,MATCH(CONCATENATE(Z$4,$A6),'Výsledková listina'!$O:$O,0),1))","v":""},{"$f":"IF(ISNA(MATCH(CONCATENATE(Z$4,$A6),'Výsledková listina'!$O:$O,0)),\"\",INDEX('Výsledková listina'!$P:$P,MATCH(CONCATENATE(Z$4,$A6),'Výsledková listina'!$O:$O,0),1))","v":""},null,null,{"$f":"IF(AB6=\"\",\"\",RANK(AB6,AB:AB,0)+(COUNT(AB:AB)+1-RANK(AB6,AB:AB,0)-RANK(AB6,AB:AB,1))/2+AC6)","v":""},null,{"$f":"IF(ISNA(MATCH(CONCATENATE(AF$4,$A6),'Výsledková listina'!$O:$O,0)),\"\",INDEX('Výsledková listina'!$C:$C,MATCH(CONCATENATE(AF$4,$A6),'Výsledková listina'!$O:$O,0),1))","v":""},{"$f":"IF(ISNA(MATCH(CONCATENATE(AF$4,$A6),'Výsledková listina'!$O:$O,0)),\"\",INDEX('Výsledková listina'!$P:$P,MATCH(CONCATENATE(AF$4,$A6),'Výsledková listina'!$O:$O,0),1))","v":""},null,null,{"$f":"IF(AH6=\"\",\"\",RANK(AH6,AH:AH,0)+(COUNT(AH:AH)+1-RANK(AH6,AH:AH,0)-RANK(AH6,AH:AH,1))/2+AI6)","v":""},null,{"$f":"IF(ISNA(MATCH(CONCATENATE(AL$4,$A6),'Výsledková listina'!$O:$O,0)),\"\",INDEX('Výsledková listina'!$C:$C,MATCH(CONCATENATE(AL$4,$A6),'Výsledková listina'!$O:$O,0),1))","v":""},{"$f":"IF(ISNA(MATCH(CONCATENATE(AL$4,$A6),'Výsledková listina'!$O:$O,0)),\"\",INDEX('Výsledková listina'!$P:$P,MATCH(CONCATENATE(AL$4,$A6),'Výsledková listina'!$O:$O,0),1))","v":""},null,null,{"$f":"IF(AN6=\"\",\"\",RANK(AN6,AN:AN,0)+(COUNT(AN:AN)+1-RANK(AN6,AN:AN,0)-RANK(AN6,AN:AN,1))/2+AO6)","v":""},null,{"$f":"IF(ISNA(MATCH(CONCATENATE(AR$4,$A6),'Výsledková listina'!$O:$O,0)),\"\",INDEX('Výsledková listina'!$C:$C,MATCH(CONCATENATE(AR$4,$A6),'Výsledková listina'!$O:$O,0),1))","v":""},{"$f":"IF(ISNA(MATCH(CONCATENATE(AR$4,$A6),'Výsledková listina'!$O:$O,0)),\"\",INDEX('Výsledková listina'!$P:$P,MATCH(CONCATENATE(AR$4,$A6),'Výsledková listina'!$O:$O,0),1))","v":""},null,null,{"$f":"IF(AT6=\"\",\"\",RANK(AT6,AT:AT,0)+(COUNT(AT:AT)+1-RANK(AT6,AT:AT,0)-RANK(AT6,AT:AT,1))/2+AU6)","v":""},null,{"$f":"IF(ISNA(MATCH(CONCATENATE(AX$4,$A6),'Výsledková listina'!$O:$O,0)),\"\",INDEX('Výsledková listina'!$C:$C,MATCH(CONCATENATE(AX$4,$A6),'Výsledková listina'!$O:$O,0),1))","v":""},{"$f":"IF(ISNA(MATCH(CONCATENATE(AX$4,$A6),'Výsledková listina'!$O:$O,0)),\"\",INDEX('Výsledková listina'!$P:$P,MATCH(CONCATENATE(AX$4,$A6),'Výsledková listina'!$O:$O,0),1))","v":""},null,null,{"$f":"IF(AZ6=\"\",\"\",RANK(AZ6,AZ:AZ,0)+(COUNT(AZ:AZ)+1-RANK(AZ6,AZ:AZ,0)-RANK(AZ6,AZ:AZ,1))/2+BA6)","v":""},null,{"$f":"IF(ISNA(MATCH(CONCATENATE(BD$4,$A6),'Výsledková listina'!$O:$O,0)),\"\",INDEX('Výsledková listina'!$C:$C,MATCH(CONCATENATE(BD$4,$A6),'Výsledková listina'!$O:$O,0),1))","v":""},{"$f":"IF(ISNA(MATCH(CONCATENATE(BD$4,$A6),'Výsledková listina'!$O:$O,0)),\"\",INDEX('Výsledková listina'!$P:$P,MATCH(CONCATENATE(BD$4,$A6),'Výsledková listina'!$O:$O,0),1))","v":""},null,null,{"$f":"IF(BF6=\"\",\"\",RANK(BF6,BF:BF,0)+(COUNT(BF:BF)+1-RANK(BF6,BF:BF,0)-RANK(BF6,BF:BF,1))/2+BG6)","v":""},null,{"$f":"IF(ISNA(MATCH(CONCATENATE(BJ$4,$A6),'Výsledková listina'!$O:$O,0)),\"\",INDEX('Výsledková listina'!$C:$C,MATCH(CONCATENATE(BJ$4,$A6),'Výsledková listina'!$O:$O,0),1))","v":""},{"$f":"IF(ISNA(MATCH(CONCATENATE(BJ$4,$A6),'Výsledková listina'!$O:$O,0)),\"\",INDEX('Výsledková listina'!$P:$P,MATCH(CONCATENATE(BJ$4,$A6),'Výsledková listina'!$O:$O,0),1))","v":""},null,{"$f":"IF(BL6=\"\",\"\",RANK(BL6,BL:BL,0)+(COUNT(BL:BL)+1-RANK(BL6,BL:BL,0)-RANK(BL6,BL:BL,1))/2)","v":""},null,{"$f":"IF(ISNA(MATCH(CONCATENATE(BO$4,$A6),'Výsledková listina'!$O:$O,0)),\"\",INDEX('Výsledková listina'!$C:$C,MATCH(CONCATENATE(BO$4,$A6),'Výsledková listina'!$O:$O,0),1))","v":""},{"$f":"IF(ISNA(MATCH(CONCATENATE(BO$4,$A6),'Výsledková listina'!$O:$O,0)),\"\",INDEX('Výsledková listina'!$P:$P,MATCH(CONCATENATE(BO$4,$A6),'Výsledková listina'!$O:$O,0),1))","v":""},null,{"$f":"IF(BQ6=\"\",\"\",RANK(BQ6,BQ:BQ,0)+(COUNT(BQ:BQ)+1-RANK(BQ6,BQ:BQ,0)-RANK(BQ6,BQ:BQ,1))/2)","v":""},null,{"$f":"IF(ISNA(MATCH(CONCATENATE(BT$4,$A6),'Výsledková listina'!$O:$O,0)),\"\",INDEX('Výsledková listina'!$C:$C,MATCH(CONCATENATE(BT$4,$A6),'Výsledková listina'!$O:$O,0),1))","v":""},{"$f":"IF(ISNA(MATCH(CONCATENATE(BT$4,$A6),'Výsledková listina'!$O:$O,0)),\"\",INDEX('Výsledková listina'!$P:$P,MATCH(CONCATENATE(BT$4,$A6),'Výsledková listina'!$O:$O,0),1))","v":""},null,{"$f":"IF(BV6=\"\",\"\",RANK(BV6,BV:BV,0)+(COUNT(BV:BV)+1-RANK(BV6,BV:BV,0)-RANK(BV6,BV:BV,1))/2)","v":""},null,{"$f":"IF(ISNA(MATCH(CONCATENATE(BY$4,$A6),'Výsledková listina'!$O:$O,0)),\"\",INDEX('Výsledková listina'!$C:$C,MATCH(CONCATENATE(BY$4,$A6),'Výsledková listina'!$O:$O,0),1))","v":""},{"$f":"IF(ISNA(MATCH(CONCATENATE(BY$4,$A6),'Výsledková listina'!$O:$O,0)),\"\",INDEX('Výsledková listina'!$P:$P,MATCH(CONCATENATE(BY$4,$A6),'Výsledková listina'!$O:$O,0),1))","v":""},null,{"$f":"IF(CA6=\"\",\"\",RANK(CA6,CA:CA,0)+(COUNT(CA:CA)+1-RANK(CA6,CA:CA,0)-RANK(CA6,CA:CA,1))/2)","v":""},null,{"$f":"IF(ISNA(MATCH(CONCATENATE(CD$4,$A6),'Výsledková listina'!$O:$O,0)),\"\",INDEX('Výsledková listina'!$C:$C,MATCH(CONCATENATE(CD$4,$A6),'Výsledková listina'!$O:$O,0),1))","v":""},{"$f":"IF(ISNA(MATCH(CONCATENATE(CD$4,$A6),'Výsledková listina'!$O:$O,0)),\"\",INDEX('Výsledková listina'!$P:$P,MATCH(CONCATENATE(CD$4,$A6),'Výsledková listina'!$O:$O,0),1))","v":""},null,{"$f":"IF(CF6=\"\",\"\",RANK(CF6,CF:CF,0)+(COUNT(CF:CF)+1-RANK(CF6,CF:CF,0)-RANK(CF6,CF:CF,1))/2)","v":""}]
[2,{"$f":"IF(ISNA(MATCH(CONCATENATE(B$4,$A7),'Výsledková listina'!$O:$O,0)),\"\",INDEX('Výsledková listina'!$C:$C,MATCH(CONCATENATE(B$4,$A7),'Výsledková listina'!$O:$O,0),1))","v":"Novotný Erik"},{"$f":"IF(ISNA(MATCH(CONCATENATE(B$4,$A7),'Výsledková listina'!$O:$O,0)),\"\",INDEX('Výsledková listina'!$P:$P,MATCH(CONCATENATE(B$4,$A7),'Výsledková listina'!$O:$O,0),1))","v":"Speed feeder team"},5020,null,6,null,{"$f":"IF(ISNA(MATCH(CONCATENATE(H$4,$A7),'Výsledková listina'!$O:$O,0)),\"\",INDEX('Výsledková listina'!$C:$C,MATCH(CONCATENATE(H$4,$A7),'Výsledková listina'!$O:$O,0),1))","v":"Prášek Josef"},{"$f":"IF(ISNA(MATCH(CONCATENATE(H$4,$A7),'Výsledková listina'!$O:$O,0)),\"\",INDEX('Výsledková listina'!$P:$P,MATCH(CONCATENATE(H$4,$A7),'Výsledková listina'!$O:$O,0),1))","v":"Speed feeder team"},9460,null,5,null,{"$f":"IF(ISNA(MATCH(CONCATENATE(N$4,$A7),'Výsledková listina'!$O:$O,0)),\"\",INDEX('Výsledková listina'!$C:$C,MATCH(CONCATENATE(N$4,$A7),'Výsledková listina'!$O:$O,0),1))","v":"Tomšík Jan"},{"$f":"IF(ISNA(MATCH(CONCATENATE(N$4,$A7),'Výsledková listina'!$O:$O,0)),\"\",INDEX('Výsledková listina'!$P:$P,MATCH(CONCATENATE(N$4,$A7),'Výsledková listina'!$O:$O,0),1))","v":"Speed feeder team"},5000,null,3,null,{"$f":"IF(ISNA(MATCH(CONCATENATE(T$4,$A7),'Výsledková listina'!$O:$O,0)),\"\",INDEX('Výsledková listina'!$C:$C,MATCH(CONCATENATE(T$4,$A7),'Výsledková listina'!$O:$O,0),1))","v":""},{"$f":"IF(ISNA(MATCH(CONCATENATE(T$4,$A7),'Výsledková listina'!$O:$O,0)),\"\",INDEX('Výsledková listina'!$P:$P,MATCH(CONCATENATE(T$4,$A7),'Výsledková listina'!$O:$O,0),1))","v":""},null,null,"",null,{"$f":"IF(ISNA(MATCH(CONCATENATE(Z$4,$A7),'Výsledková listina'!$O:$O,0)),\"\",INDEX('Výsledková listina'!$C:$C,MATCH(CONCATENATE(Z$4,$A7),'Výsledková listina'!$O:$O,0),1))","v":""},{"$f":"IF(ISNA(MATCH(CONCATENATE(Z$4,$A7),'Výsledková listina'!$O:$O,0)),\"\",INDEX('Výsledková listina'!$P:$P,MATCH(CONCATENATE(Z$4,$A7),'Výsledková listina'!$O:$O,0),1))","v":""},null,null,"",null,{"$f":"IF(ISNA(MATCH(CONCATENATE(AF$4,$A7),'Výsledková listina'!$O:$O,0)),\"\",INDEX('Výsledková listina'!$C:$C,MATCH(CONCATENATE(AF$4,$A7),'Výsledková listina'!$O:$O,0),1))","v":""},{"$f":"IF(ISNA(MATCH(CONCATENATE(AF$4,$A7),'Výsledková listina'!$O:$O,0)),\"\",INDEX('Výsledková listina'!$P:$P,MATCH(CONCATENATE(AF$4,$A7),'Výsledková listina'!$O:$O,0),1))","v":""},null,null,"",null,{"$f":"IF(ISNA(MATCH(CONCATENATE(AL$4,$A7),'Výsledková listina'!$O:$O,0)),\"\",INDEX('Výsledková listina'!$C:$C,MATCH(CONCATENATE(AL$4,$A7),'Výsledková listina'!$O:$O,0),1))","v":""},{"$f":"IF(ISNA(MATCH(CONCATENATE(AL$4,$A7),'Výsledková listina'!$O:$O,0)),\"\",INDEX('Výsledková listina'!$P:$P,MATCH(CONCATENATE(AL$4,$A7),'Výsledková listina'!$O:$O,0),1))","v":""},null,null,"",null,{"$f":"IF(ISNA(MATCH(CONCATENATE(AR$4,$A7),'Výsledková listina'!$O:$O,0)),\"\",INDEX('Výsledková listina'!$C:$C,MATCH(CONCATENATE(AR$4,$A7),'Výsledková listina'!$O:$O,0),1))","v":""},{"$f":"IF(ISNA(MATCH(CONCATENATE(AR$4,$A7),'Výsledková listina'!$O:$O,0)),\"\",INDEX('Výsledková listina'!$P:$P,MATCH(CONCATENATE(AR$4,$A7),'Výsledková listina'!$O:$O,0),1))","v":""},null,null,"",null,{"$f":"IF(ISNA(MATCH(CONCATENATE(AX$4,$A7),'Výsledková listina'!$O:$O,0)),\"\",INDEX('Výsledková listina'!$C:$C,MATCH(CONCATENATE(AX$4,$A7),'Výsledková listina'!$O:$O,0),1))","v":""},{"$f":"IF(ISNA(MATCH(CONCATENATE(AX$4,$A7),'Výsledková listina'!$O:$O,0)),\"\",INDEX('Výsledková listina'!$P:$P,MATCH(CONCATENATE(AX$4,$A7),'Výsledková listina'!$O:$O,0),1))","v":""},null,null,"",null,{"$f":"IF(ISNA(MATCH(CONCATENATE(BD$4,$A7),'Výsledková listina'!$O:$O,0)),\"\",INDEX('Výsledková listina'!$C:$C,MATCH(CONCATENATE(BD$4,$A7),'Výsledková listina'!$O:$O,0),1))","v":""},{"$f":"IF(ISNA(MATCH(CONCATENATE(BD$4,$A7),'Výsledková listina'!$O:$O,0)),\"\",INDEX('Výsledková listina'!$P:$P,MATCH(CONCATENATE(BD$4,$A7),'Výsledková listina'!$O:$O,0),1))","v":""},null,null,"",null,{"$f":"IF(ISNA(MATCH(CONCATENATE(BJ$4,$A7),'Výsledková listina'!$O:$O,0)),\"\",INDEX('Výsledková listina'!$C:$C,MATCH(CONCATENATE(BJ$4,$A7),'Výsledková listina'!$O:$O,0),1))","v":""},{"$f":"IF(ISNA(MATCH(CONCATENATE(BJ$4,$A7),'Výsledková listina'!$O:$O,0)),\"\",INDEX('Výsledková listina'!$P:$P,MATCH(CONCATENATE(BJ$4,$A7),'Výsledková listina'!$O:$O,0),1))","v":""},null,"",null,{"$f":"IF(ISNA(MATCH(CONCATENATE(BO$4,$A7),'Výsledková listina'!$O:$O,0)),\"\",INDEX('Výsledková listina'!$C:$C,MATCH(CONCATENATE(BO$4,$A7),'Výsledková listina'!$O:$O,0),1))","v":""},{"$f":"IF(ISNA(MATCH(CONCATENATE(BO$4,$A7),'Výsledková listina'!$O:$O,0)),\"\",INDEX('Výsledková listina'!$P:$P,MATCH(CONCATENATE(BO$4,$A7),'Výsledková listina'!$O:$O,0),1))","v":""},null,"",null,{"$f":"IF(ISNA(MATCH(CONCATENATE(BT$4,$A7),'Výsledková listina'!$O:$O,0)),\"\",INDEX('Výsledková listina'!$C:$C,MATCH(CONCATENATE(BT$4,$A7),'Výsledková listina'!$O:$O,0),1))","v":""},{"$f":"IF(ISNA(MATCH(CONCATENATE(BT$4,$A7),'Výsledková listina'!$O:$O,0)),\"\",INDEX('Výsledková listina'!$P:$P,MATCH(CONCATENATE(BT$4,$A7),'Výsledková listina'!$O:$O,0),1))","v":""},null,"",null,{"$f":"IF(ISNA(MATCH(CONCATENATE(BY$4,$A7),'Výsledková listina'!$O:$O,0)),\"\",INDEX('Výsledková listina'!$C:$C,MATCH(CONCATENATE(BY$4,$A7),'Výsledková listina'!$O:$O,0),1))","v":""},{"$f":"IF(ISNA(MATCH(CONCATENATE(BY$4,$A7),'Výsledková listina'!$O:$O,0)),\"\",INDEX('Výsledková listina'!$P:$P,MATCH(CONCATENATE(BY$4,$A7),'Výsledková listina'!$O:$O,0),1))","v":""},null,"",null,{"$f":"IF(ISNA(MATCH(CONCATENATE(CD$4,$A7),'Výsledková listina'!$O:$O,0)),\"\",INDEX('Výsledková listina'!$C:$C,MATCH(CONCATENATE(CD$4,$A7),'Výsledková listina'!$O:$O,0),1))","v":""},{"$f":"IF(ISNA(MATCH(CONCATENATE(CD$4,$A7),'Výsledková listina'!$O:$O,0)),\"\",INDEX('Výsledková listina'!$P:$P,MATCH(CONCATENATE(CD$4,$A7),'Výsledková listina'!$O:$O,0),1))","v":""},null,""]
[3,{"$f":"IF(ISNA(MATCH(CONCATENATE(B$4,$A8),'Výsledková listina'!$O:$O,0)),\"\",INDEX('Výsledková listina'!$C:$C,MATCH(CONCATENATE(B$4,$A8),'Výsledková listina'!$O:$O,0),1))","v":"Šťovčík Viktor"},{"$f":"IF(ISNA(MATCH(CONCATENATE(B$4,$A8),'Výsledková listina'!$O:$O,0)),\"\",INDEX('Výsledková listina'!$P:$P,MATCH(CONCATENATE(B$4,$A8),'Výsledková listina'!$O:$O,0),1))","v":"Zauwíci"},3880,null,8,null,{"$f":"IF(ISNA(MATCH(CONCATENATE(H$4,$A8),'Výsledková listina'!$O:$O,0)),\"\",INDEX('Výsledková listina'!$C:$C,MATCH(CONCATENATE(H$4,$A8),'Výsledková listina'!$O:$O,0),1))","v":"Pečta Radek st."},{"$f":"IF(ISNA(MATCH(CONCATENATE(H$4,$A8),'Výsledková listina'!$O:$O,0)),\"\",INDEX('Výsledková listina'!$P:$P,MATCH(CONCATENATE(H$4,$A8),'Výsledková listina'!$O:$O,0),1))","v":"Zauwíci"},10980,null,2,null,{"$f":"IF(ISNA(MATCH(CONCATENATE(N$4,$A8),'Výsledková listina'!$O:$O,0)),\"\",INDEX('Výsledková listina'!$C:$C,MATCH(CONCATENATE(N$4,$A8),'Výsledková listina'!$O:$O,0),1))","v":"Zavřel Jan"},{"$f":"IF(ISNA(MATCH(CONCATENATE(N$4,$A8),'Výsledková listina'!$O:$O,0)),\"\",INDEX('Výsledková listina'!$P:$P,MATCH(CONCATENATE(N$4,$A8),'Výsledková listina'!$O:$O,0),1))","v":"Zauwíci"},8220,null,2,null,{"$f":"IF(ISNA(MATCH(CONCATENATE(T$4,$A8),'Výsledková listina'!$O:$O,0)),\"\",INDEX('Výsledková listina'!$C:$C,MATCH(CONCATENATE(T$4,$A8),'Výsledková listina'!$O:$O,0),1))","v":""},{"$f":"IF(ISNA(MATCH(CONCATENATE(T$4,$A8),'Výsledková listina'!$O:$O,0)),\"\",INDEX('Výsledková listina'!$P:$P,MATCH(CONCATENATE(T$4,$A8),'Výsledková listina'!$O:$O,0),1))","v":""},null,null,"",null,{"$f":"IF(ISNA(MATCH(CONCATENATE(Z$4,$A8),'Výsledková listina'!$O:$O,0)),\"\",INDEX('Výsledková listina'!$C:$C,MATCH(CONCATENATE(Z$4,$A8),'Výsledková listina'!$O:$O,0),1))","v":""},{"$f":"IF(ISNA(MATCH(CONCATENATE(Z$4,$A8),'Výsledková listina'!$O:$O,0)),\"\",INDEX('Výsledková listina'!$P:$P,MATCH(CONCATENATE(Z$4,$A8),'Výsledková listina'!$O:$O,0),1))","v":""},null,null,"",null,{"$f":"IF(ISNA(MATCH(CONCATENATE(AF$4,$A8),'Výsledková listina'!$O:$O,0)),\"\",INDEX('Výsledková listina'!$C:$C,MATCH(CONCATENATE(AF$4,$A8),'Výsledková listina'!$O:$O,0),1))","v":""},{"$f":"IF(ISNA(MATCH(CONCATENATE(AF$4,$A8),'Výsledková listina'!$O:$O,0)),\"\",INDEX('Výsledková listina'!$P:$P,MATCH(CONCATENATE(AF$4,$A8),'Výsledková listina'!$O:$O,0),1))","v":""},null,null,"",null,{"$f":"IF(ISNA(MATCH(CONCATENATE(AL$4,$A8),'Výsledková listina'!$O:$O,0)),\"\",INDEX('Výsledková listina'!$C:$C,MATCH(CONCATENATE(AL$4,$A8),'Výsledková listina'!$O:$O,0),1))","v":""},{"$f":"IF(ISNA(MATCH(CONCATENATE(AL$4,$A8),'Výsledková listina'!$O:$O,0)),\"\",INDEX('Výsledková listina'!$P:$P,MATCH(CONCATENATE(AL$4,$A8),'Výsledková listina'!$O:$O,0),1))","v":""},null,null,"",null,{"$f":"IF(ISNA(MATCH(CONCATENATE(AR$4,$A8),'Výsledková listina'!$O:$O,0)),\"\",INDEX('Výsledková listina'!$C:$C,MATCH(CONCATENATE(AR$4,$A8),'Výsledková listina'!$O:$O,0),1))","v":""},{"$f":"IF(ISNA(MATCH(CONCATENATE(AR$4,$A8),'Výsledková listina'!$O:$O,0)),\"\",INDEX('Výsledková listina'!$P:$P,MATCH(CONCATENATE(AR$4,$A8),'Výsledková listina'!$O:$O,0),1))","v":""},null,null,"",null,{"$f":"IF(ISNA(MATCH(CONCATENATE(AX$4,$A8),'Výsledková listina'!$O:$O,0)),\"\",INDEX('Výsledková listina'!$C:$C,MATCH(CONCATENATE(AX$4,$A8),'Výsledková listina'!$O:$O,0),1))","v":""},{"$f":"IF(ISNA(MATCH(CONCATENATE(AX$4,$A8),'Výsledková listina'!$O:$O,0)),\"\",INDEX('Výsledková listina'!$P:$P,MATCH(CONCATENATE(AX$4,$A8),'Výsledková listina'!$O:$O,0),1))","v":""},null,null,"",null,{"$f":"IF(ISNA(MATCH(CONCATENATE(BD$4,$A8),'Výsledková listina'!$O:$O,0)),\"\",INDEX('Výsledková listina'!$C:$C,MATCH(CONCATENATE(BD$4,$A8),'Výsledková listina'!$O:$O,0),1))","v":""},{"$f":"IF(ISNA(MATCH(CONCATENATE(BD$4,$A8),'Výsledková listina'!$O:$O,0)),\"\",INDEX('Výsledková listina'!$P:$P,MATCH(CONCATENATE(BD$4,$A8),'Výsledková listina'!$O:$O,0),1))","v":""},null,null,"",null,{"$f":"IF(ISNA(MATCH(CONCATENATE(BJ$4,$A8),'Výsledková listina'!$O:$O,0)),\"\",INDEX('Výsledková listina'!$C:$C,MATCH(CONCATENATE(BJ$4,$A8),'Výsledková listina'!$O:$O,0),1))","v":""},{"$f":"IF(ISNA(MATCH(CONCATENATE(BJ$4,$A8),'Výsledková listina'!$O:$O,0)),\"\",INDEX('Výsledková listina'!$P:$P,MATCH(CONCATENATE(BJ$4,$A8),'Výsledková listina'!$O:$O,0),1))","v":""},null,"",null,{"$f":"IF(ISNA(MATCH(CONCATENATE(BO$4,$A8),'Výsledková listina'!$O:$O,0)),\"\",INDEX('Výsledková listina'!$C:$C,MATCH(CONCATENATE(BO$4,$A8),'Výsledková listina'!$O:$O,0),1))","v":""},{"$f":"IF(ISNA(MATCH(CONCATENATE(BO$4,$A8),'Výsledková listina'!$O:$O,0)),\"\",INDEX('Výsledková listina'!$P:$P,MATCH(CONCATENATE(BO$4,$A8),'Výsledková listina'!$O:$O,0),1))","v":""},null,"",null,{"$f":"IF(ISNA(MATCH(CONCATENATE(BT$4,$A8),'Výsledková listina'!$O:$O,0)),\"\",INDEX('Výsledková listina'!$C:$C,MATCH(CONCATENATE(BT$4,$A8),'Výsledková listina'!$O:$O,0),1))","v":""},{"$f":"IF(ISNA(MATCH(CONCATENATE(BT$4,$A8),'Výsledková listina'!$O:$O,0)),\"\",INDEX('Výsledková listina'!$P:$P,MATCH(CONCATENATE(BT$4,$A8),'Výsledková listina'!$O:$O,0),1))","v":""},null,"",null,{"$f":"IF(ISNA(MATCH(CONCATENATE(BY$4,$A8),'Výsledková listina'!$O:$O,0)),\"\",INDEX('Výsledková listina'!$C:$C,MATCH(CONCATENATE(BY$4,$A8),'Výsledková listina'!$O:$O,0),1))","v":""},{"$f":"IF(ISNA(MATCH(CONCATENATE(BY$4,$A8),'Výsledková listina'!$O:$O,0)),\"\",INDEX('Výsledková listina'!$P:$P,MATCH(CONCATENATE(BY$4,$A8),'Výsledková listina'!$O:$O,0),1))","v":""},null,"",null,{"$f":"IF(ISNA(MATCH(CONCATENATE(CD$4,$A8),'Výsledková listina'!$O:$O,0)),\"\",INDEX('Výsledková listina'!$C:$C,MATCH(CONCATENATE(CD$4,$A8),'Výsledková listina'!$O:$O,0),1))","v":""},{"$f":"IF(ISNA(MATCH(CONCATENATE(CD$4,$A8),'Výsledková listina'!$O:$O,0)),\"\",INDEX('Výsledková listina'!$P:$P,MATCH(CONCATENATE(CD$4,$A8),'Výsledková listina'!$O:$O,0),1))","v":""},null,""]
[4,{"$f":"IF(ISNA(MATCH(CONCATENATE(B$4,$A9),'Výsledková listina'!$O:$O,0)),\"\",INDEX('Výsledková listina'!$C:$C,MATCH(CONCATENATE(B$4,$A9),'Výsledková listina'!$O:$O,0),1))","v":"Bartl Petr"},{"$f":"IF(ISNA(MATCH(CONCATENATE(B$4,$A9),'Výsledková listina'!$O:$O,0)),\"\",INDEX('Výsledková listina'!$P:$P,MATCH(CONCATENATE(B$4,$A9),'Výsledková listina'!$O:$O,0),1))","v":"Feeder team Vlci-Mrs"},4300,null,7,null,{"$f":"IF(ISNA(MATCH(CONCATENATE(H$4,$A9),'Výsledková listina'!$O:$O,0)),\"\",INDEX('Výsledková listina'!$C:$C,MATCH(CONCATENATE(H$4,$A9),'Výsledková listina'!$O:$O,0),1))","v":"Koucký Milan"},{"$f":"IF(ISNA(MATCH(CONCATENATE(H$4,$A9),'Výsledková listina'!$O:$O,0)),\"\",INDEX('Výsledková listina'!$P:$P,MATCH(CONCATENATE(H$4,$A9),'Výsledková listina'!$O:$O,0),1))","v":"Feeder team Vlci-Mrs"},10100,null,4,null,{"$f":"IF(ISNA(MATCH(CONCATENATE(N$4,$A9),'Výsledková listina'!$O:$O,0)),\"\",INDEX('Výsledková listina'!$C:$C,MATCH(CONCATENATE(N$4,$A9),'Výsledková listina'!$O:$O,0),1))","v":"Revai Miroslav"},{"$f":"IF(ISNA(MATCH(CONCATENATE(N$4,$A9),'Výsledková listina'!$O:$O,0)),\"\",INDEX('Výsledková listina'!$P:$P,MATCH(CONCATENATE(N$4,$A9),'Výsledková listina'!$O:$O,0),1))","v":"Feeder team Vlci-MRS"},3720,null,7,null,{"$f":"IF(ISNA(MATCH(CONCATENATE(T$4,$A9),'Výsledková listina'!$O:$O,0)),\"\",INDEX('Výsledková listina'!$C:$C,MATCH(CONCATENATE(T$4,$A9),'Výsledková listina'!$O:$O,0),1))","v":""},{"$f":"IF(ISNA(MATCH(CONCATENATE(T$4,$A9),'Výsledková listina'!$O:$O,0)),\"\",INDEX('Výsledková listina'!$P:$P,MATCH(CONCATENATE(T$4,$A9),'Výsledková listina'!$O:$O,0),1))","v":""},null,null,"",null,{"$f":"IF(ISNA(MATCH(CONCATENATE(Z$4,$A9),'Výsledková listina'!$O:$O,0)),\"\",INDEX('Výsledková listina'!$C:$C,MATCH(CONCATENATE(Z$4,$A9),'Výsledková listina'!$O:$O,0),1))","v":""},{"$f":"IF(ISNA(MATCH(CONCATENATE(Z$4,$A9),'Výsledková listina'!$O:$O,0)),\"\",INDEX('Výsledková listina'!$P:$P,MATCH(CONCATENATE(Z$4,$A9),'Výsledková listina'!$O:$O,0),1))","v":""},null,null,"",null,{"$f":"IF(ISNA(MATCH(CONCATENATE(AF$4,$A9),'Výsledková listina'!$O:$O,0)),\"\",INDEX('Výsledková listina'!$C:$C,MATCH(CONCATENATE(AF$4,$A9),'Výsledková listina'!$O:$O,0),1))","v":""},{"$f":"IF(ISNA(MATCH(CONCATENATE(AF$4,$A9),'Výsledková listina'!$O:$O,0)),\"\",INDEX('Výsledková listina'!$P:$P,MATCH(CONCATENATE(AF$4,$A9),'Výsledková listina'!$O:$O,0),1))","v":""},null,null,"",null,{"$f":"IF(ISNA(MATCH(CONCATENATE(AL$4,$A9),'Výsledková listina'!$O:$O,0)),\"\",INDEX('Výsledková listina'!$C:$C,MATCH(CONCATENATE(AL$4,$A9),'Výsledková listina'!$O:$O,0),1))","v":""},{"$f":"IF(ISNA(MATCH(CONCATENATE(AL$4,$A9),'Výsledková listina'!$O:$O,0)),\"\",INDEX('Výsledková listina'!$P:$P,MATCH(CONCATENATE(AL$4,$A9),'Výsledková listina'!$O:$O,0),1))","v":""},null,null,"",null,{"$f":"IF(ISNA(MATCH(CONCATENATE(AR$4,$A9),'Výsledková listina'!$O:$O,0)),\"\",INDEX('Výsledková listina'!$C:$C,MATCH(CONCATENATE(AR$4,$A9),'Výsledková listina'!$O:$O,0),1))","v":""},{"$f":"IF(ISNA(MATCH(CONCATENATE(AR$4,$A9),'Výsledková listina'!$O:$O,0)),\"\",INDEX('Výsledková listina'!$P:$P,MATCH(CONCATENATE(AR$4,$A9),'Výsledková listina'!$O:$O,0),1))","v":""},null,null,"",null,{"$f":"IF(ISNA(MATCH(CONCATENATE(AX$4,$A9),'Výsledková listina'!$O:$O,0)),\"\",INDEX('Výsledková listina'!$C:$C,MATCH(CONCATENATE(AX$4,$A9),'Výsledková listina'!$O:$O,0),1))","v":""},{"$f":"IF(ISNA(MATCH(CONCATENATE(AX$4,$A9),'Výsledková listina'!$O:$O,0)),\"\",INDEX('Výsledková listina'!$P:$P,MATCH(CONCATENATE(AX$4,$A9),'Výsledková listina'!$O:$O,0),1))","v":""},null,null,"",null,{"$f":"IF(ISNA(MATCH(CONCATENATE(BD$4,$A9),'Výsledková listina'!$O:$O,0)),\"\",INDEX('Výsledková listina'!$C:$C,MATCH(CONCATENATE(BD$4,$A9),'Výsledková listina'!$O:$O,0),1))","v":""},{"$f":"IF(ISNA(MATCH(CONCATENATE(BD$4,$A9),'Výsledková listina'!$O:$O,0)),\"\",INDEX('Výsledková listina'!$P:$P,MATCH(CONCATENATE(BD$4,$A9),'Výsledková listina'!$O:$O,0),1))","v":""},null,null,"",null,{"$f":"IF(ISNA(MATCH(CONCATENATE(BJ$4,$A9),'Výsledková listina'!$O:$O,0)),\"\",INDEX('Výsledková listina'!$C:$C,MATCH(CONCATENATE(BJ$4,$A9),'Výsledková listina'!$O:$O,0),1))","v":""},{"$f":"IF(ISNA(MATCH(CONCATENATE(BJ$4,$A9),'Výsledková listina'!$O:$O,0)),\"\",INDEX('Výsledková listina'!$P:$P,MATCH(CONCATENATE(BJ$4,$A9),'Výsledková listina'!$O:$O,0),1))","v":""},null,"",null,{"$f":"IF(ISNA(MATCH(CONCATENATE(BO$4,$A9),'Výsledková listina'!$O:$O,0)),\"\",INDEX('Výsledková listina'!$C:$C,MATCH(CONCATENATE(BO$4,$A9),'Výsledková listina'!$O:$O,0),1))","v":""},{"$f":"IF(ISNA(MATCH(CONCATENATE(BO$4,$A9),'Výsledková listina'!$O:$O,0)),\"\",INDEX('Výsledková listina'!$P:$P,MATCH(CONCATENATE(BO$4,$A9),'Výsledková listina'!$O:$O,0),1))","v":""},null,"",null,{"$f":"IF(ISNA(MATCH(CONCATENATE(BT$4,$A9),'Výsledková listina'!$O:$O,0)),\"\",INDEX('Výsledková listina'!$C:$C,MATCH(CONCATENATE(BT$4,$A9),'Výsledková listina'!$O:$O,0),1))","v":""},{"$f":"IF(ISNA(MATCH(CONCATENATE(BT$4,$A9),'Výsledková listina'!$O:$O,0)),\"\",INDEX('Výsledková listina'!$P:$P,MATCH(CONCATENATE(BT$4,$A9),'Výsledková listina'!$O:$O,0),1))","v":""},null,"",null,{"$f":"IF(ISNA(MATCH(CONCATENATE(BY$4,$A9),'Výsledková listina'!$O:$O,0)),\"\",INDEX('Výsledková listina'!$C:$C,MATCH(CONCATENATE(BY$4,$A9),'Výsledková listina'!$O:$O,0),1))","v":""},{"$f":"IF(ISNA(MATCH(CONCATENATE(BY$4,$A9),'Výsledková listina'!$O:$O,0)),\"\",INDEX('Výsledková listina'!$P:$P,MATCH(CONCATENATE(BY$4,$A9),'Výsledková listina'!$O:$O,0),1))","v":""},null,"",null,{"$f":"IF(ISNA(MATCH(CONCATENATE(CD$4,$A9),'Výsledková listina'!$O:$O,0)),\"\",INDEX('Výsledková listina'!$C:$C,MATCH(CONCATENATE(CD$4,$A9),'Výsledková listina'!$O:$O,0),1))","v":""},{"$f":"IF(ISNA(MATCH(CONCATENATE(CD$4,$A9),'Výsledková listina'!$O:$O,0)),\"\",INDEX('Výsledková listina'!$P:$P,MATCH(CONCATENATE(CD$4,$A9),'Výsledková listina'!$O:$O,0),1))","v":""},null,""]
[5,{"$f":"IF(ISNA(MATCH(CONCATENATE(B$4,$A10),'Výsledková listina'!$O:$O,0)),\"\",INDEX('Výsledková listina'!$C:$C,MATCH(CONCATENATE(B$4,$A10),'Výsledková listina'!$O:$O,0),1))","v":"Ondráček Petr"},{"$f":"IF(ISNA(MATCH(CONCATENATE(B$4,$A10),'Výsledková listina'!$O:$O,0)),\"\",INDEX('Výsledková listina'!$P:$P,MATCH(CONCATENATE(B$4,$A10),'Výsledková listina'!$O:$O,0),1))","v":"Ždárský kavky"},5860,null,5,null,{"$f":"IF(ISNA(MATCH(CONCATENATE(H$4,$A10),'Výsledková listina'!$O:$O,0)),\"\",INDEX('Výsledková listina'!$C:$C,MATCH(CONCATENATE(H$4,$A10),'Výsledková listina'!$O:$O,0),1))","v":"Stárek Jan"},{"$f":"IF(ISNA(MATCH(CONCATENATE(H$4,$A10),'Výsledková listina'!$O:$O,0)),\"\",INDEX('Výsledková listina'!$P:$P,MATCH(CONCATENATE(H$4,$A10),'Výsledková listina'!$O:$O,0),1))","v":"Ždárský kavky"},12380,null,1,null,{"$f":"IF(ISNA(MATCH(CONCATENATE(N$4,$A10),'Výsledková listina'!$O:$O,0)),\"\",INDEX('Výsledková listina'!$C:$C,MATCH(CONCATENATE(N$4,$A10),'Výsledková listina'!$O:$O,0),1))","v":"Fabík Zdeněk"},{"$f":"IF(ISNA(MATCH(CONCATENATE(N$4,$A10),'Výsledková listina'!$O:$O,0)),\"\",INDEX('Výsledková listina'!$P:$P,MATCH(CONCATENATE(N$4,$A10),'Výsledková listina'!$O:$O,0),1))","v":"Ždárský kavky"},4880,null,4,null,{"$f":"IF(ISNA(MATCH(CONCATENATE(T$4,$A10),'Výsledková listina'!$O:$O,0)),\"\",INDEX('Výsledková listina'!$C:$C,MATCH(CONCATENATE(T$4,$A10),'Výsledková listina'!$O:$O,0),1))","v":""},{"$f":"IF(ISNA(MATCH(CONCATENATE(T$4,$A10),'Výsledková listina'!$O:$O,0)),\"\",INDEX('Výsledková listina'!$P:$P,MATCH(CONCATENATE(T$4,$A10),'Výsledková listina'!$O:$O,0),1))","v":""},null,null,"",null,{"$f":"IF(ISNA(MATCH(CONCATENATE(Z$4,$A10),'Výsledková listina'!$O:$O,0)),\"\",INDEX('Výsledková listina'!$C:$C,MATCH(CONCATENATE(Z$4,$A10),'Výsledková listina'!$O:$O,0),1))","v":""},{"$f":"IF(ISNA(MATCH(CONCATENATE(Z$4,$A10),'Výsledková listina'!$O:$O,0)),\"\",INDEX('Výsledková listina'!$P:$P,MATCH(CONCATENATE(Z$4,$A10),'Výsledková listina'!$O:$O,0),1))","v":""},null,null,"",null,{"$f":"IF(ISNA(MATCH(CONCATENATE(AF$4,$A10),'Výsledková listina'!$O:$O,0)),\"\",INDEX('Výsledková listina'!$C:$C,MATCH(CONCATENATE(AF$4,$A10),'Výsledková listina'!$O:$O,0),1))","v":""},{"$f":"IF(ISNA(MATCH(CONCATENATE(AF$4,$A10),'Výsledková listina'!$O:$O,0)),\"\",INDEX('Výsledková listina'!$P:$P,MATCH(CONCATENATE(AF$4,$A10),'Výsledková listina'!$O:$O,0),1))","v":""},null,null,"",null,{"$f":"IF(ISNA(MATCH(CONCATENATE(AL$4,$A10),'Výsledková listina'!$O:$O,0)),\"\",INDEX('Výsledková listina'!$C:$C,MATCH(CONCATENATE(AL$4,$A10),'Výsledková listina'!$O:$O,0),1))","v":""},{"$f":"IF(ISNA(MATCH(CONCATENATE(AL$4,$A10),'Výsledková listina'!$O:$O,0)),\"\",INDEX('Výsledková listina'!$P:$P,MATCH(CONCATENATE(AL$4,$A10),'Výsledková listina'!$O:$O,0),1))","v":""},null,null,"",null,{"$f":"IF(ISNA(MATCH(CONCATENATE(AR$4,$A10),'Výsledková listina'!$O:$O,0)),\"\",INDEX('Výsledková listina'!$C:$C,MATCH(CONCATENATE(AR$4,$A10),'Výsledková listina'!$O:$O,0),1))","v":""},{"$f":"IF(ISNA(MATCH(CONCATENATE(AR$4,$A10),'Výsledková listina'!$O:$O,0)),\"\",INDEX('Výsledková listina'!$P:$P,MATCH(CONCATENATE(AR$4,$A10),'Výsledková listina'!$O:$O,0),1))","v":""},null,null,"",null,{"$f":"IF(ISNA(MATCH(CONCATENATE(AX$4,$A10),'Výsledková listina'!$O:$O,0)),\"\",INDEX('Výsledková listina'!$C:$C,MATCH(CONCATENATE(AX$4,$A10),'Výsledková listina'!$O:$O,0),1))","v":""},{"$f":"IF(ISNA(MATCH(CONCATENATE(AX$4,$A10),'Výsledková listina'!$O:$O,0)),\"\",INDEX('Výsledková listina'!$P:$P,MATCH(CONCATENATE(AX$4,$A10),'Výsledková listina'!$O:$O,0),1))","v":""},null,null,"",null,{"$f":"IF(ISNA(MATCH(CONCATENATE(BD$4,$A10),'Výsledková listina'!$O:$O,0)),\"\",INDEX('Výsledková listina'!$C:$C,MATCH(CONCATENATE(BD$4,$A10),'Výsledková listina'!$O:$O,0),1))","v":""},{"$f":"IF(ISNA(MATCH(CONCATENATE(BD$4,$A10),'Výsledková listina'!$O:$O,0)),\"\",INDEX('Výsledková listina'!$P:$P,MATCH(CONCATENATE(BD$4,$A10),'Výsledková listina'!$O:$O,0),1))","v":""},null,null,"",null,{"$f":"IF(ISNA(MATCH(CONCATENATE(BJ$4,$A10),'Výsledková listina'!$O:$O,0)),\"\",INDEX('Výsledková listina'!$C:$C,MATCH(CONCATENATE(BJ$4,$A10),'Výsledková listina'!$O:$O,0),1))","v":""},{"$f":"IF(ISNA(MATCH(CONCATENATE(BJ$4,$A10),'Výsledková listina'!$O:$O,0)),\"\",INDEX('Výsledková listina'!$P:$P,MATCH(CONCATENATE(BJ$4,$A10),'Výsledková listina'!$O:$O,0),1))","v":""},null,"",null,{"$f":"IF(ISNA(MATCH(CONCATENATE(BO$4,$A10),'Výsledková listina'!$O:$O,0)),\"\",INDEX('Výsledková listina'!$C:$C,MATCH(CONCATENATE(BO$4,$A10),'Výsledková listina'!$O:$O,0),1))","v":""},{"$f":"IF(ISNA(MATCH(CONCATENATE(BO$4,$A10),'Výsledková listina'!$O:$O,0)),\"\",INDEX('Výsledková listina'!$P:$P,MATCH(CONCATENATE(BO$4,$A10),'Výsledková listina'!$O:$O,0),1))","v":""},null,"",null,{"$f":"IF(ISNA(MATCH(CONCATENATE(BT$4,$A10),'Výsledková listina'!$O:$O,0)),\"\",INDEX('Výsledková listina'!$C:$C,MATCH(CONCATENATE(BT$4,$A10),'Výsledková listina'!$O:$O,0),1))","v":""},{"$f":"IF(ISNA(MATCH(CONCATENATE(BT$4,$A10),'Výsledková listina'!$O:$O,0)),\"\",INDEX('Výsledková listina'!$P:$P,MATCH(CONCATENATE(BT$4,$A10),'Výsledková listina'!$O:$O,0),1))","v":""},null,"",null,{"$f":"IF(ISNA(MATCH(CONCATENATE(BY$4,$A10),'Výsledková listina'!$O:$O,0)),\"\",INDEX('Výsledková listina'!$C:$C,MATCH(CONCATENATE(BY$4,$A10),'Výsledková listina'!$O:$O,0),1))","v":""},{"$f":"IF(ISNA(MATCH(CONCATENATE(BY$4,$A10),'Výsledková listina'!$O:$O,0)),\"\",INDEX('Výsledková listina'!$P:$P,MATCH(CONCATENATE(BY$4,$A10),'Výsledková listina'!$O:$O,0),1))","v":""},null,"",null,{"$f":"IF(ISNA(MATCH(CONCATENATE(CD$4,$A10),'Výsledková listina'!$O:$O,0)),\"\",INDEX('Výsledková listina'!$C:$C,MATCH(CONCATENATE(CD$4,$A10),'Výsledková listina'!$O:$O,0),1))","v":""},{"$f":"IF(ISNA(MATCH(CONCATENATE(CD$4,$A10),'Výsledková listina'!$O:$O,0)),\"\",INDEX('Výsledková listina'!$P:$P,MATCH(CONCATENATE(CD$4,$A10),'Výsledková listina'!$O:$O,0),1))","v":""},null,""]
[6,{"$f":"IF(ISNA(MATCH(CONCATENATE(B$4,$A11),'Výsledková listina'!$O:$O,0)),\"\",INDEX('Výsledková listina'!$C:$C,MATCH(CONCATENATE(B$4,$A11),'Výsledková listina'!$O:$O,0),1))","v":"Chadraba Petr"},{"$f":"IF(ISNA(MATCH(CONCATENATE(B$4,$A11),'Výsledková listina'!$O:$O,0)),\"\",INDEX('Výsledková listina'!$P:$P,MATCH(CONCATENATE(B$4,$A11),'Výsledková listina'!$O:$O,0),1))","v":"MILO Feeder Team JIHOSEVERÁCI"},10780,null,1,null,{"$f":"IF(ISNA(MATCH(CONCATENATE(H$4,$A11),'Výsledková listina'!$O:$O,0)),\"\",INDEX('Výsledková listina'!$C:$C,MATCH(CONCATENATE(H$4,$A11),'Výsledková listina'!$O:$O,0),1))","v":"Ohera Tomáš"},{"$f":"IF(ISNA(MATCH(CONCATENATE(H$4,$A11),'Výsledková listina'!$O:$O,0)),\"\",INDEX('Výsledková listina'!$P:$P,MATCH(CONCATENATE(H$4,$A11),'Výsledková listina'!$O:$O,0),1))","v":"MILO Feeder Team JIHOSEVERÁCI"},6300,null,6,null,{"$f":"IF(ISNA(MATCH(CONCATENATE(N$4,$A11),'Výsledková listina'!$O:$O,0)),\"\",INDEX('Výsledková listina'!$C:$C,MATCH(CONCATENATE(N$4,$A11),'Výsledková listina'!$O:$O,0),1))","v":"Peřina Josef"},{"$f":"IF(ISNA(MATCH(CONCATENATE(N$4,$A11),'Výsledková listina'!$O:$O,0)),\"\",INDEX('Výsledková listina'!$P:$P,MATCH(CONCATENATE(N$4,$A11),'Výsledková listina'!$O:$O,0),1))","v":"MILO Feeder Team JIHOSEVERÁCI"},3820,null,6,null,{"$f":"IF(ISNA(MATCH(CONCATENATE(T$4,$A11),'Výsledková listina'!$O:$O,0)),\"\",INDEX('Výsledková listina'!$C:$C,MATCH(CONCATENATE(T$4,$A11),'Výsledková listina'!$O:$O,0),1))","v":""},{"$f":"IF(ISNA(MATCH(CONCATENATE(T$4,$A11),'Výsledková listina'!$O:$O,0)),\"\",INDEX('Výsledková listina'!$P:$P,MATCH(CONCATENATE(T$4,$A11),'Výsledková listina'!$O:$O,0),1))","v":""},null,null,"",null,{"$f":"IF(ISNA(MATCH(CONCATENATE(Z$4,$A11),'Výsledková listina'!$O:$O,0)),\"\",INDEX('Výsledková listina'!$C:$C,MATCH(CONCATENATE(Z$4,$A11),'Výsledková listina'!$O:$O,0),1))","v":""},{"$f":"IF(ISNA(MATCH(CONCATENATE(Z$4,$A11),'Výsledková listina'!$O:$O,0)),\"\",INDEX('Výsledková listina'!$P:$P,MATCH(CONCATENATE(Z$4,$A11),'Výsledková listina'!$O:$O,0),1))","v":""},null,null,"",null,{"$f":"IF(ISNA(MATCH(CONCATENATE(AF$4,$A11),'Výsledková listina'!$O:$O,0)),\"\",INDEX('Výsledková listina'!$C:$C,MATCH(CONCATENATE(AF$4,$A11),'Výsledková listina'!$O:$O,0),1))","v":""},{"$f":"IF(ISNA(MATCH(CONCATENATE(AF$4,$A11),'Výsledková listina'!$O:$O,0)),\"\",INDEX('Výsledková listina'!$P:$P,MATCH(CONCATENATE(AF$4,$A11),'Výsledková listina'!$O:$O,0),1))","v":""},null,null,"",null,{"$f":"IF(ISNA(MATCH(CONCATENATE(AL$4,$A11),'Výsledková listina'!$O:$O,0)),\"\",INDEX('Výsledková listina'!$C:$C,MATCH(CONCATENATE(AL$4,$A11),'Výsledková listina'!$O:$O,0),1))","v":""},{"$f":"IF(ISNA(MATCH(CONCATENATE(AL$4,$A11),'Výsledková listina'!$O:$O,0)),\"\",INDEX('Výsledková listina'!$P:$P,MATCH(CONCATENATE(AL$4,$A11),'Výsledková listina'!$O:$O,0),1))","v":""},null,null,"",null,{"$f":"IF(ISNA(MATCH(CONCATENATE(AR$4,$A11),'Výsledková listina'!$O:$O,0)),\"\",INDEX('Výsledková listina'!$C:$C,MATCH(CONCATENATE(AR$4,$A11),'Výsledková listina'!$O:$O,0),1))","v":""},{"$f":"IF(ISNA(MATCH(CONCATENATE(AR$4,$A11),'Výsledková listina'!$O:$O,0)),\"\",INDEX('Výsledková listina'!$P:$P,MATCH(CONCATENATE(AR$4,$A11),'Výsledková listina'!$O:$O,0),1))","v":""},null,null,"",null,{"$f":"IF(ISNA(MATCH(CONCATENATE(AX$4,$A11),'Výsledková listina'!$O:$O,0)),\"\",INDEX('Výsledková listina'!$C:$C,MATCH(CONCATENATE(AX$4,$A11),'Výsledková listina'!$O:$O,0),1))","v":""},{"$f":"IF(ISNA(MATCH(CONCATENATE(AX$4,$A11),'Výsledková listina'!$O:$O,0)),\"\",INDEX('Výsledková listina'!$P:$P,MATCH(CONCATENATE(AX$4,$A11),'Výsledková listina'!$O:$O,0),1))","v":""},null,null,"",null,{"$f":"IF(ISNA(MATCH(CONCATENATE(BD$4,$A11),'Výsledková listina'!$O:$O,0)),\"\",INDEX('Výsledková listina'!$C:$C,MATCH(CONCATENATE(BD$4,$A11),'Výsledková listina'!$O:$O,0),1))","v":""},{"$f":"IF(ISNA(MATCH(CONCATENATE(BD$4,$A11),'Výsledková listina'!$O:$O,0)),\"\",INDEX('Výsledková listina'!$P:$P,MATCH(CONCATENATE(BD$4,$A11),'Výsledková listina'!$O:$O,0),1))","v":""},null,null,"",null,{"$f":"IF(ISNA(MATCH(CONCATENATE(BJ$4,$A11),'Výsledková listina'!$O:$O,0)),\"\",INDEX('Výsledková listina'!$C:$C,MATCH(CONCATENATE(BJ$4,$A11),'Výsledková listina'!$O:$O,0),1))","v":""},{"$f":"IF(ISNA(MATCH(CONCATENATE(BJ$4,$A11),'Výsledková listina'!$O:$O,0)),\"\",INDEX('Výsledková listina'!$P:$P,MATCH(CONCATENATE(BJ$4,$A11),'Výsledková listina'!$O:$O,0),1))","v":""},null,"",null,{"$f":"IF(ISNA(MATCH(CONCATENATE(BO$4,$A11),'Výsledková listina'!$O:$O,0)),\"\",INDEX('Výsledková listina'!$C:$C,MATCH(CONCATENATE(BO$4,$A11),'Výsledková listina'!$O:$O,0),1))","v":""},{"$f":"IF(ISNA(MATCH(CONCATENATE(BO$4,$A11),'Výsledková listina'!$O:$O,0)),\"\",INDEX('Výsledková listina'!$P:$P,MATCH(CONCATENATE(BO$4,$A11),'Výsledková listina'!$O:$O,0),1))","v":""},null,"",null,{"$f":"IF(ISNA(MATCH(CONCATENATE(BT$4,$A11),'Výsledková listina'!$O:$O,0)),\"\",INDEX('Výsledková listina'!$C:$C,MATCH(CONCATENATE(BT$4,$A11),'Výsledková listina'!$O:$O,0),1))","v":""},{"$f":"IF(ISNA(MATCH(CONCATENATE(BT$4,$A11),'Výsledková listina'!$O:$O,0)),\"\",INDEX('Výsledková listina'!$P:$P,MATCH(CONCATENATE(BT$4,$A11),'Výsledková listina'!$O:$O,0),1))","v":""},null,"",null,{"$f":"IF(ISNA(MATCH(CONCATENATE(BY$4,$A11),'Výsledková listina'!$O:$O,0)),\"\",INDEX('Výsledková listina'!$C:$C,MATCH(CONCATENATE(BY$4,$A11),'Výsledková listina'!$O:$O,0),1))","v":""},{"$f":"IF(ISNA(MATCH(CONCATENATE(BY$4,$A11),'Výsledková listina'!$O:$O,0)),\"\",INDEX('Výsledková listina'!$P:$P,MATCH(CONCATENATE(BY$4,$A11),'Výsledková listina'!$O:$O,0),1))","v":""},null,"",null,{"$f":"IF(ISNA(MATCH(CONCATENATE(CD$4,$A11),'Výsledková listina'!$O:$O,0)),\"\",INDEX('Výsledková listina'!$C:$C,MATCH(CONCATENATE(CD$4,$A11),'Výsledková listina'!$O:$O,0),1))","v":""},{"$f":"IF(ISNA(MATCH(CONCATENATE(CD$4,$A11),'Výsledková listina'!$O:$O,0)),\"\",INDEX('Výsledková listina'!$P:$P,MATCH(CONCATENATE(CD$4,$A11),'Výsledková listina'!$O:$O,0),1))","v":""},null,""]
[7,{"$f":"IF(ISNA(MATCH(CONCATENATE(B$4,$A12),'Výsledková listina'!$O:$O,0)),\"\",INDEX('Výsledková listina'!$C:$C,MATCH(CONCATENATE(B$4,$A12),'Výsledková listina'!$O:$O,0),1))","v":"Radek Černý"},{"$f":"IF(ISNA(MATCH(CONCATENATE(B$4,$A12),'Výsledková listina'!$O:$O,0)),\"\",INDEX('Výsledková listina'!$P:$P,MATCH(CONCATENATE(B$4,$A12),'Výsledková listina'!$O:$O,0),1))","v":"Ševčovi pacholci"},6540,null,4,null,{"$f":"IF(ISNA(MATCH(CONCATENATE(H$4,$A12),'Výsledková listina'!$O:$O,0)),\"\",INDEX('Výsledková listina'!$C:$C,MATCH(CONCATENATE(H$4,$A12),'Výsledková listina'!$O:$O,0),1))","v":"Vitásek Jiří "},{"$f":"IF(ISNA(MATCH(CONCATENATE(H$4,$A12),'Výsledková listina'!$O:$O,0)),\"\",INDEX('Výsledková listina'!$P:$P,MATCH(CONCATENATE(H$4,$A12),'Výsledková listina'!$O:$O,0),1))","v":"Ševčovi pacholci"},6020,null,7,null,{"$f":"IF(ISNA(MATCH(CONCATENATE(N$4,$A12),'Výsledková listina'!$O:$O,0)),\"\",INDEX('Výsledková listina'!$C:$C,MATCH(CONCATENATE(N$4,$A12),'Výsledková listina'!$O:$O,0),1))","v":"Ševčík Ladislav"},{"$f":"IF(ISNA(MATCH(CONCATENATE(N$4,$A12),'Výsledková listina'!$O:$O,0)),\"\",INDEX('Výsledková listina'!$P:$P,MATCH(CONCATENATE(N$4,$A12),'Výsledková listina'!$O:$O,0),1))","v":"Ševčovi pacholci"},2260,null,8,null,{"$f":"IF(ISNA(MATCH(CONCATENATE(T$4,$A12),'Výsledková listina'!$O:$O,0)),\"\",INDEX('Výsledková listina'!$C:$C,MATCH(CONCATENATE(T$4,$A12),'Výsledková listina'!$O:$O,0),1))","v":""},{"$f":"IF(ISNA(MATCH(CONCATENATE(T$4,$A12),'Výsledková listina'!$O:$O,0)),\"\",INDEX('Výsledková listina'!$P:$P,MATCH(CONCATENATE(T$4,$A12),'Výsledková listina'!$O:$O,0),1))","v":""},null,null,"",null,{"$f":"IF(ISNA(MATCH(CONCATENATE(Z$4,$A12),'Výsledková listina'!$O:$O,0)),\"\",INDEX('Výsledková listina'!$C:$C,MATCH(CONCATENATE(Z$4,$A12),'Výsledková listina'!$O:$O,0),1))","v":""},{"$f":"IF(ISNA(MATCH(CONCATENATE(Z$4,$A12),'Výsledková listina'!$O:$O,0)),\"\",INDEX('Výsledková listina'!$P:$P,MATCH(CONCATENATE(Z$4,$A12),'Výsledková listina'!$O:$O,0),1))","v":""},null,null,"",null,{"$f":"IF(ISNA(MATCH(CONCATENATE(AF$4,$A12),'Výsledková listina'!$O:$O,0)),\"\",INDEX('Výsledková listina'!$C:$C,MATCH(CONCATENATE(AF$4,$A12),'Výsledková listina'!$O:$O,0),1))","v":""},{"$f":"IF(ISNA(MATCH(CONCATENATE(AF$4,$A12),'Výsledková listina'!$O:$O,0)),\"\",INDEX('Výsledková listina'!$P:$P,MATCH(CONCATENATE(AF$4,$A12),'Výsledková listina'!$O:$O,0),1))","v":""},null,null,"",null,{"$f":"IF(ISNA(MATCH(CONCATENATE(AL$4,$A12),'Výsledková listina'!$O:$O,0)),\"\",INDEX('Výsledková listina'!$C:$C,MATCH(CONCATENATE(AL$4,$A12),'Výsledková listina'!$O:$O,0),1))","v":""},{"$f":"IF(ISNA(MATCH(CONCATENATE(AL$4,$A12),'Výsledková listina'!$O:$O,0)),\"\",INDEX('Výsledková listina'!$P:$P,MATCH(CONCATENATE(AL$4,$A12),'Výsledková listina'!$O:$O,0),1))","v":""},null,null,"",null,{"$f":"IF(ISNA(MATCH(CONCATENATE(AR$4,$A12),'Výsledková listina'!$O:$O,0)),\"\",INDEX('Výsledková listina'!$C:$C,MATCH(CONCATENATE(AR$4,$A12),'Výsledková listina'!$O:$O,0),1))","v":""},{"$f":"IF(ISNA(MATCH(CONCATENATE(AR$4,$A12),'Výsledková listina'!$O:$O,0)),\"\",INDEX('Výsledková listina'!$P:$P,MATCH(CONCATENATE(AR$4,$A12),'Výsledková listina'!$O:$O,0),1))","v":""},null,null,"",null,{"$f":"IF(ISNA(MATCH(CONCATENATE(AX$4,$A12),'Výsledková listina'!$O:$O,0)),\"\",INDEX('Výsledková listina'!$C:$C,MATCH(CONCATENATE(AX$4,$A12),'Výsledková listina'!$O:$O,0),1))","v":""},{"$f":"IF(ISNA(MATCH(CONCATENATE(AX$4,$A12),'Výsledková listina'!$O:$O,0)),\"\",INDEX('Výsledková listina'!$P:$P,MATCH(CONCATENATE(AX$4,$A12),'Výsledková listina'!$O:$O,0),1))","v":""},null,null,"",null,{"$f":"IF(ISNA(MATCH(CONCATENATE(BD$4,$A12),'Výsledková listina'!$O:$O,0)),\"\",INDEX('Výsledková listina'!$C:$C,MATCH(CONCATENATE(BD$4,$A12),'Výsledková listina'!$O:$O,0),1))","v":""},{"$f":"IF(ISNA(MATCH(CONCATENATE(BD$4,$A12),'Výsledková listina'!$O:$O,0)),\"\",INDEX('Výsledková listina'!$P:$P,MATCH(CONCATENATE(BD$4,$A12),'Výsledková listina'!$O:$O,0),1))","v":""},null,null,"",null,{"$f":"IF(ISNA(MATCH(CONCATENATE(BJ$4,$A12),'Výsledková listina'!$O:$O,0)),\"\",INDEX('Výsledková listina'!$C:$C,MATCH(CONCATENATE(BJ$4,$A12),'Výsledková listina'!$O:$O,0),1))","v":""},{"$f":"IF(ISNA(MATCH(CONCATENATE(BJ$4,$A12),'Výsledková listina'!$O:$O,0)),\"\",INDEX('Výsledková listina'!$P:$P,MATCH(CONCATENATE(BJ$4,$A12),'Výsledková listina'!$O:$O,0),1))","v":""},null,"",null,{"$f":"IF(ISNA(MATCH(CONCATENATE(BO$4,$A12),'Výsledková listina'!$O:$O,0)),\"\",INDEX('Výsledková listina'!$C:$C,MATCH(CONCATENATE(BO$4,$A12),'Výsledková listina'!$O:$O,0),1))","v":""},{"$f":"IF(ISNA(MATCH(CONCATENATE(BO$4,$A12),'Výsledková listina'!$O:$O,0)),\"\",INDEX('Výsledková listina'!$P:$P,MATCH(CONCATENATE(BO$4,$A12),'Výsledková listina'!$O:$O,0),1))","v":""},null,"",null,{"$f":"IF(ISNA(MATCH(CONCATENATE(BT$4,$A12),'Výsledková listina'!$O:$O,0)),\"\",INDEX('Výsledková listina'!$C:$C,MATCH(CONCATENATE(BT$4,$A12),'Výsledková listina'!$O:$O,0),1))","v":""},{"$f":"IF(ISNA(MATCH(CONCATENATE(BT$4,$A12),'Výsledková listina'!$O:$O,0)),\"\",INDEX('Výsledková listina'!$P:$P,MATCH(CONCATENATE(BT$4,$A12),'Výsledková listina'!$O:$O,0),1))","v":""},null,"",null,{"$f":"IF(ISNA(MATCH(CONCATENATE(BY$4,$A12),'Výsledková listina'!$O:$O,0)),\"\",INDEX('Výsledková listina'!$C:$C,MATCH(CONCATENATE(BY$4,$A12),'Výsledková listina'!$O:$O,0),1))","v":""},{"$f":"IF(ISNA(MATCH(CONCATENATE(BY$4,$A12),'Výsledková listina'!$O:$O,0)),\"\",INDEX('Výsledková listina'!$P:$P,MATCH(CONCATENATE(BY$4,$A12),'Výsledková listina'!$O:$O,0),1))","v":""},null,"",null,{"$f":"IF(ISNA(MATCH(CONCATENATE(CD$4,$A12),'Výsledková listina'!$O:$O,0)),\"\",INDEX('Výsledková listina'!$C:$C,MATCH(CONCATENATE(CD$4,$A12),'Výsledková listina'!$O:$O,0),1))","v":""},{"$f":"IF(ISNA(MATCH(CONCATENATE(CD$4,$A12),'Výsledková listina'!$O:$O,0)),\"\",INDEX('Výsledková listina'!$P:$P,MATCH(CONCATENATE(CD$4,$A12),'Výsledková listina'!$O:$O,0),1))","v":""},null,""]
[8,{"$f":"IF(ISNA(MATCH(CONCATENATE(B$4,$A13),'Výsledková listina'!$O:$O,0)),\"\",INDEX('Výsledková listina'!$C:$C,MATCH(CONCATENATE(B$4,$A13),'Výsledková listina'!$O:$O,0),1))","v":"Frič Michal"},{"$f":"IF(ISNA(MATCH(CONCATENATE(B$4,$A13),'Výsledková listina'!$O:$O,0)),\"\",INDEX('Výsledková listina'!$P:$P,MATCH(CONCATENATE(B$4,$A13),'Výsledková listina'!$O:$O,0),1))","v":"Fídrové komando"},7560,null,3,null,{"$f":"IF(ISNA(MATCH(CONCATENATE(H$4,$A13),'Výsledková listina'!$O:$O,0)),\"\",INDEX('Výsledková listina'!$C:$C,MATCH(CONCATENATE(H$4,$A13),'Výsledková listina'!$O:$O,0),1))","v":"Bruckner Martin"},{"$f":"IF(ISNA(MATCH(CONCATENATE(H$4,$A13),'Výsledková listina'!$O:$O,0)),\"\",INDEX('Výsledková listina'!$P:$P,MATCH(CONCATENATE(H$4,$A13),'Výsledková listina'!$O:$O,0),1))","v":"Fídrové komando"},4060,null,8,null,{"$f":"IF(ISNA(MATCH(CONCATENATE(N$4,$A13),'Výsledková listina'!$O:$O,0)),\"\",INDEX('Výsledková listina'!$C:$C,MATCH(CONCATENATE(N$4,$A13),'Výsledková listina'!$O:$O,0),1))","v":"Pečta Radek"},{"$f":"IF(ISNA(MATCH(CONCATENATE(N$4,$A13),'Výsledková listina'!$O:$O,0)),\"\",INDEX('Výsledková listina'!$P:$P,MATCH(CONCATENATE(N$4,$A13),'Výsledková listina'!$O:$O,0),1))","v":"Fídrové komando"},4420,null,5,null,{"$f":"IF(ISNA(MATCH(CONCATENATE(T$4,$A13),'Výsledková listina'!$O:$O,0)),\"\",INDEX('Výsledková listina'!$C:$C,MATCH(CONCATENATE(T$4,$A13),'Výsledková listina'!$O:$O,0),1))","v":""},{"$f":"IF(ISNA(MATCH(CONCATENATE(T$4,$A13),'Výsledková listina'!$O:$O,0)),\"\",INDEX('Výsledková listina'!$P:$P,MATCH(CONCATENATE(T$4,$A13),'Výsledková listina'!$O:$O,0),1))","v":""},null,null,"",null,{"$f":"IF(ISNA(MATCH(CONCATENATE(Z$4,$A13),'Výsledková listina'!$O:$O,0)),\"\",INDEX('Výsledková listina'!$C:$C,MATCH(CONCATENATE(Z$4,$A13),'Výsledková listina'!$O:$O,0),1))","v":""},{"$f":"IF(ISNA(MATCH(CONCATENATE(Z$4,$A13),'Výsledková listina'!$O:$O,0)),\"\",INDEX('Výsledková listina'!$P:$P,MATCH(CONCATENATE(Z$4,$A13),'Výsledková listina'!$O:$O,0),1))","v":""},null,null,"",null,{"$f":"IF(ISNA(MATCH(CONCATENATE(AF$4,$A13),'Výsledková listina'!$O:$O,0)),\"\",INDEX('Výsledková listina'!$C:$C,MATCH(CONCATENATE(AF$4,$A13),'Výsledková listina'!$O:$O,0),1))","v":""},{"$f":"IF(ISNA(MATCH(CONCATENATE(AF$4,$A13),'Výsledková listina'!$O:$O,0)),\"\",INDEX('Výsledková listina'!$P:$P,MATCH(CONCATENATE(AF$4,$A13),'Výsledková listina'!$O:$O,0),1))","v":""},null,null,"",null,{"$f":"IF(ISNA(MATCH(CONCATENATE(AL$4,$A13),'Výsledková listina'!$O:$O,0)),\"\",INDEX('Výsledková listina'!$C:$C,MATCH(CONCATENATE(AL$4,$A13),'Výsledková listina'!$O:$O,0),1))","v":""},{"$f":"IF(ISNA(MATCH(CONCATENATE(AL$4,$A13),'Výsledková listina'!$O:$O,0)),\"\",INDEX('Výsledková listina'!$P:$P,MATCH(CONCATENATE(AL$4,$A13),'Výsledková listina'!$O:$O,0),1))","v":""},null,null,"",null,{"$f":"IF(ISNA(MATCH(CONCATENATE(AR$4,$A13),'Výsledková listina'!$O:$O,0)),\"\",INDEX('Výsledková listina'!$C:$C,MATCH(CONCATENATE(AR$4,$A13),'Výsledková listina'!$O:$O,0),1))","v":""},{"$f":"IF(ISNA(MATCH(CONCATENATE(AR$4,$A13),'Výsledková listina'!$O:$O,0)),\"\",INDEX('Výsledková listina'!$P:$P,MATCH(CONCATENATE(AR$4,$A13),'Výsledková listina'!$O:$O,0),1))","v":""},null,null,"",null,{"$f":"IF(ISNA(MATCH(CONCATENATE(AX$4,$A13),'Výsledková listina'!$O:$O,0)),\"\",INDEX('Výsledková listina'!$C:$C,MATCH(CONCATENATE(AX$4,$A13),'Výsledková listina'!$O:$O,0),1))","v":""},{"$f":"IF(ISNA(MATCH(CONCATENATE(AX$4,$A13),'Výsledková listina'!$O:$O,0)),\"\",INDEX('Výsledková listina'!$P:$P,MATCH(CONCATENATE(AX$4,$A13),'Výsledková listina'!$O:$O,0),1))","v":""},null,null,"",null,{"$f":"IF(ISNA(MATCH(CONCATENATE(BD$4,$A13),'Výsledková listina'!$O:$O,0)),\"\",INDEX('Výsledková listina'!$C:$C,MATCH(CONCATENATE(BD$4,$A13),'Výsledková listina'!$O:$O,0),1))","v":""},{"$f":"IF(ISNA(MATCH(CONCATENATE(BD$4,$A13),'Výsledková listina'!$O:$O,0)),\"\",INDEX('Výsledková listina'!$P:$P,MATCH(CONCATENATE(BD$4,$A13),'Výsledková listina'!$O:$O,0),1))","v":""},null,null,"",null,{"$f":"IF(ISNA(MATCH(CONCATENATE(BJ$4,$A13),'Výsledková listina'!$O:$O,0)),\"\",INDEX('Výsledková listina'!$C:$C,MATCH(CONCATENATE(BJ$4,$A13),'Výsledková listina'!$O:$O,0),1))","v":""},{"$f":"IF(ISNA(MATCH(CONCATENATE(BJ$4,$A13),'Výsledková listina'!$O:$O,0)),\"\",INDEX('Výsledková listina'!$P:$P,MATCH(CONCATENATE(BJ$4,$A13),'Výsledková listina'!$O:$O,0),1))","v":""},null,"",null,{"$f":"IF(ISNA(MATCH(CONCATENATE(BO$4,$A13),'Výsledková listina'!$O:$O,0)),\"\",INDEX('Výsledková listina'!$C:$C,MATCH(CONCATENATE(BO$4,$A13),'Výsledková listina'!$O:$O,0),1))","v":""},{"$f":"IF(ISNA(MATCH(CONCATENATE(BO$4,$A13),'Výsledková listina'!$O:$O,0)),\"\",INDEX('Výsledková listina'!$P:$P,MATCH(CONCATENATE(BO$4,$A13),'Výsledková listina'!$O:$O,0),1))","v":""},null,"",null,{"$f":"IF(ISNA(MATCH(CONCATENATE(BT$4,$A13),'Výsledková listina'!$O:$O,0)),\"\",INDEX('Výsledková listina'!$C:$C,MATCH(CONCATENATE(BT$4,$A13),'Výsledková listina'!$O:$O,0),1))","v":""},{"$f":"IF(ISNA(MATCH(CONCATENATE(BT$4,$A13),'Výsledková listina'!$O:$O,0)),\"\",INDEX('Výsledková listina'!$P:$P,MATCH(CONCATENATE(BT$4,$A13),'Výsledková listina'!$O:$O,0),1))","v":""},null,"",null,{"$f":"IF(ISNA(MATCH(CONCATENATE(BY$4,$A13),'Výsledková listina'!$O:$O,0)),\"\",INDEX('Výsledková listina'!$C:$C,MATCH(CONCATENATE(BY$4,$A13),'Výsledková listina'!$O:$O,0),1))","v":""},{"$f":"IF(ISNA(MATCH(CONCATENATE(BY$4,$A13),'Výsledková listina'!$O:$O,0)),\"\",INDEX('Výsledková listina'!$P:$P,MATCH(CONCATENATE(BY$4,$A13),'Výsledková listina'!$O:$O,0),1))","v":""},null,"",null,{"$f":"IF(ISNA(MATCH(CONCATENATE(CD$4,$A13),'Výsledková listina'!$O:$O,0)),\"\",INDEX('Výsledková listina'!$C:$C,MATCH(CONCATENATE(CD$4,$A13),'Výsledková listina'!$O:$O,0),1))","v":""},{"$f":"IF(ISNA(MATCH(CONCATENATE(CD$4,$A13),'Výsledková listina'!$O:$O,0)),\"\",INDEX('Výsledková listina'!$P:$P,MATCH(CONCATENATE(CD$4,$A13),'Výsledková listina'!$O:$O,0),1))","v":""},null,""]
[9,{"$f":"IF(ISNA(MATCH(CONCATENATE(B$4,$A14),'Výsledková listina'!$O:$O,0)),\"\",INDEX('Výsledková listina'!$C:$C,MATCH(CONCATENATE(B$4,$A14),'Výsledková listina'!$O:$O,0),1))","v":""},{"$f":"IF(ISNA(MATCH(CONCATENATE(B$4,$A14),'Výsledková listina'!$O:$O,0)),\"\",INDEX('Výsledková listina'!$P:$P,MATCH(CONCATENATE(B$4,$A14),'Výsledková listina'!$O:$O,0),1))","v":""},null,null,"",null,{"$f":"IF(ISNA(MATCH(CONCATENATE(H$4,$A14),'Výsledková listina'!$O:$O,0)),\"\",INDEX('Výsledková listina'!$C:$C,MATCH(CONCATENATE(H$4,$A14),'Výsledková listina'!$O:$O,0),1))","v":""},{"$f":"IF(ISNA(MATCH(CONCATENATE(H$4,$A14),'Výsledková listina'!$O:$O,0)),\"\",INDEX('Výsledková listina'!$P:$P,MATCH(CONCATENATE(H$4,$A14),'Výsledková listina'!$O:$O,0),1))","v":""},null,null,"",null,{"$f":"IF(ISNA(MATCH(CONCATENATE(N$4,$A14),'Výsledková listina'!$O:$O,0)),\"\",INDEX('Výsledková listina'!$C:$C,MATCH(CONCATENATE(N$4,$A14),'Výsledková listina'!$O:$O,0),1))","v":""},{"$f":"IF(ISNA(MATCH(CONCATENATE(N$4,$A14),'Výsledková listina'!$O:$O,0)),\"\",INDEX('Výsledková listina'!$P:$P,MATCH(CONCATENATE(N$4,$A14),'Výsledková listina'!$O:$O,0),1))","v":""},null,null,"",null,{"$f":"IF(ISNA(MATCH(CONCATENATE(T$4,$A14),'Výsledková listina'!$O:$O,0)),\"\",INDEX('Výsledková listina'!$C:$C,MATCH(CONCATENATE(T$4,$A14),'Výsledková listina'!$O:$O,0),1))","v":""},{"$f":"IF(ISNA(MATCH(CONCATENATE(T$4,$A14),'Výsledková listina'!$O:$O,0)),\"\",INDEX('Výsledková listina'!$P:$P,MATCH(CONCATENATE(T$4,$A14),'Výsledková listina'!$O:$O,0),1))","v":""},null,null,"",null,{"$f":"IF(ISNA(MATCH(CONCATENATE(Z$4,$A14),'Výsledková listina'!$O:$O,0)),\"\",INDEX('Výsledková listina'!$C:$C,MATCH(CONCATENATE(Z$4,$A14),'Výsledková listina'!$O:$O,0),1))","v":""},{"$f":"IF(ISNA(MATCH(CONCATENATE(Z$4,$A14),'Výsledková listina'!$O:$O,0)),\"\",INDEX('Výsledková listina'!$P:$P,MATCH(CONCATENATE(Z$4,$A14),'Výsledková listina'!$O:$O,0),1))","v":""},null,null,"",null,{"$f":"IF(ISNA(MATCH(CONCATENATE(AF$4,$A14),'Výsledková listina'!$O:$O,0)),\"\",INDEX('Výsledková listina'!$C:$C,MATCH(CONCATENATE(AF$4,$A14),'Výsledková listina'!$O:$O,0),1))","v":""},{"$f":"IF(ISNA(MATCH(CONCATENATE(AF$4,$A14),'Výsledková listina'!$O:$O,0)),\"\",INDEX('Výsledková listina'!$P:$P,MATCH(CONCATENATE(AF$4,$A14),'Výsledková listina'!$O:$O,0),1))","v":""},null,null,"",null,{"$f":"IF(ISNA(MATCH(CONCATENATE(AL$4,$A14),'Výsledková listina'!$O:$O,0)),\"\",INDEX('Výsledková listina'!$C:$C,MATCH(CONCATENATE(AL$4,$A14),'Výsledková listina'!$O:$O,0),1))","v":""},{"$f":"IF(ISNA(MATCH(CONCATENATE(AL$4,$A14),'Výsledková listina'!$O:$O,0)),\"\",INDEX('Výsledková listina'!$P:$P,MATCH(CONCATENATE(AL$4,$A14),'Výsledková listina'!$O:$O,0),1))","v":""},null,null,"",null,{"$f":"IF(ISNA(MATCH(CONCATENATE(AR$4,$A14),'Výsledková listina'!$O:$O,0)),\"\",INDEX('Výsledková listina'!$C:$C,MATCH(CONCATENATE(AR$4,$A14),'Výsledková listina'!$O:$O,0),1))","v":""},{"$f":"IF(ISNA(MATCH(CONCATENATE(AR$4,$A14),'Výsledková listina'!$O:$O,0)),\"\",INDEX('Výsledková listina'!$P:$P,MATCH(CONCATENATE(AR$4,$A14),'Výsledková listina'!$O:$O,0),1))","v":""},null,null,"",null,{"$f":"IF(ISNA(MATCH(CONCATENATE(AX$4,$A14),'Výsledková listina'!$O:$O,0)),\"\",INDEX('Výsledková listina'!$C:$C,MATCH(CONCATENATE(AX$4,$A14),'Výsledková listina'!$O:$O,0),1))","v":""},{"$f":"IF(ISNA(MATCH(CONCATENATE(AX$4,$A14),'Výsledková listina'!$O:$O,0)),\"\",INDEX('Výsledková listina'!$P:$P,MATCH(CONCATENATE(AX$4,$A14),'Výsledková listina'!$O:$O,0),1))","v":""},null,null,"",null,{"$f":"IF(ISNA(MATCH(CONCATENATE(BD$4,$A14),'Výsledková listina'!$O:$O,0)),\"\",INDEX('Výsledková listina'!$C:$C,MATCH(CONCATENATE(BD$4,$A14),'Výsledková listina'!$O:$O,0),1))","v":""},{"$f":"IF(ISNA(MATCH(CONCATENATE(BD$4,$A14),'Výsledková listina'!$O:$O,0)),\"\",INDEX('Výsledková listina'!$P:$P,MATCH(CONCATENATE(BD$4,$A14),'Výsledková listina'!$O:$O,0),1))","v":""},null,null,"",null,{"$f":"IF(ISNA(MATCH(CONCATENATE(BJ$4,$A14),'Výsledková listina'!$O:$O,0)),\"\",INDEX('Výsledková listina'!$C:$C,MATCH(CONCATENATE(BJ$4,$A14),'Výsledková listina'!$O:$O,0),1))","v":""},{"$f":"IF(ISNA(MATCH(CONCATENATE(BJ$4,$A14),'Výsledková listina'!$O:$O,0)),\"\",INDEX('Výsledková listina'!$P:$P,MATCH(CONCATENATE(BJ$4,$A14),'Výsledková listina'!$O:$O,0),1))","v":""},null,"",null,{"$f":"IF(ISNA(MATCH(CONCATENATE(BO$4,$A14),'Výsledková listina'!$O:$O,0)),\"\",INDEX('Výsledková listina'!$C:$C,MATCH(CONCATENATE(BO$4,$A14),'Výsledková listina'!$O:$O,0),1))","v":""},{"$f":"IF(ISNA(MATCH(CONCATENATE(BO$4,$A14),'Výsledková listina'!$O:$O,0)),\"\",INDEX('Výsledková listina'!$P:$P,MATCH(CONCATENATE(BO$4,$A14),'Výsledková listina'!$O:$O,0),1))","v":""},null,"",null,{"$f":"IF(ISNA(MATCH(CONCATENATE(BT$4,$A14),'Výsledková listina'!$O:$O,0)),\"\",INDEX('Výsledková listina'!$C:$C,MATCH(CONCATENATE(BT$4,$A14),'Výsledková listina'!$O:$O,0),1))","v":""},{"$f":"IF(ISNA(MATCH(CONCATENATE(BT$4,$A14),'Výsledková listina'!$O:$O,0)),\"\",INDEX('Výsledková listina'!$P:$P,MATCH(CONCATENATE(BT$4,$A14),'Výsledková listina'!$O:$O,0),1))","v":""},null,"",null,{"$f":"IF(ISNA(MATCH(CONCATENATE(BY$4,$A14),'Výsledková listina'!$O:$O,0)),\"\",INDEX('Výsledková listina'!$C:$C,MATCH(CONCATENATE(BY$4,$A14),'Výsledková listina'!$O:$O,0),1))","v":""},{"$f":"IF(ISNA(MATCH(CONCATENATE(BY$4,$A14),'Výsledková listina'!$O:$O,0)),\"\",INDEX('Výsledková listina'!$P:$P,MATCH(CONCATENATE(BY$4,$A14),'Výsledková listina'!$O:$O,0),1))","v":""},null,"",null,{"$f":"IF(ISNA(MATCH(CONCATENATE(CD$4,$A14),'Výsledková listina'!$O:$O,0)),\"\",INDEX('Výsledková listina'!$C:$C,MATCH(CONCATENATE(CD$4,$A14),'Výsledková listina'!$O:$O,0),1))","v":""},{"$f":"IF(ISNA(MATCH(CONCATENATE(CD$4,$A14),'Výsledková listina'!$O:$O,0)),\"\",INDEX('Výsledková listina'!$P:$P,MATCH(CONCATENATE(CD$4,$A14),'Výsledková listina'!$O:$O,0),1))","v":""},null,""]
[10,{"$f":"IF(ISNA(MATCH(CONCATENATE(B$4,$A15),'Výsledková listina'!$O:$O,0)),\"\",INDEX('Výsledková listina'!$C:$C,MATCH(CONCATENATE(B$4,$A15),'Výsledková listina'!$O:$O,0),1))","v":""},{"$f":"IF(ISNA(MATCH(CONCATENATE(B$4,$A15),'Výsledková listina'!$O:$O,0)),\"\",INDEX('Výsledková listina'!$P:$P,MATCH(CONCATENATE(B$4,$A15),'Výsledková listina'!$O:$O,0),1))","v":""},null,null,"",null,{"$f":"IF(ISNA(MATCH(CONCATENATE(H$4,$A15),'Výsledková listina'!$O:$O,0)),\"\",INDEX('Výsledková listina'!$C:$C,MATCH(CONCATENATE(H$4,$A15),'Výsledková listina'!$O:$O,0),1))","v":""},{"$f":"IF(ISNA(MATCH(CONCATENATE(H$4,$A15),'Výsledková listina'!$O:$O,0)),\"\",INDEX('Výsledková listina'!$P:$P,MATCH(CONCATENATE(H$4,$A15),'Výsledková listina'!$O:$O,0),1))","v":""},null,null,"",null,{"$f":"IF(ISNA(MATCH(CONCATENATE(N$4,$A15),'Výsledková listina'!$O:$O,0)),\"\",INDEX('Výsledková listina'!$C:$C,MATCH(CONCATENATE(N$4,$A15),'Výsledková listina'!$O:$O,0),1))","v":""},{"$f":"IF(ISNA(MATCH(CONCATENATE(N$4,$A15),'Výsledková listina'!$O:$O,0)),\"\",INDEX('Výsledková listina'!$P:$P,MATCH(CONCATENATE(N$4,$A15),'Výsledková listina'!$O:$O,0),1))","v":""},null,null,"",null,{"$f":"IF(ISNA(MATCH(CONCATENATE(T$4,$A15),'Výsledková listina'!$O:$O,0)),\"\",INDEX('Výsledková listina'!$C:$C,MATCH(CONCATENATE(T$4,$A15),'Výsledková listina'!$O:$O,0),1))","v":""},{"$f":"IF(ISNA(MATCH(CONCATENATE(T$4,$A15),'Výsledková listina'!$O:$O,0)),\"\",INDEX('Výsledková listina'!$P:$P,MATCH(CONCATENATE(T$4,$A15),'Výsledková listina'!$O:$O,0),1))","v":""},null,null,"",null,{"$f":"IF(ISNA(MATCH(CONCATENATE(Z$4,$A15),'Výsledková listina'!$O:$O,0)),\"\",INDEX('Výsledková listina'!$C:$C,MATCH(CONCATENATE(Z$4,$A15),'Výsledková listina'!$O:$O,0),1))","v":""},{"$f":"IF(ISNA(MATCH(CONCATENATE(Z$4,$A15),'Výsledková listina'!$O:$O,0)),\"\",INDEX('Výsledková listina'!$P:$P,MATCH(CONCATENATE(Z$4,$A15),'Výsledková listina'!$O:$O,0),1))","v":""},null,null,"",null,{"$f":"IF(ISNA(MATCH(CONCATENATE(AF$4,$A15),'Výsledková listina'!$O:$O,0)),\"\",INDEX('Výsledková listina'!$C:$C,MATCH(CONCATENATE(AF$4,$A15),'Výsledková listina'!$O:$O,0),1))","v":""},{"$f":"IF(ISNA(MATCH(CONCATENATE(AF$4,$A15),'Výsledková listina'!$O:$O,0)),\"\",INDEX('Výsledková listina'!$P:$P,MATCH(CONCATENATE(AF$4,$A15),'Výsledková listina'!$O:$O,0),1))","v":""},null,null,"",null,{"$f":"IF(ISNA(MATCH(CONCATENATE(AL$4,$A15),'Výsledková listina'!$O:$O,0)),\"\",INDEX('Výsledková listina'!$C:$C,MATCH(CONCATENATE(AL$4,$A15),'Výsledková listina'!$O:$O,0),1))","v":""},{"$f":"IF(ISNA(MATCH(CONCATENATE(AL$4,$A15),'Výsledková listina'!$O:$O,0)),\"\",INDEX('Výsledková listina'!$P:$P,MATCH(CONCATENATE(AL$4,$A15),'Výsledková listina'!$O:$O,0),1))","v":""},null,null,"",null,{"$f":"IF(ISNA(MATCH(CONCATENATE(AR$4,$A15),'Výsledková listina'!$O:$O,0)),\"\",INDEX('Výsledková listina'!$C:$C,MATCH(CONCATENATE(AR$4,$A15),'Výsledková listina'!$O:$O,0),1))","v":""},{"$f":"IF(ISNA(MATCH(CONCATENATE(AR$4,$A15),'Výsledková listina'!$O:$O,0)),\"\",INDEX('Výsledková listina'!$P:$P,MATCH(CONCATENATE(AR$4,$A15),'Výsledková listina'!$O:$O,0),1))","v":""},null,null,"",null,{"$f":"IF(ISNA(MATCH(CONCATENATE(AX$4,$A15),'Výsledková listina'!$O:$O,0)),\"\",INDEX('Výsledková listina'!$C:$C,MATCH(CONCATENATE(AX$4,$A15),'Výsledková listina'!$O:$O,0),1))","v":""},{"$f":"IF(ISNA(MATCH(CONCATENATE(AX$4,$A15),'Výsledková listina'!$O:$O,0)),\"\",INDEX('Výsledková listina'!$P:$P,MATCH(CONCATENATE(AX$4,$A15),'Výsledková listina'!$O:$O,0),1))","v":""},null,null,"",null,{"$f":"IF(ISNA(MATCH(CONCATENATE(BD$4,$A15),'Výsledková listina'!$O:$O,0)),\"\",INDEX('Výsledková listina'!$C:$C,MATCH(CONCATENATE(BD$4,$A15),'Výsledková listina'!$O:$O,0),1))","v":""},{"$f":"IF(ISNA(MATCH(CONCATENATE(BD$4,$A15),'Výsledková listina'!$O:$O,0)),\"\",INDEX('Výsledková listina'!$P:$P,MATCH(CONCATENATE(BD$4,$A15),'Výsledková listina'!$O:$O,0),1))","v":""},null,null,"",null,{"$f":"IF(ISNA(MATCH(CONCATENATE(BJ$4,$A15),'Výsledková listina'!$O:$O,0)),\"\",INDEX('Výsledková listina'!$C:$C,MATCH(CONCATENATE(BJ$4,$A15),'Výsledková listina'!$O:$O,0),1))","v":""},{"$f":"IF(ISNA(MATCH(CONCATENATE(BJ$4,$A15),'Výsledková listina'!$O:$O,0)),\"\",INDEX('Výsledková listina'!$P:$P,MATCH(CONCATENATE(BJ$4,$A15),'Výsledková listina'!$O:$O,0),1))","v":""},null,"",null,{"$f":"IF(ISNA(MATCH(CONCATENATE(BO$4,$A15),'Výsledková listina'!$O:$O,0)),\"\",INDEX('Výsledková listina'!$C:$C,MATCH(CONCATENATE(BO$4,$A15),'Výsledková listina'!$O:$O,0),1))","v":""},{"$f":"IF(ISNA(MATCH(CONCATENATE(BO$4,$A15),'Výsledková listina'!$O:$O,0)),\"\",INDEX('Výsledková listina'!$P:$P,MATCH(CONCATENATE(BO$4,$A15),'Výsledková listina'!$O:$O,0),1))","v":""},null,"",null,{"$f":"IF(ISNA(MATCH(CONCATENATE(BT$4,$A15),'Výsledková listina'!$O:$O,0)),\"\",INDEX('Výsledková listina'!$C:$C,MATCH(CONCATENATE(BT$4,$A15),'Výsledková listina'!$O:$O,0),1))","v":""},{"$f":"IF(ISNA(MATCH(CONCATENATE(BT$4,$A15),'Výsledková listina'!$O:$O,0)),\"\",INDEX('Výsledková listina'!$P:$P,MATCH(CONCATENATE(BT$4,$A15),'Výsledková listina'!$O:$O,0),1))","v":""},null,"",null,{"$f":"IF(ISNA(MATCH(CONCATENATE(BY$4,$A15),'Výsledková listina'!$O:$O,0)),\"\",INDEX('Výsledková listina'!$C:$C,MATCH(CONCATENATE(BY$4,$A15),'Výsledková listina'!$O:$O,0),1))","v":""},{"$f":"IF(ISNA(MATCH(CONCATENATE(BY$4,$A15),'Výsledková listina'!$O:$O,0)),\"\",INDEX('Výsledková listina'!$P:$P,MATCH(CONCATENATE(BY$4,$A15),'Výsledková listina'!$O:$O,0),1))","v":""},null,"",null,{"$f":"IF(ISNA(MATCH(CONCATENATE(CD$4,$A15),'Výsledková listina'!$O:$O,0)),\"\",INDEX('Výsledková listina'!$C:$C,MATCH(CONCATENATE(CD$4,$A15),'Výsledková listina'!$O:$O,0),1))","v":""},{"$f":"IF(ISNA(MATCH(CONCATENATE(CD$4,$A15),'Výsledková listina'!$O:$O,0)),\"\",INDEX('Výsledková listina'!$P:$P,MATCH(CONCATENATE(CD$4,$A15),'Výsledková listina'!$O:$O,0),1))","v":""},null,""]
[11,{"$f":"IF(ISNA(MATCH(CONCATENATE(B$4,$A16),'Výsledková listina'!$O:$O,0)),\"\",INDEX('Výsledková listina'!$C:$C,MATCH(CONCATENATE(B$4,$A16),'Výsledková listina'!$O:$O,0),1))","v":""},{"$f":"IF(ISNA(MATCH(CONCATENATE(B$4,$A16),'Výsledková listina'!$O:$O,0)),\"\",INDEX('Výsledková listina'!$P:$P,MATCH(CONCATENATE(B$4,$A16),'Výsledková listina'!$O:$O,0),1))","v":""},null,null,"",null,{"$f":"IF(ISNA(MATCH(CONCATENATE(H$4,$A16),'Výsledková listina'!$O:$O,0)),\"\",INDEX('Výsledková listina'!$C:$C,MATCH(CONCATENATE(H$4,$A16),'Výsledková listina'!$O:$O,0),1))","v":""},{"$f":"IF(ISNA(MATCH(CONCATENATE(H$4,$A16),'Výsledková listina'!$O:$O,0)),\"\",INDEX('Výsledková listina'!$P:$P,MATCH(CONCATENATE(H$4,$A16),'Výsledková listina'!$O:$O,0),1))","v":""},null,null,"",null,{"$f":"IF(ISNA(MATCH(CONCATENATE(N$4,$A16),'Výsledková listina'!$O:$O,0)),\"\",INDEX('Výsledková listina'!$C:$C,MATCH(CONCATENATE(N$4,$A16),'Výsledková listina'!$O:$O,0),1))","v":""},{"$f":"IF(ISNA(MATCH(CONCATENATE(N$4,$A16),'Výsledková listina'!$O:$O,0)),\"\",INDEX('Výsledková listina'!$P:$P,MATCH(CONCATENATE(N$4,$A16),'Výsledková listina'!$O:$O,0),1))","v":""},null,null,"",null,{"$f":"IF(ISNA(MATCH(CONCATENATE(T$4,$A16),'Výsledková listina'!$O:$O,0)),\"\",INDEX('Výsledková listina'!$C:$C,MATCH(CONCATENATE(T$4,$A16),'Výsledková listina'!$O:$O,0),1))","v":""},{"$f":"IF(ISNA(MATCH(CONCATENATE(T$4,$A16),'Výsledková listina'!$O:$O,0)),\"\",INDEX('Výsledková listina'!$P:$P,MATCH(CONCATENATE(T$4,$A16),'Výsledková listina'!$O:$O,0),1))","v":""},null,null,"",null,{"$f":"IF(ISNA(MATCH(CONCATENATE(Z$4,$A16),'Výsledková listina'!$O:$O,0)),\"\",INDEX('Výsledková listina'!$C:$C,MATCH(CONCATENATE(Z$4,$A16),'Výsledková listina'!$O:$O,0),1))","v":""},{"$f":"IF(ISNA(MATCH(CONCATENATE(Z$4,$A16),'Výsledková listina'!$O:$O,0)),\"\",INDEX('Výsledková listina'!$P:$P,MATCH(CONCATENATE(Z$4,$A16),'Výsledková listina'!$O:$O,0),1))","v":""},null,null,"",null,{"$f":"IF(ISNA(MATCH(CONCATENATE(AF$4,$A16),'Výsledková listina'!$O:$O,0)),\"\",INDEX('Výsledková listina'!$C:$C,MATCH(CONCATENATE(AF$4,$A16),'Výsledková listina'!$O:$O,0),1))","v":""},{"$f":"IF(ISNA(MATCH(CONCATENATE(AF$4,$A16),'Výsledková listina'!$O:$O,0)),\"\",INDEX('Výsledková listina'!$P:$P,MATCH(CONCATENATE(AF$4,$A16),'Výsledková listina'!$O:$O,0),1))","v":""},null,null,"",null,{"$f":"IF(ISNA(MATCH(CONCATENATE(AL$4,$A16),'Výsledková listina'!$O:$O,0)),\"\",INDEX('Výsledková listina'!$C:$C,MATCH(CONCATENATE(AL$4,$A16),'Výsledková listina'!$O:$O,0),1))","v":""},{"$f":"IF(ISNA(MATCH(CONCATENATE(AL$4,$A16),'Výsledková listina'!$O:$O,0)),\"\",INDEX('Výsledková listina'!$P:$P,MATCH(CONCATENATE(AL$4,$A16),'Výsledková listina'!$O:$O,0),1))","v":""},null,null,"",null,{"$f":"IF(ISNA(MATCH(CONCATENATE(AR$4,$A16),'Výsledková listina'!$O:$O,0)),\"\",INDEX('Výsledková listina'!$C:$C,MATCH(CONCATENATE(AR$4,$A16),'Výsledková listina'!$O:$O,0),1))","v":""},{"$f":"IF(ISNA(MATCH(CONCATENATE(AR$4,$A16),'Výsledková listina'!$O:$O,0)),\"\",INDEX('Výsledková listina'!$P:$P,MATCH(CONCATENATE(AR$4,$A16),'Výsledková listina'!$O:$O,0),1))","v":""},null,null,"",null,{"$f":"IF(ISNA(MATCH(CONCATENATE(AX$4,$A16),'Výsledková listina'!$O:$O,0)),\"\",INDEX('Výsledková listina'!$C:$C,MATCH(CONCATENATE(AX$4,$A16),'Výsledková listina'!$O:$O,0),1))","v":""},{"$f":"IF(ISNA(MATCH(CONCATENATE(AX$4,$A16),'Výsledková listina'!$O:$O,0)),\"\",INDEX('Výsledková listina'!$P:$P,MATCH(CONCATENATE(AX$4,$A16),'Výsledková listina'!$O:$O,0),1))","v":""},null,null,"",null,{"$f":"IF(ISNA(MATCH(CONCATENATE(BD$4,$A16),'Výsledková listina'!$O:$O,0)),\"\",INDEX('Výsledková listina'!$C:$C,MATCH(CONCATENATE(BD$4,$A16),'Výsledková listina'!$O:$O,0),1))","v":""},{"$f":"IF(ISNA(MATCH(CONCATENATE(BD$4,$A16),'Výsledková listina'!$O:$O,0)),\"\",INDEX('Výsledková listina'!$P:$P,MATCH(CONCATENATE(BD$4,$A16),'Výsledková listina'!$O:$O,0),1))","v":""},null,null,"",null,{"$f":"IF(ISNA(MATCH(CONCATENATE(BJ$4,$A16),'Výsledková listina'!$O:$O,0)),\"\",INDEX('Výsledková listina'!$C:$C,MATCH(CONCATENATE(BJ$4,$A16),'Výsledková listina'!$O:$O,0),1))","v":""},{"$f":"IF(ISNA(MATCH(CONCATENATE(BJ$4,$A16),'Výsledková listina'!$O:$O,0)),\"\",INDEX('Výsledková listina'!$P:$P,MATCH(CONCATENATE(BJ$4,$A16),'Výsledková listina'!$O:$O,0),1))","v":""},null,"",null,{"$f":"IF(ISNA(MATCH(CONCATENATE(BO$4,$A16),'Výsledková listina'!$O:$O,0)),\"\",INDEX('Výsledková listina'!$C:$C,MATCH(CONCATENATE(BO$4,$A16),'Výsledková listina'!$O:$O,0),1))","v":""},{"$f":"IF(ISNA(MATCH(CONCATENATE(BO$4,$A16),'Výsledková listina'!$O:$O,0)),\"\",INDEX('Výsledková listina'!$P:$P,MATCH(CONCATENATE(BO$4,$A16),'Výsledková listina'!$O:$O,0),1))","v":""},null,"",null,{"$f":"IF(ISNA(MATCH(CONCATENATE(BT$4,$A16),'Výsledková listina'!$O:$O,0)),\"\",INDEX('Výsledková listina'!$C:$C,MATCH(CONCATENATE(BT$4,$A16),'Výsledková listina'!$O:$O,0),1))","v":""},{"$f":"IF(ISNA(MATCH(CONCATENATE(BT$4,$A16),'Výsledková listina'!$O:$O,0)),\"\",INDEX('Výsledková listina'!$P:$P,MATCH(CONCATENATE(BT$4,$A16),'Výsledková listina'!$O:$O,0),1))","v":""},null,"",null,{"$f":"IF(ISNA(MATCH(CONCATENATE(BY$4,$A16),'Výsledková listina'!$O:$O,0)),\"\",INDEX('Výsledková listina'!$C:$C,MATCH(CONCATENATE(BY$4,$A16),'Výsledková listina'!$O:$O,0),1))","v":""},{"$f":"IF(ISNA(MATCH(CONCATENATE(BY$4,$A16),'Výsledková listina'!$O:$O,0)),\"\",INDEX('Výsledková listina'!$P:$P,MATCH(CONCATENATE(BY$4,$A16),'Výsledková listina'!$O:$O,0),1))","v":""},null,"",null,{"$f":"IF(ISNA(MATCH(CONCATENATE(CD$4,$A16),'Výsledková listina'!$O:$O,0)),\"\",INDEX('Výsledková listina'!$C:$C,MATCH(CONCATENATE(CD$4,$A16),'Výsledková listina'!$O:$O,0),1))","v":""},{"$f":"IF(ISNA(MATCH(CONCATENATE(CD$4,$A16),'Výsledková listina'!$O:$O,0)),\"\",INDEX('Výsledková listina'!$P:$P,MATCH(CONCATENATE(CD$4,$A16),'Výsledková listina'!$O:$O,0),1))","v":""},null,""]
[12,{"$f":"IF(ISNA(MATCH(CONCATENATE(B$4,$A17),'Výsledková listina'!$O:$O,0)),\"\",INDEX('Výsledková listina'!$C:$C,MATCH(CONCATENATE(B$4,$A17),'Výsledková listina'!$O:$O,0),1))","v":""},{"$f":"IF(ISNA(MATCH(CONCATENATE(B$4,$A17),'Výsledková listina'!$O:$O,0)),\"\",INDEX('Výsledková listina'!$P:$P,MATCH(CONCATENATE(B$4,$A17),'Výsledková listina'!$O:$O,0),1))","v":""},null,null,"",null,{"$f":"IF(ISNA(MATCH(CONCATENATE(H$4,$A17),'Výsledková listina'!$O:$O,0)),\"\",INDEX('Výsledková listina'!$C:$C,MATCH(CONCATENATE(H$4,$A17),'Výsledková listina'!$O:$O,0),1))","v":""},{"$f":"IF(ISNA(MATCH(CONCATENATE(H$4,$A17),'Výsledková listina'!$O:$O,0)),\"\",INDEX('Výsledková listina'!$P:$P,MATCH(CONCATENATE(H$4,$A17),'Výsledková listina'!$O:$O,0),1))","v":""},null,null,"",null,{"$f":"IF(ISNA(MATCH(CONCATENATE(N$4,$A17),'Výsledková listina'!$O:$O,0)),\"\",INDEX('Výsledková listina'!$C:$C,MATCH(CONCATENATE(N$4,$A17),'Výsledková listina'!$O:$O,0),1))","v":""},{"$f":"IF(ISNA(MATCH(CONCATENATE(N$4,$A17),'Výsledková listina'!$O:$O,0)),\"\",INDEX('Výsledková listina'!$P:$P,MATCH(CONCATENATE(N$4,$A17),'Výsledková listina'!$O:$O,0),1))","v":""},null,null,"",null,{"$f":"IF(ISNA(MATCH(CONCATENATE(T$4,$A17),'Výsledková listina'!$O:$O,0)),\"\",INDEX('Výsledková listina'!$C:$C,MATCH(CONCATENATE(T$4,$A17),'Výsledková listina'!$O:$O,0),1))","v":""},{"$f":"IF(ISNA(MATCH(CONCATENATE(T$4,$A17),'Výsledková listina'!$O:$O,0)),\"\",INDEX('Výsledková listina'!$P:$P,MATCH(CONCATENATE(T$4,$A17),'Výsledková listina'!$O:$O,0),1))","v":""},null,null,"",null,{"$f":"IF(ISNA(MATCH(CONCATENATE(Z$4,$A17),'Výsledková listina'!$O:$O,0)),\"\",INDEX('Výsledková listina'!$C:$C,MATCH(CONCATENATE(Z$4,$A17),'Výsledková listina'!$O:$O,0),1))","v":""},{"$f":"IF(ISNA(MATCH(CONCATENATE(Z$4,$A17),'Výsledková listina'!$O:$O,0)),\"\",INDEX('Výsledková listina'!$P:$P,MATCH(CONCATENATE(Z$4,$A17),'Výsledková listina'!$O:$O,0),1))","v":""},null,null,"",null,{"$f":"IF(ISNA(MATCH(CONCATENATE(AF$4,$A17),'Výsledková listina'!$O:$O,0)),\"\",INDEX('Výsledková listina'!$C:$C,MATCH(CONCATENATE(AF$4,$A17),'Výsledková listina'!$O:$O,0),1))","v":""},{"$f":"IF(ISNA(MATCH(CONCATENATE(AF$4,$A17),'Výsledková listina'!$O:$O,0)),\"\",INDEX('Výsledková listina'!$P:$P,MATCH(CONCATENATE(AF$4,$A17),'Výsledková listina'!$O:$O,0),1))","v":""},null,null,"",null,{"$f":"IF(ISNA(MATCH(CONCATENATE(AL$4,$A17),'Výsledková listina'!$O:$O,0)),\"\",INDEX('Výsledková listina'!$C:$C,MATCH(CONCATENATE(AL$4,$A17),'Výsledková listina'!$O:$O,0),1))","v":""},{"$f":"IF(ISNA(MATCH(CONCATENATE(AL$4,$A17),'Výsledková listina'!$O:$O,0)),\"\",INDEX('Výsledková listina'!$P:$P,MATCH(CONCATENATE(AL$4,$A17),'Výsledková listina'!$O:$O,0),1))","v":""},null,null,"",null,{"$f":"IF(ISNA(MATCH(CONCATENATE(AR$4,$A17),'Výsledková listina'!$O:$O,0)),\"\",INDEX('Výsledková listina'!$C:$C,MATCH(CONCATENATE(AR$4,$A17),'Výsledková listina'!$O:$O,0),1))","v":""},{"$f":"IF(ISNA(MATCH(CONCATENATE(AR$4,$A17),'Výsledková listina'!$O:$O,0)),\"\",INDEX('Výsledková listina'!$P:$P,MATCH(CONCATENATE(AR$4,$A17),'Výsledková listina'!$O:$O,0),1))","v":""},null,null,"",null,{"$f":"IF(ISNA(MATCH(CONCATENATE(AX$4,$A17),'Výsledková listina'!$O:$O,0)),\"\",INDEX('Výsledková listina'!$C:$C,MATCH(CONCATENATE(AX$4,$A17),'Výsledková listina'!$O:$O,0),1))","v":""},{"$f":"IF(ISNA(MATCH(CONCATENATE(AX$4,$A17),'Výsledková listina'!$O:$O,0)),\"\",INDEX('Výsledková listina'!$P:$P,MATCH(CONCATENATE(AX$4,$A17),'Výsledková listina'!$O:$O,0),1))","v":""},null,null,"",null,{"$f":"IF(ISNA(MATCH(CONCATENATE(BD$4,$A17),'Výsledková listina'!$O:$O,0)),\"\",INDEX('Výsledková listina'!$C:$C,MATCH(CONCATENATE(BD$4,$A17),'Výsledková listina'!$O:$O,0),1))","v":""},{"$f":"IF(ISNA(MATCH(CONCATENATE(BD$4,$A17),'Výsledková listina'!$O:$O,0)),\"\",INDEX('Výsledková listina'!$P:$P,MATCH(CONCATENATE(BD$4,$A17),'Výsledková listina'!$O:$O,0),1))","v":""},null,null,"",null,{"$f":"IF(ISNA(MATCH(CONCATENATE(BJ$4,$A17),'Výsledková listina'!$O:$O,0)),\"\",INDEX('Výsledková listina'!$C:$C,MATCH(CONCATENATE(BJ$4,$A17),'Výsledková listina'!$O:$O,0),1))","v":""},{"$f":"IF(ISNA(MATCH(CONCATENATE(BJ$4,$A17),'Výsledková listina'!$O:$O,0)),\"\",INDEX('Výsledková listina'!$P:$P,MATCH(CONCATENATE(BJ$4,$A17),'Výsledková listina'!$O:$O,0),1))","v":""},null,"",null,{"$f":"IF(ISNA(MATCH(CONCATENATE(BO$4,$A17),'Výsledková listina'!$O:$O,0)),\"\",INDEX('Výsledková listina'!$C:$C,MATCH(CONCATENATE(BO$4,$A17),'Výsledková listina'!$O:$O,0),1))","v":""},{"$f":"IF(ISNA(MATCH(CONCATENATE(BO$4,$A17),'Výsledková listina'!$O:$O,0)),\"\",INDEX('Výsledková listina'!$P:$P,MATCH(CONCATENATE(BO$4,$A17),'Výsledková listina'!$O:$O,0),1))","v":""},null,"",null,{"$f":"IF(ISNA(MATCH(CONCATENATE(BT$4,$A17),'Výsledková listina'!$O:$O,0)),\"\",INDEX('Výsledková listina'!$C:$C,MATCH(CONCATENATE(BT$4,$A17),'Výsledková listina'!$O:$O,0),1))","v":""},{"$f":"IF(ISNA(MATCH(CONCATENATE(BT$4,$A17),'Výsledková listina'!$O:$O,0)),\"\",INDEX('Výsledková listina'!$P:$P,MATCH(CONCATENATE(BT$4,$A17),'Výsledková listina'!$O:$O,0),1))","v":""},null,"",null,{"$f":"IF(ISNA(MATCH(CONCATENATE(BY$4,$A17),'Výsledková listina'!$O:$O,0)),\"\",INDEX('Výsledková listina'!$C:$C,MATCH(CONCATENATE(BY$4,$A17),'Výsledková listina'!$O:$O,0),1))","v":""},{"$f":"IF(ISNA(MATCH(CONCATENATE(BY$4,$A17),'Výsledková listina'!$O:$O,0)),\"\",INDEX('Výsledková listina'!$P:$P,MATCH(CONCATENATE(BY$4,$A17),'Výsledková listina'!$O:$O,0),1))","v":""},null,"",null,{"$f":"IF(ISNA(MATCH(CONCATENATE(CD$4,$A17),'Výsledková listina'!$O:$O,0)),\"\",INDEX('Výsledková listina'!$C:$C,MATCH(CONCATENATE(CD$4,$A17),'Výsledková listina'!$O:$O,0),1))","v":""},{"$f":"IF(ISNA(MATCH(CONCATENATE(CD$4,$A17),'Výsledková listina'!$O:$O,0)),\"\",INDEX('Výsledková listina'!$P:$P,MATCH(CONCATENATE(CD$4,$A17),'Výsledková listina'!$O:$O,0),1))","v":""},null,""]
[13,{"$f":"IF(ISNA(MATCH(CONCATENATE(B$4,$A18),'Výsledková listina'!$O:$O,0)),\"\",INDEX('Výsledková listina'!$C:$C,MATCH(CONCATENATE(B$4,$A18),'Výsledková listina'!$O:$O,0),1))","v":""},{"$f":"IF(ISNA(MATCH(CONCATENATE(B$4,$A18),'Výsledková listina'!$O:$O,0)),\"\",INDEX('Výsledková listina'!$P:$P,MATCH(CONCATENATE(B$4,$A18),'Výsledková listina'!$O:$O,0),1))","v":""},null,null,"",null,{"$f":"IF(ISNA(MATCH(CONCATENATE(H$4,$A18),'Výsledková listina'!$O:$O,0)),\"\",INDEX('Výsledková listina'!$C:$C,MATCH(CONCATENATE(H$4,$A18),'Výsledková listina'!$O:$O,0),1))","v":""},{"$f":"IF(ISNA(MATCH(CONCATENATE(H$4,$A18),'Výsledková listina'!$O:$O,0)),\"\",INDEX('Výsledková listina'!$P:$P,MATCH(CONCATENATE(H$4,$A18),'Výsledková listina'!$O:$O,0),1))","v":""},null,null,"",null,{"$f":"IF(ISNA(MATCH(CONCATENATE(N$4,$A18),'Výsledková listina'!$O:$O,0)),\"\",INDEX('Výsledková listina'!$C:$C,MATCH(CONCATENATE(N$4,$A18),'Výsledková listina'!$O:$O,0),1))","v":""},{"$f":"IF(ISNA(MATCH(CONCATENATE(N$4,$A18),'Výsledková listina'!$O:$O,0)),\"\",INDEX('Výsledková listina'!$P:$P,MATCH(CONCATENATE(N$4,$A18),'Výsledková listina'!$O:$O,0),1))","v":""},null,null,"",null,{"$f":"IF(ISNA(MATCH(CONCATENATE(T$4,$A18),'Výsledková listina'!$O:$O,0)),\"\",INDEX('Výsledková listina'!$C:$C,MATCH(CONCATENATE(T$4,$A18),'Výsledková listina'!$O:$O,0),1))","v":""},{"$f":"IF(ISNA(MATCH(CONCATENATE(T$4,$A18),'Výsledková listina'!$O:$O,0)),\"\",INDEX('Výsledková listina'!$P:$P,MATCH(CONCATENATE(T$4,$A18),'Výsledková listina'!$O:$O,0),1))","v":""},null,null,"",null,{"$f":"IF(ISNA(MATCH(CONCATENATE(Z$4,$A18),'Výsledková listina'!$O:$O,0)),\"\",INDEX('Výsledková listina'!$C:$C,MATCH(CONCATENATE(Z$4,$A18),'Výsledková listina'!$O:$O,0),1))","v":""},{"$f":"IF(ISNA(MATCH(CONCATENATE(Z$4,$A18),'Výsledková listina'!$O:$O,0)),\"\",INDEX('Výsledková listina'!$P:$P,MATCH(CONCATENATE(Z$4,$A18),'Výsledková listina'!$O:$O,0),1))","v":""},null,null,"",null,{"$f":"IF(ISNA(MATCH(CONCATENATE(AF$4,$A18),'Výsledková listina'!$O:$O,0)),\"\",INDEX('Výsledková listina'!$C:$C,MATCH(CONCATENATE(AF$4,$A18),'Výsledková listina'!$O:$O,0),1))","v":""},{"$f":"IF(ISNA(MATCH(CONCATENATE(AF$4,$A18),'Výsledková listina'!$O:$O,0)),\"\",INDEX('Výsledková listina'!$P:$P,MATCH(CONCATENATE(AF$4,$A18),'Výsledková listina'!$O:$O,0),1))","v":""},null,null,"",null,{"$f":"IF(ISNA(MATCH(CONCATENATE(AL$4,$A18),'Výsledková listina'!$O:$O,0)),\"\",INDEX('Výsledková listina'!$C:$C,MATCH(CONCATENATE(AL$4,$A18),'Výsledková listina'!$O:$O,0),1))","v":""},{"$f":"IF(ISNA(MATCH(CONCATENATE(AL$4,$A18),'Výsledková listina'!$O:$O,0)),\"\",INDEX('Výsledková listina'!$P:$P,MATCH(CONCATENATE(AL$4,$A18),'Výsledková listina'!$O:$O,0),1))","v":""},null,null,"",null,{"$f":"IF(ISNA(MATCH(CONCATENATE(AR$4,$A18),'Výsledková listina'!$O:$O,0)),\"\",INDEX('Výsledková listina'!$C:$C,MATCH(CONCATENATE(AR$4,$A18),'Výsledková listina'!$O:$O,0),1))","v":""},{"$f":"IF(ISNA(MATCH(CONCATENATE(AR$4,$A18),'Výsledková listina'!$O:$O,0)),\"\",INDEX('Výsledková listina'!$P:$P,MATCH(CONCATENATE(AR$4,$A18),'Výsledková listina'!$O:$O,0),1))","v":""},null,null,"",null,{"$f":"IF(ISNA(MATCH(CONCATENATE(AX$4,$A18),'Výsledková listina'!$O:$O,0)),\"\",INDEX('Výsledková listina'!$C:$C,MATCH(CONCATENATE(AX$4,$A18),'Výsledková listina'!$O:$O,0),1))","v":""},{"$f":"IF(ISNA(MATCH(CONCATENATE(AX$4,$A18),'Výsledková listina'!$O:$O,0)),\"\",INDEX('Výsledková listina'!$P:$P,MATCH(CONCATENATE(AX$4,$A18),'Výsledková listina'!$O:$O,0),1))","v":""},null,null,"",null,{"$f":"IF(ISNA(MATCH(CONCATENATE(BD$4,$A18),'Výsledková listina'!$O:$O,0)),\"\",INDEX('Výsledková listina'!$C:$C,MATCH(CONCATENATE(BD$4,$A18),'Výsledková listina'!$O:$O,0),1))","v":""},{"$f":"IF(ISNA(MATCH(CONCATENATE(BD$4,$A18),'Výsledková listina'!$O:$O,0)),\"\",INDEX('Výsledková listina'!$P:$P,MATCH(CONCATENATE(BD$4,$A18),'Výsledková listina'!$O:$O,0),1))","v":""},null,null,"",null,{"$f":"IF(ISNA(MATCH(CONCATENATE(BJ$4,$A18),'Výsledková listina'!$O:$O,0)),\"\",INDEX('Výsledková listina'!$C:$C,MATCH(CONCATENATE(BJ$4,$A18),'Výsledková listina'!$O:$O,0),1))","v":""},{"$f":"IF(ISNA(MATCH(CONCATENATE(BJ$4,$A18),'Výsledková listina'!$O:$O,0)),\"\",INDEX('Výsledková listina'!$P:$P,MATCH(CONCATENATE(BJ$4,$A18),'Výsledková listina'!$O:$O,0),1))","v":""},null,"",null,{"$f":"IF(ISNA(MATCH(CONCATENATE(BO$4,$A18),'Výsledková listina'!$O:$O,0)),\"\",INDEX('Výsledková listina'!$C:$C,MATCH(CONCATENATE(BO$4,$A18),'Výsledková listina'!$O:$O,0),1))","v":""},{"$f":"IF(ISNA(MATCH(CONCATENATE(BO$4,$A18),'Výsledková listina'!$O:$O,0)),\"\",INDEX('Výsledková listina'!$P:$P,MATCH(CONCATENATE(BO$4,$A18),'Výsledková listina'!$O:$O,0),1))","v":""},null,"",null,{"$f":"IF(ISNA(MATCH(CONCATENATE(BT$4,$A18),'Výsledková listina'!$O:$O,0)),\"\",INDEX('Výsledková listina'!$C:$C,MATCH(CONCATENATE(BT$4,$A18),'Výsledková listina'!$O:$O,0),1))","v":""},{"$f":"IF(ISNA(MATCH(CONCATENATE(BT$4,$A18),'Výsledková listina'!$O:$O,0)),\"\",INDEX('Výsledková listina'!$P:$P,MATCH(CONCATENATE(BT$4,$A18),'Výsledková listina'!$O:$O,0),1))","v":""},null,"",null,{"$f":"IF(ISNA(MATCH(CONCATENATE(BY$4,$A18),'Výsledková listina'!$O:$O,0)),\"\",INDEX('Výsledková listina'!$C:$C,MATCH(CONCATENATE(BY$4,$A18),'Výsledková listina'!$O:$O,0),1))","v":""},{"$f":"IF(ISNA(MATCH(CONCATENATE(BY$4,$A18),'Výsledková listina'!$O:$O,0)),\"\",INDEX('Výsledková listina'!$P:$P,MATCH(CONCATENATE(BY$4,$A18),'Výsledková listina'!$O:$O,0),1))","v":""},null,"",null,{"$f":"IF(ISNA(MATCH(CONCATENATE(CD$4,$A18),'Výsledková listina'!$O:$O,0)),\"\",INDEX('Výsledková listina'!$C:$C,MATCH(CONCATENATE(CD$4,$A18),'Výsledková listina'!$O:$O,0),1))","v":""},{"$f":"IF(ISNA(MATCH(CONCATENATE(CD$4,$A18),'Výsledková listina'!$O:$O,0)),\"\",INDEX('Výsledková listina'!$P:$P,MATCH(CONCATENATE(CD$4,$A18),'Výsledková listina'!$O:$O,0),1))","v":""},null,""]
[14,{"$f":"IF(ISNA(MATCH(CONCATENATE(B$4,$A19),'Výsledková listina'!$O:$O,0)),\"\",INDEX('Výsledková listina'!$C:$C,MATCH(CONCATENATE(B$4,$A19),'Výsledková listina'!$O:$O,0),1))","v":""},{"$f":"IF(ISNA(MATCH(CONCATENATE(B$4,$A19),'Výsledková listina'!$O:$O,0)),\"\",INDEX('Výsledková listina'!$P:$P,MATCH(CONCATENATE(B$4,$A19),'Výsledková listina'!$O:$O,0),1))","v":""},null,null,"",null,{"$f":"IF(ISNA(MATCH(CONCATENATE(H$4,$A19),'Výsledková listina'!$O:$O,0)),\"\",INDEX('Výsledková listina'!$C:$C,MATCH(CONCATENATE(H$4,$A19),'Výsledková listina'!$O:$O,0),1))","v":""},{"$f":"IF(ISNA(MATCH(CONCATENATE(H$4,$A19),'Výsledková listina'!$O:$O,0)),\"\",INDEX('Výsledková listina'!$P:$P,MATCH(CONCATENATE(H$4,$A19),'Výsledková listina'!$O:$O,0),1))","v":""},null,null,"",null,{"$f":"IF(ISNA(MATCH(CONCATENATE(N$4,$A19),'Výsledková listina'!$O:$O,0)),\"\",INDEX('Výsledková listina'!$C:$C,MATCH(CONCATENATE(N$4,$A19),'Výsledková listina'!$O:$O,0),1))","v":""},{"$f":"IF(ISNA(MATCH(CONCATENATE(N$4,$A19),'Výsledková listina'!$O:$O,0)),\"\",INDEX('Výsledková listina'!$P:$P,MATCH(CONCATENATE(N$4,$A19),'Výsledková listina'!$O:$O,0),1))","v":""},null,null,"",null,{"$f":"IF(ISNA(MATCH(CONCATENATE(T$4,$A19),'Výsledková listina'!$O:$O,0)),\"\",INDEX('Výsledková listina'!$C:$C,MATCH(CONCATENATE(T$4,$A19),'Výsledková listina'!$O:$O,0),1))","v":""},{"$f":"IF(ISNA(MATCH(CONCATENATE(T$4,$A19),'Výsledková listina'!$O:$O,0)),\"\",INDEX('Výsledková listina'!$P:$P,MATCH(CONCATENATE(T$4,$A19),'Výsledková listina'!$O:$O,0),1))","v":""},null,null,"",null,{"$f":"IF(ISNA(MATCH(CONCATENATE(Z$4,$A19),'Výsledková listina'!$O:$O,0)),\"\",INDEX('Výsledková listina'!$C:$C,MATCH(CONCATENATE(Z$4,$A19),'Výsledková listina'!$O:$O,0),1))","v":""},{"$f":"IF(ISNA(MATCH(CONCATENATE(Z$4,$A19),'Výsledková listina'!$O:$O,0)),\"\",INDEX('Výsledková listina'!$P:$P,MATCH(CONCATENATE(Z$4,$A19),'Výsledková listina'!$O:$O,0),1))","v":""},null,null,"",null,{"$f":"IF(ISNA(MATCH(CONCATENATE(AF$4,$A19),'Výsledková listina'!$O:$O,0)),\"\",INDEX('Výsledková listina'!$C:$C,MATCH(CONCATENATE(AF$4,$A19),'Výsledková listina'!$O:$O,0),1))","v":""},{"$f":"IF(ISNA(MATCH(CONCATENATE(AF$4,$A19),'Výsledková listina'!$O:$O,0)),\"\",INDEX('Výsledková listina'!$P:$P,MATCH(CONCATENATE(AF$4,$A19),'Výsledková listina'!$O:$O,0),1))","v":""},null,null,"",null,{"$f":"IF(ISNA(MATCH(CONCATENATE(AL$4,$A19),'Výsledková listina'!$O:$O,0)),\"\",INDEX('Výsledková listina'!$C:$C,MATCH(CONCATENATE(AL$4,$A19),'Výsledková listina'!$O:$O,0),1))","v":""},{"$f":"IF(ISNA(MATCH(CONCATENATE(AL$4,$A19),'Výsledková listina'!$O:$O,0)),\"\",INDEX('Výsledková listina'!$P:$P,MATCH(CONCATENATE(AL$4,$A19),'Výsledková listina'!$O:$O,0),1))","v":""},null,null,"",null,{"$f":"IF(ISNA(MATCH(CONCATENATE(AR$4,$A19),'Výsledková listina'!$O:$O,0)),\"\",INDEX('Výsledková listina'!$C:$C,MATCH(CONCATENATE(AR$4,$A19),'Výsledková listina'!$O:$O,0),1))","v":""},{"$f":"IF(ISNA(MATCH(CONCATENATE(AR$4,$A19),'Výsledková listina'!$O:$O,0)),\"\",INDEX('Výsledková listina'!$P:$P,MATCH(CONCATENATE(AR$4,$A19),'Výsledková listina'!$O:$O,0),1))","v":""},null,null,"",null,{"$f":"IF(ISNA(MATCH(CONCATENATE(AX$4,$A19),'Výsledková listina'!$O:$O,0)),\"\",INDEX('Výsledková listina'!$C:$C,MATCH(CONCATENATE(AX$4,$A19),'Výsledková listina'!$O:$O,0),1))","v":""},{"$f":"IF(ISNA(MATCH(CONCATENATE(AX$4,$A19),'Výsledková listina'!$O:$O,0)),\"\",INDEX('Výsledková listina'!$P:$P,MATCH(CONCATENATE(AX$4,$A19),'Výsledková listina'!$O:$O,0),1))","v":""},null,null,"",null,{"$f":"IF(ISNA(MATCH(CONCATENATE(BD$4,$A19),'Výsledková listina'!$O:$O,0)),\"\",INDEX('Výsledková listina'!$C:$C,MATCH(CONCATENATE(BD$4,$A19),'Výsledková listina'!$O:$O,0),1))","v":""},{"$f":"IF(ISNA(MATCH(CONCATENATE(BD$4,$A19),'Výsledková listina'!$O:$O,0)),\"\",INDEX('Výsledková listina'!$P:$P,MATCH(CONCATENATE(BD$4,$A19),'Výsledková listina'!$O:$O,0),1))","v":""},null,null,"",null,{"$f":"IF(ISNA(MATCH(CONCATENATE(BJ$4,$A19),'Výsledková listina'!$O:$O,0)),\"\",INDEX('Výsledková listina'!$C:$C,MATCH(CONCATENATE(BJ$4,$A19),'Výsledková listina'!$O:$O,0),1))","v":""},{"$f":"IF(ISNA(MATCH(CONCATENATE(BJ$4,$A19),'Výsledková listina'!$O:$O,0)),\"\",INDEX('Výsledková listina'!$P:$P,MATCH(CONCATENATE(BJ$4,$A19),'Výsledková listina'!$O:$O,0),1))","v":""},null,"",null,{"$f":"IF(ISNA(MATCH(CONCATENATE(BO$4,$A19),'Výsledková listina'!$O:$O,0)),\"\",INDEX('Výsledková listina'!$C:$C,MATCH(CONCATENATE(BO$4,$A19),'Výsledková listina'!$O:$O,0),1))","v":""},{"$f":"IF(ISNA(MATCH(CONCATENATE(BO$4,$A19),'Výsledková listina'!$O:$O,0)),\"\",INDEX('Výsledková listina'!$P:$P,MATCH(CONCATENATE(BO$4,$A19),'Výsledková listina'!$O:$O,0),1))","v":""},null,"",null,{"$f":"IF(ISNA(MATCH(CONCATENATE(BT$4,$A19),'Výsledková listina'!$O:$O,0)),\"\",INDEX('Výsledková listina'!$C:$C,MATCH(CONCATENATE(BT$4,$A19),'Výsledková listina'!$O:$O,0),1))","v":""},{"$f":"IF(ISNA(MATCH(CONCATENATE(BT$4,$A19),'Výsledková listina'!$O:$O,0)),\"\",INDEX('Výsledková listina'!$P:$P,MATCH(CONCATENATE(BT$4,$A19),'Výsledková listina'!$O:$O,0),1))","v":""},null,"",null,{"$f":"IF(ISNA(MATCH(CONCATENATE(BY$4,$A19),'Výsledková listina'!$O:$O,0)),\"\",INDEX('Výsledková listina'!$C:$C,MATCH(CONCATENATE(BY$4,$A19),'Výsledková listina'!$O:$O,0),1))","v":""},{"$f":"IF(ISNA(MATCH(CONCATENATE(BY$4,$A19),'Výsledková listina'!$O:$O,0)),\"\",INDEX('Výsledková listina'!$P:$P,MATCH(CONCATENATE(BY$4,$A19),'Výsledková listina'!$O:$O,0),1))","v":""},null,"",null,{"$f":"IF(ISNA(MATCH(CONCATENATE(CD$4,$A19),'Výsledková listina'!$O:$O,0)),\"\",INDEX('Výsledková listina'!$C:$C,MATCH(CONCATENATE(CD$4,$A19),'Výsledková listina'!$O:$O,0),1))","v":""},{"$f":"IF(ISNA(MATCH(CONCATENATE(CD$4,$A19),'Výsledková listina'!$O:$O,0)),\"\",INDEX('Výsledková listina'!$P:$P,MATCH(CONCATENATE(CD$4,$A19),'Výsledková listina'!$O:$O,0),1))","v":""},null,""]
[15,{"$f":"IF(ISNA(MATCH(CONCATENATE(B$4,$A20),'Výsledková listina'!$O:$O,0)),\"\",INDEX('Výsledková listina'!$C:$C,MATCH(CONCATENATE(B$4,$A20),'Výsledková listina'!$O:$O,0),1))","v":""},{"$f":"IF(ISNA(MATCH(CONCATENATE(B$4,$A20),'Výsledková listina'!$O:$O,0)),\"\",INDEX('Výsledková listina'!$P:$P,MATCH(CONCATENATE(B$4,$A20),'Výsledková listina'!$O:$O,0),1))","v":""},null,null,"",null,{"$f":"IF(ISNA(MATCH(CONCATENATE(H$4,$A20),'Výsledková listina'!$O:$O,0)),\"\",INDEX('Výsledková listina'!$C:$C,MATCH(CONCATENATE(H$4,$A20),'Výsledková listina'!$O:$O,0),1))","v":""},{"$f":"IF(ISNA(MATCH(CONCATENATE(H$4,$A20),'Výsledková listina'!$O:$O,0)),\"\",INDEX('Výsledková listina'!$P:$P,MATCH(CONCATENATE(H$4,$A20),'Výsledková listina'!$O:$O,0),1))","v":""},null,null,"",null,{"$f":"IF(ISNA(MATCH(CONCATENATE(N$4,$A20),'Výsledková listina'!$O:$O,0)),\"\",INDEX('Výsledková listina'!$C:$C,MATCH(CONCATENATE(N$4,$A20),'Výsledková listina'!$O:$O,0),1))","v":""},{"$f":"IF(ISNA(MATCH(CONCATENATE(N$4,$A20),'Výsledková listina'!$O:$O,0)),\"\",INDEX('Výsledková listina'!$P:$P,MATCH(CONCATENATE(N$4,$A20),'Výsledková listina'!$O:$O,0),1))","v":""},null,null,"",null,{"$f":"IF(ISNA(MATCH(CONCATENATE(T$4,$A20),'Výsledková listina'!$O:$O,0)),\"\",INDEX('Výsledková listina'!$C:$C,MATCH(CONCATENATE(T$4,$A20),'Výsledková listina'!$O:$O,0),1))","v":""},{"$f":"IF(ISNA(MATCH(CONCATENATE(T$4,$A20),'Výsledková listina'!$O:$O,0)),\"\",INDEX('Výsledková listina'!$P:$P,MATCH(CONCATENATE(T$4,$A20),'Výsledková listina'!$O:$O,0),1))","v":""},null,null,"",null,{"$f":"IF(ISNA(MATCH(CONCATENATE(Z$4,$A20),'Výsledková listina'!$O:$O,0)),\"\",INDEX('Výsledková listina'!$C:$C,MATCH(CONCATENATE(Z$4,$A20),'Výsledková listina'!$O:$O,0),1))","v":""},{"$f":"IF(ISNA(MATCH(CONCATENATE(Z$4,$A20),'Výsledková listina'!$O:$O,0)),\"\",INDEX('Výsledková listina'!$P:$P,MATCH(CONCATENATE(Z$4,$A20),'Výsledková listina'!$O:$O,0),1))","v":""},null,null,"",null,{"$f":"IF(ISNA(MATCH(CONCATENATE(AF$4,$A20),'Výsledková listina'!$O:$O,0)),\"\",INDEX('Výsledková listina'!$C:$C,MATCH(CONCATENATE(AF$4,$A20),'Výsledková listina'!$O:$O,0),1))","v":""},{"$f":"IF(ISNA(MATCH(CONCATENATE(AF$4,$A20),'Výsledková listina'!$O:$O,0)),\"\",INDEX('Výsledková listina'!$P:$P,MATCH(CONCATENATE(AF$4,$A20),'Výsledková listina'!$O:$O,0),1))","v":""},null,null,"",null,{"$f":"IF(ISNA(MATCH(CONCATENATE(AL$4,$A20),'Výsledková listina'!$O:$O,0)),\"\",INDEX('Výsledková listina'!$C:$C,MATCH(CONCATENATE(AL$4,$A20),'Výsledková listina'!$O:$O,0),1))","v":""},{"$f":"IF(ISNA(MATCH(CONCATENATE(AL$4,$A20),'Výsledková listina'!$O:$O,0)),\"\",INDEX('Výsledková listina'!$P:$P,MATCH(CONCATENATE(AL$4,$A20),'Výsledková listina'!$O:$O,0),1))","v":""},null,null,"",null,{"$f":"IF(ISNA(MATCH(CONCATENATE(AR$4,$A20),'Výsledková listina'!$O:$O,0)),\"\",INDEX('Výsledková listina'!$C:$C,MATCH(CONCATENATE(AR$4,$A20),'Výsledková listina'!$O:$O,0),1))","v":""},{"$f":"IF(ISNA(MATCH(CONCATENATE(AR$4,$A20),'Výsledková listina'!$O:$O,0)),\"\",INDEX('Výsledková listina'!$P:$P,MATCH(CONCATENATE(AR$4,$A20),'Výsledková listina'!$O:$O,0),1))","v":""},null,null,"",null,{"$f":"IF(ISNA(MATCH(CONCATENATE(AX$4,$A20),'Výsledková listina'!$O:$O,0)),\"\",INDEX('Výsledková listina'!$C:$C,MATCH(CONCATENATE(AX$4,$A20),'Výsledková listina'!$O:$O,0),1))","v":""},{"$f":"IF(ISNA(MATCH(CONCATENATE(AX$4,$A20),'Výsledková listina'!$O:$O,0)),\"\",INDEX('Výsledková listina'!$P:$P,MATCH(CONCATENATE(AX$4,$A20),'Výsledková listina'!$O:$O,0),1))","v":""},null,null,"",null,{"$f":"IF(ISNA(MATCH(CONCATENATE(BD$4,$A20),'Výsledková listina'!$O:$O,0)),\"\",INDEX('Výsledková listina'!$C:$C,MATCH(CONCATENATE(BD$4,$A20),'Výsledková listina'!$O:$O,0),1))","v":""},{"$f":"IF(ISNA(MATCH(CONCATENATE(BD$4,$A20),'Výsledková listina'!$O:$O,0)),\"\",INDEX('Výsledková listina'!$P:$P,MATCH(CONCATENATE(BD$4,$A20),'Výsledková listina'!$O:$O,0),1))","v":""},null,null,"",null,{"$f":"IF(ISNA(MATCH(CONCATENATE(BJ$4,$A20),'Výsledková listina'!$O:$O,0)),\"\",INDEX('Výsledková listina'!$C:$C,MATCH(CONCATENATE(BJ$4,$A20),'Výsledková listina'!$O:$O,0),1))","v":""},{"$f":"IF(ISNA(MATCH(CONCATENATE(BJ$4,$A20),'Výsledková listina'!$O:$O,0)),\"\",INDEX('Výsledková listina'!$P:$P,MATCH(CONCATENATE(BJ$4,$A20),'Výsledková listina'!$O:$O,0),1))","v":""},null,"",null,{"$f":"IF(ISNA(MATCH(CONCATENATE(BO$4,$A20),'Výsledková listina'!$O:$O,0)),\"\",INDEX('Výsledková listina'!$C:$C,MATCH(CONCATENATE(BO$4,$A20),'Výsledková listina'!$O:$O,0),1))","v":""},{"$f":"IF(ISNA(MATCH(CONCATENATE(BO$4,$A20),'Výsledková listina'!$O:$O,0)),\"\",INDEX('Výsledková listina'!$P:$P,MATCH(CONCATENATE(BO$4,$A20),'Výsledková listina'!$O:$O,0),1))","v":""},null,"",null,{"$f":"IF(ISNA(MATCH(CONCATENATE(BT$4,$A20),'Výsledková listina'!$O:$O,0)),\"\",INDEX('Výsledková listina'!$C:$C,MATCH(CONCATENATE(BT$4,$A20),'Výsledková listina'!$O:$O,0),1))","v":""},{"$f":"IF(ISNA(MATCH(CONCATENATE(BT$4,$A20),'Výsledková listina'!$O:$O,0)),\"\",INDEX('Výsledková listina'!$P:$P,MATCH(CONCATENATE(BT$4,$A20),'Výsledková listina'!$O:$O,0),1))","v":""},null,"",null,{"$f":"IF(ISNA(MATCH(CONCATENATE(BY$4,$A20),'Výsledková listina'!$O:$O,0)),\"\",INDEX('Výsledková listina'!$C:$C,MATCH(CONCATENATE(BY$4,$A20),'Výsledková listina'!$O:$O,0),1))","v":""},{"$f":"IF(ISNA(MATCH(CONCATENATE(BY$4,$A20),'Výsledková listina'!$O:$O,0)),\"\",INDEX('Výsledková listina'!$P:$P,MATCH(CONCATENATE(BY$4,$A20),'Výsledková listina'!$O:$O,0),1))","v":""},null,"",null,{"$f":"IF(ISNA(MATCH(CONCATENATE(CD$4,$A20),'Výsledková listina'!$O:$O,0)),\"\",INDEX('Výsledková listina'!$C:$C,MATCH(CONCATENATE(CD$4,$A20),'Výsledková listina'!$O:$O,0),1))","v":""},{"$f":"IF(ISNA(MATCH(CONCATENATE(CD$4,$A20),'Výsledková listina'!$O:$O,0)),\"\",INDEX('Výsledková listina'!$P:$P,MATCH(CONCATENATE(CD$4,$A20),'Výsledková listina'!$O:$O,0),1))","v":""},null,""]
[16,{"$f":"IF(ISNA(MATCH(CONCATENATE(B$4,$A21),'Výsledková listina'!$O:$O,0)),\"\",INDEX('Výsledková listina'!$C:$C,MATCH(CONCATENATE(B$4,$A21),'Výsledková listina'!$O:$O,0),1))","v":""},{"$f":"IF(ISNA(MATCH(CONCATENATE(B$4,$A21),'Výsledková listina'!$O:$O,0)),\"\",INDEX('Výsledková listina'!$P:$P,MATCH(CONCATENATE(B$4,$A21),'Výsledková listina'!$O:$O,0),1))","v":""},null,null,"",null,{"$f":"IF(ISNA(MATCH(CONCATENATE(H$4,$A21),'Výsledková listina'!$O:$O,0)),\"\",INDEX('Výsledková listina'!$C:$C,MATCH(CONCATENATE(H$4,$A21),'Výsledková listina'!$O:$O,0),1))","v":""},{"$f":"IF(ISNA(MATCH(CONCATENATE(H$4,$A21),'Výsledková listina'!$O:$O,0)),\"\",INDEX('Výsledková listina'!$P:$P,MATCH(CONCATENATE(H$4,$A21),'Výsledková listina'!$O:$O,0),1))","v":""},null,null,"",null,{"$f":"IF(ISNA(MATCH(CONCATENATE(N$4,$A21),'Výsledková listina'!$O:$O,0)),\"\",INDEX('Výsledková listina'!$C:$C,MATCH(CONCATENATE(N$4,$A21),'Výsledková listina'!$O:$O,0),1))","v":""},{"$f":"IF(ISNA(MATCH(CONCATENATE(N$4,$A21),'Výsledková listina'!$O:$O,0)),\"\",INDEX('Výsledková listina'!$P:$P,MATCH(CONCATENATE(N$4,$A21),'Výsledková listina'!$O:$O,0),1))","v":""},null,null,"",null,{"$f":"IF(ISNA(MATCH(CONCATENATE(T$4,$A21),'Výsledková listina'!$O:$O,0)),\"\",INDEX('Výsledková listina'!$C:$C,MATCH(CONCATENATE(T$4,$A21),'Výsledková listina'!$O:$O,0),1))","v":""},{"$f":"IF(ISNA(MATCH(CONCATENATE(T$4,$A21),'Výsledková listina'!$O:$O,0)),\"\",INDEX('Výsledková listina'!$P:$P,MATCH(CONCATENATE(T$4,$A21),'Výsledková listina'!$O:$O,0),1))","v":""},null,null,"",null,{"$f":"IF(ISNA(MATCH(CONCATENATE(Z$4,$A21),'Výsledková listina'!$O:$O,0)),\"\",INDEX('Výsledková listina'!$C:$C,MATCH(CONCATENATE(Z$4,$A21),'Výsledková listina'!$O:$O,0),1))","v":""},{"$f":"IF(ISNA(MATCH(CONCATENATE(Z$4,$A21),'Výsledková listina'!$O:$O,0)),\"\",INDEX('Výsledková listina'!$P:$P,MATCH(CONCATENATE(Z$4,$A21),'Výsledková listina'!$O:$O,0),1))","v":""},null,null,"",null,{"$f":"IF(ISNA(MATCH(CONCATENATE(AF$4,$A21),'Výsledková listina'!$O:$O,0)),\"\",INDEX('Výsledková listina'!$C:$C,MATCH(CONCATENATE(AF$4,$A21),'Výsledková listina'!$O:$O,0),1))","v":""},{"$f":"IF(ISNA(MATCH(CONCATENATE(AF$4,$A21),'Výsledková listina'!$O:$O,0)),\"\",INDEX('Výsledková listina'!$P:$P,MATCH(CONCATENATE(AF$4,$A21),'Výsledková listina'!$O:$O,0),1))","v":""},null,null,"",null,{"$f":"IF(ISNA(MATCH(CONCATENATE(AL$4,$A21),'Výsledková listina'!$O:$O,0)),\"\",INDEX('Výsledková listina'!$C:$C,MATCH(CONCATENATE(AL$4,$A21),'Výsledková listina'!$O:$O,0),1))","v":""},{"$f":"IF(ISNA(MATCH(CONCATENATE(AL$4,$A21),'Výsledková listina'!$O:$O,0)),\"\",INDEX('Výsledková listina'!$P:$P,MATCH(CONCATENATE(AL$4,$A21),'Výsledková listina'!$O:$O,0),1))","v":""},null,null,"",null,{"$f":"IF(ISNA(MATCH(CONCATENATE(AR$4,$A21),'Výsledková listina'!$O:$O,0)),\"\",INDEX('Výsledková listina'!$C:$C,MATCH(CONCATENATE(AR$4,$A21),'Výsledková listina'!$O:$O,0),1))","v":""},{"$f":"IF(ISNA(MATCH(CONCATENATE(AR$4,$A21),'Výsledková listina'!$O:$O,0)),\"\",INDEX('Výsledková listina'!$P:$P,MATCH(CONCATENATE(AR$4,$A21),'Výsledková listina'!$O:$O,0),1))","v":""},null,null,"",null,{"$f":"IF(ISNA(MATCH(CONCATENATE(AX$4,$A21),'Výsledková listina'!$O:$O,0)),\"\",INDEX('Výsledková listina'!$C:$C,MATCH(CONCATENATE(AX$4,$A21),'Výsledková listina'!$O:$O,0),1))","v":""},{"$f":"IF(ISNA(MATCH(CONCATENATE(AX$4,$A21),'Výsledková listina'!$O:$O,0)),\"\",INDEX('Výsledková listina'!$P:$P,MATCH(CONCATENATE(AX$4,$A21),'Výsledková listina'!$O:$O,0),1))","v":""},null,null,"",null,{"$f":"IF(ISNA(MATCH(CONCATENATE(BD$4,$A21),'Výsledková listina'!$O:$O,0)),\"\",INDEX('Výsledková listina'!$C:$C,MATCH(CONCATENATE(BD$4,$A21),'Výsledková listina'!$O:$O,0),1))","v":""},{"$f":"IF(ISNA(MATCH(CONCATENATE(BD$4,$A21),'Výsledková listina'!$O:$O,0)),\"\",INDEX('Výsledková listina'!$P:$P,MATCH(CONCATENATE(BD$4,$A21),'Výsledková listina'!$O:$O,0),1))","v":""},null,null,"",null,{"$f":"IF(ISNA(MATCH(CONCATENATE(BJ$4,$A21),'Výsledková listina'!$O:$O,0)),\"\",INDEX('Výsledková listina'!$C:$C,MATCH(CONCATENATE(BJ$4,$A21),'Výsledková listina'!$O:$O,0),1))","v":""},{"$f":"IF(ISNA(MATCH(CONCATENATE(BJ$4,$A21),'Výsledková listina'!$O:$O,0)),\"\",INDEX('Výsledková listina'!$P:$P,MATCH(CONCATENATE(BJ$4,$A21),'Výsledková listina'!$O:$O,0),1))","v":""},null,"",null,{"$f":"IF(ISNA(MATCH(CONCATENATE(BO$4,$A21),'Výsledková listina'!$O:$O,0)),\"\",INDEX('Výsledková listina'!$C:$C,MATCH(CONCATENATE(BO$4,$A21),'Výsledková listina'!$O:$O,0),1))","v":""},{"$f":"IF(ISNA(MATCH(CONCATENATE(BO$4,$A21),'Výsledková listina'!$O:$O,0)),\"\",INDEX('Výsledková listina'!$P:$P,MATCH(CONCATENATE(BO$4,$A21),'Výsledková listina'!$O:$O,0),1))","v":""},null,"",null,{"$f":"IF(ISNA(MATCH(CONCATENATE(BT$4,$A21),'Výsledková listina'!$O:$O,0)),\"\",INDEX('Výsledková listina'!$C:$C,MATCH(CONCATENATE(BT$4,$A21),'Výsledková listina'!$O:$O,0),1))","v":""},{"$f":"IF(ISNA(MATCH(CONCATENATE(BT$4,$A21),'Výsledková listina'!$O:$O,0)),\"\",INDEX('Výsledková listina'!$P:$P,MATCH(CONCATENATE(BT$4,$A21),'Výsledková listina'!$O:$O,0),1))","v":""},null,"",null,{"$f":"IF(ISNA(MATCH(CONCATENATE(BY$4,$A21),'Výsledková listina'!$O:$O,0)),\"\",INDEX('Výsledková listina'!$C:$C,MATCH(CONCATENATE(BY$4,$A21),'Výsledková listina'!$O:$O,0),1))","v":""},{"$f":"IF(ISNA(MATCH(CONCATENATE(BY$4,$A21),'Výsledková listina'!$O:$O,0)),\"\",INDEX('Výsledková listina'!$P:$P,MATCH(CONCATENATE(BY$4,$A21),'Výsledková listina'!$O:$O,0),1))","v":""},null,"",null,{"$f":"IF(ISNA(MATCH(CONCATENATE(CD$4,$A21),'Výsledková listina'!$O:$O,0)),\"\",INDEX('Výsledková listina'!$C:$C,MATCH(CONCATENATE(CD$4,$A21),'Výsledková listina'!$O:$O,0),1))","v":""},{"$f":"IF(ISNA(MATCH(CONCATENATE(CD$4,$A21),'Výsledková listina'!$O:$O,0)),\"\",INDEX('Výsledková listina'!$P:$P,MATCH(CONCATENATE(CD$4,$A21),'Výsledková listina'!$O:$O,0),1))","v":""},null,""]
[17,{"$f":"IF(ISNA(MATCH(CONCATENATE(B$4,$A22),'Výsledková listina'!$O:$O,0)),\"\",INDEX('Výsledková listina'!$C:$C,MATCH(CONCATENATE(B$4,$A22),'Výsledková listina'!$O:$O,0),1))","v":""},{"$f":"IF(ISNA(MATCH(CONCATENATE(B$4,$A22),'Výsledková listina'!$O:$O,0)),\"\",INDEX('Výsledková listina'!$P:$P,MATCH(CONCATENATE(B$4,$A22),'Výsledková listina'!$O:$O,0),1))","v":""},null,null,"",null,{"$f":"IF(ISNA(MATCH(CONCATENATE(H$4,$A22),'Výsledková listina'!$O:$O,0)),\"\",INDEX('Výsledková listina'!$C:$C,MATCH(CONCATENATE(H$4,$A22),'Výsledková listina'!$O:$O,0),1))","v":""},{"$f":"IF(ISNA(MATCH(CONCATENATE(H$4,$A22),'Výsledková listina'!$O:$O,0)),\"\",INDEX('Výsledková listina'!$P:$P,MATCH(CONCATENATE(H$4,$A22),'Výsledková listina'!$O:$O,0),1))","v":""},null,null,"",null,{"$f":"IF(ISNA(MATCH(CONCATENATE(N$4,$A22),'Výsledková listina'!$O:$O,0)),\"\",INDEX('Výsledková listina'!$C:$C,MATCH(CONCATENATE(N$4,$A22),'Výsledková listina'!$O:$O,0),1))","v":""},{"$f":"IF(ISNA(MATCH(CONCATENATE(N$4,$A22),'Výsledková listina'!$O:$O,0)),\"\",INDEX('Výsledková listina'!$P:$P,MATCH(CONCATENATE(N$4,$A22),'Výsledková listina'!$O:$O,0),1))","v":""},null,null,"",null,{"$f":"IF(ISNA(MATCH(CONCATENATE(T$4,$A22),'Výsledková listina'!$O:$O,0)),\"\",INDEX('Výsledková listina'!$C:$C,MATCH(CONCATENATE(T$4,$A22),'Výsledková listina'!$O:$O,0),1))","v":""},{"$f":"IF(ISNA(MATCH(CONCATENATE(T$4,$A22),'Výsledková listina'!$O:$O,0)),\"\",INDEX('Výsledková listina'!$P:$P,MATCH(CONCATENATE(T$4,$A22),'Výsledková listina'!$O:$O,0),1))","v":""},null,null,"",null,{"$f":"IF(ISNA(MATCH(CONCATENATE(Z$4,$A22),'Výsledková listina'!$O:$O,0)),\"\",INDEX('Výsledková listina'!$C:$C,MATCH(CONCATENATE(Z$4,$A22),'Výsledková listina'!$O:$O,0),1))","v":""},{"$f":"IF(ISNA(MATCH(CONCATENATE(Z$4,$A22),'Výsledková listina'!$O:$O,0)),\"\",INDEX('Výsledková listina'!$P:$P,MATCH(CONCATENATE(Z$4,$A22),'Výsledková listina'!$O:$O,0),1))","v":""},null,null,"",null,{"$f":"IF(ISNA(MATCH(CONCATENATE(AF$4,$A22),'Výsledková listina'!$O:$O,0)),\"\",INDEX('Výsledková listina'!$C:$C,MATCH(CONCATENATE(AF$4,$A22),'Výsledková listina'!$O:$O,0),1))","v":""},{"$f":"IF(ISNA(MATCH(CONCATENATE(AF$4,$A22),'Výsledková listina'!$O:$O,0)),\"\",INDEX('Výsledková listina'!$P:$P,MATCH(CONCATENATE(AF$4,$A22),'Výsledková listina'!$O:$O,0),1))","v":""},null,null,"",null,{"$f":"IF(ISNA(MATCH(CONCATENATE(AL$4,$A22),'Výsledková listina'!$O:$O,0)),\"\",INDEX('Výsledková listina'!$C:$C,MATCH(CONCATENATE(AL$4,$A22),'Výsledková listina'!$O:$O,0),1))","v":""},{"$f":"IF(ISNA(MATCH(CONCATENATE(AL$4,$A22),'Výsledková listina'!$O:$O,0)),\"\",INDEX('Výsledková listina'!$P:$P,MATCH(CONCATENATE(AL$4,$A22),'Výsledková listina'!$O:$O,0),1))","v":""},null,null,"",null,{"$f":"IF(ISNA(MATCH(CONCATENATE(AR$4,$A22),'Výsledková listina'!$O:$O,0)),\"\",INDEX('Výsledková listina'!$C:$C,MATCH(CONCATENATE(AR$4,$A22),'Výsledková listina'!$O:$O,0),1))","v":""},{"$f":"IF(ISNA(MATCH(CONCATENATE(AR$4,$A22),'Výsledková listina'!$O:$O,0)),\"\",INDEX('Výsledková listina'!$P:$P,MATCH(CONCATENATE(AR$4,$A22),'Výsledková listina'!$O:$O,0),1))","v":""},null,null,"",null,{"$f":"IF(ISNA(MATCH(CONCATENATE(AX$4,$A22),'Výsledková listina'!$O:$O,0)),\"\",INDEX('Výsledková listina'!$C:$C,MATCH(CONCATENATE(AX$4,$A22),'Výsledková listina'!$O:$O,0),1))","v":""},{"$f":"IF(ISNA(MATCH(CONCATENATE(AX$4,$A22),'Výsledková listina'!$O:$O,0)),\"\",INDEX('Výsledková listina'!$P:$P,MATCH(CONCATENATE(AX$4,$A22),'Výsledková listina'!$O:$O,0),1))","v":""},null,null,"",null,{"$f":"IF(ISNA(MATCH(CONCATENATE(BD$4,$A22),'Výsledková listina'!$O:$O,0)),\"\",INDEX('Výsledková listina'!$C:$C,MATCH(CONCATENATE(BD$4,$A22),'Výsledková listina'!$O:$O,0),1))","v":""},{"$f":"IF(ISNA(MATCH(CONCATENATE(BD$4,$A22),'Výsledková listina'!$O:$O,0)),\"\",INDEX('Výsledková listina'!$P:$P,MATCH(CONCATENATE(BD$4,$A22),'Výsledková listina'!$O:$O,0),1))","v":""},null,null,"",null,{"$f":"IF(ISNA(MATCH(CONCATENATE(BJ$4,$A22),'Výsledková listina'!$O:$O,0)),\"\",INDEX('Výsledková listina'!$C:$C,MATCH(CONCATENATE(BJ$4,$A22),'Výsledková listina'!$O:$O,0),1))","v":""},{"$f":"IF(ISNA(MATCH(CONCATENATE(BJ$4,$A22),'Výsledková listina'!$O:$O,0)),\"\",INDEX('Výsledková listina'!$P:$P,MATCH(CONCATENATE(BJ$4,$A22),'Výsledková listina'!$O:$O,0),1))","v":""},null,"",null,{"$f":"IF(ISNA(MATCH(CONCATENATE(BO$4,$A22),'Výsledková listina'!$O:$O,0)),\"\",INDEX('Výsledková listina'!$C:$C,MATCH(CONCATENATE(BO$4,$A22),'Výsledková listina'!$O:$O,0),1))","v":""},{"$f":"IF(ISNA(MATCH(CONCATENATE(BO$4,$A22),'Výsledková listina'!$O:$O,0)),\"\",INDEX('Výsledková listina'!$P:$P,MATCH(CONCATENATE(BO$4,$A22),'Výsledková listina'!$O:$O,0),1))","v":""},null,"",null,{"$f":"IF(ISNA(MATCH(CONCATENATE(BT$4,$A22),'Výsledková listina'!$O:$O,0)),\"\",INDEX('Výsledková listina'!$C:$C,MATCH(CONCATENATE(BT$4,$A22),'Výsledková listina'!$O:$O,0),1))","v":""},{"$f":"IF(ISNA(MATCH(CONCATENATE(BT$4,$A22),'Výsledková listina'!$O:$O,0)),\"\",INDEX('Výsledková listina'!$P:$P,MATCH(CONCATENATE(BT$4,$A22),'Výsledková listina'!$O:$O,0),1))","v":""},null,"",null,{"$f":"IF(ISNA(MATCH(CONCATENATE(BY$4,$A22),'Výsledková listina'!$O:$O,0)),\"\",INDEX('Výsledková listina'!$C:$C,MATCH(CONCATENATE(BY$4,$A22),'Výsledková listina'!$O:$O,0),1))","v":""},{"$f":"IF(ISNA(MATCH(CONCATENATE(BY$4,$A22),'Výsledková listina'!$O:$O,0)),\"\",INDEX('Výsledková listina'!$P:$P,MATCH(CONCATENATE(BY$4,$A22),'Výsledková listina'!$O:$O,0),1))","v":""},null,"",null,{"$f":"IF(ISNA(MATCH(CONCATENATE(CD$4,$A22),'Výsledková listina'!$O:$O,0)),\"\",INDEX('Výsledková listina'!$C:$C,MATCH(CONCATENATE(CD$4,$A22),'Výsledková listina'!$O:$O,0),1))","v":""},{"$f":"IF(ISNA(MATCH(CONCATENATE(CD$4,$A22),'Výsledková listina'!$O:$O,0)),\"\",INDEX('Výsledková listina'!$P:$P,MATCH(CONCATENATE(CD$4,$A22),'Výsledková listina'!$O:$O,0),1))","v":""},null,""]
[18,{"$f":"IF(ISNA(MATCH(CONCATENATE(B$4,$A23),'Výsledková listina'!$O:$O,0)),\"\",INDEX('Výsledková listina'!$C:$C,MATCH(CONCATENATE(B$4,$A23),'Výsledková listina'!$O:$O,0),1))","v":""},{"$f":"IF(ISNA(MATCH(CONCATENATE(B$4,$A23),'Výsledková listina'!$O:$O,0)),\"\",INDEX('Výsledková listina'!$P:$P,MATCH(CONCATENATE(B$4,$A23),'Výsledková listina'!$O:$O,0),1))","v":""},null,null,"",null,{"$f":"IF(ISNA(MATCH(CONCATENATE(H$4,$A23),'Výsledková listina'!$O:$O,0)),\"\",INDEX('Výsledková listina'!$C:$C,MATCH(CONCATENATE(H$4,$A23),'Výsledková listina'!$O:$O,0),1))","v":""},{"$f":"IF(ISNA(MATCH(CONCATENATE(H$4,$A23),'Výsledková listina'!$O:$O,0)),\"\",INDEX('Výsledková listina'!$P:$P,MATCH(CONCATENATE(H$4,$A23),'Výsledková listina'!$O:$O,0),1))","v":""},null,null,"",null,{"$f":"IF(ISNA(MATCH(CONCATENATE(N$4,$A23),'Výsledková listina'!$O:$O,0)),\"\",INDEX('Výsledková listina'!$C:$C,MATCH(CONCATENATE(N$4,$A23),'Výsledková listina'!$O:$O,0),1))","v":""},{"$f":"IF(ISNA(MATCH(CONCATENATE(N$4,$A23),'Výsledková listina'!$O:$O,0)),\"\",INDEX('Výsledková listina'!$P:$P,MATCH(CONCATENATE(N$4,$A23),'Výsledková listina'!$O:$O,0),1))","v":""},null,null,"",null,{"$f":"IF(ISNA(MATCH(CONCATENATE(T$4,$A23),'Výsledková listina'!$O:$O,0)),\"\",INDEX('Výsledková listina'!$C:$C,MATCH(CONCATENATE(T$4,$A23),'Výsledková listina'!$O:$O,0),1))","v":""},{"$f":"IF(ISNA(MATCH(CONCATENATE(T$4,$A23),'Výsledková listina'!$O:$O,0)),\"\",INDEX('Výsledková listina'!$P:$P,MATCH(CONCATENATE(T$4,$A23),'Výsledková listina'!$O:$O,0),1))","v":""},null,null,"",null,{"$f":"IF(ISNA(MATCH(CONCATENATE(Z$4,$A23),'Výsledková listina'!$O:$O,0)),\"\",INDEX('Výsledková listina'!$C:$C,MATCH(CONCATENATE(Z$4,$A23),'Výsledková listina'!$O:$O,0),1))","v":""},{"$f":"IF(ISNA(MATCH(CONCATENATE(Z$4,$A23),'Výsledková listina'!$O:$O,0)),\"\",INDEX('Výsledková listina'!$P:$P,MATCH(CONCATENATE(Z$4,$A23),'Výsledková listina'!$O:$O,0),1))","v":""},null,null,"",null,{"$f":"IF(ISNA(MATCH(CONCATENATE(AF$4,$A23),'Výsledková listina'!$O:$O,0)),\"\",INDEX('Výsledková listina'!$C:$C,MATCH(CONCATENATE(AF$4,$A23),'Výsledková listina'!$O:$O,0),1))","v":""},{"$f":"IF(ISNA(MATCH(CONCATENATE(AF$4,$A23),'Výsledková listina'!$O:$O,0)),\"\",INDEX('Výsledková listina'!$P:$P,MATCH(CONCATENATE(AF$4,$A23),'Výsledková listina'!$O:$O,0),1))","v":""},null,null,"",null,{"$f":"IF(ISNA(MATCH(CONCATENATE(AL$4,$A23),'Výsledková listina'!$O:$O,0)),\"\",INDEX('Výsledková listina'!$C:$C,MATCH(CONCATENATE(AL$4,$A23),'Výsledková listina'!$O:$O,0),1))","v":""},{"$f":"IF(ISNA(MATCH(CONCATENATE(AL$4,$A23),'Výsledková listina'!$O:$O,0)),\"\",INDEX('Výsledková listina'!$P:$P,MATCH(CONCATENATE(AL$4,$A23),'Výsledková listina'!$O:$O,0),1))","v":""},null,null,"",null,{"$f":"IF(ISNA(MATCH(CONCATENATE(AR$4,$A23),'Výsledková listina'!$O:$O,0)),\"\",INDEX('Výsledková listina'!$C:$C,MATCH(CONCATENATE(AR$4,$A23),'Výsledková listina'!$O:$O,0),1))","v":""},{"$f":"IF(ISNA(MATCH(CONCATENATE(AR$4,$A23),'Výsledková listina'!$O:$O,0)),\"\",INDEX('Výsledková listina'!$P:$P,MATCH(CONCATENATE(AR$4,$A23),'Výsledková listina'!$O:$O,0),1))","v":""},null,null,"",null,{"$f":"IF(ISNA(MATCH(CONCATENATE(AX$4,$A23),'Výsledková listina'!$O:$O,0)),\"\",INDEX('Výsledková listina'!$C:$C,MATCH(CONCATENATE(AX$4,$A23),'Výsledková listina'!$O:$O,0),1))","v":""},{"$f":"IF(ISNA(MATCH(CONCATENATE(AX$4,$A23),'Výsledková listina'!$O:$O,0)),\"\",INDEX('Výsledková listina'!$P:$P,MATCH(CONCATENATE(AX$4,$A23),'Výsledková listina'!$O:$O,0),1))","v":""},null,null,"",null,{"$f":"IF(ISNA(MATCH(CONCATENATE(BD$4,$A23),'Výsledková listina'!$O:$O,0)),\"\",INDEX('Výsledková listina'!$C:$C,MATCH(CONCATENATE(BD$4,$A23),'Výsledková listina'!$O:$O,0),1))","v":""},{"$f":"IF(ISNA(MATCH(CONCATENATE(BD$4,$A23),'Výsledková listina'!$O:$O,0)),\"\",INDEX('Výsledková listina'!$P:$P,MATCH(CONCATENATE(BD$4,$A23),'Výsledková listina'!$O:$O,0),1))","v":""},null,null,"",null,{"$f":"IF(ISNA(MATCH(CONCATENATE(BJ$4,$A23),'Výsledková listina'!$O:$O,0)),\"\",INDEX('Výsledková listina'!$C:$C,MATCH(CONCATENATE(BJ$4,$A23),'Výsledková listina'!$O:$O,0),1))","v":""},{"$f":"IF(ISNA(MATCH(CONCATENATE(BJ$4,$A23),'Výsledková listina'!$O:$O,0)),\"\",INDEX('Výsledková listina'!$P:$P,MATCH(CONCATENATE(BJ$4,$A23),'Výsledková listina'!$O:$O,0),1))","v":""},null,"",null,{"$f":"IF(ISNA(MATCH(CONCATENATE(BO$4,$A23),'Výsledková listina'!$O:$O,0)),\"\",INDEX('Výsledková listina'!$C:$C,MATCH(CONCATENATE(BO$4,$A23),'Výsledková listina'!$O:$O,0),1))","v":""},{"$f":"IF(ISNA(MATCH(CONCATENATE(BO$4,$A23),'Výsledková listina'!$O:$O,0)),\"\",INDEX('Výsledková listina'!$P:$P,MATCH(CONCATENATE(BO$4,$A23),'Výsledková listina'!$O:$O,0),1))","v":""},null,"",null,{"$f":"IF(ISNA(MATCH(CONCATENATE(BT$4,$A23),'Výsledková listina'!$O:$O,0)),\"\",INDEX('Výsledková listina'!$C:$C,MATCH(CONCATENATE(BT$4,$A23),'Výsledková listina'!$O:$O,0),1))","v":""},{"$f":"IF(ISNA(MATCH(CONCATENATE(BT$4,$A23),'Výsledková listina'!$O:$O,0)),\"\",INDEX('Výsledková listina'!$P:$P,MATCH(CONCATENATE(BT$4,$A23),'Výsledková listina'!$O:$O,0),1))","v":""},null,"",null,{"$f":"IF(ISNA(MATCH(CONCATENATE(BY$4,$A23),'Výsledková listina'!$O:$O,0)),\"\",INDEX('Výsledková listina'!$C:$C,MATCH(CONCATENATE(BY$4,$A23),'Výsledková listina'!$O:$O,0),1))","v":""},{"$f":"IF(ISNA(MATCH(CONCATENATE(BY$4,$A23),'Výsledková listina'!$O:$O,0)),\"\",INDEX('Výsledková listina'!$P:$P,MATCH(CONCATENATE(BY$4,$A23),'Výsledková listina'!$O:$O,0),1))","v":""},null,"",null,{"$f":"IF(ISNA(MATCH(CONCATENATE(CD$4,$A23),'Výsledková listina'!$O:$O,0)),\"\",INDEX('Výsledková listina'!$C:$C,MATCH(CONCATENATE(CD$4,$A23),'Výsledková listina'!$O:$O,0),1))","v":""},{"$f":"IF(ISNA(MATCH(CONCATENATE(CD$4,$A23),'Výsledková listina'!$O:$O,0)),\"\",INDEX('Výsledková listina'!$P:$P,MATCH(CONCATENATE(CD$4,$A23),'Výsledková listina'!$O:$O,0),1))","v":""},null,""]
[19,{"$f":"IF(ISNA(MATCH(CONCATENATE(B$4,$A24),'Výsledková listina'!$O:$O,0)),\"\",INDEX('Výsledková listina'!$C:$C,MATCH(CONCATENATE(B$4,$A24),'Výsledková listina'!$O:$O,0),1))","v":""},{"$f":"IF(ISNA(MATCH(CONCATENATE(B$4,$A24),'Výsledková listina'!$O:$O,0)),\"\",INDEX('Výsledková listina'!$P:$P,MATCH(CONCATENATE(B$4,$A24),'Výsledková listina'!$O:$O,0),1))","v":""},null,null,"",null,{"$f":"IF(ISNA(MATCH(CONCATENATE(H$4,$A24),'Výsledková listina'!$O:$O,0)),\"\",INDEX('Výsledková listina'!$C:$C,MATCH(CONCATENATE(H$4,$A24),'Výsledková listina'!$O:$O,0),1))","v":""},{"$f":"IF(ISNA(MATCH(CONCATENATE(H$4,$A24),'Výsledková listina'!$O:$O,0)),\"\",INDEX('Výsledková listina'!$P:$P,MATCH(CONCATENATE(H$4,$A24),'Výsledková listina'!$O:$O,0),1))","v":""},null,null,"",null,{"$f":"IF(ISNA(MATCH(CONCATENATE(N$4,$A24),'Výsledková listina'!$O:$O,0)),\"\",INDEX('Výsledková listina'!$C:$C,MATCH(CONCATENATE(N$4,$A24),'Výsledková listina'!$O:$O,0),1))","v":""},{"$f":"IF(ISNA(MATCH(CONCATENATE(N$4,$A24),'Výsledková listina'!$O:$O,0)),\"\",INDEX('Výsledková listina'!$P:$P,MATCH(CONCATENATE(N$4,$A24),'Výsledková listina'!$O:$O,0),1))","v":""},null,null,"",null,{"$f":"IF(ISNA(MATCH(CONCATENATE(T$4,$A24),'Výsledková listina'!$O:$O,0)),\"\",INDEX('Výsledková listina'!$C:$C,MATCH(CONCATENATE(T$4,$A24),'Výsledková listina'!$O:$O,0),1))","v":""},{"$f":"IF(ISNA(MATCH(CONCATENATE(T$4,$A24),'Výsledková listina'!$O:$O,0)),\"\",INDEX('Výsledková listina'!$P:$P,MATCH(CONCATENATE(T$4,$A24),'Výsledková listina'!$O:$O,0),1))","v":""},null,null,"",null,{"$f":"IF(ISNA(MATCH(CONCATENATE(Z$4,$A24),'Výsledková listina'!$O:$O,0)),\"\",INDEX('Výsledková listina'!$C:$C,MATCH(CONCATENATE(Z$4,$A24),'Výsledková listina'!$O:$O,0),1))","v":""},{"$f":"IF(ISNA(MATCH(CONCATENATE(Z$4,$A24),'Výsledková listina'!$O:$O,0)),\"\",INDEX('Výsledková listina'!$P:$P,MATCH(CONCATENATE(Z$4,$A24),'Výsledková listina'!$O:$O,0),1))","v":""},null,null,"",null,{"$f":"IF(ISNA(MATCH(CONCATENATE(AF$4,$A24),'Výsledková listina'!$O:$O,0)),\"\",INDEX('Výsledková listina'!$C:$C,MATCH(CONCATENATE(AF$4,$A24),'Výsledková listina'!$O:$O,0),1))","v":""},{"$f":"IF(ISNA(MATCH(CONCATENATE(AF$4,$A24),'Výsledková listina'!$O:$O,0)),\"\",INDEX('Výsledková listina'!$P:$P,MATCH(CONCATENATE(AF$4,$A24),'Výsledková listina'!$O:$O,0),1))","v":""},null,null,"",null,{"$f":"IF(ISNA(MATCH(CONCATENATE(AL$4,$A24),'Výsledková listina'!$O:$O,0)),\"\",INDEX('Výsledková listina'!$C:$C,MATCH(CONCATENATE(AL$4,$A24),'Výsledková listina'!$O:$O,0),1))","v":""},{"$f":"IF(ISNA(MATCH(CONCATENATE(AL$4,$A24),'Výsledková listina'!$O:$O,0)),\"\",INDEX('Výsledková listina'!$P:$P,MATCH(CONCATENATE(AL$4,$A24),'Výsledková listina'!$O:$O,0),1))","v":""},null,null,"",null,{"$f":"IF(ISNA(MATCH(CONCATENATE(AR$4,$A24),'Výsledková listina'!$O:$O,0)),\"\",INDEX('Výsledková listina'!$C:$C,MATCH(CONCATENATE(AR$4,$A24),'Výsledková listina'!$O:$O,0),1))","v":""},{"$f":"IF(ISNA(MATCH(CONCATENATE(AR$4,$A24),'Výsledková listina'!$O:$O,0)),\"\",INDEX('Výsledková listina'!$P:$P,MATCH(CONCATENATE(AR$4,$A24),'Výsledková listina'!$O:$O,0),1))","v":""},null,null,"",null,{"$f":"IF(ISNA(MATCH(CONCATENATE(AX$4,$A24),'Výsledková listina'!$O:$O,0)),\"\",INDEX('Výsledková listina'!$C:$C,MATCH(CONCATENATE(AX$4,$A24),'Výsledková listina'!$O:$O,0),1))","v":""},{"$f":"IF(ISNA(MATCH(CONCATENATE(AX$4,$A24),'Výsledková listina'!$O:$O,0)),\"\",INDEX('Výsledková listina'!$P:$P,MATCH(CONCATENATE(AX$4,$A24),'Výsledková listina'!$O:$O,0),1))","v":""},null,null,"",null,{"$f":"IF(ISNA(MATCH(CONCATENATE(BD$4,$A24),'Výsledková listina'!$O:$O,0)),\"\",INDEX('Výsledková listina'!$C:$C,MATCH(CONCATENATE(BD$4,$A24),'Výsledková listina'!$O:$O,0),1))","v":""},{"$f":"IF(ISNA(MATCH(CONCATENATE(BD$4,$A24),'Výsledková listina'!$O:$O,0)),\"\",INDEX('Výsledková listina'!$P:$P,MATCH(CONCATENATE(BD$4,$A24),'Výsledková listina'!$O:$O,0),1))","v":""},null,null,"",null,{"$f":"IF(ISNA(MATCH(CONCATENATE(BJ$4,$A24),'Výsledková listina'!$O:$O,0)),\"\",INDEX('Výsledková listina'!$C:$C,MATCH(CONCATENATE(BJ$4,$A24),'Výsledková listina'!$O:$O,0),1))","v":""},{"$f":"IF(ISNA(MATCH(CONCATENATE(BJ$4,$A24),'Výsledková listina'!$O:$O,0)),\"\",INDEX('Výsledková listina'!$P:$P,MATCH(CONCATENATE(BJ$4,$A24),'Výsledková listina'!$O:$O,0),1))","v":""},null,"",null,{"$f":"IF(ISNA(MATCH(CONCATENATE(BO$4,$A24),'Výsledková listina'!$O:$O,0)),\"\",INDEX('Výsledková listina'!$C:$C,MATCH(CONCATENATE(BO$4,$A24),'Výsledková listina'!$O:$O,0),1))","v":""},{"$f":"IF(ISNA(MATCH(CONCATENATE(BO$4,$A24),'Výsledková listina'!$O:$O,0)),\"\",INDEX('Výsledková listina'!$P:$P,MATCH(CONCATENATE(BO$4,$A24),'Výsledková listina'!$O:$O,0),1))","v":""},null,"",null,{"$f":"IF(ISNA(MATCH(CONCATENATE(BT$4,$A24),'Výsledková listina'!$O:$O,0)),\"\",INDEX('Výsledková listina'!$C:$C,MATCH(CONCATENATE(BT$4,$A24),'Výsledková listina'!$O:$O,0),1))","v":""},{"$f":"IF(ISNA(MATCH(CONCATENATE(BT$4,$A24),'Výsledková listina'!$O:$O,0)),\"\",INDEX('Výsledková listina'!$P:$P,MATCH(CONCATENATE(BT$4,$A24),'Výsledková listina'!$O:$O,0),1))","v":""},null,"",null,{"$f":"IF(ISNA(MATCH(CONCATENATE(BY$4,$A24),'Výsledková listina'!$O:$O,0)),\"\",INDEX('Výsledková listina'!$C:$C,MATCH(CONCATENATE(BY$4,$A24),'Výsledková listina'!$O:$O,0),1))","v":""},{"$f":"IF(ISNA(MATCH(CONCATENATE(BY$4,$A24),'Výsledková listina'!$O:$O,0)),\"\",INDEX('Výsledková listina'!$P:$P,MATCH(CONCATENATE(BY$4,$A24),'Výsledková listina'!$O:$O,0),1))","v":""},null,"",null,{"$f":"IF(ISNA(MATCH(CONCATENATE(CD$4,$A24),'Výsledková listina'!$O:$O,0)),\"\",INDEX('Výsledková listina'!$C:$C,MATCH(CONCATENATE(CD$4,$A24),'Výsledková listina'!$O:$O,0),1))","v":""},{"$f":"IF(ISNA(MATCH(CONCATENATE(CD$4,$A24),'Výsledková listina'!$O:$O,0)),\"\",INDEX('Výsledková listina'!$P:$P,MATCH(CONCATENATE(CD$4,$A24),'Výsledková listina'!$O:$O,0),1))","v":""},null,""]
[20,{"$f":"IF(ISNA(MATCH(CONCATENATE(B$4,$A25),'Výsledková listina'!$O:$O,0)),\"\",INDEX('Výsledková listina'!$C:$C,MATCH(CONCATENATE(B$4,$A25),'Výsledková listina'!$O:$O,0),1))","v":""},{"$f":"IF(ISNA(MATCH(CONCATENATE(B$4,$A25),'Výsledková listina'!$O:$O,0)),\"\",INDEX('Výsledková listina'!$P:$P,MATCH(CONCATENATE(B$4,$A25),'Výsledková listina'!$O:$O,0),1))","v":""},null,null,"",null,{"$f":"IF(ISNA(MATCH(CONCATENATE(H$4,$A25),'Výsledková listina'!$O:$O,0)),\"\",INDEX('Výsledková listina'!$C:$C,MATCH(CONCATENATE(H$4,$A25),'Výsledková listina'!$O:$O,0),1))","v":""},{"$f":"IF(ISNA(MATCH(CONCATENATE(H$4,$A25),'Výsledková listina'!$O:$O,0)),\"\",INDEX('Výsledková listina'!$P:$P,MATCH(CONCATENATE(H$4,$A25),'Výsledková listina'!$O:$O,0),1))","v":""},null,null,"",null,{"$f":"IF(ISNA(MATCH(CONCATENATE(N$4,$A25),'Výsledková listina'!$O:$O,0)),\"\",INDEX('Výsledková listina'!$C:$C,MATCH(CONCATENATE(N$4,$A25),'Výsledková listina'!$O:$O,0),1))","v":""},{"$f":"IF(ISNA(MATCH(CONCATENATE(N$4,$A25),'Výsledková listina'!$O:$O,0)),\"\",INDEX('Výsledková listina'!$P:$P,MATCH(CONCATENATE(N$4,$A25),'Výsledková listina'!$O:$O,0),1))","v":""},null,null,"",null,{"$f":"IF(ISNA(MATCH(CONCATENATE(T$4,$A25),'Výsledková listina'!$O:$O,0)),\"\",INDEX('Výsledková listina'!$C:$C,MATCH(CONCATENATE(T$4,$A25),'Výsledková listina'!$O:$O,0),1))","v":""},{"$f":"IF(ISNA(MATCH(CONCATENATE(T$4,$A25),'Výsledková listina'!$O:$O,0)),\"\",INDEX('Výsledková listina'!$P:$P,MATCH(CONCATENATE(T$4,$A25),'Výsledková listina'!$O:$O,0),1))","v":""},null,null,"",null,{"$f":"IF(ISNA(MATCH(CONCATENATE(Z$4,$A25),'Výsledková listina'!$O:$O,0)),\"\",INDEX('Výsledková listina'!$C:$C,MATCH(CONCATENATE(Z$4,$A25),'Výsledková listina'!$O:$O,0),1))","v":""},{"$f":"IF(ISNA(MATCH(CONCATENATE(Z$4,$A25),'Výsledková listina'!$O:$O,0)),\"\",INDEX('Výsledková listina'!$P:$P,MATCH(CONCATENATE(Z$4,$A25),'Výsledková listina'!$O:$O,0),1))","v":""},null,null,"",null,{"$f":"IF(ISNA(MATCH(CONCATENATE(AF$4,$A25),'Výsledková listina'!$O:$O,0)),\"\",INDEX('Výsledková listina'!$C:$C,MATCH(CONCATENATE(AF$4,$A25),'Výsledková listina'!$O:$O,0),1))","v":""},{"$f":"IF(ISNA(MATCH(CONCATENATE(AF$4,$A25),'Výsledková listina'!$O:$O,0)),\"\",INDEX('Výsledková listina'!$P:$P,MATCH(CONCATENATE(AF$4,$A25),'Výsledková listina'!$O:$O,0),1))","v":""},null,null,"",null,{"$f":"IF(ISNA(MATCH(CONCATENATE(AL$4,$A25),'Výsledková listina'!$O:$O,0)),\"\",INDEX('Výsledková listina'!$C:$C,MATCH(CONCATENATE(AL$4,$A25),'Výsledková listina'!$O:$O,0),1))","v":""},{"$f":"IF(ISNA(MATCH(CONCATENATE(AL$4,$A25),'Výsledková listina'!$O:$O,0)),\"\",INDEX('Výsledková listina'!$P:$P,MATCH(CONCATENATE(AL$4,$A25),'Výsledková listina'!$O:$O,0),1))","v":""},null,null,"",null,{"$f":"IF(ISNA(MATCH(CONCATENATE(AR$4,$A25),'Výsledková listina'!$O:$O,0)),\"\",INDEX('Výsledková listina'!$C:$C,MATCH(CONCATENATE(AR$4,$A25),'Výsledková listina'!$O:$O,0),1))","v":""},{"$f":"IF(ISNA(MATCH(CONCATENATE(AR$4,$A25),'Výsledková listina'!$O:$O,0)),\"\",INDEX('Výsledková listina'!$P:$P,MATCH(CONCATENATE(AR$4,$A25),'Výsledková listina'!$O:$O,0),1))","v":""},null,null,"",null,{"$f":"IF(ISNA(MATCH(CONCATENATE(AX$4,$A25),'Výsledková listina'!$O:$O,0)),\"\",INDEX('Výsledková listina'!$C:$C,MATCH(CONCATENATE(AX$4,$A25),'Výsledková listina'!$O:$O,0),1))","v":""},{"$f":"IF(ISNA(MATCH(CONCATENATE(AX$4,$A25),'Výsledková listina'!$O:$O,0)),\"\",INDEX('Výsledková listina'!$P:$P,MATCH(CONCATENATE(AX$4,$A25),'Výsledková listina'!$O:$O,0),1))","v":""},null,null,"",null,{"$f":"IF(ISNA(MATCH(CONCATENATE(BD$4,$A25),'Výsledková listina'!$O:$O,0)),\"\",INDEX('Výsledková listina'!$C:$C,MATCH(CONCATENATE(BD$4,$A25),'Výsledková listina'!$O:$O,0),1))","v":""},{"$f":"IF(ISNA(MATCH(CONCATENATE(BD$4,$A25),'Výsledková listina'!$O:$O,0)),\"\",INDEX('Výsledková listina'!$P:$P,MATCH(CONCATENATE(BD$4,$A25),'Výsledková listina'!$O:$O,0),1))","v":""},null,null,"",null,{"$f":"IF(ISNA(MATCH(CONCATENATE(BJ$4,$A25),'Výsledková listina'!$O:$O,0)),\"\",INDEX('Výsledková listina'!$C:$C,MATCH(CONCATENATE(BJ$4,$A25),'Výsledková listina'!$O:$O,0),1))","v":""},{"$f":"IF(ISNA(MATCH(CONCATENATE(BJ$4,$A25),'Výsledková listina'!$O:$O,0)),\"\",INDEX('Výsledková listina'!$P:$P,MATCH(CONCATENATE(BJ$4,$A25),'Výsledková listina'!$O:$O,0),1))","v":""},null,"",null,{"$f":"IF(ISNA(MATCH(CONCATENATE(BO$4,$A25),'Výsledková listina'!$O:$O,0)),\"\",INDEX('Výsledková listina'!$C:$C,MATCH(CONCATENATE(BO$4,$A25),'Výsledková listina'!$O:$O,0),1))","v":""},{"$f":"IF(ISNA(MATCH(CONCATENATE(BO$4,$A25),'Výsledková listina'!$O:$O,0)),\"\",INDEX('Výsledková listina'!$P:$P,MATCH(CONCATENATE(BO$4,$A25),'Výsledková listina'!$O:$O,0),1))","v":""},null,"",null,{"$f":"IF(ISNA(MATCH(CONCATENATE(BT$4,$A25),'Výsledková listina'!$O:$O,0)),\"\",INDEX('Výsledková listina'!$C:$C,MATCH(CONCATENATE(BT$4,$A25),'Výsledková listina'!$O:$O,0),1))","v":""},{"$f":"IF(ISNA(MATCH(CONCATENATE(BT$4,$A25),'Výsledková listina'!$O:$O,0)),\"\",INDEX('Výsledková listina'!$P:$P,MATCH(CONCATENATE(BT$4,$A25),'Výsledková listina'!$O:$O,0),1))","v":""},null,"",null,{"$f":"IF(ISNA(MATCH(CONCATENATE(BY$4,$A25),'Výsledková listina'!$O:$O,0)),\"\",INDEX('Výsledková listina'!$C:$C,MATCH(CONCATENATE(BY$4,$A25),'Výsledková listina'!$O:$O,0),1))","v":""},{"$f":"IF(ISNA(MATCH(CONCATENATE(BY$4,$A25),'Výsledková listina'!$O:$O,0)),\"\",INDEX('Výsledková listina'!$P:$P,MATCH(CONCATENATE(BY$4,$A25),'Výsledková listina'!$O:$O,0),1))","v":""},null,"",null,{"$f":"IF(ISNA(MATCH(CONCATENATE(CD$4,$A25),'Výsledková listina'!$O:$O,0)),\"\",INDEX('Výsledková listina'!$C:$C,MATCH(CONCATENATE(CD$4,$A25),'Výsledková listina'!$O:$O,0),1))","v":""},{"$f":"IF(ISNA(MATCH(CONCATENATE(CD$4,$A25),'Výsledková listina'!$O:$O,0)),\"\",INDEX('Výsledková listina'!$P:$P,MATCH(CONCATENATE(CD$4,$A25),'Výsledková listina'!$O:$O,0),1))","v":""},null,""]
[21,{"$f":"IF(ISNA(MATCH(CONCATENATE(B$4,$A26),'Výsledková listina'!$O:$O,0)),\"\",INDEX('Výsledková listina'!$C:$C,MATCH(CONCATENATE(B$4,$A26),'Výsledková listina'!$O:$O,0),1))","v":""},{"$f":"IF(ISNA(MATCH(CONCATENATE(B$4,$A26),'Výsledková listina'!$O:$O,0)),\"\",INDEX('Výsledková listina'!$P:$P,MATCH(CONCATENATE(B$4,$A26),'Výsledková listina'!$O:$O,0),1))","v":""},null,null,"",null,{"$f":"IF(ISNA(MATCH(CONCATENATE(H$4,$A26),'Výsledková listina'!$O:$O,0)),\"\",INDEX('Výsledková listina'!$C:$C,MATCH(CONCATENATE(H$4,$A26),'Výsledková listina'!$O:$O,0),1))","v":""},{"$f":"IF(ISNA(MATCH(CONCATENATE(H$4,$A26),'Výsledková listina'!$O:$O,0)),\"\",INDEX('Výsledková listina'!$P:$P,MATCH(CONCATENATE(H$4,$A26),'Výsledková listina'!$O:$O,0),1))","v":""},null,null,"",null,{"$f":"IF(ISNA(MATCH(CONCATENATE(N$4,$A26),'Výsledková listina'!$O:$O,0)),\"\",INDEX('Výsledková listina'!$C:$C,MATCH(CONCATENATE(N$4,$A26),'Výsledková listina'!$O:$O,0),1))","v":""},{"$f":"IF(ISNA(MATCH(CONCATENATE(N$4,$A26),'Výsledková listina'!$O:$O,0)),\"\",INDEX('Výsledková listina'!$P:$P,MATCH(CONCATENATE(N$4,$A26),'Výsledková listina'!$O:$O,0),1))","v":""},null,null,"",null,{"$f":"IF(ISNA(MATCH(CONCATENATE(T$4,$A26),'Výsledková listina'!$O:$O,0)),\"\",INDEX('Výsledková listina'!$C:$C,MATCH(CONCATENATE(T$4,$A26),'Výsledková listina'!$O:$O,0),1))","v":""},{"$f":"IF(ISNA(MATCH(CONCATENATE(T$4,$A26),'Výsledková listina'!$O:$O,0)),\"\",INDEX('Výsledková listina'!$P:$P,MATCH(CONCATENATE(T$4,$A26),'Výsledková listina'!$O:$O,0),1))","v":""},null,null,"",null,{"$f":"IF(ISNA(MATCH(CONCATENATE(Z$4,$A26),'Výsledková listina'!$O:$O,0)),\"\",INDEX('Výsledková listina'!$C:$C,MATCH(CONCATENATE(Z$4,$A26),'Výsledková listina'!$O:$O,0),1))","v":""},{"$f":"IF(ISNA(MATCH(CONCATENATE(Z$4,$A26),'Výsledková listina'!$O:$O,0)),\"\",INDEX('Výsledková listina'!$P:$P,MATCH(CONCATENATE(Z$4,$A26),'Výsledková listina'!$O:$O,0),1))","v":""},null,null,"",null,{"$f":"IF(ISNA(MATCH(CONCATENATE(AF$4,$A26),'Výsledková listina'!$O:$O,0)),\"\",INDEX('Výsledková listina'!$C:$C,MATCH(CONCATENATE(AF$4,$A26),'Výsledková listina'!$O:$O,0),1))","v":""},{"$f":"IF(ISNA(MATCH(CONCATENATE(AF$4,$A26),'Výsledková listina'!$O:$O,0)),\"\",INDEX('Výsledková listina'!$P:$P,MATCH(CONCATENATE(AF$4,$A26),'Výsledková listina'!$O:$O,0),1))","v":""},null,null,"",null,{"$f":"IF(ISNA(MATCH(CONCATENATE(AL$4,$A26),'Výsledková listina'!$O:$O,0)),\"\",INDEX('Výsledková listina'!$C:$C,MATCH(CONCATENATE(AL$4,$A26),'Výsledková listina'!$O:$O,0),1))","v":""},{"$f":"IF(ISNA(MATCH(CONCATENATE(AL$4,$A26),'Výsledková listina'!$O:$O,0)),\"\",INDEX('Výsledková listina'!$P:$P,MATCH(CONCATENATE(AL$4,$A26),'Výsledková listina'!$O:$O,0),1))","v":""},null,null,"",null,{"$f":"IF(ISNA(MATCH(CONCATENATE(AR$4,$A26),'Výsledková listina'!$O:$O,0)),\"\",INDEX('Výsledková listina'!$C:$C,MATCH(CONCATENATE(AR$4,$A26),'Výsledková listina'!$O:$O,0),1))","v":""},{"$f":"IF(ISNA(MATCH(CONCATENATE(AR$4,$A26),'Výsledková listina'!$O:$O,0)),\"\",INDEX('Výsledková listina'!$P:$P,MATCH(CONCATENATE(AR$4,$A26),'Výsledková listina'!$O:$O,0),1))","v":""},null,null,"",null,{"$f":"IF(ISNA(MATCH(CONCATENATE(AX$4,$A26),'Výsledková listina'!$O:$O,0)),\"\",INDEX('Výsledková listina'!$C:$C,MATCH(CONCATENATE(AX$4,$A26),'Výsledková listina'!$O:$O,0),1))","v":""},{"$f":"IF(ISNA(MATCH(CONCATENATE(AX$4,$A26),'Výsledková listina'!$O:$O,0)),\"\",INDEX('Výsledková listina'!$P:$P,MATCH(CONCATENATE(AX$4,$A26),'Výsledková listina'!$O:$O,0),1))","v":""},null,null,"",null,{"$f":"IF(ISNA(MATCH(CONCATENATE(BD$4,$A26),'Výsledková listina'!$O:$O,0)),\"\",INDEX('Výsledková listina'!$C:$C,MATCH(CONCATENATE(BD$4,$A26),'Výsledková listina'!$O:$O,0),1))","v":""},{"$f":"IF(ISNA(MATCH(CONCATENATE(BD$4,$A26),'Výsledková listina'!$O:$O,0)),\"\",INDEX('Výsledková listina'!$P:$P,MATCH(CONCATENATE(BD$4,$A26),'Výsledková listina'!$O:$O,0),1))","v":""},null,null,"",null,{"$f":"IF(ISNA(MATCH(CONCATENATE(BJ$4,$A26),'Výsledková listina'!$O:$O,0)),\"\",INDEX('Výsledková listina'!$C:$C,MATCH(CONCATENATE(BJ$4,$A26),'Výsledková listina'!$O:$O,0),1))","v":""},{"$f":"IF(ISNA(MATCH(CONCATENATE(BJ$4,$A26),'Výsledková listina'!$O:$O,0)),\"\",INDEX('Výsledková listina'!$P:$P,MATCH(CONCATENATE(BJ$4,$A26),'Výsledková listina'!$O:$O,0),1))","v":""},null,"",null,{"$f":"IF(ISNA(MATCH(CONCATENATE(BO$4,$A26),'Výsledková listina'!$O:$O,0)),\"\",INDEX('Výsledková listina'!$C:$C,MATCH(CONCATENATE(BO$4,$A26),'Výsledková listina'!$O:$O,0),1))","v":""},{"$f":"IF(ISNA(MATCH(CONCATENATE(BO$4,$A26),'Výsledková listina'!$O:$O,0)),\"\",INDEX('Výsledková listina'!$P:$P,MATCH(CONCATENATE(BO$4,$A26),'Výsledková listina'!$O:$O,0),1))","v":""},null,"",null,{"$f":"IF(ISNA(MATCH(CONCATENATE(BT$4,$A26),'Výsledková listina'!$O:$O,0)),\"\",INDEX('Výsledková listina'!$C:$C,MATCH(CONCATENATE(BT$4,$A26),'Výsledková listina'!$O:$O,0),1))","v":""},{"$f":"IF(ISNA(MATCH(CONCATENATE(BT$4,$A26),'Výsledková listina'!$O:$O,0)),\"\",INDEX('Výsledková listina'!$P:$P,MATCH(CONCATENATE(BT$4,$A26),'Výsledková listina'!$O:$O,0),1))","v":""},null,"",null,{"$f":"IF(ISNA(MATCH(CONCATENATE(BY$4,$A26),'Výsledková listina'!$O:$O,0)),\"\",INDEX('Výsledková listina'!$C:$C,MATCH(CONCATENATE(BY$4,$A26),'Výsledková listina'!$O:$O,0),1))","v":""},{"$f":"IF(ISNA(MATCH(CONCATENATE(BY$4,$A26),'Výsledková listina'!$O:$O,0)),\"\",INDEX('Výsledková listina'!$P:$P,MATCH(CONCATENATE(BY$4,$A26),'Výsledková listina'!$O:$O,0),1))","v":""},null,"",null,{"$f":"IF(ISNA(MATCH(CONCATENATE(CD$4,$A26),'Výsledková listina'!$O:$O,0)),\"\",INDEX('Výsledková listina'!$C:$C,MATCH(CONCATENATE(CD$4,$A26),'Výsledková listina'!$O:$O,0),1))","v":""},{"$f":"IF(ISNA(MATCH(CONCATENATE(CD$4,$A26),'Výsledková listina'!$O:$O,0)),\"\",INDEX('Výsledková listina'!$P:$P,MATCH(CONCATENATE(CD$4,$A26),'Výsledková listina'!$O:$O,0),1))","v":""},null,""]
[22,{"$f":"IF(ISNA(MATCH(CONCATENATE(B$4,$A27),'Výsledková listina'!$O:$O,0)),\"\",INDEX('Výsledková listina'!$C:$C,MATCH(CONCATENATE(B$4,$A27),'Výsledková listina'!$O:$O,0),1))","v":""},{"$f":"IF(ISNA(MATCH(CONCATENATE(B$4,$A27),'Výsledková listina'!$O:$O,0)),\"\",INDEX('Výsledková listina'!$P:$P,MATCH(CONCATENATE(B$4,$A27),'Výsledková listina'!$O:$O,0),1))","v":""},null,null,"",null,{"$f":"IF(ISNA(MATCH(CONCATENATE(H$4,$A27),'Výsledková listina'!$O:$O,0)),\"\",INDEX('Výsledková listina'!$C:$C,MATCH(CONCATENATE(H$4,$A27),'Výsledková listina'!$O:$O,0),1))","v":""},{"$f":"IF(ISNA(MATCH(CONCATENATE(H$4,$A27),'Výsledková listina'!$O:$O,0)),\"\",INDEX('Výsledková listina'!$P:$P,MATCH(CONCATENATE(H$4,$A27),'Výsledková listina'!$O:$O,0),1))","v":""},null,null,"",null,{"$f":"IF(ISNA(MATCH(CONCATENATE(N$4,$A27),'Výsledková listina'!$O:$O,0)),\"\",INDEX('Výsledková listina'!$C:$C,MATCH(CONCATENATE(N$4,$A27),'Výsledková listina'!$O:$O,0),1))","v":""},{"$f":"IF(ISNA(MATCH(CONCATENATE(N$4,$A27),'Výsledková listina'!$O:$O,0)),\"\",INDEX('Výsledková listina'!$P:$P,MATCH(CONCATENATE(N$4,$A27),'Výsledková listina'!$O:$O,0),1))","v":""},null,null,"",null,{"$f":"IF(ISNA(MATCH(CONCATENATE(T$4,$A27),'Výsledková listina'!$O:$O,0)),\"\",INDEX('Výsledková listina'!$C:$C,MATCH(CONCATENATE(T$4,$A27),'Výsledková listina'!$O:$O,0),1))","v":""},{"$f":"IF(ISNA(MATCH(CONCATENATE(T$4,$A27),'Výsledková listina'!$O:$O,0)),\"\",INDEX('Výsledková listina'!$P:$P,MATCH(CONCATENATE(T$4,$A27),'Výsledková listina'!$O:$O,0),1))","v":""},null,null,"",null,{"$f":"IF(ISNA(MATCH(CONCATENATE(Z$4,$A27),'Výsledková listina'!$O:$O,0)),\"\",INDEX('Výsledková listina'!$C:$C,MATCH(CONCATENATE(Z$4,$A27),'Výsledková listina'!$O:$O,0),1))","v":""},{"$f":"IF(ISNA(MATCH(CONCATENATE(Z$4,$A27),'Výsledková listina'!$O:$O,0)),\"\",INDEX('Výsledková listina'!$P:$P,MATCH(CONCATENATE(Z$4,$A27),'Výsledková listina'!$O:$O,0),1))","v":""},null,null,"",null,{"$f":"IF(ISNA(MATCH(CONCATENATE(AF$4,$A27),'Výsledková listina'!$O:$O,0)),\"\",INDEX('Výsledková listina'!$C:$C,MATCH(CONCATENATE(AF$4,$A27),'Výsledková listina'!$O:$O,0),1))","v":""},{"$f":"IF(ISNA(MATCH(CONCATENATE(AF$4,$A27),'Výsledková listina'!$O:$O,0)),\"\",INDEX('Výsledková listina'!$P:$P,MATCH(CONCATENATE(AF$4,$A27),'Výsledková listina'!$O:$O,0),1))","v":""},null,null,"",null,{"$f":"IF(ISNA(MATCH(CONCATENATE(AL$4,$A27),'Výsledková listina'!$O:$O,0)),\"\",INDEX('Výsledková listina'!$C:$C,MATCH(CONCATENATE(AL$4,$A27),'Výsledková listina'!$O:$O,0),1))","v":""},{"$f":"IF(ISNA(MATCH(CONCATENATE(AL$4,$A27),'Výsledková listina'!$O:$O,0)),\"\",INDEX('Výsledková listina'!$P:$P,MATCH(CONCATENATE(AL$4,$A27),'Výsledková listina'!$O:$O,0),1))","v":""},null,null,"",null,{"$f":"IF(ISNA(MATCH(CONCATENATE(AR$4,$A27),'Výsledková listina'!$O:$O,0)),\"\",INDEX('Výsledková listina'!$C:$C,MATCH(CONCATENATE(AR$4,$A27),'Výsledková listina'!$O:$O,0),1))","v":""},{"$f":"IF(ISNA(MATCH(CONCATENATE(AR$4,$A27),'Výsledková listina'!$O:$O,0)),\"\",INDEX('Výsledková listina'!$P:$P,MATCH(CONCATENATE(AR$4,$A27),'Výsledková listina'!$O:$O,0),1))","v":""},null,null,"",null,{"$f":"IF(ISNA(MATCH(CONCATENATE(AX$4,$A27),'Výsledková listina'!$O:$O,0)),\"\",INDEX('Výsledková listina'!$C:$C,MATCH(CONCATENATE(AX$4,$A27),'Výsledková listina'!$O:$O,0),1))","v":""},{"$f":"IF(ISNA(MATCH(CONCATENATE(AX$4,$A27),'Výsledková listina'!$O:$O,0)),\"\",INDEX('Výsledková listina'!$P:$P,MATCH(CONCATENATE(AX$4,$A27),'Výsledková listina'!$O:$O,0),1))","v":""},null,null,"",null,{"$f":"IF(ISNA(MATCH(CONCATENATE(BD$4,$A27),'Výsledková listina'!$O:$O,0)),\"\",INDEX('Výsledková listina'!$C:$C,MATCH(CONCATENATE(BD$4,$A27),'Výsledková listina'!$O:$O,0),1))","v":""},{"$f":"IF(ISNA(MATCH(CONCATENATE(BD$4,$A27),'Výsledková listina'!$O:$O,0)),\"\",INDEX('Výsledková listina'!$P:$P,MATCH(CONCATENATE(BD$4,$A27),'Výsledková listina'!$O:$O,0),1))","v":""},null,null,"",null,{"$f":"IF(ISNA(MATCH(CONCATENATE(BJ$4,$A27),'Výsledková listina'!$O:$O,0)),\"\",INDEX('Výsledková listina'!$C:$C,MATCH(CONCATENATE(BJ$4,$A27),'Výsledková listina'!$O:$O,0),1))","v":""},{"$f":"IF(ISNA(MATCH(CONCATENATE(BJ$4,$A27),'Výsledková listina'!$O:$O,0)),\"\",INDEX('Výsledková listina'!$P:$P,MATCH(CONCATENATE(BJ$4,$A27),'Výsledková listina'!$O:$O,0),1))","v":""},null,"",null,{"$f":"IF(ISNA(MATCH(CONCATENATE(BO$4,$A27),'Výsledková listina'!$O:$O,0)),\"\",INDEX('Výsledková listina'!$C:$C,MATCH(CONCATENATE(BO$4,$A27),'Výsledková listina'!$O:$O,0),1))","v":""},{"$f":"IF(ISNA(MATCH(CONCATENATE(BO$4,$A27),'Výsledková listina'!$O:$O,0)),\"\",INDEX('Výsledková listina'!$P:$P,MATCH(CONCATENATE(BO$4,$A27),'Výsledková listina'!$O:$O,0),1))","v":""},null,"",null,{"$f":"IF(ISNA(MATCH(CONCATENATE(BT$4,$A27),'Výsledková listina'!$O:$O,0)),\"\",INDEX('Výsledková listina'!$C:$C,MATCH(CONCATENATE(BT$4,$A27),'Výsledková listina'!$O:$O,0),1))","v":""},{"$f":"IF(ISNA(MATCH(CONCATENATE(BT$4,$A27),'Výsledková listina'!$O:$O,0)),\"\",INDEX('Výsledková listina'!$P:$P,MATCH(CONCATENATE(BT$4,$A27),'Výsledková listina'!$O:$O,0),1))","v":""},null,"",null,{"$f":"IF(ISNA(MATCH(CONCATENATE(BY$4,$A27),'Výsledková listina'!$O:$O,0)),\"\",INDEX('Výsledková listina'!$C:$C,MATCH(CONCATENATE(BY$4,$A27),'Výsledková listina'!$O:$O,0),1))","v":""},{"$f":"IF(ISNA(MATCH(CONCATENATE(BY$4,$A27),'Výsledková listina'!$O:$O,0)),\"\",INDEX('Výsledková listina'!$P:$P,MATCH(CONCATENATE(BY$4,$A27),'Výsledková listina'!$O:$O,0),1))","v":""},null,"",null,{"$f":"IF(ISNA(MATCH(CONCATENATE(CD$4,$A27),'Výsledková listina'!$O:$O,0)),\"\",INDEX('Výsledková listina'!$C:$C,MATCH(CONCATENATE(CD$4,$A27),'Výsledková listina'!$O:$O,0),1))","v":""},{"$f":"IF(ISNA(MATCH(CONCATENATE(CD$4,$A27),'Výsledková listina'!$O:$O,0)),\"\",INDEX('Výsledková listina'!$P:$P,MATCH(CONCATENATE(CD$4,$A27),'Výsledková listina'!$O:$O,0),1))","v":""},null,""]
[23,{"$f":"IF(ISNA(MATCH(CONCATENATE(B$4,$A28),'Výsledková listina'!$O:$O,0)),\"\",INDEX('Výsledková listina'!$C:$C,MATCH(CONCATENATE(B$4,$A28),'Výsledková listina'!$O:$O,0),1))","v":""},{"$f":"IF(ISNA(MATCH(CONCATENATE(B$4,$A28),'Výsledková listina'!$O:$O,0)),\"\",INDEX('Výsledková listina'!$P:$P,MATCH(CONCATENATE(B$4,$A28),'Výsledková listina'!$O:$O,0),1))","v":""},null,null,"",null,{"$f":"IF(ISNA(MATCH(CONCATENATE(H$4,$A28),'Výsledková listina'!$O:$O,0)),\"\",INDEX('Výsledková listina'!$C:$C,MATCH(CONCATENATE(H$4,$A28),'Výsledková listina'!$O:$O,0),1))","v":""},{"$f":"IF(ISNA(MATCH(CONCATENATE(H$4,$A28),'Výsledková listina'!$O:$O,0)),\"\",INDEX('Výsledková listina'!$P:$P,MATCH(CONCATENATE(H$4,$A28),'Výsledková listina'!$O:$O,0),1))","v":""},null,null,"",null,{"$f":"IF(ISNA(MATCH(CONCATENATE(N$4,$A28),'Výsledková listina'!$O:$O,0)),\"\",INDEX('Výsledková listina'!$C:$C,MATCH(CONCATENATE(N$4,$A28),'Výsledková listina'!$O:$O,0),1))","v":""},{"$f":"IF(ISNA(MATCH(CONCATENATE(N$4,$A28),'Výsledková listina'!$O:$O,0)),\"\",INDEX('Výsledková listina'!$P:$P,MATCH(CONCATENATE(N$4,$A28),'Výsledková listina'!$O:$O,0),1))","v":""},null,null,"",null,{"$f":"IF(ISNA(MATCH(CONCATENATE(T$4,$A28),'Výsledková listina'!$O:$O,0)),\"\",INDEX('Výsledková listina'!$C:$C,MATCH(CONCATENATE(T$4,$A28),'Výsledková listina'!$O:$O,0),1))","v":""},{"$f":"IF(ISNA(MATCH(CONCATENATE(T$4,$A28),'Výsledková listina'!$O:$O,0)),\"\",INDEX('Výsledková listina'!$P:$P,MATCH(CONCATENATE(T$4,$A28),'Výsledková listina'!$O:$O,0),1))","v":""},null,null,"",null,{"$f":"IF(ISNA(MATCH(CONCATENATE(Z$4,$A28),'Výsledková listina'!$O:$O,0)),\"\",INDEX('Výsledková listina'!$C:$C,MATCH(CONCATENATE(Z$4,$A28),'Výsledková listina'!$O:$O,0),1))","v":""},{"$f":"IF(ISNA(MATCH(CONCATENATE(Z$4,$A28),'Výsledková listina'!$O:$O,0)),\"\",INDEX('Výsledková listina'!$P:$P,MATCH(CONCATENATE(Z$4,$A28),'Výsledková listina'!$O:$O,0),1))","v":""},null,null,"",null,{"$f":"IF(ISNA(MATCH(CONCATENATE(AF$4,$A28),'Výsledková listina'!$O:$O,0)),\"\",INDEX('Výsledková listina'!$C:$C,MATCH(CONCATENATE(AF$4,$A28),'Výsledková listina'!$O:$O,0),1))","v":""},{"$f":"IF(ISNA(MATCH(CONCATENATE(AF$4,$A28),'Výsledková listina'!$O:$O,0)),\"\",INDEX('Výsledková listina'!$P:$P,MATCH(CONCATENATE(AF$4,$A28),'Výsledková listina'!$O:$O,0),1))","v":""},null,null,"",null,{"$f":"IF(ISNA(MATCH(CONCATENATE(AL$4,$A28),'Výsledková listina'!$O:$O,0)),\"\",INDEX('Výsledková listina'!$C:$C,MATCH(CONCATENATE(AL$4,$A28),'Výsledková listina'!$O:$O,0),1))","v":""},{"$f":"IF(ISNA(MATCH(CONCATENATE(AL$4,$A28),'Výsledková listina'!$O:$O,0)),\"\",INDEX('Výsledková listina'!$P:$P,MATCH(CONCATENATE(AL$4,$A28),'Výsledková listina'!$O:$O,0),1))","v":""},null,null,"",null,{"$f":"IF(ISNA(MATCH(CONCATENATE(AR$4,$A28),'Výsledková listina'!$O:$O,0)),\"\",INDEX('Výsledková listina'!$C:$C,MATCH(CONCATENATE(AR$4,$A28),'Výsledková listina'!$O:$O,0),1))","v":""},{"$f":"IF(ISNA(MATCH(CONCATENATE(AR$4,$A28),'Výsledková listina'!$O:$O,0)),\"\",INDEX('Výsledková listina'!$P:$P,MATCH(CONCATENATE(AR$4,$A28),'Výsledková listina'!$O:$O,0),1))","v":""},null,null,"",null,{"$f":"IF(ISNA(MATCH(CONCATENATE(AX$4,$A28),'Výsledková listina'!$O:$O,0)),\"\",INDEX('Výsledková listina'!$C:$C,MATCH(CONCATENATE(AX$4,$A28),'Výsledková listina'!$O:$O,0),1))","v":""},{"$f":"IF(ISNA(MATCH(CONCATENATE(AX$4,$A28),'Výsledková listina'!$O:$O,0)),\"\",INDEX('Výsledková listina'!$P:$P,MATCH(CONCATENATE(AX$4,$A28),'Výsledková listina'!$O:$O,0),1))","v":""},null,null,"",null,{"$f":"IF(ISNA(MATCH(CONCATENATE(BD$4,$A28),'Výsledková listina'!$O:$O,0)),\"\",INDEX('Výsledková listina'!$C:$C,MATCH(CONCATENATE(BD$4,$A28),'Výsledková listina'!$O:$O,0),1))","v":""},{"$f":"IF(ISNA(MATCH(CONCATENATE(BD$4,$A28),'Výsledková listina'!$O:$O,0)),\"\",INDEX('Výsledková listina'!$P:$P,MATCH(CONCATENATE(BD$4,$A28),'Výsledková listina'!$O:$O,0),1))","v":""},null,null,"",null,{"$f":"IF(ISNA(MATCH(CONCATENATE(BJ$4,$A28),'Výsledková listina'!$O:$O,0)),\"\",INDEX('Výsledková listina'!$C:$C,MATCH(CONCATENATE(BJ$4,$A28),'Výsledková listina'!$O:$O,0),1))","v":""},{"$f":"IF(ISNA(MATCH(CONCATENATE(BJ$4,$A28),'Výsledková listina'!$O:$O,0)),\"\",INDEX('Výsledková listina'!$P:$P,MATCH(CONCATENATE(BJ$4,$A28),'Výsledková listina'!$O:$O,0),1))","v":""},null,"",null,{"$f":"IF(ISNA(MATCH(CONCATENATE(BO$4,$A28),'Výsledková listina'!$O:$O,0)),\"\",INDEX('Výsledková listina'!$C:$C,MATCH(CONCATENATE(BO$4,$A28),'Výsledková listina'!$O:$O,0),1))","v":""},{"$f":"IF(ISNA(MATCH(CONCATENATE(BO$4,$A28),'Výsledková listina'!$O:$O,0)),\"\",INDEX('Výsledková listina'!$P:$P,MATCH(CONCATENATE(BO$4,$A28),'Výsledková listina'!$O:$O,0),1))","v":""},null,"",null,{"$f":"IF(ISNA(MATCH(CONCATENATE(BT$4,$A28),'Výsledková listina'!$O:$O,0)),\"\",INDEX('Výsledková listina'!$C:$C,MATCH(CONCATENATE(BT$4,$A28),'Výsledková listina'!$O:$O,0),1))","v":""},{"$f":"IF(ISNA(MATCH(CONCATENATE(BT$4,$A28),'Výsledková listina'!$O:$O,0)),\"\",INDEX('Výsledková listina'!$P:$P,MATCH(CONCATENATE(BT$4,$A28),'Výsledková listina'!$O:$O,0),1))","v":""},null,"",null,{"$f":"IF(ISNA(MATCH(CONCATENATE(BY$4,$A28),'Výsledková listina'!$O:$O,0)),\"\",INDEX('Výsledková listina'!$C:$C,MATCH(CONCATENATE(BY$4,$A28),'Výsledková listina'!$O:$O,0),1))","v":""},{"$f":"IF(ISNA(MATCH(CONCATENATE(BY$4,$A28),'Výsledková listina'!$O:$O,0)),\"\",INDEX('Výsledková listina'!$P:$P,MATCH(CONCATENATE(BY$4,$A28),'Výsledková listina'!$O:$O,0),1))","v":""},null,"",null,{"$f":"IF(ISNA(MATCH(CONCATENATE(CD$4,$A28),'Výsledková listina'!$O:$O,0)),\"\",INDEX('Výsledková listina'!$C:$C,MATCH(CONCATENATE(CD$4,$A28),'Výsledková listina'!$O:$O,0),1))","v":""},{"$f":"IF(ISNA(MATCH(CONCATENATE(CD$4,$A28),'Výsledková listina'!$O:$O,0)),\"\",INDEX('Výsledková listina'!$P:$P,MATCH(CONCATENATE(CD$4,$A28),'Výsledková listina'!$O:$O,0),1))","v":""},null,""]
[24,{"$f":"IF(ISNA(MATCH(CONCATENATE(B$4,$A29),'Výsledková listina'!$O:$O,0)),\"\",INDEX('Výsledková listina'!$C:$C,MATCH(CONCATENATE(B$4,$A29),'Výsledková listina'!$O:$O,0),1))","v":""},{"$f":"IF(ISNA(MATCH(CONCATENATE(B$4,$A29),'Výsledková listina'!$O:$O,0)),\"\",INDEX('Výsledková listina'!$P:$P,MATCH(CONCATENATE(B$4,$A29),'Výsledková listina'!$O:$O,0),1))","v":""},null,null,"",null,{"$f":"IF(ISNA(MATCH(CONCATENATE(H$4,$A29),'Výsledková listina'!$O:$O,0)),\"\",INDEX('Výsledková listina'!$C:$C,MATCH(CONCATENATE(H$4,$A29),'Výsledková listina'!$O:$O,0),1))","v":""},{"$f":"IF(ISNA(MATCH(CONCATENATE(H$4,$A29),'Výsledková listina'!$O:$O,0)),\"\",INDEX('Výsledková listina'!$P:$P,MATCH(CONCATENATE(H$4,$A29),'Výsledková listina'!$O:$O,0),1))","v":""},null,null,"",null,{"$f":"IF(ISNA(MATCH(CONCATENATE(N$4,$A29),'Výsledková listina'!$O:$O,0)),\"\",INDEX('Výsledková listina'!$C:$C,MATCH(CONCATENATE(N$4,$A29),'Výsledková listina'!$O:$O,0),1))","v":""},{"$f":"IF(ISNA(MATCH(CONCATENATE(N$4,$A29),'Výsledková listina'!$O:$O,0)),\"\",INDEX('Výsledková listina'!$P:$P,MATCH(CONCATENATE(N$4,$A29),'Výsledková listina'!$O:$O,0),1))","v":""},null,null,"",null,{"$f":"IF(ISNA(MATCH(CONCATENATE(T$4,$A29),'Výsledková listina'!$O:$O,0)),\"\",INDEX('Výsledková listina'!$C:$C,MATCH(CONCATENATE(T$4,$A29),'Výsledková listina'!$O:$O,0),1))","v":""},{"$f":"IF(ISNA(MATCH(CONCATENATE(T$4,$A29),'Výsledková listina'!$O:$O,0)),\"\",INDEX('Výsledková listina'!$P:$P,MATCH(CONCATENATE(T$4,$A29),'Výsledková listina'!$O:$O,0),1))","v":""},null,null,"",null,{"$f":"IF(ISNA(MATCH(CONCATENATE(Z$4,$A29),'Výsledková listina'!$O:$O,0)),\"\",INDEX('Výsledková listina'!$C:$C,MATCH(CONCATENATE(Z$4,$A29),'Výsledková listina'!$O:$O,0),1))","v":""},{"$f":"IF(ISNA(MATCH(CONCATENATE(Z$4,$A29),'Výsledková listina'!$O:$O,0)),\"\",INDEX('Výsledková listina'!$P:$P,MATCH(CONCATENATE(Z$4,$A29),'Výsledková listina'!$O:$O,0),1))","v":""},null,null,"",null,{"$f":"IF(ISNA(MATCH(CONCATENATE(AF$4,$A29),'Výsledková listina'!$O:$O,0)),\"\",INDEX('Výsledková listina'!$C:$C,MATCH(CONCATENATE(AF$4,$A29),'Výsledková listina'!$O:$O,0),1))","v":""},{"$f":"IF(ISNA(MATCH(CONCATENATE(AF$4,$A29),'Výsledková listina'!$O:$O,0)),\"\",INDEX('Výsledková listina'!$P:$P,MATCH(CONCATENATE(AF$4,$A29),'Výsledková listina'!$O:$O,0),1))","v":""},null,null,"",null,{"$f":"IF(ISNA(MATCH(CONCATENATE(AL$4,$A29),'Výsledková listina'!$O:$O,0)),\"\",INDEX('Výsledková listina'!$C:$C,MATCH(CONCATENATE(AL$4,$A29),'Výsledková listina'!$O:$O,0),1))","v":""},{"$f":"IF(ISNA(MATCH(CONCATENATE(AL$4,$A29),'Výsledková listina'!$O:$O,0)),\"\",INDEX('Výsledková listina'!$P:$P,MATCH(CONCATENATE(AL$4,$A29),'Výsledková listina'!$O:$O,0),1))","v":""},null,null,"",null,{"$f":"IF(ISNA(MATCH(CONCATENATE(AR$4,$A29),'Výsledková listina'!$O:$O,0)),\"\",INDEX('Výsledková listina'!$C:$C,MATCH(CONCATENATE(AR$4,$A29),'Výsledková listina'!$O:$O,0),1))","v":""},{"$f":"IF(ISNA(MATCH(CONCATENATE(AR$4,$A29),'Výsledková listina'!$O:$O,0)),\"\",INDEX('Výsledková listina'!$P:$P,MATCH(CONCATENATE(AR$4,$A29),'Výsledková listina'!$O:$O,0),1))","v":""},null,null,"",null,{"$f":"IF(ISNA(MATCH(CONCATENATE(AX$4,$A29),'Výsledková listina'!$O:$O,0)),\"\",INDEX('Výsledková listina'!$C:$C,MATCH(CONCATENATE(AX$4,$A29),'Výsledková listina'!$O:$O,0),1))","v":""},{"$f":"IF(ISNA(MATCH(CONCATENATE(AX$4,$A29),'Výsledková listina'!$O:$O,0)),\"\",INDEX('Výsledková listina'!$P:$P,MATCH(CONCATENATE(AX$4,$A29),'Výsledková listina'!$O:$O,0),1))","v":""},null,null,"",null,{"$f":"IF(ISNA(MATCH(CONCATENATE(BD$4,$A29),'Výsledková listina'!$O:$O,0)),\"\",INDEX('Výsledková listina'!$C:$C,MATCH(CONCATENATE(BD$4,$A29),'Výsledková listina'!$O:$O,0),1))","v":""},{"$f":"IF(ISNA(MATCH(CONCATENATE(BD$4,$A29),'Výsledková listina'!$O:$O,0)),\"\",INDEX('Výsledková listina'!$P:$P,MATCH(CONCATENATE(BD$4,$A29),'Výsledková listina'!$O:$O,0),1))","v":""},null,null,"",null,{"$f":"IF(ISNA(MATCH(CONCATENATE(BJ$4,$A29),'Výsledková listina'!$O:$O,0)),\"\",INDEX('Výsledková listina'!$C:$C,MATCH(CONCATENATE(BJ$4,$A29),'Výsledková listina'!$O:$O,0),1))","v":""},{"$f":"IF(ISNA(MATCH(CONCATENATE(BJ$4,$A29),'Výsledková listina'!$O:$O,0)),\"\",INDEX('Výsledková listina'!$P:$P,MATCH(CONCATENATE(BJ$4,$A29),'Výsledková listina'!$O:$O,0),1))","v":""},null,"",null,{"$f":"IF(ISNA(MATCH(CONCATENATE(BO$4,$A29),'Výsledková listina'!$O:$O,0)),\"\",INDEX('Výsledková listina'!$C:$C,MATCH(CONCATENATE(BO$4,$A29),'Výsledková listina'!$O:$O,0),1))","v":""},{"$f":"IF(ISNA(MATCH(CONCATENATE(BO$4,$A29),'Výsledková listina'!$O:$O,0)),\"\",INDEX('Výsledková listina'!$P:$P,MATCH(CONCATENATE(BO$4,$A29),'Výsledková listina'!$O:$O,0),1))","v":""},null,"",null,{"$f":"IF(ISNA(MATCH(CONCATENATE(BT$4,$A29),'Výsledková listina'!$O:$O,0)),\"\",INDEX('Výsledková listina'!$C:$C,MATCH(CONCATENATE(BT$4,$A29),'Výsledková listina'!$O:$O,0),1))","v":""},{"$f":"IF(ISNA(MATCH(CONCATENATE(BT$4,$A29),'Výsledková listina'!$O:$O,0)),\"\",INDEX('Výsledková listina'!$P:$P,MATCH(CONCATENATE(BT$4,$A29),'Výsledková listina'!$O:$O,0),1))","v":""},null,"",null,{"$f":"IF(ISNA(MATCH(CONCATENATE(BY$4,$A29),'Výsledková listina'!$O:$O,0)),\"\",INDEX('Výsledková listina'!$C:$C,MATCH(CONCATENATE(BY$4,$A29),'Výsledková listina'!$O:$O,0),1))","v":""},{"$f":"IF(ISNA(MATCH(CONCATENATE(BY$4,$A29),'Výsledková listina'!$O:$O,0)),\"\",INDEX('Výsledková listina'!$P:$P,MATCH(CONCATENATE(BY$4,$A29),'Výsledková listina'!$O:$O,0),1))","v":""},null,"",null,{"$f":"IF(ISNA(MATCH(CONCATENATE(CD$4,$A29),'Výsledková listina'!$O:$O,0)),\"\",INDEX('Výsledková listina'!$C:$C,MATCH(CONCATENATE(CD$4,$A29),'Výsledková listina'!$O:$O,0),1))","v":""},{"$f":"IF(ISNA(MATCH(CONCATENATE(CD$4,$A29),'Výsledková listina'!$O:$O,0)),\"\",INDEX('Výsledková listina'!$P:$P,MATCH(CONCATENATE(CD$4,$A29),'Výsledková listina'!$O:$O,0),1))","v":""},null,""]
[25,{"$f":"IF(ISNA(MATCH(CONCATENATE(B$4,$A30),'Výsledková listina'!$O:$O,0)),\"\",INDEX('Výsledková listina'!$C:$C,MATCH(CONCATENATE(B$4,$A30),'Výsledková listina'!$O:$O,0),1))","v":""},{"$f":"IF(ISNA(MATCH(CONCATENATE(B$4,$A30),'Výsledková listina'!$O:$O,0)),\"\",INDEX('Výsledková listina'!$P:$P,MATCH(CONCATENATE(B$4,$A30),'Výsledková listina'!$O:$O,0),1))","v":""},null,null,"",null,{"$f":"IF(ISNA(MATCH(CONCATENATE(H$4,$A30),'Výsledková listina'!$O:$O,0)),\"\",INDEX('Výsledková listina'!$C:$C,MATCH(CONCATENATE(H$4,$A30),'Výsledková listina'!$O:$O,0),1))","v":""},{"$f":"IF(ISNA(MATCH(CONCATENATE(H$4,$A30),'Výsledková listina'!$O:$O,0)),\"\",INDEX('Výsledková listina'!$P:$P,MATCH(CONCATENATE(H$4,$A30),'Výsledková listina'!$O:$O,0),1))","v":""},null,null,"",null,{"$f":"IF(ISNA(MATCH(CONCATENATE(N$4,$A30),'Výsledková listina'!$O:$O,0)),\"\",INDEX('Výsledková listina'!$C:$C,MATCH(CONCATENATE(N$4,$A30),'Výsledková listina'!$O:$O,0),1))","v":""},{"$f":"IF(ISNA(MATCH(CONCATENATE(N$4,$A30),'Výsledková listina'!$O:$O,0)),\"\",INDEX('Výsledková listina'!$P:$P,MATCH(CONCATENATE(N$4,$A30),'Výsledková listina'!$O:$O,0),1))","v":""},null,null,"",null,{"$f":"IF(ISNA(MATCH(CONCATENATE(T$4,$A30),'Výsledková listina'!$O:$O,0)),\"\",INDEX('Výsledková listina'!$C:$C,MATCH(CONCATENATE(T$4,$A30),'Výsledková listina'!$O:$O,0),1))","v":""},{"$f":"IF(ISNA(MATCH(CONCATENATE(T$4,$A30),'Výsledková listina'!$O:$O,0)),\"\",INDEX('Výsledková listina'!$P:$P,MATCH(CONCATENATE(T$4,$A30),'Výsledková listina'!$O:$O,0),1))","v":""},null,null,"",null,{"$f":"IF(ISNA(MATCH(CONCATENATE(Z$4,$A30),'Výsledková listina'!$O:$O,0)),\"\",INDEX('Výsledková listina'!$C:$C,MATCH(CONCATENATE(Z$4,$A30),'Výsledková listina'!$O:$O,0),1))","v":""},{"$f":"IF(ISNA(MATCH(CONCATENATE(Z$4,$A30),'Výsledková listina'!$O:$O,0)),\"\",INDEX('Výsledková listina'!$P:$P,MATCH(CONCATENATE(Z$4,$A30),'Výsledková listina'!$O:$O,0),1))","v":""},null,null,"",null,{"$f":"IF(ISNA(MATCH(CONCATENATE(AF$4,$A30),'Výsledková listina'!$O:$O,0)),\"\",INDEX('Výsledková listina'!$C:$C,MATCH(CONCATENATE(AF$4,$A30),'Výsledková listina'!$O:$O,0),1))","v":""},{"$f":"IF(ISNA(MATCH(CONCATENATE(AF$4,$A30),'Výsledková listina'!$O:$O,0)),\"\",INDEX('Výsledková listina'!$P:$P,MATCH(CONCATENATE(AF$4,$A30),'Výsledková listina'!$O:$O,0),1))","v":""},null,null,"",null,{"$f":"IF(ISNA(MATCH(CONCATENATE(AL$4,$A30),'Výsledková listina'!$O:$O,0)),\"\",INDEX('Výsledková listina'!$C:$C,MATCH(CONCATENATE(AL$4,$A30),'Výsledková listina'!$O:$O,0),1))","v":""},{"$f":"IF(ISNA(MATCH(CONCATENATE(AL$4,$A30),'Výsledková listina'!$O:$O,0)),\"\",INDEX('Výsledková listina'!$P:$P,MATCH(CONCATENATE(AL$4,$A30),'Výsledková listina'!$O:$O,0),1))","v":""},null,null,"",null,{"$f":"IF(ISNA(MATCH(CONCATENATE(AR$4,$A30),'Výsledková listina'!$O:$O,0)),\"\",INDEX('Výsledková listina'!$C:$C,MATCH(CONCATENATE(AR$4,$A30),'Výsledková listina'!$O:$O,0),1))","v":""},{"$f":"IF(ISNA(MATCH(CONCATENATE(AR$4,$A30),'Výsledková listina'!$O:$O,0)),\"\",INDEX('Výsledková listina'!$P:$P,MATCH(CONCATENATE(AR$4,$A30),'Výsledková listina'!$O:$O,0),1))","v":""},null,null,"",null,{"$f":"IF(ISNA(MATCH(CONCATENATE(AX$4,$A30),'Výsledková listina'!$O:$O,0)),\"\",INDEX('Výsledková listina'!$C:$C,MATCH(CONCATENATE(AX$4,$A30),'Výsledková listina'!$O:$O,0),1))","v":""},{"$f":"IF(ISNA(MATCH(CONCATENATE(AX$4,$A30),'Výsledková listina'!$O:$O,0)),\"\",INDEX('Výsledková listina'!$P:$P,MATCH(CONCATENATE(AX$4,$A30),'Výsledková listina'!$O:$O,0),1))","v":""},null,null,"",null,{"$f":"IF(ISNA(MATCH(CONCATENATE(BD$4,$A30),'Výsledková listina'!$O:$O,0)),\"\",INDEX('Výsledková listina'!$C:$C,MATCH(CONCATENATE(BD$4,$A30),'Výsledková listina'!$O:$O,0),1))","v":""},{"$f":"IF(ISNA(MATCH(CONCATENATE(BD$4,$A30),'Výsledková listina'!$O:$O,0)),\"\",INDEX('Výsledková listina'!$P:$P,MATCH(CONCATENATE(BD$4,$A30),'Výsledková listina'!$O:$O,0),1))","v":""},null,null,"",null,{"$f":"IF(ISNA(MATCH(CONCATENATE(BJ$4,$A30),'Výsledková listina'!$O:$O,0)),\"\",INDEX('Výsledková listina'!$C:$C,MATCH(CONCATENATE(BJ$4,$A30),'Výsledková listina'!$O:$O,0),1))","v":""},{"$f":"IF(ISNA(MATCH(CONCATENATE(BJ$4,$A30),'Výsledková listina'!$O:$O,0)),\"\",INDEX('Výsledková listina'!$P:$P,MATCH(CONCATENATE(BJ$4,$A30),'Výsledková listina'!$O:$O,0),1))","v":""},null,"",null,{"$f":"IF(ISNA(MATCH(CONCATENATE(BO$4,$A30),'Výsledková listina'!$O:$O,0)),\"\",INDEX('Výsledková listina'!$C:$C,MATCH(CONCATENATE(BO$4,$A30),'Výsledková listina'!$O:$O,0),1))","v":""},{"$f":"IF(ISNA(MATCH(CONCATENATE(BO$4,$A30),'Výsledková listina'!$O:$O,0)),\"\",INDEX('Výsledková listina'!$P:$P,MATCH(CONCATENATE(BO$4,$A30),'Výsledková listina'!$O:$O,0),1))","v":""},null,"",null,{"$f":"IF(ISNA(MATCH(CONCATENATE(BT$4,$A30),'Výsledková listina'!$O:$O,0)),\"\",INDEX('Výsledková listina'!$C:$C,MATCH(CONCATENATE(BT$4,$A30),'Výsledková listina'!$O:$O,0),1))","v":""},{"$f":"IF(ISNA(MATCH(CONCATENATE(BT$4,$A30),'Výsledková listina'!$O:$O,0)),\"\",INDEX('Výsledková listina'!$P:$P,MATCH(CONCATENATE(BT$4,$A30),'Výsledková listina'!$O:$O,0),1))","v":""},null,"",null,{"$f":"IF(ISNA(MATCH(CONCATENATE(BY$4,$A30),'Výsledková listina'!$O:$O,0)),\"\",INDEX('Výsledková listina'!$C:$C,MATCH(CONCATENATE(BY$4,$A30),'Výsledková listina'!$O:$O,0),1))","v":""},{"$f":"IF(ISNA(MATCH(CONCATENATE(BY$4,$A30),'Výsledková listina'!$O:$O,0)),\"\",INDEX('Výsledková listina'!$P:$P,MATCH(CONCATENATE(BY$4,$A30),'Výsledková listina'!$O:$O,0),1))","v":""},null,"",null,{"$f":"IF(ISNA(MATCH(CONCATENATE(CD$4,$A30),'Výsledková listina'!$O:$O,0)),\"\",INDEX('Výsledková listina'!$C:$C,MATCH(CONCATENATE(CD$4,$A30),'Výsledková listina'!$O:$O,0),1))","v":""},{"$f":"IF(ISNA(MATCH(CONCATENATE(CD$4,$A30),'Výsledková listina'!$O:$O,0)),\"\",INDEX('Výsledková listina'!$P:$P,MATCH(CONCATENATE(CD$4,$A30),'Výsledková listina'!$O:$O,0),1))","v":""},null,""]
[26,{"$f":"IF(ISNA(MATCH(CONCATENATE(B$4,$A31),'Výsledková listina'!$O:$O,0)),\"\",INDEX('Výsledková listina'!$C:$C,MATCH(CONCATENATE(B$4,$A31),'Výsledková listina'!$O:$O,0),1))","v":""},{"$f":"IF(ISNA(MATCH(CONCATENATE(B$4,$A31),'Výsledková listina'!$O:$O,0)),\"\",INDEX('Výsledková listina'!$P:$P,MATCH(CONCATENATE(B$4,$A31),'Výsledková listina'!$O:$O,0),1))","v":""},null,null,"",null,{"$f":"IF(ISNA(MATCH(CONCATENATE(H$4,$A31),'Výsledková listina'!$O:$O,0)),\"\",INDEX('Výsledková listina'!$C:$C,MATCH(CONCATENATE(H$4,$A31),'Výsledková listina'!$O:$O,0),1))","v":""},{"$f":"IF(ISNA(MATCH(CONCATENATE(H$4,$A31),'Výsledková listina'!$O:$O,0)),\"\",INDEX('Výsledková listina'!$P:$P,MATCH(CONCATENATE(H$4,$A31),'Výsledková listina'!$O:$O,0),1))","v":""},null,null,"",null,{"$f":"IF(ISNA(MATCH(CONCATENATE(N$4,$A31),'Výsledková listina'!$O:$O,0)),\"\",INDEX('Výsledková listina'!$C:$C,MATCH(CONCATENATE(N$4,$A31),'Výsledková listina'!$O:$O,0),1))","v":""},{"$f":"IF(ISNA(MATCH(CONCATENATE(N$4,$A31),'Výsledková listina'!$O:$O,0)),\"\",INDEX('Výsledková listina'!$P:$P,MATCH(CONCATENATE(N$4,$A31),'Výsledková listina'!$O:$O,0),1))","v":""},null,null,"",null,{"$f":"IF(ISNA(MATCH(CONCATENATE(T$4,$A31),'Výsledková listina'!$O:$O,0)),\"\",INDEX('Výsledková listina'!$C:$C,MATCH(CONCATENATE(T$4,$A31),'Výsledková listina'!$O:$O,0),1))","v":""},{"$f":"IF(ISNA(MATCH(CONCATENATE(T$4,$A31),'Výsledková listina'!$O:$O,0)),\"\",INDEX('Výsledková listina'!$P:$P,MATCH(CONCATENATE(T$4,$A31),'Výsledková listina'!$O:$O,0),1))","v":""},null,null,"",null,{"$f":"IF(ISNA(MATCH(CONCATENATE(Z$4,$A31),'Výsledková listina'!$O:$O,0)),\"\",INDEX('Výsledková listina'!$C:$C,MATCH(CONCATENATE(Z$4,$A31),'Výsledková listina'!$O:$O,0),1))","v":""},{"$f":"IF(ISNA(MATCH(CONCATENATE(Z$4,$A31),'Výsledková listina'!$O:$O,0)),\"\",INDEX('Výsledková listina'!$P:$P,MATCH(CONCATENATE(Z$4,$A31),'Výsledková listina'!$O:$O,0),1))","v":""},null,null,"",null,{"$f":"IF(ISNA(MATCH(CONCATENATE(AF$4,$A31),'Výsledková listina'!$O:$O,0)),\"\",INDEX('Výsledková listina'!$C:$C,MATCH(CONCATENATE(AF$4,$A31),'Výsledková listina'!$O:$O,0),1))","v":""},{"$f":"IF(ISNA(MATCH(CONCATENATE(AF$4,$A31),'Výsledková listina'!$O:$O,0)),\"\",INDEX('Výsledková listina'!$P:$P,MATCH(CONCATENATE(AF$4,$A31),'Výsledková listina'!$O:$O,0),1))","v":""},null,null,"",null,{"$f":"IF(ISNA(MATCH(CONCATENATE(AL$4,$A31),'Výsledková listina'!$O:$O,0)),\"\",INDEX('Výsledková listina'!$C:$C,MATCH(CONCATENATE(AL$4,$A31),'Výsledková listina'!$O:$O,0),1))","v":""},{"$f":"IF(ISNA(MATCH(CONCATENATE(AL$4,$A31),'Výsledková listina'!$O:$O,0)),\"\",INDEX('Výsledková listina'!$P:$P,MATCH(CONCATENATE(AL$4,$A31),'Výsledková listina'!$O:$O,0),1))","v":""},null,null,"",null,{"$f":"IF(ISNA(MATCH(CONCATENATE(AR$4,$A31),'Výsledková listina'!$O:$O,0)),\"\",INDEX('Výsledková listina'!$C:$C,MATCH(CONCATENATE(AR$4,$A31),'Výsledková listina'!$O:$O,0),1))","v":""},{"$f":"IF(ISNA(MATCH(CONCATENATE(AR$4,$A31),'Výsledková listina'!$O:$O,0)),\"\",INDEX('Výsledková listina'!$P:$P,MATCH(CONCATENATE(AR$4,$A31),'Výsledková listina'!$O:$O,0),1))","v":""},null,null,"",null,{"$f":"IF(ISNA(MATCH(CONCATENATE(AX$4,$A31),'Výsledková listina'!$O:$O,0)),\"\",INDEX('Výsledková listina'!$C:$C,MATCH(CONCATENATE(AX$4,$A31),'Výsledková listina'!$O:$O,0),1))","v":""},{"$f":"IF(ISNA(MATCH(CONCATENATE(AX$4,$A31),'Výsledková listina'!$O:$O,0)),\"\",INDEX('Výsledková listina'!$P:$P,MATCH(CONCATENATE(AX$4,$A31),'Výsledková listina'!$O:$O,0),1))","v":""},null,null,"",null,{"$f":"IF(ISNA(MATCH(CONCATENATE(BD$4,$A31),'Výsledková listina'!$O:$O,0)),\"\",INDEX('Výsledková listina'!$C:$C,MATCH(CONCATENATE(BD$4,$A31),'Výsledková listina'!$O:$O,0),1))","v":""},{"$f":"IF(ISNA(MATCH(CONCATENATE(BD$4,$A31),'Výsledková listina'!$O:$O,0)),\"\",INDEX('Výsledková listina'!$P:$P,MATCH(CONCATENATE(BD$4,$A31),'Výsledková listina'!$O:$O,0),1))","v":""},null,null,"",null,{"$f":"IF(ISNA(MATCH(CONCATENATE(BJ$4,$A31),'Výsledková listina'!$O:$O,0)),\"\",INDEX('Výsledková listina'!$C:$C,MATCH(CONCATENATE(BJ$4,$A31),'Výsledková listina'!$O:$O,0),1))","v":""},{"$f":"IF(ISNA(MATCH(CONCATENATE(BJ$4,$A31),'Výsledková listina'!$O:$O,0)),\"\",INDEX('Výsledková listina'!$P:$P,MATCH(CONCATENATE(BJ$4,$A31),'Výsledková listina'!$O:$O,0),1))","v":""},null,"",null,{"$f":"IF(ISNA(MATCH(CONCATENATE(BO$4,$A31),'Výsledková listina'!$O:$O,0)),\"\",INDEX('Výsledková listina'!$C:$C,MATCH(CONCATENATE(BO$4,$A31),'Výsledková listina'!$O:$O,0),1))","v":""},{"$f":"IF(ISNA(MATCH(CONCATENATE(BO$4,$A31),'Výsledková listina'!$O:$O,0)),\"\",INDEX('Výsledková listina'!$P:$P,MATCH(CONCATENATE(BO$4,$A31),'Výsledková listina'!$O:$O,0),1))","v":""},null,"",null,{"$f":"IF(ISNA(MATCH(CONCATENATE(BT$4,$A31),'Výsledková listina'!$O:$O,0)),\"\",INDEX('Výsledková listina'!$C:$C,MATCH(CONCATENATE(BT$4,$A31),'Výsledková listina'!$O:$O,0),1))","v":""},{"$f":"IF(ISNA(MATCH(CONCATENATE(BT$4,$A31),'Výsledková listina'!$O:$O,0)),\"\",INDEX('Výsledková listina'!$P:$P,MATCH(CONCATENATE(BT$4,$A31),'Výsledková listina'!$O:$O,0),1))","v":""},null,"",null,{"$f":"IF(ISNA(MATCH(CONCATENATE(BY$4,$A31),'Výsledková listina'!$O:$O,0)),\"\",INDEX('Výsledková listina'!$C:$C,MATCH(CONCATENATE(BY$4,$A31),'Výsledková listina'!$O:$O,0),1))","v":""},{"$f":"IF(ISNA(MATCH(CONCATENATE(BY$4,$A31),'Výsledková listina'!$O:$O,0)),\"\",INDEX('Výsledková listina'!$P:$P,MATCH(CONCATENATE(BY$4,$A31),'Výsledková listina'!$O:$O,0),1))","v":""},null,"",null,{"$f":"IF(ISNA(MATCH(CONCATENATE(CD$4,$A31),'Výsledková listina'!$O:$O,0)),\"\",INDEX('Výsledková listina'!$C:$C,MATCH(CONCATENATE(CD$4,$A31),'Výsledková listina'!$O:$O,0),1))","v":""},{"$f":"IF(ISNA(MATCH(CONCATENATE(CD$4,$A31),'Výsledková listina'!$O:$O,0)),\"\",INDEX('Výsledková listina'!$P:$P,MATCH(CONCATENATE(CD$4,$A31),'Výsledková listina'!$O:$O,0),1))","v":""},null,""]
[27,{"$f":"IF(ISNA(MATCH(CONCATENATE(B$4,$A32),'Výsledková listina'!$O:$O,0)),\"\",INDEX('Výsledková listina'!$C:$C,MATCH(CONCATENATE(B$4,$A32),'Výsledková listina'!$O:$O,0),1))","v":""},{"$f":"IF(ISNA(MATCH(CONCATENATE(B$4,$A32),'Výsledková listina'!$O:$O,0)),\"\",INDEX('Výsledková listina'!$P:$P,MATCH(CONCATENATE(B$4,$A32),'Výsledková listina'!$O:$O,0),1))","v":""},null,null,"",null,{"$f":"IF(ISNA(MATCH(CONCATENATE(H$4,$A32),'Výsledková listina'!$O:$O,0)),\"\",INDEX('Výsledková listina'!$C:$C,MATCH(CONCATENATE(H$4,$A32),'Výsledková listina'!$O:$O,0),1))","v":""},{"$f":"IF(ISNA(MATCH(CONCATENATE(H$4,$A32),'Výsledková listina'!$O:$O,0)),\"\",INDEX('Výsledková listina'!$P:$P,MATCH(CONCATENATE(H$4,$A32),'Výsledková listina'!$O:$O,0),1))","v":""},null,null,"",null,{"$f":"IF(ISNA(MATCH(CONCATENATE(N$4,$A32),'Výsledková listina'!$O:$O,0)),\"\",INDEX('Výsledková listina'!$C:$C,MATCH(CONCATENATE(N$4,$A32),'Výsledková listina'!$O:$O,0),1))","v":""},{"$f":"IF(ISNA(MATCH(CONCATENATE(N$4,$A32),'Výsledková listina'!$O:$O,0)),\"\",INDEX('Výsledková listina'!$P:$P,MATCH(CONCATENATE(N$4,$A32),'Výsledková listina'!$O:$O,0),1))","v":""},null,null,"",null,{"$f":"IF(ISNA(MATCH(CONCATENATE(T$4,$A32),'Výsledková listina'!$O:$O,0)),\"\",INDEX('Výsledková listina'!$C:$C,MATCH(CONCATENATE(T$4,$A32),'Výsledková listina'!$O:$O,0),1))","v":""},{"$f":"IF(ISNA(MATCH(CONCATENATE(T$4,$A32),'Výsledková listina'!$O:$O,0)),\"\",INDEX('Výsledková listina'!$P:$P,MATCH(CONCATENATE(T$4,$A32),'Výsledková listina'!$O:$O,0),1))","v":""},null,null,"",null,{"$f":"IF(ISNA(MATCH(CONCATENATE(Z$4,$A32),'Výsledková listina'!$O:$O,0)),\"\",INDEX('Výsledková listina'!$C:$C,MATCH(CONCATENATE(Z$4,$A32),'Výsledková listina'!$O:$O,0),1))","v":""},{"$f":"IF(ISNA(MATCH(CONCATENATE(Z$4,$A32),'Výsledková listina'!$O:$O,0)),\"\",INDEX('Výsledková listina'!$P:$P,MATCH(CONCATENATE(Z$4,$A32),'Výsledková listina'!$O:$O,0),1))","v":""},null,null,"",null,{"$f":"IF(ISNA(MATCH(CONCATENATE(AF$4,$A32),'Výsledková listina'!$O:$O,0)),\"\",INDEX('Výsledková listina'!$C:$C,MATCH(CONCATENATE(AF$4,$A32),'Výsledková listina'!$O:$O,0),1))","v":""},{"$f":"IF(ISNA(MATCH(CONCATENATE(AF$4,$A32),'Výsledková listina'!$O:$O,0)),\"\",INDEX('Výsledková listina'!$P:$P,MATCH(CONCATENATE(AF$4,$A32),'Výsledková listina'!$O:$O,0),1))","v":""},null,null,"",null,{"$f":"IF(ISNA(MATCH(CONCATENATE(AL$4,$A32),'Výsledková listina'!$O:$O,0)),\"\",INDEX('Výsledková listina'!$C:$C,MATCH(CONCATENATE(AL$4,$A32),'Výsledková listina'!$O:$O,0),1))","v":""},{"$f":"IF(ISNA(MATCH(CONCATENATE(AL$4,$A32),'Výsledková listina'!$O:$O,0)),\"\",INDEX('Výsledková listina'!$P:$P,MATCH(CONCATENATE(AL$4,$A32),'Výsledková listina'!$O:$O,0),1))","v":""},null,null,"",null,{"$f":"IF(ISNA(MATCH(CONCATENATE(AR$4,$A32),'Výsledková listina'!$O:$O,0)),\"\",INDEX('Výsledková listina'!$C:$C,MATCH(CONCATENATE(AR$4,$A32),'Výsledková listina'!$O:$O,0),1))","v":""},{"$f":"IF(ISNA(MATCH(CONCATENATE(AR$4,$A32),'Výsledková listina'!$O:$O,0)),\"\",INDEX('Výsledková listina'!$P:$P,MATCH(CONCATENATE(AR$4,$A32),'Výsledková listina'!$O:$O,0),1))","v":""},null,null,"",null,{"$f":"IF(ISNA(MATCH(CONCATENATE(AX$4,$A32),'Výsledková listina'!$O:$O,0)),\"\",INDEX('Výsledková listina'!$C:$C,MATCH(CONCATENATE(AX$4,$A32),'Výsledková listina'!$O:$O,0),1))","v":""},{"$f":"IF(ISNA(MATCH(CONCATENATE(AX$4,$A32),'Výsledková listina'!$O:$O,0)),\"\",INDEX('Výsledková listina'!$P:$P,MATCH(CONCATENATE(AX$4,$A32),'Výsledková listina'!$O:$O,0),1))","v":""},null,null,"",null,{"$f":"IF(ISNA(MATCH(CONCATENATE(BD$4,$A32),'Výsledková listina'!$O:$O,0)),\"\",INDEX('Výsledková listina'!$C:$C,MATCH(CONCATENATE(BD$4,$A32),'Výsledková listina'!$O:$O,0),1))","v":""},{"$f":"IF(ISNA(MATCH(CONCATENATE(BD$4,$A32),'Výsledková listina'!$O:$O,0)),\"\",INDEX('Výsledková listina'!$P:$P,MATCH(CONCATENATE(BD$4,$A32),'Výsledková listina'!$O:$O,0),1))","v":""},null,null,"",null,{"$f":"IF(ISNA(MATCH(CONCATENATE(BJ$4,$A32),'Výsledková listina'!$O:$O,0)),\"\",INDEX('Výsledková listina'!$C:$C,MATCH(CONCATENATE(BJ$4,$A32),'Výsledková listina'!$O:$O,0),1))","v":""},{"$f":"IF(ISNA(MATCH(CONCATENATE(BJ$4,$A32),'Výsledková listina'!$O:$O,0)),\"\",INDEX('Výsledková listina'!$P:$P,MATCH(CONCATENATE(BJ$4,$A32),'Výsledková listina'!$O:$O,0),1))","v":""},null,"",null,{"$f":"IF(ISNA(MATCH(CONCATENATE(BO$4,$A32),'Výsledková listina'!$O:$O,0)),\"\",INDEX('Výsledková listina'!$C:$C,MATCH(CONCATENATE(BO$4,$A32),'Výsledková listina'!$O:$O,0),1))","v":""},{"$f":"IF(ISNA(MATCH(CONCATENATE(BO$4,$A32),'Výsledková listina'!$O:$O,0)),\"\",INDEX('Výsledková listina'!$P:$P,MATCH(CONCATENATE(BO$4,$A32),'Výsledková listina'!$O:$O,0),1))","v":""},null,"",null,{"$f":"IF(ISNA(MATCH(CONCATENATE(BT$4,$A32),'Výsledková listina'!$O:$O,0)),\"\",INDEX('Výsledková listina'!$C:$C,MATCH(CONCATENATE(BT$4,$A32),'Výsledková listina'!$O:$O,0),1))","v":""},{"$f":"IF(ISNA(MATCH(CONCATENATE(BT$4,$A32),'Výsledková listina'!$O:$O,0)),\"\",INDEX('Výsledková listina'!$P:$P,MATCH(CONCATENATE(BT$4,$A32),'Výsledková listina'!$O:$O,0),1))","v":""},null,"",null,{"$f":"IF(ISNA(MATCH(CONCATENATE(BY$4,$A32),'Výsledková listina'!$O:$O,0)),\"\",INDEX('Výsledková listina'!$C:$C,MATCH(CONCATENATE(BY$4,$A32),'Výsledková listina'!$O:$O,0),1))","v":""},{"$f":"IF(ISNA(MATCH(CONCATENATE(BY$4,$A32),'Výsledková listina'!$O:$O,0)),\"\",INDEX('Výsledková listina'!$P:$P,MATCH(CONCATENATE(BY$4,$A32),'Výsledková listina'!$O:$O,0),1))","v":""},null,"",null,{"$f":"IF(ISNA(MATCH(CONCATENATE(CD$4,$A32),'Výsledková listina'!$O:$O,0)),\"\",INDEX('Výsledková listina'!$C:$C,MATCH(CONCATENATE(CD$4,$A32),'Výsledková listina'!$O:$O,0),1))","v":""},{"$f":"IF(ISNA(MATCH(CONCATENATE(CD$4,$A32),'Výsledková listina'!$O:$O,0)),\"\",INDEX('Výsledková listina'!$P:$P,MATCH(CONCATENATE(CD$4,$A32),'Výsledková listina'!$O:$O,0),1))","v":""},null,""]
[28,{"$f":"IF(ISNA(MATCH(CONCATENATE(B$4,$A33),'Výsledková listina'!$O:$O,0)),\"\",INDEX('Výsledková listina'!$C:$C,MATCH(CONCATENATE(B$4,$A33),'Výsledková listina'!$O:$O,0),1))","v":""},{"$f":"IF(ISNA(MATCH(CONCATENATE(B$4,$A33),'Výsledková listina'!$O:$O,0)),\"\",INDEX('Výsledková listina'!$P:$P,MATCH(CONCATENATE(B$4,$A33),'Výsledková listina'!$O:$O,0),1))","v":""},null,null,"",null,{"$f":"IF(ISNA(MATCH(CONCATENATE(H$4,$A33),'Výsledková listina'!$O:$O,0)),\"\",INDEX('Výsledková listina'!$C:$C,MATCH(CONCATENATE(H$4,$A33),'Výsledková listina'!$O:$O,0),1))","v":""},{"$f":"IF(ISNA(MATCH(CONCATENATE(H$4,$A33),'Výsledková listina'!$O:$O,0)),\"\",INDEX('Výsledková listina'!$P:$P,MATCH(CONCATENATE(H$4,$A33),'Výsledková listina'!$O:$O,0),1))","v":""},null,null,"",null,{"$f":"IF(ISNA(MATCH(CONCATENATE(N$4,$A33),'Výsledková listina'!$O:$O,0)),\"\",INDEX('Výsledková listina'!$C:$C,MATCH(CONCATENATE(N$4,$A33),'Výsledková listina'!$O:$O,0),1))","v":""},{"$f":"IF(ISNA(MATCH(CONCATENATE(N$4,$A33),'Výsledková listina'!$O:$O,0)),\"\",INDEX('Výsledková listina'!$P:$P,MATCH(CONCATENATE(N$4,$A33),'Výsledková listina'!$O:$O,0),1))","v":""},null,null,"",null,{"$f":"IF(ISNA(MATCH(CONCATENATE(T$4,$A33),'Výsledková listina'!$O:$O,0)),\"\",INDEX('Výsledková listina'!$C:$C,MATCH(CONCATENATE(T$4,$A33),'Výsledková listina'!$O:$O,0),1))","v":""},{"$f":"IF(ISNA(MATCH(CONCATENATE(T$4,$A33),'Výsledková listina'!$O:$O,0)),\"\",INDEX('Výsledková listina'!$P:$P,MATCH(CONCATENATE(T$4,$A33),'Výsledková listina'!$O:$O,0),1))","v":""},null,null,"",null,{"$f":"IF(ISNA(MATCH(CONCATENATE(Z$4,$A33),'Výsledková listina'!$O:$O,0)),\"\",INDEX('Výsledková listina'!$C:$C,MATCH(CONCATENATE(Z$4,$A33),'Výsledková listina'!$O:$O,0),1))","v":""},{"$f":"IF(ISNA(MATCH(CONCATENATE(Z$4,$A33),'Výsledková listina'!$O:$O,0)),\"\",INDEX('Výsledková listina'!$P:$P,MATCH(CONCATENATE(Z$4,$A33),'Výsledková listina'!$O:$O,0),1))","v":""},null,null,"",null,{"$f":"IF(ISNA(MATCH(CONCATENATE(AF$4,$A33),'Výsledková listina'!$O:$O,0)),\"\",INDEX('Výsledková listina'!$C:$C,MATCH(CONCATENATE(AF$4,$A33),'Výsledková listina'!$O:$O,0),1))","v":""},{"$f":"IF(ISNA(MATCH(CONCATENATE(AF$4,$A33),'Výsledková listina'!$O:$O,0)),\"\",INDEX('Výsledková listina'!$P:$P,MATCH(CONCATENATE(AF$4,$A33),'Výsledková listina'!$O:$O,0),1))","v":""},null,null,"",null,{"$f":"IF(ISNA(MATCH(CONCATENATE(AL$4,$A33),'Výsledková listina'!$O:$O,0)),\"\",INDEX('Výsledková listina'!$C:$C,MATCH(CONCATENATE(AL$4,$A33),'Výsledková listina'!$O:$O,0),1))","v":""},{"$f":"IF(ISNA(MATCH(CONCATENATE(AL$4,$A33),'Výsledková listina'!$O:$O,0)),\"\",INDEX('Výsledková listina'!$P:$P,MATCH(CONCATENATE(AL$4,$A33),'Výsledková listina'!$O:$O,0),1))","v":""},null,null,"",null,{"$f":"IF(ISNA(MATCH(CONCATENATE(AR$4,$A33),'Výsledková listina'!$O:$O,0)),\"\",INDEX('Výsledková listina'!$C:$C,MATCH(CONCATENATE(AR$4,$A33),'Výsledková listina'!$O:$O,0),1))","v":""},{"$f":"IF(ISNA(MATCH(CONCATENATE(AR$4,$A33),'Výsledková listina'!$O:$O,0)),\"\",INDEX('Výsledková listina'!$P:$P,MATCH(CONCATENATE(AR$4,$A33),'Výsledková listina'!$O:$O,0),1))","v":""},null,null,"",null,{"$f":"IF(ISNA(MATCH(CONCATENATE(AX$4,$A33),'Výsledková listina'!$O:$O,0)),\"\",INDEX('Výsledková listina'!$C:$C,MATCH(CONCATENATE(AX$4,$A33),'Výsledková listina'!$O:$O,0),1))","v":""},{"$f":"IF(ISNA(MATCH(CONCATENATE(AX$4,$A33),'Výsledková listina'!$O:$O,0)),\"\",INDEX('Výsledková listina'!$P:$P,MATCH(CONCATENATE(AX$4,$A33),'Výsledková listina'!$O:$O,0),1))","v":""},null,null,"",null,{"$f":"IF(ISNA(MATCH(CONCATENATE(BD$4,$A33),'Výsledková listina'!$O:$O,0)),\"\",INDEX('Výsledková listina'!$C:$C,MATCH(CONCATENATE(BD$4,$A33),'Výsledková listina'!$O:$O,0),1))","v":""},{"$f":"IF(ISNA(MATCH(CONCATENATE(BD$4,$A33),'Výsledková listina'!$O:$O,0)),\"\",INDEX('Výsledková listina'!$P:$P,MATCH(CONCATENATE(BD$4,$A33),'Výsledková listina'!$O:$O,0),1))","v":""},null,null,"",null,{"$f":"IF(ISNA(MATCH(CONCATENATE(BJ$4,$A33),'Výsledková listina'!$O:$O,0)),\"\",INDEX('Výsledková listina'!$C:$C,MATCH(CONCATENATE(BJ$4,$A33),'Výsledková listina'!$O:$O,0),1))","v":""},{"$f":"IF(ISNA(MATCH(CONCATENATE(BJ$4,$A33),'Výsledková listina'!$O:$O,0)),\"\",INDEX('Výsledková listina'!$P:$P,MATCH(CONCATENATE(BJ$4,$A33),'Výsledková listina'!$O:$O,0),1))","v":""},null,"",null,{"$f":"IF(ISNA(MATCH(CONCATENATE(BO$4,$A33),'Výsledková listina'!$O:$O,0)),\"\",INDEX('Výsledková listina'!$C:$C,MATCH(CONCATENATE(BO$4,$A33),'Výsledková listina'!$O:$O,0),1))","v":""},{"$f":"IF(ISNA(MATCH(CONCATENATE(BO$4,$A33),'Výsledková listina'!$O:$O,0)),\"\",INDEX('Výsledková listina'!$P:$P,MATCH(CONCATENATE(BO$4,$A33),'Výsledková listina'!$O:$O,0),1))","v":""},null,"",null,{"$f":"IF(ISNA(MATCH(CONCATENATE(BT$4,$A33),'Výsledková listina'!$O:$O,0)),\"\",INDEX('Výsledková listina'!$C:$C,MATCH(CONCATENATE(BT$4,$A33),'Výsledková listina'!$O:$O,0),1))","v":""},{"$f":"IF(ISNA(MATCH(CONCATENATE(BT$4,$A33),'Výsledková listina'!$O:$O,0)),\"\",INDEX('Výsledková listina'!$P:$P,MATCH(CONCATENATE(BT$4,$A33),'Výsledková listina'!$O:$O,0),1))","v":""},null,"",null,{"$f":"IF(ISNA(MATCH(CONCATENATE(BY$4,$A33),'Výsledková listina'!$O:$O,0)),\"\",INDEX('Výsledková listina'!$C:$C,MATCH(CONCATENATE(BY$4,$A33),'Výsledková listina'!$O:$O,0),1))","v":""},{"$f":"IF(ISNA(MATCH(CONCATENATE(BY$4,$A33),'Výsledková listina'!$O:$O,0)),\"\",INDEX('Výsledková listina'!$P:$P,MATCH(CONCATENATE(BY$4,$A33),'Výsledková listina'!$O:$O,0),1))","v":""},null,"",null,{"$f":"IF(ISNA(MATCH(CONCATENATE(CD$4,$A33),'Výsledková listina'!$O:$O,0)),\"\",INDEX('Výsledková listina'!$C:$C,MATCH(CONCATENATE(CD$4,$A33),'Výsledková listina'!$O:$O,0),1))","v":""},{"$f":"IF(ISNA(MATCH(CONCATENATE(CD$4,$A33),'Výsledková listina'!$O:$O,0)),\"\",INDEX('Výsledková listina'!$P:$P,MATCH(CONCATENATE(CD$4,$A33),'Výsledková listina'!$O:$O,0),1))","v":""},null,""]
[29,{"$f":"IF(ISNA(MATCH(CONCATENATE(B$4,$A34),'Výsledková listina'!$O:$O,0)),\"\",INDEX('Výsledková listina'!$C:$C,MATCH(CONCATENATE(B$4,$A34),'Výsledková listina'!$O:$O,0),1))","v":""},{"$f":"IF(ISNA(MATCH(CONCATENATE(B$4,$A34),'Výsledková listina'!$O:$O,0)),\"\",INDEX('Výsledková listina'!$P:$P,MATCH(CONCATENATE(B$4,$A34),'Výsledková listina'!$O:$O,0),1))","v":""},null,null,"",null,{"$f":"IF(ISNA(MATCH(CONCATENATE(H$4,$A34),'Výsledková listina'!$O:$O,0)),\"\",INDEX('Výsledková listina'!$C:$C,MATCH(CONCATENATE(H$4,$A34),'Výsledková listina'!$O:$O,0),1))","v":""},{"$f":"IF(ISNA(MATCH(CONCATENATE(H$4,$A34),'Výsledková listina'!$O:$O,0)),\"\",INDEX('Výsledková listina'!$P:$P,MATCH(CONCATENATE(H$4,$A34),'Výsledková listina'!$O:$O,0),1))","v":""},null,null,"",null,{"$f":"IF(ISNA(MATCH(CONCATENATE(N$4,$A34),'Výsledková listina'!$O:$O,0)),\"\",INDEX('Výsledková listina'!$C:$C,MATCH(CONCATENATE(N$4,$A34),'Výsledková listina'!$O:$O,0),1))","v":""},{"$f":"IF(ISNA(MATCH(CONCATENATE(N$4,$A34),'Výsledková listina'!$O:$O,0)),\"\",INDEX('Výsledková listina'!$P:$P,MATCH(CONCATENATE(N$4,$A34),'Výsledková listina'!$O:$O,0),1))","v":""},null,null,"",null,{"$f":"IF(ISNA(MATCH(CONCATENATE(T$4,$A34),'Výsledková listina'!$O:$O,0)),\"\",INDEX('Výsledková listina'!$C:$C,MATCH(CONCATENATE(T$4,$A34),'Výsledková listina'!$O:$O,0),1))","v":""},{"$f":"IF(ISNA(MATCH(CONCATENATE(T$4,$A34),'Výsledková listina'!$O:$O,0)),\"\",INDEX('Výsledková listina'!$P:$P,MATCH(CONCATENATE(T$4,$A34),'Výsledková listina'!$O:$O,0),1))","v":""},null,null,"",null,{"$f":"IF(ISNA(MATCH(CONCATENATE(Z$4,$A34),'Výsledková listina'!$O:$O,0)),\"\",INDEX('Výsledková listina'!$C:$C,MATCH(CONCATENATE(Z$4,$A34),'Výsledková listina'!$O:$O,0),1))","v":""},{"$f":"IF(ISNA(MATCH(CONCATENATE(Z$4,$A34),'Výsledková listina'!$O:$O,0)),\"\",INDEX('Výsledková listina'!$P:$P,MATCH(CONCATENATE(Z$4,$A34),'Výsledková listina'!$O:$O,0),1))","v":""},null,null,"",null,{"$f":"IF(ISNA(MATCH(CONCATENATE(AF$4,$A34),'Výsledková listina'!$O:$O,0)),\"\",INDEX('Výsledková listina'!$C:$C,MATCH(CONCATENATE(AF$4,$A34),'Výsledková listina'!$O:$O,0),1))","v":""},{"$f":"IF(ISNA(MATCH(CONCATENATE(AF$4,$A34),'Výsledková listina'!$O:$O,0)),\"\",INDEX('Výsledková listina'!$P:$P,MATCH(CONCATENATE(AF$4,$A34),'Výsledková listina'!$O:$O,0),1))","v":""},null,null,"",null,{"$f":"IF(ISNA(MATCH(CONCATENATE(AL$4,$A34),'Výsledková listina'!$O:$O,0)),\"\",INDEX('Výsledková listina'!$C:$C,MATCH(CONCATENATE(AL$4,$A34),'Výsledková listina'!$O:$O,0),1))","v":""},{"$f":"IF(ISNA(MATCH(CONCATENATE(AL$4,$A34),'Výsledková listina'!$O:$O,0)),\"\",INDEX('Výsledková listina'!$P:$P,MATCH(CONCATENATE(AL$4,$A34),'Výsledková listina'!$O:$O,0),1))","v":""},null,null,"",null,{"$f":"IF(ISNA(MATCH(CONCATENATE(AR$4,$A34),'Výsledková listina'!$O:$O,0)),\"\",INDEX('Výsledková listina'!$C:$C,MATCH(CONCATENATE(AR$4,$A34),'Výsledková listina'!$O:$O,0),1))","v":""},{"$f":"IF(ISNA(MATCH(CONCATENATE(AR$4,$A34),'Výsledková listina'!$O:$O,0)),\"\",INDEX('Výsledková listina'!$P:$P,MATCH(CONCATENATE(AR$4,$A34),'Výsledková listina'!$O:$O,0),1))","v":""},null,null,"",null,{"$f":"IF(ISNA(MATCH(CONCATENATE(AX$4,$A34),'Výsledková listina'!$O:$O,0)),\"\",INDEX('Výsledková listina'!$C:$C,MATCH(CONCATENATE(AX$4,$A34),'Výsledková listina'!$O:$O,0),1))","v":""},{"$f":"IF(ISNA(MATCH(CONCATENATE(AX$4,$A34),'Výsledková listina'!$O:$O,0)),\"\",INDEX('Výsledková listina'!$P:$P,MATCH(CONCATENATE(AX$4,$A34),'Výsledková listina'!$O:$O,0),1))","v":""},null,null,"",null,{"$f":"IF(ISNA(MATCH(CONCATENATE(BD$4,$A34),'Výsledková listina'!$O:$O,0)),\"\",INDEX('Výsledková listina'!$C:$C,MATCH(CONCATENATE(BD$4,$A34),'Výsledková listina'!$O:$O,0),1))","v":""},{"$f":"IF(ISNA(MATCH(CONCATENATE(BD$4,$A34),'Výsledková listina'!$O:$O,0)),\"\",INDEX('Výsledková listina'!$P:$P,MATCH(CONCATENATE(BD$4,$A34),'Výsledková listina'!$O:$O,0),1))","v":""},null,null,"",null,{"$f":"IF(ISNA(MATCH(CONCATENATE(BJ$4,$A34),'Výsledková listina'!$O:$O,0)),\"\",INDEX('Výsledková listina'!$C:$C,MATCH(CONCATENATE(BJ$4,$A34),'Výsledková listina'!$O:$O,0),1))","v":""},{"$f":"IF(ISNA(MATCH(CONCATENATE(BJ$4,$A34),'Výsledková listina'!$O:$O,0)),\"\",INDEX('Výsledková listina'!$P:$P,MATCH(CONCATENATE(BJ$4,$A34),'Výsledková listina'!$O:$O,0),1))","v":""},null,"",null,{"$f":"IF(ISNA(MATCH(CONCATENATE(BO$4,$A34),'Výsledková listina'!$O:$O,0)),\"\",INDEX('Výsledková listina'!$C:$C,MATCH(CONCATENATE(BO$4,$A34),'Výsledková listina'!$O:$O,0),1))","v":""},{"$f":"IF(ISNA(MATCH(CONCATENATE(BO$4,$A34),'Výsledková listina'!$O:$O,0)),\"\",INDEX('Výsledková listina'!$P:$P,MATCH(CONCATENATE(BO$4,$A34),'Výsledková listina'!$O:$O,0),1))","v":""},null,"",null,{"$f":"IF(ISNA(MATCH(CONCATENATE(BT$4,$A34),'Výsledková listina'!$O:$O,0)),\"\",INDEX('Výsledková listina'!$C:$C,MATCH(CONCATENATE(BT$4,$A34),'Výsledková listina'!$O:$O,0),1))","v":""},{"$f":"IF(ISNA(MATCH(CONCATENATE(BT$4,$A34),'Výsledková listina'!$O:$O,0)),\"\",INDEX('Výsledková listina'!$P:$P,MATCH(CONCATENATE(BT$4,$A34),'Výsledková listina'!$O:$O,0),1))","v":""},null,"",null,{"$f":"IF(ISNA(MATCH(CONCATENATE(BY$4,$A34),'Výsledková listina'!$O:$O,0)),\"\",INDEX('Výsledková listina'!$C:$C,MATCH(CONCATENATE(BY$4,$A34),'Výsledková listina'!$O:$O,0),1))","v":""},{"$f":"IF(ISNA(MATCH(CONCATENATE(BY$4,$A34),'Výsledková listina'!$O:$O,0)),\"\",INDEX('Výsledková listina'!$P:$P,MATCH(CONCATENATE(BY$4,$A34),'Výsledková listina'!$O:$O,0),1))","v":""},null,"",null,{"$f":"IF(ISNA(MATCH(CONCATENATE(CD$4,$A34),'Výsledková listina'!$O:$O,0)),\"\",INDEX('Výsledková listina'!$C:$C,MATCH(CONCATENATE(CD$4,$A34),'Výsledková listina'!$O:$O,0),1))","v":""},{"$f":"IF(ISNA(MATCH(CONCATENATE(CD$4,$A34),'Výsledková listina'!$O:$O,0)),\"\",INDEX('Výsledková listina'!$P:$P,MATCH(CONCATENATE(CD$4,$A34),'Výsledková listina'!$O:$O,0),1))","v":""},null,""]
[30,{"$f":"IF(ISNA(MATCH(CONCATENATE(B$4,$A35),'Výsledková listina'!$O:$O,0)),\"\",INDEX('Výsledková listina'!$C:$C,MATCH(CONCATENATE(B$4,$A35),'Výsledková listina'!$O:$O,0),1))","v":""},{"$f":"IF(ISNA(MATCH(CONCATENATE(B$4,$A35),'Výsledková listina'!$O:$O,0)),\"\",INDEX('Výsledková listina'!$P:$P,MATCH(CONCATENATE(B$4,$A35),'Výsledková listina'!$O:$O,0),1))","v":""},null,null,"",null,{"$f":"IF(ISNA(MATCH(CONCATENATE(H$4,$A35),'Výsledková listina'!$O:$O,0)),\"\",INDEX('Výsledková listina'!$C:$C,MATCH(CONCATENATE(H$4,$A35),'Výsledková listina'!$O:$O,0),1))","v":""},{"$f":"IF(ISNA(MATCH(CONCATENATE(H$4,$A35),'Výsledková listina'!$O:$O,0)),\"\",INDEX('Výsledková listina'!$P:$P,MATCH(CONCATENATE(H$4,$A35),'Výsledková listina'!$O:$O,0),1))","v":""},null,null,"",null,{"$f":"IF(ISNA(MATCH(CONCATENATE(N$4,$A35),'Výsledková listina'!$O:$O,0)),\"\",INDEX('Výsledková listina'!$C:$C,MATCH(CONCATENATE(N$4,$A35),'Výsledková listina'!$O:$O,0),1))","v":""},{"$f":"IF(ISNA(MATCH(CONCATENATE(N$4,$A35),'Výsledková listina'!$O:$O,0)),\"\",INDEX('Výsledková listina'!$P:$P,MATCH(CONCATENATE(N$4,$A35),'Výsledková listina'!$O:$O,0),1))","v":""},null,null,"",null,{"$f":"IF(ISNA(MATCH(CONCATENATE(T$4,$A35),'Výsledková listina'!$O:$O,0)),\"\",INDEX('Výsledková listina'!$C:$C,MATCH(CONCATENATE(T$4,$A35),'Výsledková listina'!$O:$O,0),1))","v":""},{"$f":"IF(ISNA(MATCH(CONCATENATE(T$4,$A35),'Výsledková listina'!$O:$O,0)),\"\",INDEX('Výsledková listina'!$P:$P,MATCH(CONCATENATE(T$4,$A35),'Výsledková listina'!$O:$O,0),1))","v":""},null,null,"",null,{"$f":"IF(ISNA(MATCH(CONCATENATE(Z$4,$A35),'Výsledková listina'!$O:$O,0)),\"\",INDEX('Výsledková listina'!$C:$C,MATCH(CONCATENATE(Z$4,$A35),'Výsledková listina'!$O:$O,0),1))","v":""},{"$f":"IF(ISNA(MATCH(CONCATENATE(Z$4,$A35),'Výsledková listina'!$O:$O,0)),\"\",INDEX('Výsledková listina'!$P:$P,MATCH(CONCATENATE(Z$4,$A35),'Výsledková listina'!$O:$O,0),1))","v":""},null,null,"",null,{"$f":"IF(ISNA(MATCH(CONCATENATE(AF$4,$A35),'Výsledková listina'!$O:$O,0)),\"\",INDEX('Výsledková listina'!$C:$C,MATCH(CONCATENATE(AF$4,$A35),'Výsledková listina'!$O:$O,0),1))","v":""},{"$f":"IF(ISNA(MATCH(CONCATENATE(AF$4,$A35),'Výsledková listina'!$O:$O,0)),\"\",INDEX('Výsledková listina'!$P:$P,MATCH(CONCATENATE(AF$4,$A35),'Výsledková listina'!$O:$O,0),1))","v":""},null,null,"",null,{"$f":"IF(ISNA(MATCH(CONCATENATE(AL$4,$A35),'Výsledková listina'!$O:$O,0)),\"\",INDEX('Výsledková listina'!$C:$C,MATCH(CONCATENATE(AL$4,$A35),'Výsledková listina'!$O:$O,0),1))","v":""},{"$f":"IF(ISNA(MATCH(CONCATENATE(AL$4,$A35),'Výsledková listina'!$O:$O,0)),\"\",INDEX('Výsledková listina'!$P:$P,MATCH(CONCATENATE(AL$4,$A35),'Výsledková listina'!$O:$O,0),1))","v":""},null,null,"",null,{"$f":"IF(ISNA(MATCH(CONCATENATE(AR$4,$A35),'Výsledková listina'!$O:$O,0)),\"\",INDEX('Výsledková listina'!$C:$C,MATCH(CONCATENATE(AR$4,$A35),'Výsledková listina'!$O:$O,0),1))","v":""},{"$f":"IF(ISNA(MATCH(CONCATENATE(AR$4,$A35),'Výsledková listina'!$O:$O,0)),\"\",INDEX('Výsledková listina'!$P:$P,MATCH(CONCATENATE(AR$4,$A35),'Výsledková listina'!$O:$O,0),1))","v":""},null,null,"",null,{"$f":"IF(ISNA(MATCH(CONCATENATE(AX$4,$A35),'Výsledková listina'!$O:$O,0)),\"\",INDEX('Výsledková listina'!$C:$C,MATCH(CONCATENATE(AX$4,$A35),'Výsledková listina'!$O:$O,0),1))","v":""},{"$f":"IF(ISNA(MATCH(CONCATENATE(AX$4,$A35),'Výsledková listina'!$O:$O,0)),\"\",INDEX('Výsledková listina'!$P:$P,MATCH(CONCATENATE(AX$4,$A35),'Výsledková listina'!$O:$O,0),1))","v":""},null,null,"",null,{"$f":"IF(ISNA(MATCH(CONCATENATE(BD$4,$A35),'Výsledková listina'!$O:$O,0)),\"\",INDEX('Výsledková listina'!$C:$C,MATCH(CONCATENATE(BD$4,$A35),'Výsledková listina'!$O:$O,0),1))","v":""},{"$f":"IF(ISNA(MATCH(CONCATENATE(BD$4,$A35),'Výsledková listina'!$O:$O,0)),\"\",INDEX('Výsledková listina'!$P:$P,MATCH(CONCATENATE(BD$4,$A35),'Výsledková listina'!$O:$O,0),1))","v":""},null,null,"",null,{"$f":"IF(ISNA(MATCH(CONCATENATE(BJ$4,$A35),'Výsledková listina'!$O:$O,0)),\"\",INDEX('Výsledková listina'!$C:$C,MATCH(CONCATENATE(BJ$4,$A35),'Výsledková listina'!$O:$O,0),1))","v":""},{"$f":"IF(ISNA(MATCH(CONCATENATE(BJ$4,$A35),'Výsledková listina'!$O:$O,0)),\"\",INDEX('Výsledková listina'!$P:$P,MATCH(CONCATENATE(BJ$4,$A35),'Výsledková listina'!$O:$O,0),1))","v":""},null,"",null,{"$f":"IF(ISNA(MATCH(CONCATENATE(BO$4,$A35),'Výsledková listina'!$O:$O,0)),\"\",INDEX('Výsledková listina'!$C:$C,MATCH(CONCATENATE(BO$4,$A35),'Výsledková listina'!$O:$O,0),1))","v":""},{"$f":"IF(ISNA(MATCH(CONCATENATE(BO$4,$A35),'Výsledková listina'!$O:$O,0)),\"\",INDEX('Výsledková listina'!$P:$P,MATCH(CONCATENATE(BO$4,$A35),'Výsledková listina'!$O:$O,0),1))","v":""},null,"",null,{"$f":"IF(ISNA(MATCH(CONCATENATE(BT$4,$A35),'Výsledková listina'!$O:$O,0)),\"\",INDEX('Výsledková listina'!$C:$C,MATCH(CONCATENATE(BT$4,$A35),'Výsledková listina'!$O:$O,0),1))","v":""},{"$f":"IF(ISNA(MATCH(CONCATENATE(BT$4,$A35),'Výsledková listina'!$O:$O,0)),\"\",INDEX('Výsledková listina'!$P:$P,MATCH(CONCATENATE(BT$4,$A35),'Výsledková listina'!$O:$O,0),1))","v":""},null,"",null,{"$f":"IF(ISNA(MATCH(CONCATENATE(BY$4,$A35),'Výsledková listina'!$O:$O,0)),\"\",INDEX('Výsledková listina'!$C:$C,MATCH(CONCATENATE(BY$4,$A35),'Výsledková listina'!$O:$O,0),1))","v":""},{"$f":"IF(ISNA(MATCH(CONCATENATE(BY$4,$A35),'Výsledková listina'!$O:$O,0)),\"\",INDEX('Výsledková listina'!$P:$P,MATCH(CONCATENATE(BY$4,$A35),'Výsledková listina'!$O:$O,0),1))","v":""},null,"",null,{"$f":"IF(ISNA(MATCH(CONCATENATE(CD$4,$A35),'Výsledková listina'!$O:$O,0)),\"\",INDEX('Výsledková listina'!$C:$C,MATCH(CONCATENATE(CD$4,$A35),'Výsledková listina'!$O:$O,0),1))","v":""},{"$f":"IF(ISNA(MATCH(CONCATENATE(CD$4,$A35),'Výsledková listina'!$O:$O,0)),\"\",INDEX('Výsledková listina'!$P:$P,MATCH(CONCATENATE(CD$4,$A35),'Výsledková listina'!$O:$O,0),1))","v":""},null,""]

{"sheet":"Graf A až C","index":5,"n_rows":64,"n_cols":14,"rows_kept":64,"cut":false,"hidden":false,"merged":[[0,1,0,34],[1,1,1,34],[2,1,3,1],[2,2,2,7],[2,8,2,13]]}
[null,{"$f":"CONCATENATE('Základní list'!$E$3)","v":"AWA-S cup 2017"}]
[null,{"$f":"CONCATENATE(\"Datum konání: \",'Základní list'!D4,\" - \",'Základní list'!F4)","v":"Datum konání: 26.8.2017 - 26.8.2017"}]
[null,"p.č.","1. závod",null,null,null,null,null,"2. závod"]
[null,null,"sektor","místo","CIPS","Poř.","Závodník","Družstvo","sektor","místo","CIPS","Poř.","Závodník","Družstvo"]
[null,1,"A",1,{"$f":"INDEX('1. závod'!$A:$CH,$D5+5,INDEX('Základní list'!$B:$B,MATCH($C5,'Základní list'!$A:$A,0),1))","v":4360},{"$f":"INDEX('1. závod'!$A:$CH,$D5+5,INDEX('Základní list'!$B:$B,MATCH($C5,'Základní list'!$A:$A,0),1)+2)","v":6},{"$f":"INDEX('1. závod'!$A:$CH,$D5+5,INDEX('Základní list'!$B:$B,MATCH($C5,'Základní list'!$A:$A,0),1)-2)","v":"Peřina Josef"},{"$f":"INDEX('1. závod'!$A:$CH,$D5+5,INDEX('Základní list'!$B:$B,MATCH($C5,'Základní list'!$A:$A,0),1)-1)","v":"MILO Feeder Team JIHOSEVERÁCI"},"A",1,{"$f":"INDEX('2. závod'!$A:$CH,$J5+5,INDEX('Základní list'!$B:$B,MATCH($I5,'Základní list'!$A:$A,0),1))","v":9780},{"$f":"INDEX('2. závod'!$A:$CH,$J5+5,INDEX('Základní list'!$B:$B,MATCH($I5,'Základní list'!$A:$A,0),1)+2)","v":2},{"$f":"INDEX('2. závod'!$A:$CH,$J5+5,INDEX('Základní list'!$B:$B,MATCH($I5,'Základní list'!$A:$A,0),1)-2)","v":"Šabata Jakub"},{"$f":"INDEX('2. závod'!$A:$CH,$J5+5,INDEX('Základní list'!$B:$B,MATCH($I5,'Základní list'!$A:$A,0),1)-1)","v":"Fish Angels"}]
[null,2,"A",2,{"$f":"INDEX('1. závod'!$A:$CH,$D6+5,INDEX('Základní list'!$B:$B,MATCH($C6,'Základní list'!$A:$A,0),1))","v":6780},{"$f":"INDEX('1. závod'!$A:$CH,$D6+5,INDEX('Základní list'!$B:$B,MATCH($C6,'Základní list'!$A:$A,0),1)+2)","v":3},{"$f":"INDEX('1. závod'!$A:$CH,$D6+5,INDEX('Základní list'!$B:$B,MATCH($C6,'Základní list'!$A:$A,0),1)-2)","v":"Vitásek Jiří "},{"$f":"INDEX('1. závod'!$A:$CH,$D6+5,INDEX('Základní list'!$B:$B,MATCH($C6,'Základní list'!$A:$A,0),1)-1)","v":"Ševčovi pacholci"},"A",2,{"$f":"INDEX('2. závod'!$A:$CH,$J6+5,INDEX('Základní list'!$B:$B,MATCH($I6,'Základní list'!$A:$A,0),1))","v":5020},{"$f":"INDEX('2. závod'!$A:$CH,$J6+5,INDEX('Základní list'!$B:$B,MATCH($I6,'Základní list'!$A:$A,0),1)+2)","v":6},{"$f":"INDEX('2. závod'!$A:$CH,$J6+5,INDEX('Základní list'!$B:$B,MATCH($I6,'Základní list'!$A:$A,0),1)-2)","v":"Novotný Erik"},{"$f":"INDEX('2. závod'!$A:$CH,$J6+5,INDEX('Základní list'!$B:$B,MATCH($I6,'Základní list'!$A:$A,0),1)-1)","v":"Speed feeder team"}]
[null,3,"A",3,{"$f":"INDEX('1. závod'!$A:$CH,$D7+5,INDEX('Základní list'!$B:$B,MATCH($C7,'Základní list'!$A:$A,0),1))","v":5860},{"$f":"INDEX('1. závod'!$A:$CH,$D7+5,INDEX('Základní list'!$B:$B,MATCH($C7,'Základní list'!$A:$A,0),1)+2)","v":5},{"$f":"INDEX('1. závod'!$A:$CH,$D7+5,INDEX('Základní list'!$B:$B,MATCH($C7,'Základní list'!$A:$A,0),1)-2)","v":"Fabík Zdeněk"},{"$f":"INDEX('1. závod'!$A:$CH,$D7+5,INDEX('Základní list'!$B:$B,MATCH($C7,'Základní list'!$A:$A,0),1)-1)","v":"Ždárský kavky"},"A",3,{"$f":"INDEX('2. závod'!$A:$CH,$J7+5,INDEX('Základní list'!$B:$B,MATCH($I7,'Základní list'!$A:$A,0),1))","v":3880},{"$f":"INDEX('2. závod'!$A:$CH,$J7+5,INDEX('Základní list'!$B:$B,MATCH($I7,'Základní list'!$A:$A,0),1)+2)","v":8},{"$f":"INDEX('2. závod'!$A:$CH,$J7+5,INDEX('Základní list'!$B:$B,MATCH($I7,'Základní list'!$A:$A,0),1)-2)","v":"Šťovčík Viktor"},{"$f":"INDEX('2. závod'!$A:$CH,$J7+5,INDEX('Základní list'!$B:$B,MATCH($I7,'Základní list'!$A:$A,0),1)-1)","v":"Zauwíci"}]
[null,4,"A",4,{"$f":"INDEX('1. závod'!$A:$CH,$D8+5,INDEX('Základní list'!$B:$B,MATCH($C8,'Základní list'!$A:$A,0),1))","v":7880},{"$f":"INDEX('1. závod'!$A:$CH,$D8+5,INDEX('Základní list'!$B:$B,MATCH($C8,'Základní list'!$A:$A,0),1)+2)","v":2},{"$f":"INDEX('1. závod'!$A:$CH,$D8+5,INDEX('Základní list'!$B:$B,MATCH($C8,'Základní list'!$A:$A,0),1)-2)","v":"Pečta Radek"},{"$f":"INDEX('1. závod'!$A:$CH,$D8+5,INDEX('Základní list'!$B:$B,MATCH($C8,'Základní list'!$A:$A,0),1)-1)","v":"Fídrové komando"},"A",4,{"$f":"INDEX('2. závod'!$A:$CH,$J8+5,INDEX('Základní list'!$B:$B,MATCH($I8,'Základní list'!$A:$A,0),1))","v":4300},{"$f":"INDEX('2. závod'!$A:$CH,$J8+5,INDEX('Základní list'!$B:$B,MATCH($I8,'Základní list'!$A:$A,0),1)+2)","v":7},{"$f":"INDEX('2. závod'!$A:$CH,$J8+5,INDEX('Základní list'!$B:$B,MATCH($I8,'Základní list'!$A:$A,0),1)-2)","v":"Bartl Petr"},{"$f":"INDEX('2. závod'!$A:$CH,$J8+5,INDEX('Základní list'!$B:$B,MATCH($I8,'Základní list'!$A:$A,0),1)-1)","v":"Feeder team Vlci-Mrs"}]
[null,5,"A",5,{"$f":"INDEX('1. závod'!$A:$CH,$D9+5,INDEX('Základní list'!$B:$B,MATCH($C9,'Základní list'!$A:$A,0),1))","v":9880},{"$f":"INDEX('1. závod'!$A:$CH,$D9+5,INDEX('Základní list'!$B:$B,MATCH($C9,'Základní list'!$A:$A,0),1)+2)","v":1},{"$f":"INDEX('1. závod'!$A:$CH,$D9+5,INDEX('Základní list'!$B:$B,MATCH($C9,'Základní list'!$A:$A,0),1)-2)","v":"Kunst Antonín"},{"$f":"INDEX('1. závod'!$A:$CH,$D9+5,INDEX('Základní list'!$B:$B,MATCH($C9,'Základní list'!$A:$A,0),1)-1)","v":"Fish Angels"},"A",5,{"$f":"INDEX('2. závod'!$A:$CH,$J9+5,INDEX('Základní list'!$B:$B,MATCH($I9,'Základní list'!$A:$A,0),1))","v":5860},{"$f":"INDEX('2. závod'!$A:$CH,$J9+5,INDEX('Základní list'!$B:$B,MATCH($I9,'Základní list'!$A:$A,0),1)+2)","v":5},{"$f":"INDEX('2. závod'!$A:$CH,$J9+5,INDEX('Základní list'!$B:$B,MATCH($I9,'Základní list'!$A:$A,0),1)-2)","v":"Ondráček Petr"},{"$f":"INDEX('2. závod'!$A:$CH,$J9+5,INDEX('Základní list'!$B:$B,MATCH($I9,'Základní list'!$A:$A,0),1)-1)","v":"Ždárský kavky"}]
[null,6,"A",6,{"$f":"INDEX('1. závod'!$A:$CH,$D10+5,INDEX('Základní list'!$B:$B,MATCH($C10,'Základní list'!$A:$A,0),1))","v":3360},{"$f":"INDEX('1. závod'!$A:$CH,$D10+5,INDEX('Základní list'!$B:$B,MATCH($C10,'Základní list'!$A:$A,0),1)+2)","v":7},{"$f":"INDEX('1. závod'!$A:$CH,$D10+5,INDEX('Základní list'!$B:$B,MATCH($C10,'Základní list'!$A:$A,0),1)-2)","v":"Revai Miroslav"},{"$f":"INDEX('1. závod'!$A:$CH,$D10+5,INDEX('Základní list'!$B:$B,MATCH($C10,'Základní list'!$A:$A,0),1)-1)","v":"Feeder team Vlci-MRS"},"A",6,{"$f":"INDEX('2. závod'!$A:$CH,$J10+5,INDEX('Základní list'!$B:$B,MATCH($I10,'Základní list'!$A:$A,0),1))","v":10780},{"$f":"INDEX('2. závod'!$A:$CH,$J10+5,INDEX('Základní list'!$B:$B,MATCH($I10,'Základní list'!$A:$A,0),1)+2)","v":1},{"$f":"INDEX('2. závod'!$A:$CH,$J10+5,INDEX('Základní list'!$B:$B,MATCH($I10,'Základní list'!$A:$A,0),1)-2)","v":"Chadraba Petr"},{"$f":"INDEX('2. závod'!$A:$CH,$J10+5,INDEX('Základní list'!$B:$B,MATCH($I10,'Základní list'!$A:$A,0),1)-1)","v":"MILO Feeder Team JIHOSEVERÁCI"}]
[null,7,"A",7,{"$f":"INDEX('1. závod'!$A:$CH,$D11+5,INDEX('Základní list'!$B:$B,MATCH($C11,'Základní list'!$A:$A,0),1))","v":6420},{"$f":"INDEX('1. závod'!$A:$CH,$D11+5,INDEX('Základní list'!$B:$B,MATCH($C11,'Základní list'!$A:$A,0),1)+2)","v":4},{"$f":"INDEX('1. závod'!$A:$CH,$D11+5,INDEX('Základní list'!$B:$B,MATCH($C11,'Základní list'!$A:$A,0),1)-2)","v":"Pečta Radek st."},{"$f":"INDEX('1. závod'!$A:$CH,$D11+5,INDEX('Základní list'!$B:$B,MATCH($C11,'Základní list'!$A:$A,0),1)-1)","v":"Zauwíci"},"A",7,{"$f":"INDEX('2. závod'!$A:$CH,$J11+5,INDEX('Základní list'!$B:$B,MATCH($I11,'Základní list'!$A:$A,0),1))","v":6540},{"$f":"INDEX('2. závod'!$A:$CH,$J11+5,INDEX('Základní list'!$B:$B,MATCH($I11,'Základní list'!$A:$A,0),1)+2)","v":4},{"$f":"INDEX('2. závod'!$A:$CH,$J11+5,INDEX('Základní list'!$B:$B,MATCH($I11,'Základní list'!$A:$A,0),1)-2)","v":"Radek Černý"},{"$f":"INDEX('2. závod'!$A:$CH,$J11+5,INDEX('Základní list'!$B:$B,MATCH($I11,'Základní list'!$A:$A,0),1)-1)","v":"Ševčovi pacholci"}]
[null,8,"A",8,{"$f":"INDEX('1. závod'!$A:$CH,$D12+5,INDEX('Základní list'!$B:$B,MATCH($C12,'Základní list'!$A:$A,0),1))","v":2960},{"$f":"INDEX('1. závod'!$A:$CH,$D12+5,INDEX('Základní list'!$B:$B,MATCH($C12,'Základní list'!$A:$A,0),1)+2)","v":8},{"$f":"INDEX('1. závod'!$A:$CH,$D12+5,INDEX('Základní list'!$B:$B,MATCH($C12,'Základní list'!$A:$A,0),1)-2)","v":"Novotný Erik"},{"$f":"INDEX('1. závod'!$A:$CH,$D12+5,INDEX('Základní list'!$B:$B,MATCH($C12,'Základní list'!$A:$A,0),1)-1)","v":"Speed feeder team"},"A",8,{"$f":"INDEX('2. závod'!$A:$CH,$J12+5,INDEX('Základní list'!$B:$B,MATCH($I12,'Základní list'!$A:$A,0),1))","v":7560},{"$f":"INDEX('2. závod'!$A:$CH,$J12+5,INDEX('Základní list'!$B:$B,MATCH($I12,'Základní list'!$A:$A,0),1)+2)","v":3},{"$f":"INDEX('2. závod'!$A:$CH,$J12+5,INDEX('Základní list'!$B:$B,MATCH($I12,'Základní list'!$A:$A,0),1)-2)","v":"Frič Michal"},{"$f":"INDEX('2. závod'!$A:$CH,$J12+5,INDEX('Základní list'!$B:$B,MATCH($I12,'Základní list'!$A:$A,0),1)-1)","v":"Fídrové komando"}]
[null,9,"A",9,{"$f":"INDEX('1. závod'!$A:$CH,$D13+5,INDEX('Základní list'!$B:$B,MATCH($C13,'Základní list'!$A:$A,0),1))","v":0},{"$f":"INDEX('1. závod'!$A:$CH,$D13+5,INDEX('Základní list'!$B:$B,MATCH($C13,'Základní list'!$A:$A,0),1)+2)","v":""},{"$f":"INDEX('1. závod'!$A:$CH,$D13+5,INDEX('Základní list'!$B:$B,MATCH($C13,'Základní list'!$A:$A,0),1)-2)","v":""},{"$f":"INDEX('1. závod'!$A:$CH,$D13+5,INDEX('Základní list'!$B:$B,MATCH($C13,'Základní list'!$A:$A,0),1)-1)","v":""},"A",9,{"$f":"INDEX('2. závod'!$A:$CH,$J13+5,INDEX('Základní list'!$B:$B,MATCH($I13,'Základní list'!$A:$A,0),1))","v":0},{"$f":"INDEX('2. závod'!$A:$CH,$J13+5,INDEX('Základní list'!$B:$B,MATCH($I13,'Základní list'!$A:$A,0),1)+2)","v":""},{"$f":"INDEX('2. závod'!$A:$CH,$J13+5,INDEX('Základní list'!$B:$B,MATCH($I13,'Základní list'!$A:$A,0),1)-2)","v":""},{"$f":"INDEX('2. závod'!$A:$CH,$J13+5,INDEX('Základní list'!$B:$B,MATCH($I13,'Základní list'!$A:$A,0),1)-1)","v":""}]
[null,10,"A",10,{"$f":"INDEX('1. závod'!$A:$CH,$D14+5,INDEX('Základní list'!$B:$B,MATCH($C14,'Základní list'!$A:$A,0),1))","v":0},{"$f":"INDEX('1. závod'!$A:$CH,$D14+5,INDEX('Základní list'!$B:$B,MATCH($C14,'Základní list'!$A:$A,0),1)+2)","v":""},{"$f":"INDEX('1. závod'!$A:$CH,$D14+5,INDEX('Základní list'!$B:$B,MATCH($C14,'Základní list'!$A:$A,0),1)-2)","v":""},{"$f":"INDEX('1. závod'!$A:$CH,$D14+5,INDEX('Základní list'!$B:$B,MATCH($C14,'Základní list'!$A:$A,0),1)-1)","v":""},"A",10,{"$f":"INDEX('2. závod'!$A:$CH,$J14+5,INDEX('Základní list'!$B:$B,MATCH($I14,'Základní list'!$A:$A,0),1))","v":0},{"$f":"INDEX('2. závod'!$A:$CH,$J14+5,INDEX('Základní list'!$B:$B,MATCH($I14,'Základní list'!$A:$A,0),1)+2)","v":""},{"$f":"INDEX('2. závod'!$A:$CH,$J14+5,INDEX('Základní list'!$B:$B,MATCH($I14,'Základní list'!$A:$A,0),1)-2)","v":""},{"$f":"INDEX('2. závod'!$A:$CH,$J14+5,INDEX('Základní list'!$B:$B,MATCH($I14,'Základní list'!$A:$A,0),1)-1)","v":""}]
[null,11,"A",11,{"$f":"INDEX('1. závod'!$A:$CH,$D15+5,INDEX('Základní list'!$B:$B,MATCH($C15,'Základní list'!$A:$A,0),1))","v":0},{"$f":"INDEX('1. závod'!$A:$CH,$D15+5,INDEX('Základní list'!$B:$B,MATCH($C15,'Základní list'!$A:$A,0),1)+2)","v":""},{"$f":"INDEX('1. závod'!$A:$CH,$D15+5,INDEX('Základní list'!$B:$B,MATCH($C15,'Základní list'!$A:$A,0),1)-2)","v":""},{"$f":"INDEX('1. závod'!$A:$CH,$D15+5,INDEX('Základní list'!$B:$B,MATCH($C15,'Základní list'!$A:$A,0),1)-1)","v":""},"A",11,{"$f":"INDEX('2. závod'!$A:$CH,$J15+5,INDEX('Základní list'!$B:$B,MATCH($I15,'Základní list'!$A:$A,0),1))","v":0},{"$f":"INDEX('2. závod'!$A:$CH,$J15+5,INDEX('Základní list'!$B:$B,MATCH($I15,'Základní list'!$A:$A,0),1)+2)","v":""},{"$f":"INDEX('2. závod'!$A:$CH,$J15+5,INDEX('Základní list'!$B:$B,MATCH($I15,'Základní list'!$A:$A,0),1)-2)","v":""},{"$f":"INDEX('2. závod'!$A:$CH,$J15+5,INDEX('Základní list'!$B:$B,MATCH($I15,'Základní list'!$A:$A,0),1)-1)","v":""}]
[null,12,"A",12,{"$f":"INDEX('1. závod'!$A:$CH,$D16+5,INDEX('Základní list'!$B:$B,MATCH($C16,'Základní list'!$A:$A,0),1))","v":0},{"$f":"INDEX('1. závod'!$A:$CH,$D16+5,INDEX('Základní list'!$B:$B,MATCH($C16,'Základní list'!$A:$A,0),1)+2)","v":""},{"$f":"INDEX('1. závod'!$A:$CH,$D16+5,INDEX('Základní list'!$B:$B,MATCH($C16,'Základní list'!$A:$A,0),1)-2)","v":""},{"$f":"INDEX('1. závod'!$A:$CH,$D16+5,INDEX('Základní list'!$B:$B,MATCH($C16,'Základní list'!$A:$A,0),1)-1)","v":""},"A",12,{"$f":"INDEX('2. závod'!$A:$CH,$J16+5,INDEX('Základní list'!$B:$B,MATCH($I16,'Základní list'!$A:$A,0),1))","v":0},{"$f":"INDEX('2. závod'!$A:$CH,$J16+5,INDEX('Základní list'!$B:$B,MATCH($I16,'Základní list'!$A:$A,0),1)+2)","v":""},{"$f":"INDEX('2. závod'!$A:$CH,$J16+5,INDEX('Základní list'!$B:$B,MATCH($I16,'Základní list'!$A:$A,0),1)-2)","v":""},{"$f":"INDEX('2. závod'!$A:$CH,$J16+5,INDEX('Základní list'!$B:$B,MATCH($I16,'Základní list'!$A:$A,0),1)-1)","v":""}]
[null,13,"A",13,{"$f":"INDEX('1. závod'!$A:$CH,$D17+5,INDEX('Základní list'!$B:$B,MATCH($C17,'Základní list'!$A:$A,0),1))","v":0},{"$f":"INDEX('1. závod'!$A:$CH,$D17+5,INDEX('Základní list'!$B:$B,MATCH($C17,'Základní list'!$A:$A,0),1)+2)","v":""},{"$f":"INDEX('1. závod'!$A:$CH,$D17+5,INDEX('Základní list'!$B:$B,MATCH($C17,'Základní list'!$A:$A,0),1)-2)","v":""},{"$f":"INDEX('1. závod'!$A:$CH,$D17+5,INDEX('Základní list'!$B:$B,MATCH($C17,'Základní list'!$A:$A,0),1)-1)","v":""},"A",13,{"$f":"INDEX('2. závod'!$A:$CH,$J17+5,INDEX('Základní list'!$B:$B,MATCH($I17,'Základní list'!$A:$A,0),1))","v":0},{"$f":"INDEX('2. závod'!$A:$CH,$J17+5,INDEX('Základní list'!$B:$B,MATCH($I17,'Základní list'!$A:$A,0),1)+2)","v":""},{"$f":"INDEX('2. závod'!$A:$CH,$J17+5,INDEX('Základní list'!$B:$B,MATCH($I17,'Základní list'!$A:$A,0),1)-2)","v":""},{"$f":"INDEX('2. závod'!$A:$CH,$J17+5,INDEX('Základní list'!$B:$B,MATCH($I17,'Základní list'!$A:$A,0),1)-1)","v":""}]
[null,14,"A",14,{"$f":"INDEX('1. závod'!$A:$CH,$D18+5,INDEX('Základní list'!$B:$B,MATCH($C18,'Základní list'!$A:$A,0),1))","v":0},{"$f":"INDEX('1. závod'!$A:$CH,$D18+5,INDEX('Základní list'!$B:$B,MATCH($C18,'Základní list'!$A:$A,0),1)+2)","v":""},{"$f":"INDEX('1. závod'!$A:$CH,$D18+5,INDEX('Základní list'!$B:$B,MATCH($C18,'Základní list'!$A:$A,0),1)-2)","v":""},{"$f":"INDEX('1. závod'!$A:$CH,$D18+5,INDEX('Základní list'!$B:$B,MATCH($C18,'Základní list'!$A:$A,0),1)-1)","v":""},"A",14,{"$f":"INDEX('2. závod'!$A:$CH,$J18+5,INDEX('Základní list'!$B:$B,MATCH($I18,'Základní list'!$A:$A,0),1))","v":0},{"$f":"INDEX('2. závod'!$A:$CH,$J18+5,INDEX('Základní list'!$B:$B,MATCH($I18,'Základní list'!$A:$A,0),1)+2)","v":""},{"$f":"INDEX('2. závod'!$A:$CH,$J18+5,INDEX('Základní list'!$B:$B,MATCH($I18,'Základní list'!$A:$A,0),1)-2)","v":""},{"$f":"INDEX('2. závod'!$A:$CH,$J18+5,INDEX('Základní list'!$B:$B,MATCH($I18,'Základní list'!$A:$A,0),1)-1)","v":""}]
[null,15,"A",15,{"$f":"INDEX('1. závod'!$A:$CH,$D19+5,INDEX('Základní list'!$B:$B,MATCH($C19,'Základní list'!$A:$A,0),1))","v":0},{"$f":"INDEX('1. závod'!$A:$CH,$D19+5,INDEX('Základní list'!$B:$B,MATCH($C19,'Základní list'!$A:$A,0),1)+2)","v":""},{"$f":"INDEX('1. závod'!$A:$CH,$D19+5,INDEX('Základní list'!$B:$B,MATCH($C19,'Základní list'!$A:$A,0),1)-2)","v":""},{"$f":"INDEX('1. závod'!$A:$CH,$D19+5,INDEX('Základní list'!$B:$B,MATCH($C19,'Základní list'!$A:$A,0),1)-1)","v":""},"A",15,{"$f":"INDEX('2. závod'!$A:$CH,$J19+5,INDEX('Základní list'!$B:$B,MATCH($I19,'Základní list'!$A:$A,0),1))","v":0},{"$f":"INDEX('2. závod'!$A:$CH,$J19+5,INDEX('Základní list'!$B:$B,MATCH($I19,'Základní list'!$A:$A,0),1)+2)","v":""},{"$f":"INDEX('2. závod'!$A:$CH,$J19+5,INDEX('Základní list'!$B:$B,MATCH($I19,'Základní list'!$A:$A,0),1)-2)","v":""},{"$f":"INDEX('2. závod'!$A:$CH,$J19+5,INDEX('Základní list'!$B:$B,MATCH($I19,'Základní list'!$A:$A,0),1)-1)","v":""}]
[null,16,"A",16,{"$f":"INDEX('1. závod'!$A:$CH,$D20+5,INDEX('Základní list'!$B:$B,MATCH($C20,'Základní list'!$A:$A,0),1))","v":0},{"$f":"INDEX('1. závod'!$A:$CH,$D20+5,INDEX('Základní list'!$B:$B,MATCH($C20,'Základní list'!$A:$A,0),1)+2)","v":""},{"$f":"INDEX('1. závod'!$A:$CH,$D20+5,INDEX('Základní list'!$B:$B,MATCH($C20,'Základní list'!$A:$A,0),1)-2)","v":""},{"$f":"INDEX('1. závod'!$A:$CH,$D20+5,INDEX('Základní list'!$B:$B,MATCH($C20,'Základní list'!$A:$A,0),1)-1)","v":""},"A",16,{"$f":"INDEX('2. závod'!$A:$CH,$J20+5,INDEX('Základní list'!$B:$B,MATCH($I20,'Základní list'!$A:$A,0),1))","v":0},{"$f":"INDEX('2. závod'!$A:$CH,$J20+5,INDEX('Základní list'!$B:$B,MATCH($I20,'Základní list'!$A:$A,0),1)+2)","v":""},{"$f":"INDEX('2. závod'!$A:$CH,$J20+5,INDEX('Základní list'!$B:$B,MATCH($I20,'Základní list'!$A:$A,0),1)-2)","v":""},{"$f":"INDEX('2. závod'!$A:$CH,$J20+5,INDEX('Základní list'!$B:$B,MATCH($I20,'Základní list'!$A:$A,0),1)-1)","v":""}]
[null,17,"A",17,{"$f":"INDEX('1. závod'!$A:$CH,$D21+5,INDEX('Základní list'!$B:$B,MATCH($C21,'Základní list'!$A:$A,0),1))","v":0},{"$f":"INDEX('1. závod'!$A:$CH,$D21+5,INDEX('Základní list'!$B:$B,MATCH($C21,'Základní list'!$A:$A,0),1)+2)","v":""},{"$f":"INDEX('1. závod'!$A:$CH,$D21+5,INDEX('Základní list'!$B:$B,MATCH($C21,'Základní list'!$A:$A,0),1)-2)","v":""},{"$f":"INDEX('1. závod'!$A:$CH,$D21+5,INDEX('Základní list'!$B:$B,MATCH($C21,'Základní list'!$A:$A,0),1)-1)","v":""},"A",17,{"$f":"INDEX('2. závod'!$A:$CH,$J21+5,INDEX('Základní list'!$B:$B,MATCH($I21,'Základní list'!$A:$A,0),1))","v":0},{"$f":"INDEX('2. závod'!$A:$CH,$J21+5,INDEX('Základní list'!$B:$B,MATCH($I21,'Základní list'!$A:$A,0),1)+2)","v":""},{"$f":"INDEX('2. závod'!$A:$CH,$J21+5,INDEX('Základní list'!$B:$B,MATCH($I21,'Základní list'!$A:$A,0),1)-2)","v":""},{"$f":"INDEX('2. závod'!$A:$CH,$J21+5,INDEX('Základní list'!$B:$B,MATCH($I21,'Základní list'!$A:$A,0),1)-1)","v":""}]
[null,18,"A",18,{"$f":"INDEX('1. závod'!$A:$CH,$D22+5,INDEX('Základní list'!$B:$B,MATCH($C22,'Základní list'!$A:$A,0),1))","v":0},{"$f":"INDEX('1. závod'!$A:$CH,$D22+5,INDEX('Základní list'!$B:$B,MATCH($C22,'Základní list'!$A:$A,0),1)+2)","v":""},{"$f":"INDEX('1. závod'!$A:$CH,$D22+5,INDEX('Základní list'!$B:$B,MATCH($C22,'Základní list'!$A:$A,0),1)-2)","v":""},{"$f":"INDEX('1. závod'!$A:$CH,$D22+5,INDEX('Základní list'!$B:$B,MATCH($C22,'Základní list'!$A:$A,0),1)-1)","v":""},"A",18,{"$f":"INDEX('2. závod'!$A:$CH,$J22+5,INDEX('Základní list'!$B:$B,MATCH($I22,'Základní list'!$A:$A,0),1))","v":0},{"$f":"INDEX('2. závod'!$A:$CH,$J22+5,INDEX('Základní list'!$B:$B,MATCH($I22,'Základní list'!$A:$A,0),1)+2)","v":""},{"$f":"INDEX('2. závod'!$A:$CH,$J22+5,INDEX('Základní list'!$B:$B,MATCH($I22,'Základní list'!$A:$A,0),1)-2)","v":""},{"$f":"INDEX('2. závod'!$A:$CH,$J22+5,INDEX('Základní list'!$B:$B,MATCH($I22,'Základní list'!$A:$A,0),1)-1)","v":""}]
[null,19,"A",19,{"$f":"INDEX('1. závod'!$A:$CH,$D23+5,INDEX('Základní list'!$B:$B,MATCH($C23,'Základní list'!$A:$A,0),1))","v":0},{"$f":"INDEX('1. závod'!$A:$CH,$D23+5,INDEX('Základní list'!$B:$B,MATCH($C23,'Základní list'!$A:$A,0),1)+2)","v":""},{"$f":"INDEX('1. závod'!$A:$CH,$D23+5,INDEX('Základní list'!$B:$B,MATCH($C23,'Základní list'!$A:$A,0),1)-2)","v":""},{"$f":"INDEX('1. závod'!$A:$CH,$D23+5,INDEX('Základní list'!$B:$B,MATCH($C23,'Základní list'!$A:$A,0),1)-1)","v":""},"A",19,{"$f":"INDEX('2. závod'!$A:$CH,$J23+5,INDEX('Základní list'!$B:$B,MATCH($I23,'Základní list'!$A:$A,0),1))","v":0},{"$f":"INDEX('2. závod'!$A:$CH,$J23+5,INDEX('Základní list'!$B:$B,MATCH($I23,'Základní list'!$A:$A,0),1)+2)","v":""},{"$f":"INDEX('2. závod'!$A:$CH,$J23+5,INDEX('Základní list'!$B:$B,MATCH($I23,'Základní list'!$A:$A,0),1)-2)","v":""},{"$f":"INDEX('2. závod'!$A:$CH,$J23+5,INDEX('Základní list'!$B:$B,MATCH($I23,'Základní list'!$A:$A,0),1)-1)","v":""}]
[null,20,"A",20,{"$f":"INDEX('1. závod'!$A:$CH,$D24+5,INDEX('Základní list'!$B:$B,MATCH($C24,'Základní list'!$A:$A,0),1))","v":0},{"$f":"INDEX('1. závod'!$A:$CH,$D24+5,INDEX('Základní list'!$B:$B,MATCH($C24,'Základní list'!$A:$A,0),1)+2)","v":""},{"$f":"INDEX('1. závod'!$A:$CH,$D24+5,INDEX('Základní list'!$B:$B,MATCH($C24,'Základní list'!$A:$A,0),1)-2)","v":""},{"$f":"INDEX('1. závod'!$A:$CH,$D24+5,INDEX('Základní list'!$B:$B,MATCH($C24,'Základní list'!$A:$A,0),1)-1)","v":""},"A",20,{"$f":"INDEX('2. závod'!$A:$CH,$J24+5,INDEX('Základní list'!$B:$B,MATCH($I24,'Základní list'!$A:$A,0),1))","v":0},{"$f":"INDEX('2. závod'!$A:$CH,$J24+5,INDEX('Základní list'!$B:$B,MATCH($I24,'Základní list'!$A:$A,0),1)+2)","v":""},{"$f":"INDEX('2. závod'!$A:$CH,$J24+5,INDEX('Základní list'!$B:$B,MATCH($I24,'Základní list'!$A:$A,0),1)-2)","v":""},{"$f":"INDEX('2. závod'!$A:$CH,$J24+5,INDEX('Základní list'!$B:$B,MATCH($I24,'Základní list'!$A:$A,0),1)-1)","v":""}]
[null,21,"B",1,{"$f":"INDEX('1. závod'!$A:$CH,$D25+5,INDEX('Základní list'!$B:$B,MATCH($C25,'Základní list'!$A:$A,0),1))","v":4700},{"$f":"INDEX('1. závod'!$A:$CH,$D25+5,INDEX('Základní list'!$B:$B,MATCH($C25,'Základní list'!$A:$A,0),1)+2)","v":6},{"$f":"INDEX('1. závod'!$A:$CH,$D25+5,INDEX('Základní list'!$B:$B,MATCH($C25,'Základní list'!$A:$A,0),1)-2)","v":"Ohera Tomáš"},{"$f":"INDEX('1. závod'!$A:$CH,$D25+5,INDEX('Základní list'!$B:$B,MATCH($C25,'Základní list'!$A:$A,0),1)-1)","v":"MILO Feeder Team JIHOSEVERÁCI"},"B",1,{"$f":"INDEX('2. závod'!$A:$CH,$J25+5,INDEX('Základní list'!$B:$B,MATCH($I25,'Základní list'!$A:$A,0),1))","v":10820},{"$f":"INDEX('2. závod'!$A:$CH,$J25+5,INDEX('Základní list'!$B:$B,MATCH($I25,'Základní list'!$A:$A,0),1)+2)","v":3},{"$f":"INDEX('2. závod'!$A:$CH,$J25+5,INDEX('Základní list'!$B:$B,MATCH($I25,'Základní list'!$A:$A,0),1)-2)","v":"Denemarek Jiří"},{"$f":"INDEX('2. závod'!$A:$CH,$J25+5,INDEX('Základní list'!$B:$B,MATCH($I25,'Základní list'!$A:$A,0),1)-1)","v":"Fish Angels"}]
[null,22,"B",2,{"$f":"INDEX('1. závod'!$A:$CH,$D26+5,INDEX('Základní list'!$B:$B,MATCH($C26,'Základní list'!$A:$A,0),1))","v":6160},{"$f":"INDEX('1. závod'!$A:$CH,$D26+5,INDEX('Základní list'!$B:$B,MATCH($C26,'Základní list'!$A:$A,0),1)+2)","v":5},{"$f":"INDEX('1. závod'!$A:$CH,$D26+5,INDEX('Základní list'!$B:$B,MATCH($C26,'Základní list'!$A:$A,0),1)-2)","v":"Ševčík Ladislav"},{"$f":"INDEX('1. závod'!$A:$CH,$D26+5,INDEX('Základní list'!$B:$B,MATCH($C26,'Základní list'!$A:$A,0),1)-1)","v":"Ševčovi pacholci"},"B",2,{"$f":"INDEX('2. závod'!$A:$CH,$J26+5,INDEX('Základní list'!$B:$B,MATCH($I26,'Základní list'!$A:$A,0),1))","v":9460},{"$f":"INDEX('2. závod'!$A:$CH,$J26+5,INDEX('Základní list'!$B:$B,MATCH($I26,'Základní list'!$A:$A,0),1)+2)","v":5},{"$f":"INDEX('2. závod'!$A:$CH,$J26+5,INDEX('Základní list'!$B:$B,MATCH($I26,'Základní list'!$A:$A,0),1)-2)","v":"Prášek Josef"},{"$f":"INDEX('2. závod'!$A:$CH,$J26+5,INDEX('Základní list'!$B:$B,MATCH($I26,'Základní list'!$A:$A,0),1)-1)","v":"Speed feeder team"}]
[null,23,"B",3,{"$f":"INDEX('1. závod'!$A:$CH,$D27+5,INDEX('Základní list'!$B:$B,MATCH($C27,'Základní list'!$A:$A,0),1))","v":2700},{"$f":"INDEX('1. závod'!$A:$CH,$D27+5,INDEX('Základní list'!$B:$B,MATCH($C27,'Základní list'!$A:$A,0),1)+2)","v":8},{"$f":"INDEX('1. závod'!$A:$CH,$D27+5,INDEX('Základní list'!$B:$B,MATCH($C27,'Základní list'!$A:$A,0),1)-2)","v":"Ondráček Petr"},{"$f":"INDEX('1. závod'!$A:$CH,$D27+5,INDEX('Základní list'!$B:$B,MATCH($C27,'Základní list'!$A:$A,0),1)-1)","v":"Ždárský kavky"},"B",3,{"$f":"INDEX('2. závod'!$A:$CH,$J27+5,INDEX('Základní list'!$B:$B,MATCH($I27,'Základní list'!$A:$A,0),1))","v":10980},{"$f":"INDEX('2. závod'!$A:$CH,$J27+5,INDEX('Základní list'!$B:$B,MATCH($I27,'Základní list'!$A:$A,0),1)+2)","v":2},{"$f":"INDEX('2. závod'!$A:$CH,$J27+5,INDEX('Základní list'!$B:$B,MATCH($I27,'Základní list'!$A:$A,0),1)-2)","v":"Pečta Radek st."},{"$f":"INDEX('2. závod'!$A:$CH,$J27+5,INDEX('Základní list'!$B:$B,MATCH($I27,'Základní list'!$A:$A,0),1)-1)","v":"Zauwíci"}]
[null,24,"B",4,{"$f":"INDEX('1. závod'!$A:$CH,$D28+5,INDEX('Základní list'!$B:$B,MATCH($C28,'Základní list'!$A:$A,0),1))","v":6880},{"$f":"INDEX('1. závod'!$A:$CH,$D28+5,INDEX('Základní list'!$B:$B,MATCH($C28,'Základní list'!$A:$A,0),1)+2)","v":3},{"$f":"INDEX('1. závod'!$A:$CH,$D28+5,INDEX('Základní list'!$B:$B,MATCH($C28,'Základní list'!$A:$A,0),1)-2)","v":"Bruckner Martin"},{"$f":"INDEX('1. závod'!$A:$CH,$D28+5,INDEX('Základní list'!$B:$B,MATCH($C28,'Základní list'!$A:$A,0),1)-1)","v":"Fídrové komando"},"B",4,{"$f":"INDEX('2. závod'!$A:$CH,$J28+5,INDEX('Základní list'!$B:$B,MATCH($I28,'Základní list'!$A:$A,0),1))","v":10100},{"$f":"INDEX('2. závod'!$A:$CH,$J28+5,INDEX('Základní list'!$B:$B,MATCH($I28,'Základní list'!$A:$A,0),1)+2)","v":4},{"$f":"INDEX('2. závod'!$A:$CH,$J28+5,INDEX('Základní list'!$B:$B,MATCH($I28,'Základní list'!$A:$A,0),1)-2)","v":"Koucký Milan"},{"$f":"INDEX('2. závod'!$A:$CH,$J28+5,INDEX('Základní list'!$B:$B,MATCH($I28,'Základní list'!$A:$A,0),1)-1)","v":"Feeder team Vlci-Mrs"}]
[null,25,"B",5,{"$f":"INDEX('1. závod'!$A:$CH,$D29+5,INDEX('Základní list'!$B:$B,MATCH($C29,'Základní list'!$A:$A,0),1))","v":9760},{"$f":"INDEX('1. závod'!$A:$CH,$D29+5,INDEX('Základní list'!$B:$B,MATCH($C29,'Základní list'!$A:$A,0),1)+2)","v":2},{"$f":"INDEX('1. závod'!$A:$CH,$D29+5,INDEX('Základní list'!$B:$B,MATCH($C29,'Základní list'!$A:$A,0),1)-2)","v":"Šabata Jakub"},{"$f":"INDEX('1. závod'!$A:$CH,$D29+5,INDEX('Základní list'!$B:$B,MATCH($C29,'Základní list'!$A:$A,0),1)-1)","v":"Fish Angels"},"B",5,{"$f":"INDEX('2. závod'!$A:$CH,$J29+5,INDEX('Základní list'!$B:$B,MATCH($I29,'Základní list'!$A:$A,0),1))","v":12380},{"$f":"INDEX('2. závod'!$A:$CH,$J29+5,INDEX('Základní list'!$B:$B,MATCH($I29,'Základní list'!$A:$A,0),1)+2)","v":1},{"$f":"INDEX('2. závod'!$A:$CH,$J29+5,INDEX('Základní list'!$B:$B,MATCH($I29,'Základní list'!$A:$A,0),1)-2)","v":"Stárek Jan"},{"$f":"INDEX('2. závod'!$A:$CH,$J29+5,INDEX('Základní list'!$B:$B,MATCH($I29,'Základní list'!$A:$A,0),1)-1)","v":"Ždárský kavky"}]
[null,26,"B",6,{"$f":"INDEX('1. závod'!$A:$CH,$D30+5,INDEX('Základní list'!$B:$B,MATCH($C30,'Základní list'!$A:$A,0),1))","v":6260},{"$f":"INDEX('1. závod'!$A:$CH,$D30+5,INDEX('Základní list'!$B:$B,MATCH($C30,'Základní list'!$A:$A,0),1)+2)","v":4},{"$f":"INDEX('1. závod'!$A:$CH,$D30+5,INDEX('Základní list'!$B:$B,MATCH($C30,'Základní list'!$A:$A,0),1)-2)","v":"Koucký Milan"},{"$f":"INDEX('1. závod'!$A:$CH,$D30+5,INDEX('Základní list'!$B:$B,MATCH($C30,'Základní list'!$A:$A,0),1)-1)","v":"Feeder team Vlci-Mrs"},"B",6,{"$f":"INDEX('2. závod'!$A:$CH,$J30+5,INDEX('Základní list'!$B:$B,MATCH($I30,'Základní list'!$A:$A,0),1))","v":6300},{"$f":"INDEX('2. závod'!$A:$CH,$J30+5,INDEX('Základní list'!$B:$B,MATCH($I30,'Základní list'!$A:$A,0),1)+2)","v":6},{"$f":"INDEX('2. závod'!$A:$CH,$J30+5,INDEX('Základní list'!$B:$B,MATCH($I30,'Základní list'!$A:$A,0),1)-2)","v":"Ohera Tomáš"},{"$f":"INDEX('2. závod'!$A:$CH,$J30+5,INDEX('Základní list'!$B:$B,MATCH($I30,'Základní list'!$A:$A,0),1)-1)","v":"MILO Feeder Team JIHOSEVERÁCI"}]
[null,27,"B",7,{"$f":"INDEX('1. závod'!$A:$CH,$D31+5,INDEX('Základní list'!$B:$B,MATCH($C31,'Základní list'!$A:$A,0),1))","v":10340},{"$f":"INDEX('1. závod'!$A:$CH,$D31+5,INDEX('Základní list'!$B:$B,MATCH($C31,'Základní list'!$A:$A,0),1)+2)","v":1},{"$f":"INDEX('1. závod'!$A:$CH,$D31+5,INDEX('Základní list'!$B:$B,MATCH($C31,'Základní list'!$A:$A,0),1)-2)","v":"Zavřel Jan"},{"$f":"INDEX('1. závod'!$A:$CH,$D31+5,INDEX('Základní list'!$B:$B,MATCH($C31,'Základní list'!$A:$A,0),1)-1)","v":"Zauwíci"},"B",7,{"$f":"INDEX('2. závod'!$A:$CH,$J31+5,INDEX('Základní list'!$B:$B,MATCH($I31,'Základní list'!$A:$A,0),1))","v":6020},{"$f":"INDEX('2. závod'!$A:$CH,$J31+5,INDEX('Základní list'!$B:$B,MATCH($I31,'Základní list'!$A:$A,0),1)+2)","v":7},{"$f":"INDEX('2. závod'!$A:$CH,$J31+5,INDEX('Základní list'!$B:$B,MATCH($I31,'Základní list'!$A:$A,0),1)-2)","v":"Vitásek Jiří "},{"$f":"INDEX('2. závod'!$A:$CH,$J31+5,INDEX('Základní list'!$B:$B,MATCH($I31,'Základní list'!$A:$A,0),1)-1)","v":"Ševčovi pacholci"}]
[null,28,"B",8,{"$f":"INDEX('1. závod'!$A:$CH,$D32+5,INDEX('Základní list'!$B:$B,MATCH($C32,'Základní list'!$A:$A,0),1))","v":4480},{"$f":"INDEX('1. závod'!$A:$CH,$D32+5,INDEX('Základní list'!$B:$B,MATCH($C32,'Základní list'!$A:$A,0),1)+2)","v":7},{"$f":"INDEX('1. závod'!$A:$CH,$D32+5,INDEX('Základní list'!$B:$B,MATCH($C32,'Základní list'!$A:$A,0),1)-2)","v":"Prášek Josef"},{"$f":"INDEX('1. závod'!$A:$CH,$D32+5,INDEX('Základní list'!$B:$B,MATCH($C32,'Základní list'!$A:$A,0),1)-1)","v":"Speed feeder team"},"B",8,{"$f":"INDEX('2. závod'!$A:$CH,$J32+5,INDEX('Základní list'!$B:$B,MATCH($I32,'Základní list'!$A:$A,0),1))","v":4060},{"$f":"INDEX('2. závod'!$A:$CH,$J32+5,INDEX('Základní list'!$B:$B,MATCH($I32,'Základní list'!$A:$A,0),1)+2)","v":8},{"$f":"INDEX('2. závod'!$A:$CH,$J32+5,INDEX('Základní list'!$B:$B,MATCH($I32,'Základní list'!$A:$A,0),1)-2)","v":"Bruckner Martin"},{"$f":"INDEX('2. závod'!$A:$CH,$J32+5,INDEX('Základní list'!$B:$B,MATCH($I32,'Základní list'!$A:$A,0),1)-1)","v":"Fídrové komando"}]
[null,29,"B",9,{"$f":"INDEX('1. závod'!$A:$CH,$D33+5,INDEX('Základní list'!$B:$B,MATCH($C33,'Základní list'!$A:$A,0),1))","v":0},{"$f":"INDEX('1. závod'!$A:$CH,$D33+5,INDEX('Základní list'!$B:$B,MATCH($C33,'Základní list'!$A:$A,0),1)+2)","v":""},{"$f":"INDEX('1. závod'!$A:$CH,$D33+5,INDEX('Základní list'!$B:$B,MATCH($C33,'Základní list'!$A:$A,0),1)-2)","v":""},{"$f":"INDEX('1. závod'!$A:$CH,$D33+5,INDEX('Základní list'!$B:$B,MATCH($C33,'Základní list'!$A:$A,0),1)-1)","v":""},"B",9,{"$f":"INDEX('2. závod'!$A:$CH,$J33+5,INDEX('Základní list'!$B:$B,MATCH($I33,'Základní list'!$A:$A,0),1))","v":0},{"$f":"INDEX('2. závod'!$A:$CH,$J33+5,INDEX('Základní list'!$B:$B,MATCH($I33,'Základní list'!$A:$A,0),1)+2)","v":""},{"$f":"INDEX('2. závod'!$A:$CH,$J33+5,INDEX('Základní list'!$B:$B,MATCH($I33,'Základní list'!$A:$A,0),1)-2)","v":""},{"$f":"INDEX('2. závod'!$A:$CH,$J33+5,INDEX('Základní list'!$B:$B,MATCH($I33,'Základní list'!$A:$A,0),1)-1)","v":""}]
[null,30,"B",10,{"$f":"INDEX('1. závod'!$A:$CH,$D34+5,INDEX('Základní list'!$B:$B,MATCH($C34,'Základní list'!$A:$A,0),1))","v":0},{"$f":"INDEX('1. závod'!$A:$CH,$D34+5,INDEX('Základní list'!$B:$B,MATCH($C34,'Základní list'!$A:$A,0),1)+2)","v":""},{"$f":"INDEX('1. závod'!$A:$CH,$D34+5,INDEX('Základní list'!$B:$B,MATCH($C34,'Základní list'!$A:$A,0),1)-2)","v":""},{"$f":"INDEX('1. závod'!$A:$CH,$D34+5,INDEX('Základní list'!$B:$B,MATCH($C34,'Základní list'!$A:$A,0),1)-1)","v":""},"B",10,{"$f":"INDEX('2. závod'!$A:$CH,$J34+5,INDEX('Základní list'!$B:$B,MATCH($I34,'Základní list'!$A:$A,0),1))","v":0},{"$f":"INDEX('2. závod'!$A:$CH,$J34+5,INDEX('Základní list'!$B:$B,MATCH($I34,'Základní list'!$A:$A,0),1)+2)","v":""},{"$f":"INDEX('2. závod'!$A:$CH,$J34+5,INDEX('Základní list'!$B:$B,MATCH($I34,'Základní list'!$A:$A,0),1)-2)","v":""},{"$f":"INDEX('2. závod'!$A:$CH,$J34+5,INDEX('Základní list'!$B:$B,MATCH($I34,'Základní list'!$A:$A,0),1)-1)","v":""}]
[null,31,"B",11,{"$f":"INDEX('1. závod'!$A:$CH,$D35+5,INDEX('Základní list'!$B:$B,MATCH($C35,'Základní list'!$A:$A,0),1))","v":0},{"$f":"INDEX('1. závod'!$A:$CH,$D35+5,INDEX('Základní list'!$B:$B,MATCH($C35,'Základní list'!$A:$A,0),1)+2)","v":""},{"$f":"INDEX('1. závod'!$A:$CH,$D35+5,INDEX('Základní list'!$B:$B,MATCH($C35,'Základní list'!$A:$A,0),1)-2)","v":""},{"$f":"INDEX('1. závod'!$A:$CH,$D35+5,INDEX('Základní list'!$B:$B,MATCH($C35,'Základní list'!$A:$A,0),1)-1)","v":""},"B",11,{"$f":"INDEX('2. závod'!$A:$CH,$J35+5,INDEX('Základní list'!$B:$B,MATCH($I35,'Základní list'!$A:$A,0),1))","v":0},{"$f":"INDEX('2. závod'!$A:$CH,$J35+5,INDEX('Základní list'!$B:$B,MATCH($I35,'Základní list'!$A:$A,0),1)+2)","v":""},{"$f":"INDEX('2. závod'!$A:$CH,$J35+5,INDEX('Základní list'!$B:$B,MATCH($I35,'Základní list'!$A:$A,0),1)-2)","v":""},{"$f":"INDEX('2. závod'!$A:$CH,$J35+5,INDEX('Základní list'!$B:$B,MATCH($I35,'Základní list'!$A:$A,0),1)-1)","v":""}]
[null,32,"B",12,{"$f":"INDEX('1. závod'!$A:$CH,$D36+5,INDEX('Základní list'!$B:$B,MATCH($C36,'Základní list'!$A:$A,0),1))","v":0},{"$f":"INDEX('1. závod'!$A:$CH,$D36+5,INDEX('Základní list'!$B:$B,MATCH($C36,'Základní list'!$A:$A,0),1)+2)","v":""},{"$f":"INDEX('1. závod'!$A:$CH,$D36+5,INDEX('Základní list'!$B:$B,MATCH($C36,'Základní list'!$A:$A,0),1)-2)","v":""},{"$f":"INDEX('1. závod'!$A:$CH,$D36+5,INDEX('Základní list'!$B:$B,MATCH($C36,'Základní list'!$A:$A,0),1)-1)","v":""},"B",12,{"$f":"INDEX('2. závod'!$A:$CH,$J36+5,INDEX('Základní list'!$B:$B,MATCH($I36,'Základní list'!$A:$A,0),1))","v":0},{"$f":"INDEX('2. závod'!$A:$CH,$J36+5,INDEX('Základní list'!$B:$B,MATCH($I36,'Základní list'!$A:$A,0),1)+2)","v":""},{"$f":"INDEX('2. závod'!$A:$CH,$J36+5,INDEX('Základní list'!$B:$B,MATCH($I36,'Základní list'!$A:$A,0),1)-2)","v":""},{"$f":"INDEX('2. závod'!$A:$CH,$J36+5,INDEX('Základní list'!$B:$B,MATCH($I36,'Základní list'!$A:$A,0),1)-1)","v":""}]
[null,33,"B",13,{"$f":"INDEX('1. závod'!$A:$CH,$D37+5,INDEX('Základní list'!$B:$B,MATCH($C37,'Základní list'!$A:$A,0),1))","v":0},{"$f":"INDEX('1. závod'!$A:$CH,$D37+5,INDEX('Základní list'!$B:$B,MATCH($C37,'Základní list'!$A:$A,0),1)+2)","v":""},{"$f":"INDEX('1. závod'!$A:$CH,$D37+5,INDEX('Základní list'!$B:$B,MATCH($C37,'Základní list'!$A:$A,0),1)-2)","v":""},{"$f":"INDEX('1. závod'!$A:$CH,$D37+5,INDEX('Základní list'!$B:$B,MATCH($C37,'Základní list'!$A:$A,0),1)-1)","v":""},"B",13,{"$f":"INDEX('2. závod'!$A:$CH,$J37+5,INDEX('Základní list'!$B:$B,MATCH($I37,'Základní list'!$A:$A,0),1))","v":0},{"$f":"INDEX('2. závod'!$A:$CH,$J37+5,INDEX('Základní list'!$B:$B,MATCH($I37,'Základní list'!$A:$A,0),1)+2)","v":""},{"$f":"INDEX('2. závod'!$A:$CH,$J37+5,INDEX('Základní list'!$B:$B,MATCH($I37,'Základní list'!$A:$A,0),1)-2)","v":""},{"$f":"INDEX('2. závod'!$A:$CH,$J37+5,INDEX('Základní list'!$B:$B,MATCH($I37,'Základní list'!$A:$A,0),1)-1)","v":""}]
[null,34,"B",14,{"$f":"INDEX('1. závod'!$A:$CH,$D38+5,INDEX('Základní list'!$B:$B,MATCH($C38,'Základní list'!$A:$A,0),1))","v":0},{"$f":"INDEX('1. závod'!$A:$CH,$D38+5,INDEX('Základní list'!$B:$B,MATCH($C38,'Základní list'!$A:$A,0),1)+2)","v":""},{"$f":"INDEX('1. závod'!$A:$CH,$D38+5,INDEX('Základní list'!$B:$B,MATCH($C38,'Základní list'!$A:$A,0),1)-2)","v":""},{"$f":"INDEX('1. závod'!$A:$CH,$D38+5,INDEX('Základní list'!$B:$B,MATCH($C38,'Základní list'!$A:$A,0),1)-1)","v":""},"B",14,{"$f":"INDEX('2. závod'!$A:$CH,$J38+5,INDEX('Základní list'!$B:$B,MATCH($I38,'Základní list'!$A:$A,0),1))","v":0},{"$f":"INDEX('2. závod'!$A:$CH,$J38+5,INDEX('Základní list'!$B:$B,MATCH($I38,'Základní list'!$A:$A,0),1)+2)","v":""},{"$f":"INDEX('2. závod'!$A:$CH,$J38+5,INDEX('Základní list'!$B:$B,MATCH($I38,'Základní list'!$A:$A,0),1)-2)","v":""},{"$f":"INDEX('2. závod'!$A:$CH,$J38+5,INDEX('Základní list'!$B:$B,MATCH($I38,'Základní list'!$A:$A,0),1)-1)","v":""}]
[null,35,"B",15,{"$f":"INDEX('1. závod'!$A:$CH,$D39+5,INDEX('Základní list'!$B:$B,MATCH($C39,'Základní list'!$A:$A,0),1))","v":0},{"$f":"INDEX('1. závod'!$A:$CH,$D39+5,INDEX('Základní list'!$B:$B,MATCH($C39,'Základní list'!$A:$A,0),1)+2)","v":""},{"$f":"INDEX('1. závod'!$A:$CH,$D39+5,INDEX('Základní list'!$B:$B,MATCH($C39,'Základní list'!$A:$A,0),1)-2)","v":""},{"$f":"INDEX('1. závod'!$A:$CH,$D39+5,INDEX('Základní list'!$B:$B,MATCH($C39,'Základní list'!$A:$A,0),1)-1)","v":""},"B",15,{"$f":"INDEX('2. závod'!$A:$CH,$J39+5,INDEX('Základní list'!$B:$B,MATCH($I39,'Základní list'!$A:$A,0),1))","v":0},{"$f":"INDEX('2. závod'!$A:$CH,$J39+5,INDEX('Základní list'!$B:$B,MATCH($I39,'Základní list'!$A:$A,0),1)+2)","v":""},{"$f":"INDEX('2. závod'!$A:$CH,$J39+5,INDEX('Základní list'!$B:$B,MATCH($I39,'Základní list'!$A:$A,0),1)-2)","v":""},{"$f":"INDEX('2. závod'!$A:$CH,$J39+5,INDEX('Základní list'!$B:$B,MATCH($I39,'Základní list'!$A:$A,0),1)-1)","v":""}]
[null,36,"B",16,{"$f":"INDEX('1. závod'!$A:$CH,$D40+5,INDEX('Základní list'!$B:$B,MATCH($C40,'Základní list'!$A:$A,0),1))","v":0},{"$f":"INDEX('1. závod'!$A:$CH,$D40+5,INDEX('Základní list'!$B:$B,MATCH($C40,'Základní list'!$A:$A,0),1)+2)","v":""},{"$f":"INDEX('1. závod'!$A:$CH,$D40+5,INDEX('Základní list'!$B:$B,MATCH($C40,'Základní list'!$A:$A,0),1)-2)","v":""},{"$f":"INDEX('1. závod'!$A:$CH,$D40+5,INDEX('Základní list'!$B:$B,MATCH($C40,'Základní list'!$A:$A,0),1)-1)","v":""},"B",16,{"$f":"INDEX('2. závod'!$A:$CH,$J40+5,INDEX('Základní list'!$B:$B,MATCH($I40,'Základní list'!$A:$A,0),1))","v":0},{"$f":"INDEX('2. závod'!$A:$CH,$J40+5,INDEX('Základní list'!$B:$B,MATCH($I40,'Základní list'!$A:$A,0),1)+2)","v":""},{"$f":"INDEX('2. závod'!$A:$CH,$J40+5,INDEX('Základní list'!$B:$B,MATCH($I40,'Základní list'!$A:$A,0),1)-2)","v":""},{"$f":"INDEX('2. závod'!$A:$CH,$J40+5,INDEX('Základní list'!$B:$B,MATCH($I40,'Základní list'!$A:$A,0),1)-1)","v":""}]
[null,37,"B",17,{"$f":"INDEX('1. závod'!$A:$CH,$D41+5,INDEX('Základní list'!$B:$B,MATCH($C41,'Základní list'!$A:$A,0),1))","v":0},{"$f":"INDEX('1. závod'!$A:$CH,$D41+5,INDEX('Základní list'!$B:$B,MATCH($C41,'Základní list'!$A:$A,0),1)+2)","v":""},{"$f":"INDEX('1. závod'!$A:$CH,$D41+5,INDEX('Základní list'!$B:$B,MATCH($C41,'Základní list'!$A:$A,0),1)-2)","v":""},{"$f":"INDEX('1. závod'!$A:$CH,$D41+5,INDEX('Základní list'!$B:$B,MATCH($C41,'Základní list'!$A:$A,0),1)-1)","v":""},"B",17,{"$f":"INDEX('2. závod'!$A:$CH,$J41+5,INDEX('Základní list'!$B:$B,MATCH($I41,'Základní list'!$A:$A,0),1))","v":0},{"$f":"INDEX('2. závod'!$A:$CH,$J41+5,INDEX('Základní list'!$B:$B,MATCH($I41,'Základní list'!$A:$A,0),1)+2)","v":""},{"$f":"INDEX('2. závod'!$A:$CH,$J41+5,INDEX('Základní list'!$B:$B,MATCH($I41,'Základní list'!$A:$A,0),1)-2)","v":""},{"$f":"INDEX('2. závod'!$A:$CH,$J41+5,INDEX('Základní list'!$B:$B,MATCH($I41,'Základní list'!$A:$A,0),1)-1)","v":""}]
[null,38,"B",18,{"$f":"INDEX('1. závod'!$A:$CH,$D42+5,INDEX('Základní list'!$B:$B,MATCH($C42,'Základní list'!$A:$A,0),1))","v":0},{"$f":"INDEX('1. závod'!$A:$CH,$D42+5,INDEX('Základní list'!$B:$B,MATCH($C42,'Základní list'!$A:$A,0),1)+2)","v":""},{"$f":"INDEX('1. závod'!$A:$CH,$D42+5,INDEX('Základní list'!$B:$B,MATCH($C42,'Základní list'!$A:$A,0),1)-2)","v":""},{"$f":"INDEX('1. závod'!$A:$CH,$D42+5,INDEX('Základní list'!$B:$B,MATCH($C42,'Základní list'!$A:$A,0),1)-1)","v":""},"B",18,{"$f":"INDEX('2. závod'!$A:$CH,$J42+5,INDEX('Základní list'!$B:$B,MATCH($I42,'Základní list'!$A:$A,0),1))","v":0},{"$f":"INDEX('2. závod'!$A:$CH,$J42+5,INDEX('Základní list'!$B:$B,MATCH($I42,'Základní list'!$A:$A,0),1)+2)","v":""},{"$f":"INDEX('2. závod'!$A:$CH,$J42+5,INDEX('Základní list'!$B:$B,MATCH($I42,'Základní list'!$A:$A,0),1)-2)","v":""},{"$f":"INDEX('2. závod'!$A:$CH,$J42+5,INDEX('Základní list'!$B:$B,MATCH($I42,'Základní list'!$A:$A,0),1)-1)","v":""}]
[null,39,"B",19,{"$f":"INDEX('1. závod'!$A:$CH,$D43+5,INDEX('Základní list'!$B:$B,MATCH($C43,'Základní list'!$A:$A,0),1))","v":0},{"$f":"INDEX('1. závod'!$A:$CH,$D43+5,INDEX('Základní list'!$B:$B,MATCH($C43,'Základní list'!$A:$A,0),1)+2)","v":""},{"$f":"INDEX('1. závod'!$A:$CH,$D43+5,INDEX('Základní list'!$B:$B,MATCH($C43,'Základní list'!$A:$A,0),1)-2)","v":""},{"$f":"INDEX('1. závod'!$A:$CH,$D43+5,INDEX('Základní list'!$B:$B,MATCH($C43,'Základní list'!$A:$A,0),1)-1)","v":""},"B",19,{"$f":"INDEX('2. závod'!$A:$CH,$J43+5,INDEX('Základní list'!$B:$B,MATCH($I43,'Základní list'!$A:$A,0),1))","v":0},{"$f":"INDEX('2. závod'!$A:$CH,$J43+5,INDEX('Základní list'!$B:$B,MATCH($I43,'Základní list'!$A:$A,0),1)+2)","v":""},{"$f":"INDEX('2. závod'!$A:$CH,$J43+5,INDEX('Základní list'!$B:$B,MATCH($I43,'Základní list'!$A:$A,0),1)-2)","v":""},{"$f":"INDEX('2. závod'!$A:$CH,$J43+5,INDEX('Základní list'!$B:$B,MATCH($I43,'Základní list'!$A:$A,0),1)-1)","v":""}]
[null,40,"B",20,{"$f":"INDEX('1. závod'!$A:$CH,$D44+5,INDEX('Základní list'!$B:$B,MATCH($C44,'Základní list'!$A:$A,0),1))","v":0},{"$f":"INDEX('1. závod'!$A:$CH,$D44+5,INDEX('Základní list'!$B:$B,MATCH($C44,'Základní list'!$A:$A,0),1)+2)","v":""},{"$f":"INDEX('1. závod'!$A:$CH,$D44+5,INDEX('Základní list'!$B:$B,MATCH($C44,'Základní list'!$A:$A,0),1)-2)","v":""},{"$f":"INDEX('1. závod'!$A:$CH,$D44+5,INDEX('Základní list'!$B:$B,MATCH($C44,'Základní list'!$A:$A,0),1)-1)","v":""},"B",20,{"$f":"INDEX('2. závod'!$A:$CH,$J44+5,INDEX('Základní list'!$B:$B,MATCH($I44,'Základní list'!$A:$A,0),1))","v":0},{"$f":"INDEX('2. závod'!$A:$CH,$J44+5,INDEX('Základní list'!$B:$B,MATCH($I44,'Základní list'!$A:$A,0),1)+2)","v":""},{"$f":"INDEX('2. závod'!$A:$CH,$J44+5,INDEX('Základní list'!$B:$B,MATCH($I44,'Základní list'!$A:$A,0),1)-2)","v":""},{"$f":"INDEX('2. závod'!$A:$CH,$J44+5,INDEX('Základní list'!$B:$B,MATCH($I44,'Základní list'!$A:$A,0),1)-1)","v":""}]
[null,41,"C",1,{"$f":"INDEX('1. závod'!$A:$CH,$D45+5,INDEX('Základní list'!$B:$B,MATCH($C45,'Základní list'!$A:$A,0),1))","v":7960},{"$f":"INDEX('1. závod'!$A:$CH,$D45+5,INDEX('Základní list'!$B:$B,MATCH($C45,'Základní list'!$A:$A,0),1)+2)","v":3},{"$f":"INDEX('1. závod'!$A:$CH,$D45+5,INDEX('Základní list'!$B:$B,MATCH($C45,'Základní list'!$A:$A,0),1)-2)","v":"Chadraba Petr"},{"$f":"INDEX('1. závod'!$A:$CH,$D45+5,INDEX('Základní list'!$B:$B,MATCH($C45,'Základní list'!$A:$A,0),1)-1)","v":"MILO Feeder Team JIHOSEVERÁCI"},"C",1,{"$f":"INDEX('2. závod'!$A:$CH,$J45+5,INDEX('Základní list'!$B:$B,MATCH($I45,'Základní list'!$A:$A,0),1))","v":9300},{"$f":"INDEX('2. závod'!$A:$CH,$J45+5,INDEX('Základní list'!$B:$B,MATCH($I45,'Základní list'!$A:$A,0),1)+2)","v":1},{"$f":"INDEX('2. závod'!$A:$CH,$J45+5,INDEX('Základní list'!$B:$B,MATCH($I45,'Základní list'!$A:$A,0),1)-2)","v":"Kunst Antonín"},{"$f":"INDEX('2. závod'!$A:$CH,$J45+5,INDEX('Základní list'!$B:$B,MATCH($I45,'Základní list'!$A:$A,0),1)-1)","v":"Fish Angels"}]
[null,42,"C",2,{"$f":"INDEX('1. závod'!$A:$CH,$D46+5,INDEX('Základní list'!$B:$B,MATCH($C46,'Základní list'!$A:$A,0),1))","v":14560},{"$f":"INDEX('1. závod'!$A:$CH,$D46+5,INDEX('Základní list'!$B:$B,MATCH($C46,'Základní list'!$A:$A,0),1)+2)","v":1},{"$f":"INDEX('1. závod'!$A:$CH,$D46+5,INDEX('Základní list'!$B:$B,MATCH($C46,'Základní list'!$A:$A,0),1)-2)","v":"Radek Černý"},{"$f":"INDEX('1. závod'!$A:$CH,$D46+5,INDEX('Základní list'!$B:$B,MATCH($C46,'Základní list'!$A:$A,0),1)-1)","v":"Ševčovi pacholci"},"C",2,{"$f":"INDEX('2. závod'!$A:$CH,$J46+5,INDEX('Základní list'!$B:$B,MATCH($I46,'Základní list'!$A:$A,0),1))","v":5000},{"$f":"INDEX('2. závod'!$A:$CH,$J46+5,INDEX('Základní list'!$B:$B,MATCH($I46,'Základní list'!$A:$A,0),1)+2)","v":3},{"$f":"INDEX('2. závod'!$A:$CH,$J46+5,INDEX('Základní list'!$B:$B,MATCH($I46,'Základní list'!$A:$A,0),1)-2)","v":"Tomšík Jan"},{"$f":"INDEX('2. závod'!$A:$CH,$J46+5,INDEX('Základní list'!$B:$B,MATCH($I46,'Základní list'!$A:$A,0),1)-1)","v":"Speed feeder team"}]
[null,43,"C",3,{"$f":"INDEX('1. závod'!$A:$CH,$D47+5,INDEX('Základní list'!$B:$B,MATCH($C47,'Základní list'!$A:$A,0),1))","v":12600},{"$f":"INDEX('1. závod'!$A:$CH,$D47+5,INDEX('Základní list'!$B:$B,MATCH($C47,'Základní list'!$A:$A,0),1)+2)","v":2},{"$f":"INDEX('1. závod'!$A:$CH,$D47+5,INDEX('Základní list'!$B:$B,MATCH($C47,'Základní list'!$A:$A,0),1)-2)","v":"Stárek Jan"},{"$f":"INDEX('1. závod'!$A:$CH,$D47+5,INDEX('Základní list'!$B:$B,MATCH($C47,'Základní list'!$A:$A,0),1)-1)","v":"Ždárský kavky"},"C",3,{"$f":"INDEX('2. závod'!$A:$CH,$J47+5,INDEX('Základní list'!$B:$B,MATCH($I47,'Základní list'!$A:$A,0),1))","v":8220},{"$f":"INDEX('2. závod'!$A:$CH,$J47+5,INDEX('Základní list'!$B:$B,MATCH($I47,'Základní list'!$A:$A,0),1)+2)","v":2},{"$f":"INDEX('2. závod'!$A:$CH,$J47+5,INDEX('Základní list'!$B:$B,MATCH($I47,'Základní list'!$A:$A,0),1)-2)","v":"Zavřel Jan"},{"$f":"INDEX('2. závod'!$A:$CH,$J47+5,INDEX('Základní list'!$B:$B,MATCH($I47,'Základní list'!$A:$A,0),1)-1)","v":"Zauwíci"}]
[null,44,"C",4,{"$f":"INDEX('1. závod'!$A:$CH,$D48+5,INDEX('Základní list'!$B:$B,MATCH($C48,'Základní list'!$A:$A,0),1))","v":1960},{"$f":"INDEX('1. závod'!$A:$CH,$D48+5,INDEX('Základní list'!$B:$B,MATCH($C48,'Základní list'!$A:$A,0),1)+2)","v":8},{"$f":"INDEX('1. závod'!$A:$CH,$D48+5,INDEX('Základní list'!$B:$B,MATCH($C48,'Základní list'!$A:$A,0),1)-2)","v":"Frič Michal"},{"$f":"INDEX('1. závod'!$A:$CH,$D48+5,INDEX('Základní list'!$B:$B,MATCH($C48,'Základní list'!$A:$A,0),1)-1)","v":"Fídrové komando"},"C",4,{"$f":"INDEX('2. závod'!$A:$CH,$J48+5,INDEX('Základní list'!$B:$B,MATCH($I48,'Základní list'!$A:$A,0),1))","v":3720},{"$f":"INDEX('2. závod'!$A:$CH,$J48+5,INDEX('Základní list'!$B:$B,MATCH($I48,'Základní list'!$A:$A,0),1)+2)","v":7},{"$f":"INDEX('2. závod'!$A:$CH,$J48+5,INDEX('Základní list'!$B:$B,MATCH($I48,'Základní list'!$A:$A,0),1)-2)","v":"Revai Miroslav"},{"$f":"INDEX('2. závod'!$A:$CH,$J48+5,INDEX('Základní list'!$B:$B,MATCH($I48,'Základní list'!$A:$A,0),1)-1)","v":"Feeder team Vlci-MRS"}]
[null,45,"C",5,{"$f":"INDEX('1. závod'!$A:$CH,$D49+5,INDEX('Základní list'!$B:$B,MATCH($C49,'Základní list'!$A:$A,0),1))","v":5240},{"$f":"INDEX('1. závod'!$A:$CH,$D49+5,INDEX('Základní list'!$B:$B,MATCH($C49,'Základní list'!$A:$A,0),1)+2)","v":6},{"$f":"INDEX('1. závod'!$A:$CH,$D49+5,INDEX('Základní list'!$B:$B,MATCH($C49,'Základní list'!$A:$A,0),1)-2)","v":"Denemarek Jiří"},{"$f":"INDEX('1. závod'!$A:$CH,$D49+5,INDEX('Základní list'!$B:$B,MATCH($C49,'Základní list'!$A:$A,0),1)-1)","v":"Fish Angels"},"C",5,{"$f":"INDEX('2. závod'!$A:$CH,$J49+5,INDEX('Základní list'!$B:$B,MATCH($I49,'Základní list'!$A:$A,0),1))","v":4880},{"$f":"INDEX('2. závod'!$A:$CH,$J49+5,INDEX('Základní list'!$B:$B,MATCH($I49,'Základní list'!$A:$A,0),1)+2)","v":4},{"$f":"INDEX('2. závod'!$A:$CH,$J49+5,INDEX('Základní list'!$B:$B,MATCH($I49,'Základní list'!$A:$A,0),1)-2)","v":"Fabík Zdeněk"},{"$f":"INDEX('2. závod'!$A:$CH,$J49+5,INDEX('Základní list'!$B:$B,MATCH($I49,'Základní list'!$A:$A,0),1)-1)","v":"Ždárský kavky"}]
[null,46,"C",6,{"$f":"INDEX('1. závod'!$A:$CH,$D50+5,INDEX('Základní list'!$B:$B,MATCH($C50,'Základní list'!$A:$A,0),1))","v":5280},{"$f":"INDEX('1. závod'!$A:$CH,$D50+5,INDEX('Základní list'!$B:$B,MATCH($C50,'Základní list'!$A:$A,0),1)+2)","v":5},{"$f":"INDEX('1. závod'!$A:$CH,$D50+5,INDEX('Základní list'!$B:$B,MATCH($C50,'Základní list'!$A:$A,0),1)-2)","v":"Bartl Petr"},{"$f":"INDEX('1. závod'!$A:$CH,$D50+5,INDEX('Základní list'!$B:$B,MATCH($C50,'Základní list'!$A:$A,0),1)-1)","v":"Feeder team Vlci-Mrs"},"C",6,{"$f":"INDEX('2. závod'!$A:$CH,$J50+5,INDEX('Základní list'!$B:$B,MATCH($I50,'Základní list'!$A:$A,0),1))","v":3820},{"$f":"INDEX('2. závod'!$A:$CH,$J50+5,INDEX('Základní list'!$B:$B,MATCH($I50,'Základní list'!$A:$A,0),1)+2)","v":6},{"$f":"INDEX('2. závod'!$A:$CH,$J50+5,INDEX('Základní list'!$B:$B,MATCH($I50,'Základní list'!$A:$A,0),1)-2)","v":"Peřina Josef"},{"$f":"INDEX('2. závod'!$A:$CH,$J50+5,INDEX('Základní list'!$B:$B,MATCH($I50,'Základní list'!$A:$A,0),1)-1)","v":"MILO Feeder Team JIHOSEVERÁCI"}]
[null,47,"C",7,{"$f":"INDEX('1. závod'!$A:$CH,$D51+5,INDEX('Základní list'!$B:$B,MATCH($C51,'Základní list'!$A:$A,0),1))","v":2900},{"$f":"INDEX('1. závod'!$A:$CH,$D51+5,INDEX('Základní list'!$B:$B,MATCH($C51,'Základní list'!$A:$A,0),1)+2)","v":7},{"$f":"INDEX('1. závod'!$A:$CH,$D51+5,INDEX('Základní list'!$B:$B,MATCH($C51,'Základní list'!$A:$A,0),1)-2)","v":"Šťovčík Viktor"},{"$f":"INDEX('1. závod'!$A:$CH,$D51+5,INDEX('Základní list'!$B:$B,MATCH($C51,'Základní list'!$A:$A,0),1)-1)","v":"Zauwíci"},"C",7,{"$f":"INDEX('2. závod'!$A:$CH,$J51+5,INDEX('Základní list'!$B:$B,MATCH($I51,'Základní list'!$A:$A,0),1))","v":2260},{"$f":"INDEX('2. závod'!$A:$CH,$J51+5,INDEX('Základní list'!$B:$B,MATCH($I51,'Základní list'!$A:$A,0),1)+2)","v":8},{"$f":"INDEX('2. závod'!$A:$CH,$J51+5,INDEX('Základní list'!$B:$B,MATCH($I51,'Základní list'!$A:$A,0),1)-2)","v":"Ševčík Ladislav"},{"$f":"INDEX('2. závod'!$A:$CH,$J51+5,INDEX('Základní list'!$B:$B,MATCH($I51,'Základní list'!$A:$A,0),1)-1)","v":"Ševčovi pacholci"}]
[null,48,"C",8,{"$f":"INDEX('1. závod'!$A:$CH,$D52+5,INDEX('Základní list'!$B:$B,MATCH($C52,'Základní list'!$A:$A,0),1))","v":5920},{"$f":"INDEX('1. závod'!$A:$CH,$D52+5,INDEX('Základní list'!$B:$B,MATCH($C52,'Základní list'!$A:$A,0),1)+2)","v":4},{"$f":"INDEX('1. závod'!$A:$CH,$D52+5,INDEX('Základní list'!$B:$B,MATCH($C52,'Základní list'!$A:$A,0),1)-2)","v":"Tomšík Jan"},{"$f":"INDEX('1. závod'!$A:$CH,$D52+5,INDEX('Základní list'!$B:$B,MATCH($C52,'Základní list'!$A:$A,0),1)-1)","v":"Speed feeder team"},"C",8,{"$f":"INDEX('2. závod'!$A:$CH,$J52+5,INDEX('Základní list'!$B:$B,MATCH($I52,'Základní list'!$A:$A,0),1))","v":4420},{"$f":"INDEX('2. závod'!$A:$CH,$J52+5,INDEX('Základní list'!$B:$B,MATCH($I52,'Základní list'!$A:$A,0),1)+2)","v":5},{"$f":"INDEX('2. závod'!$A:$CH,$J52+5,INDEX('Základní list'!$B:$B,MATCH($I52,'Základní list'!$A:$A,0),1)-2)","v":"Pečta Radek"},{"$f":"INDEX('2. závod'!$A:$CH,$J52+5,INDEX('Základní list'!$B:$B,MATCH($I52,'Základní list'!$A:$A,0),1)-1)","v":"Fídrové komando"}]
[null,49,"C",9,{"$f":"INDEX('1. závod'!$A:$CH,$D53+5,INDEX('Základní list'!$B:$B,MATCH($C53,'Základní list'!$A:$A,0),1))","v":0},{"$f":"INDEX('1. závod'!$A:$CH,$D53+5,INDEX('Základní list'!$B:$B,MATCH($C53,'Základní list'!$A:$A,0),1)+2)","v":""},{"$f":"INDEX('1. závod'!$A:$CH,$D53+5,INDEX('Základní list'!$B:$B,MATCH($C53,'Základní list'!$A:$A,0),1)-2)","v":""},{"$f":"INDEX('1. závod'!$A:$CH,$D53+5,INDEX('Základní list'!$B:$B,MATCH($C53,'Základní list'!$A:$A,0),1)-1)","v":""},"C",9,{"$f":"INDEX('2. závod'!$A:$CH,$J53+5,INDEX('Základní list'!$B:$B,MATCH($I53,'Základní list'!$A:$A,0),1))","v":0},{"$f":"INDEX('2. závod'!$A:$CH,$J53+5,INDEX('Základní list'!$B:$B,MATCH($I53,'Základní list'!$A:$A,0),1)+2)","v":""},{"$f":"INDEX('2. závod'!$A:$CH,$J53+5,INDEX('Základní list'!$B:$B,MATCH($I53,'Základní list'!$A:$A,0),1)-2)","v":""},{"$f":"INDEX('2. závod'!$A:$CH,$J53+5,INDEX('Základní list'!$B:$B,MATCH($I53,'Základní list'!$A:$A,0),1)-1)","v":""}]
[null,50,"C",10,{"$f":"INDEX('1. závod'!$A:$CH,$D54+5,INDEX('Základní list'!$B:$B,MATCH($C54,'Základní list'!$A:$A,0),1))","v":0},{"$f":"INDEX('1. závod'!$A:$CH,$D54+5,INDEX('Základní list'!$B:$B,MATCH($C54,'Základní list'!$A:$A,0),1)+2)","v":""},{"$f":"INDEX('1. závod'!$A:$CH,$D54+5,INDEX('Základní list'!$B:$B,MATCH($C54,'Základní list'!$A:$A,0),1)-2)","v":""},{"$f":"INDEX('1. závod'!$A:$CH,$D54+5,INDEX('Základní list'!$B:$B,MATCH($C54,'Základní list'!$A:$A,0),1)-1)","v":""},"C",10,{"$f":"INDEX('2. závod'!$A:$CH,$J54+5,INDEX('Základní list'!$B:$B,MATCH($I54,'Základní list'!$A:$A,0),1))","v":0},{"$f":"INDEX('2. závod'!$A:$CH,$J54+5,INDEX('Základní list'!$B:$B,MATCH($I54,'Základní list'!$A:$A,0),1)+2)","v":""},{"$f":"INDEX('2. závod'!$A:$CH,$J54+5,INDEX('Základní list'!$B:$B,MATCH($I54,'Základní list'!$A:$A,0),1)-2)","v":""},{"$f":"INDEX('2. závod'!$A:$CH,$J54+5,INDEX('Základní list'!$B:$B,MATCH($I54,'Základní list'!$A:$A,0),1)-1)","v":""}]
[null,51,"C",11,{"$f":"INDEX('1. závod'!$A:$CH,$D55+5,INDEX('Základní list'!$B:$B,MATCH($C55,'Základní list'!$A:$A,0),1))","v":0},{"$f":"INDEX('1. závod'!$A:$CH,$D55+5,INDEX('Základní list'!$B:$B,MATCH($C55,'Základní list'!$A:$A,0),1)+2)","v":""},{"$f":"INDEX('1. závod'!$A:$CH,$D55+5,INDEX('Základní list'!$B:$B,MATCH($C55,'Základní list'!$A:$A,0),1)-2)","v":""},{"$f":"INDEX('1. závod'!$A:$CH,$D55+5,INDEX('Základní list'!$B:$B,MATCH($C55,'Základní list'!$A:$A,0),1)-1)","v":""},"C",11,{"$f":"INDEX('2. závod'!$A:$CH,$J55+5,INDEX('Základní list'!$B:$B,MATCH($I55,'Základní list'!$A:$A,0),1))","v":0},{"$f":"INDEX('2. závod'!$A:$CH,$J55+5,INDEX('Základní list'!$B:$B,MATCH($I55,'Základní list'!$A:$A,0),1)+2)","v":""},{"$f":"INDEX('2. závod'!$A:$CH,$J55+5,INDEX('Základní list'!$B:$B,MATCH($I55,'Základní list'!$A:$A,0),1)-2)","v":""},{"$f":"INDEX('2. závod'!$A:$CH,$J55+5,INDEX('Základní list'!$B:$B,MATCH($I55,'Základní list'!$A:$A,0),1)-1)","v":""}]
[null,52,"C",12,{"$f":"INDEX('1. závod'!$A:$CH,$D56+5,INDEX('Základní list'!$B:$B,MATCH($C56,'Základní list'!$A:$A,0),1))","v":0},{"$f":"INDEX('1. závod'!$A:$CH,$D56+5,INDEX('Základní list'!$B:$B,MATCH($C56,'Základní list'!$A:$A,0),1)+2)","v":""},{"$f":"INDEX('1. závod'!$A:$CH,$D56+5,INDEX('Základní list'!$B:$B,MATCH($C56,'Základní list'!$A:$A,0),1)-2)","v":""},{"$f":"INDEX('1. závod'!$A:$CH,$D56+5,INDEX('Základní list'!$B:$B,MATCH($C56,'Základní list'!$A:$A,0),1)-1)","v":""},"C",12,{"$f":"INDEX('2. závod'!$A:$CH,$J56+5,INDEX('Základní list'!$B:$B,MATCH($I56,'Základní list'!$A:$A,0),1))","v":0},{"$f":"INDEX('2. závod'!$A:$CH,$J56+5,INDEX('Základní list'!$B:$B,MATCH($I56,'Základní list'!$A:$A,0),1)+2)","v":""},{"$f":"INDEX('2. závod'!$A:$CH,$J56+5,INDEX('Základní list'!$B:$B,MATCH($I56,'Základní list'!$A:$A,0),1)-2)","v":""},{"$f":"INDEX('2. závod'!$A:$CH,$J56+5,INDEX('Základní list'!$B:$B,MATCH($I56,'Základní list'!$A:$A,0),1)-1)","v":""}]
[null,53,"C",13,{"$f":"INDEX('1. závod'!$A:$CH,$D57+5,INDEX('Základní list'!$B:$B,MATCH($C57,'Základní list'!$A:$A,0),1))","v":0},{"$f":"INDEX('1. závod'!$A:$CH,$D57+5,INDEX('Základní list'!$B:$B,MATCH($C57,'Základní list'!$A:$A,0),1)+2)","v":""},{"$f":"INDEX('1. závod'!$A:$CH,$D57+5,INDEX('Základní list'!$B:$B,MATCH($C57,'Základní list'!$A:$A,0),1)-2)","v":""},{"$f":"INDEX('1. závod'!$A:$CH,$D57+5,INDEX('Základní list'!$B:$B,MATCH($C57,'Základní list'!$A:$A,0),1)-1)","v":""},"C",13,{"$f":"INDEX('2. závod'!$A:$CH,$J57+5,INDEX('Základní list'!$B:$B,MATCH($I57,'Základní list'!$A:$A,0),1))","v":0},{"$f":"INDEX('2. závod'!$A:$CH,$J57+5,INDEX('Základní list'!$B:$B,MATCH($I57,'Základní list'!$A:$A,0),1)+2)","v":""},{"$f":"INDEX('2. závod'!$A:$CH,$J57+5,INDEX('Základní list'!$B:$B,MATCH($I57,'Základní list'!$A:$A,0),1)-2)","v":""},{"$f":"INDEX('2. závod'!$A:$CH,$J57+5,INDEX('Základní list'!$B:$B,MATCH($I57,'Základní list'!$A:$A,0),1)-1)","v":""}]
[null,54,"C",14,{"$f":"INDEX('1. závod'!$A:$CH,$D58+5,INDEX('Základní list'!$B:$B,MATCH($C58,'Základní list'!$A:$A,0),1))","v":0},{"$f":"INDEX('1. závod'!$A:$CH,$D58+5,INDEX('Základní list'!$B:$B,MATCH($C58,'Základní list'!$A:$A,0),1)+2)","v":""},{"$f":"INDEX('1. závod'!$A:$CH,$D58+5,INDEX('Základní list'!$B:$B,MATCH($C58,'Základní list'!$A:$A,0),1)-2)","v":""},{"$f":"INDEX('1. závod'!$A:$CH,$D58+5,INDEX('Základní list'!$B:$B,MATCH($C58,'Základní list'!$A:$A,0),1)-1)","v":""},"C",14,{"$f":"INDEX('2. závod'!$A:$CH,$J58+5,INDEX('Základní list'!$B:$B,MATCH($I58,'Základní list'!$A:$A,0),1))","v":0},{"$f":"INDEX('2. závod'!$A:$CH,$J58+5,INDEX('Základní list'!$B:$B,MATCH($I58,'Základní list'!$A:$A,0),1)+2)","v":""},{"$f":"INDEX('2. závod'!$A:$CH,$J58+5,INDEX('Základní list'!$B:$B,MATCH($I58,'Základní list'!$A:$A,0),1)-2)","v":""},{"$f":"INDEX('2. závod'!$A:$CH,$J58+5,INDEX('Základní list'!$B:$B,MATCH($I58,'Základní list'!$A:$A,0),1)-1)","v":""}]
[null,55,"C",15,{"$f":"INDEX('1. závod'!$A:$CH,$D59+5,INDEX('Základní list'!$B:$B,MATCH($C59,'Základní list'!$A:$A,0),1))","v":0},{"$f":"INDEX('1. závod'!$A:$CH,$D59+5,INDEX('Základní list'!$B:$B,MATCH($C59,'Základní list'!$A:$A,0),1)+2)","v":""},{"$f":"INDEX('1. závod'!$A:$CH,$D59+5,INDEX('Základní list'!$B:$B,MATCH($C59,'Základní list'!$A:$A,0),1)-2)","v":""},{"$f":"INDEX('1. závod'!$A:$CH,$D59+5,INDEX('Základní list'!$B:$B,MATCH($C59,'Základní list'!$A:$A,0),1)-1)","v":""},"C",15,{"$f":"INDEX('2. závod'!$A:$CH,$J59+5,INDEX('Základní list'!$B:$B,MATCH($I59,'Základní list'!$A:$A,0),1))","v":0},{"$f":"INDEX('2. závod'!$A:$CH,$J59+5,INDEX('Základní list'!$B:$B,MATCH($I59,'Základní list'!$A:$A,0),1)+2)","v":""},{"$f":"INDEX('2. závod'!$A:$CH,$J59+5,INDEX('Základní list'!$B:$B,MATCH($I59,'Základní list'!$A:$A,0),1)-2)","v":""},{"$f":"INDEX('2. závod'!$A:$CH,$J59+5,INDEX('Základní list'!$B:$B,MATCH($I59,'Základní list'!$A:$A,0),1)-1)","v":""}]
[null,56,"C",16,{"$f":"INDEX('1. závod'!$A:$CH,$D60+5,INDEX('Základní list'!$B:$B,MATCH($C60,'Základní list'!$A:$A,0),1))","v":0},{"$f":"INDEX('1. závod'!$A:$CH,$D60+5,INDEX('Základní list'!$B:$B,MATCH($C60,'Základní list'!$A:$A,0),1)+2)","v":""},{"$f":"INDEX('1. závod'!$A:$CH,$D60+5,INDEX('Základní list'!$B:$B,MATCH($C60,'Základní list'!$A:$A,0),1)-2)","v":""},{"$f":"INDEX('1. závod'!$A:$CH,$D60+5,INDEX('Základní list'!$B:$B,MATCH($C60,'Základní list'!$A:$A,0),1)-1)","v":""},"C",16,{"$f":"INDEX('2. závod'!$A:$CH,$J60+5,INDEX('Základní list'!$B:$B,MATCH($I60,'Základní list'!$A:$A,0),1))","v":0},{"$f":"INDEX('2. závod'!$A:$CH,$J60+5,INDEX('Základní list'!$B:$B,MATCH($I60,'Základní list'!$A:$A,0),1)+2)","v":""},{"$f":"INDEX('2. závod'!$A:$CH,$J60+5,INDEX('Základní list'!$B:$B,MATCH($I60,'Základní list'!$A:$A,0),1)-2)","v":""},{"$f":"INDEX('2. závod'!$A:$CH,$J60+5,INDEX('Základní list'!$B:$B,MATCH($I60,'Základní list'!$A:$A,0),1)-1)","v":""}]
[null,57,"C",17,{"$f":"INDEX('1. závod'!$A:$CH,$D61+5,INDEX('Základní list'!$B:$B,MATCH($C61,'Základní list'!$A:$A,0),1))","v":0},{"$f":"INDEX('1. závod'!$A:$CH,$D61+5,INDEX('Základní list'!$B:$B,MATCH($C61,'Základní list'!$A:$A,0),1)+2)","v":""},{"$f":"INDEX('1. závod'!$A:$CH,$D61+5,INDEX('Základní list'!$B:$B,MATCH($C61,'Základní list'!$A:$A,0),1)-2)","v":""},{"$f":"INDEX('1. závod'!$A:$CH,$D61+5,INDEX('Základní list'!$B:$B,MATCH($C61,'Základní list'!$A:$A,0),1)-1)","v":""},"C",17,{"$f":"INDEX('2. závod'!$A:$CH,$J61+5,INDEX('Základní list'!$B:$B,MATCH($I61,'Základní list'!$A:$A,0),1))","v":0},{"$f":"INDEX('2. závod'!$A:$CH,$J61+5,INDEX('Základní list'!$B:$B,MATCH($I61,'Základní list'!$A:$A,0),1)+2)","v":""},{"$f":"INDEX('2. závod'!$A:$CH,$J61+5,INDEX('Základní list'!$B:$B,MATCH($I61,'Základní list'!$A:$A,0),1)-2)","v":""},{"$f":"INDEX('2. závod'!$A:$CH,$J61+5,INDEX('Základní list'!$B:$B,MATCH($I61,'Základní list'!$A:$A,0),1)-1)","v":""}]
[null,58,"C",18,{"$f":"INDEX('1. závod'!$A:$CH,$D62+5,INDEX('Základní list'!$B:$B,MATCH($C62,'Základní list'!$A:$A,0),1))","v":0},{"$f":"INDEX('1. závod'!$A:$CH,$D62+5,INDEX('Základní list'!$B:$B,MATCH($C62,'Základní list'!$A:$A,0),1)+2)","v":""},{"$f":"INDEX('1. závod'!$A:$CH,$D62+5,INDEX('Základní list'!$B:$B,MATCH($C62,'Základní list'!$A:$A,0),1)-2)","v":""},{"$f":"INDEX('1. závod'!$A:$CH,$D62+5,INDEX('Základní list'!$B:$B,MATCH($C62,'Základní list'!$A:$A,0),1)-1)","v":""},"C",18,{"$f":"INDEX('2. závod'!$A:$CH,$J62+5,INDEX('Základní list'!$B:$B,MATCH($I62,'Základní list'!$A:$A,0),1))","v":0},{"$f":"INDEX('2. závod'!$A:$CH,$J62+5,INDEX('Základní list'!$B:$B,MATCH($I62,'Základní list'!$A:$A,0),1)+2)","v":""},{"$f":"INDEX('2. závod'!$A:$CH,$J62+5,INDEX('Základní list'!$B:$B,MATCH($I62,'Základní list'!$A:$A,0),1)-2)","v":""},{"$f":"INDEX('2. závod'!$A:$CH,$J62+5,INDEX('Základní list'!$B:$B,MATCH($I62,'Základní list'!$A:$A,0),1)-1)","v":""}]
[null,59,"C",19,{"$f":"INDEX('1. závod'!$A:$CH,$D63+5,INDEX('Základní list'!$B:$B,MATCH($C63,'Základní list'!$A:$A,0),1))","v":0},{"$f":"INDEX('1. závod'!$A:$CH,$D63+5,INDEX('Základní list'!$B:$B,MATCH($C63,'Základní list'!$A:$A,0),1)+2)","v":""},{"$f":"INDEX('1. závod'!$A:$CH,$D63+5,INDEX('Základní list'!$B:$B,MATCH($C63,'Základní list'!$A:$A,0),1)-2)","v":""},{"$f":"INDEX('1. závod'!$A:$CH,$D63+5,INDEX('Základní list'!$B:$B,MATCH($C63,'Základní list'!$A:$A,0),1)-1)","v":""},"C",19,{"$f":"INDEX('2. závod'!$A:$CH,$J63+5,INDEX('Základní list'!$B:$B,MATCH($I63,'Základní list'!$A:$A,0),1))","v":0},{"$f":"INDEX('2. závod'!$A:$CH,$J63+5,INDEX('Základní list'!$B:$B,MATCH($I63,'Základní list'!$A:$A,0),1)+2)","v":""},{"$f":"INDEX('2. závod'!$A:$CH,$J63+5,INDEX('Základní list'!$B:$B,MATCH($I63,'Základní list'!$A:$A,0),1)-2)","v":""},{"$f":"INDEX('2. závod'!$A:$CH,$J63+5,INDEX('Základní list'!$B:$B,MATCH($I63,'Základní list'!$A:$A,0),1)-1)","v":""}]
[null,60,"C",20,{"$f":"INDEX('1. závod'!$A:$CH,$D64+5,INDEX('Základní list'!$B:$B,MATCH($C64,'Základní list'!$A:$A,0),1))","v":0},{"$f":"INDEX('1. závod'!$A:$CH,$D64+5,INDEX('Základní list'!$B:$B,MATCH($C64,'Základní list'!$A:$A,0),1)+2)","v":""},{"$f":"INDEX('1. závod'!$A:$CH,$D64+5,INDEX('Základní list'!$B:$B,MATCH($C64,'Základní list'!$A:$A,0),1)-2)","v":""},{"$f":"INDEX('1. závod'!$A:$CH,$D64+5,INDEX('Základní list'!$B:$B,MATCH($C64,'Základní list'!$A:$A,0),1)-1)","v":""},"C",20,{"$f":"INDEX('2. závod'!$A:$CH,$J64+5,INDEX('Základní list'!$B:$B,MATCH($I64,'Základní list'!$A:$A,0),1))","v":0},{"$f":"INDEX('2. závod'!$A:$CH,$J64+5,INDEX('Základní list'!$B:$B,MATCH($I64,'Základní list'!$A:$A,0),1)+2)","v":""},{"$f":"INDEX('2. závod'!$A:$CH,$J64+5,INDEX('Základní list'!$B:$B,MATCH($I64,'Základní list'!$A:$A,0),1)-2)","v":""},{"$f":"INDEX('2. závod'!$A:$CH,$J64+5,INDEX('Základní list'!$B:$B,MATCH($I64,'Základní list'!$A:$A,0),1)-1)","v":""}]

{"sheet":"Graf D až F","index":6,"n_rows":64,"n_cols":14,"rows_kept":64,"cut":false,"hidden":false,"merged":[[0,1,0,34],[1,1,1,34],[2,1,3,1],[2,2,2,7],[2,8,2,13]]}
[null,{"$f":"CONCATENATE('Základní list'!$E$3)","v":"AWA-S cup 2017"}]
[null,{"$f":"CONCATENATE(\"Datum konání: \",'Základní list'!D4,\" - \",'Základní list'!F4)","v":"Datum konání: 26.8.2017 - 26.8.2017"}]
[null,"p.č.","1. závod",null,null,null,null,null,"2. závod"]
[null,null,"sektor","místo","CIPS","Poř.","Závodník","Družstvo","sektor","místo","CIPS","Poř.","Závodník","Družstvo"]
[null,61,"D",1,{"$f":"INDEX('1. závod'!$A:$CH,$D5+5,INDEX('Základní list'!$B:$B,MATCH($C5,'Základní list'!$A:$A,0),1))","v":0},{"$f":"INDEX('1. závod'!$A:$CH,$D5+5,INDEX('Základní list'!$B:$B,MATCH($C5,'Základní list'!$A:$A,0),1)+2)","v":""},{"$f":"INDEX('1. závod'!$A:$CH,$D5+5,INDEX('Základní list'!$B:$B,MATCH($C5,'Základní list'!$A:$A,0),1)-2)","v":""},{"$f":"INDEX('1. závod'!$A:$CH,$D5+5,INDEX('Základní list'!$B:$B,MATCH($C5,'Základní list'!$A:$A,0),1)-1)","v":""},"D",1,{"$f":"INDEX('2. závod'!$A:$CH,$J5+5,INDEX('Základní list'!$B:$B,MATCH($I5,'Základní list'!$A:$A,0),1))","v":0},{"$f":"INDEX('2. závod'!$A:$CH,$J5+5,INDEX('Základní list'!$B:$B,MATCH($I5,'Základní list'!$A:$A,0),1)+2)","v":""},{"$f":"INDEX('2. závod'!$A:$CH,$J5+5,INDEX('Základní list'!$B:$B,MATCH($I5,'Základní list'!$A:$A,0),1)-2)","v":""},{"$f":"INDEX('2. závod'!$A:$CH,$J5+5,INDEX('Základní list'!$B:$B,MATCH($I5,'Základní list'!$A:$A,0),1)-1)","v":""}]
[null,62,"D",2,{"$f":"INDEX('1. závod'!$A:$CH,$D6+5,INDEX('Základní list'!$B:$B,MATCH($C6,'Základní list'!$A:$A,0),1))","v":0},{"$f":"INDEX('1. závod'!$A:$CH,$D6+5,INDEX('Základní list'!$B:$B,MATCH($C6,'Základní list'!$A:$A,0),1)+2)","v":""},{"$f":"INDEX('1. závod'!$A:$CH,$D6+5,INDEX('Základní list'!$B:$B,MATCH($C6,'Základní list'!$A:$A,0),1)-2)","v":""},{"$f":"INDEX('1. závod'!$A:$CH,$D6+5,INDEX('Základní list'!$B:$B,MATCH($C6,'Základní list'!$A:$A,0),1)-1)","v":""},"D",2,{"$f":"INDEX('2. závod'!$A:$CH,$J6+5,INDEX('Základní list'!$B:$B,MATCH($I6,'Základní list'!$A:$A,0),1))","v":0},{"$f":"INDEX('2. závod'!$A:$CH,$J6+5,INDEX('Základní list'!$B:$B,MATCH($I6,'Základní list'!$A:$A,0),1)+2)","v":""},{"$f":"INDEX('2. závod'!$A:$CH,$J6+5,INDEX('Základní list'!$B:$B,MATCH($I6,'Základní list'!$A:$A,0),1)-2)","v":""},{"$f":"INDEX('2. závod'!$A:$CH,$J6+5,INDEX('Základní list'!$B:$B,MATCH($I6,'Základní list'!$A:$A,0),1)-1)","v":""}]
[null,63,"D",3,{"$f":"INDEX('1. závod'!$A:$CH,$D7+5,INDEX('Základní list'!$B:$B,MATCH($C7,'Základní list'!$A:$A,0),1))","v":0},{"$f":"INDEX('1. závod'!$A:$CH,$D7+5,INDEX('Základní list'!$B:$B,MATCH($C7,'Základní list'!$A:$A,0),1)+2)","v":""},{"$f":"INDEX('1. závod'!$A:$CH,$D7+5,INDEX('Základní list'!$B:$B,MATCH($C7,'Základní list'!$A:$A,0),1)-2)","v":""},{"$f":"INDEX('1. závod'!$A:$CH,$D7+5,INDEX('Základní list'!$B:$B,MATCH($C7,'Základní list'!$A:$A,0),1)-1)","v":""},"D",3,{"$f":"INDEX('2. závod'!$A:$CH,$J7+5,INDEX('Základní list'!$B:$B,MATCH($I7,'Základní list'!$A:$A,0),1))","v":0},{"$f":"INDEX('2. závod'!$A:$CH,$J7+5,INDEX('Základní list'!$B:$B,MATCH($I7,'Základní list'!$A:$A,0),1)+2)","v":""},{"$f":"INDEX('2. závod'!$A:$CH,$J7+5,INDEX('Základní list'!$B:$B,MATCH($I7,'Základní list'!$A:$A,0),1)-2)","v":""},{"$f":"INDEX('2. závod'!$A:$CH,$J7+5,INDEX('Základní list'!$B:$B,MATCH($I7,'Základní list'!$A:$A,0),1)-1)","v":""}]
[null,64,"D",4,{"$f":"INDEX('1. závod'!$A:$CH,$D8+5,INDEX('Základní list'!$B:$B,MATCH($C8,'Základní list'!$A:$A,0),1))","v":0},{"$f":"INDEX('1. závod'!$A:$CH,$D8+5,INDEX('Základní list'!$B:$B,MATCH($C8,'Základní list'!$A:$A,0),1)+2)","v":""},{"$f":"INDEX('1. závod'!$A:$CH,$D8+5,INDEX('Základní list'!$B:$B,MATCH($C8,'Základní list'!$A:$A,0),1)-2)","v":""},{"$f":"INDEX('1. závod'!$A:$CH,$D8+5,INDEX('Základní list'!$B:$B,MATCH($C8,'Základní list'!$A:$A,0),1)-1)","v":""},"D",4,{"$f":"INDEX('2. závod'!$A:$CH,$J8+5,INDEX('Základní list'!$B:$B,MATCH($I8,'Základní list'!$A:$A,0),1))","v":0},{"$f":"INDEX('2. závod'!$A:$CH,$J8+5,INDEX('Základní list'!$B:$B,MATCH($I8,'Základní list'!$A:$A,0),1)+2)","v":""},{"$f":"INDEX('2. závod'!$A:$CH,$J8+5,INDEX('Základní list'!$B:$B,MATCH($I8,'Základní list'!$A:$A,0),1)-2)","v":""},{"$f":"INDEX('2. závod'!$A:$CH,$J8+5,INDEX('Základní list'!$B:$B,MATCH($I8,'Základní list'!$A:$A,0),1)-1)","v":""}]
[null,65,"D",5,{"$f":"INDEX('1. závod'!$A:$CH,$D9+5,INDEX('Základní list'!$B:$B,MATCH($C9,'Základní list'!$A:$A,0),1))","v":0},{"$f":"INDEX('1. závod'!$A:$CH,$D9+5,INDEX('Základní list'!$B:$B,MATCH($C9,'Základní list'!$A:$A,0),1)+2)","v":""},{"$f":"INDEX('1. závod'!$A:$CH,$D9+5,INDEX('Základní list'!$B:$B,MATCH($C9,'Základní list'!$A:$A,0),1)-2)","v":""},{"$f":"INDEX('1. závod'!$A:$CH,$D9+5,INDEX('Základní list'!$B:$B,MATCH($C9,'Základní list'!$A:$A,0),1)-1)","v":""},"D",5,{"$f":"INDEX('2. závod'!$A:$CH,$J9+5,INDEX('Základní list'!$B:$B,MATCH($I9,'Základní list'!$A:$A,0),1))","v":0},{"$f":"INDEX('2. závod'!$A:$CH,$J9+5,INDEX('Základní list'!$B:$B,MATCH($I9,'Základní list'!$A:$A,0),1)+2)","v":""},{"$f":"INDEX('2. závod'!$A:$CH,$J9+5,INDEX('Základní list'!$B:$B,MATCH($I9,'Základní list'!$A:$A,0),1)-2)","v":""},{"$f":"INDEX('2. závod'!$A:$CH,$J9+5,INDEX('Základní list'!$B:$B,MATCH($I9,'Základní list'!$A:$A,0),1)-1)","v":""}]
[null,66,"D",6,{"$f":"INDEX('1. závod'!$A:$CH,$D10+5,INDEX('Základní list'!$B:$B,MATCH($C10,'Základní list'!$A:$A,0),1))","v":0},{"$f":"INDEX('1. závod'!$A:$CH,$D10+5,INDEX('Základní list'!$B:$B,MATCH($C10,'Základní list'!$A:$A,0),1)+2)","v":""},{"$f":"INDEX('1. závod'!$A:$CH,$D10+5,INDEX('Základní list'!$B:$B,MATCH($C10,'Základní list'!$A:$A,0),1)-2)","v":""},{"$f":"INDEX('1. závod'!$A:$CH,$D10+5,INDEX('Základní list'!$B:$B,MATCH($C10,'Základní list'!$A:$A,0),1)-1)","v":""},"D",6,{"$f":"INDEX('2. závod'!$A:$CH,$J10+5,INDEX('Základní list'!$B:$B,MATCH($I10,'Základní list'!$A:$A,0),1))","v":0},{"$f":"INDEX('2. závod'!$A:$CH,$J10+5,INDEX('Základní list'!$B:$B,MATCH($I10,'Základní list'!$A:$A,0),1)+2)","v":""},{"$f":"INDEX('2. závod'!$A:$CH,$J10+5,INDEX('Základní list'!$B:$B,MATCH($I10,'Základní list'!$A:$A,0),1)-2)","v":""},{"$f":"INDEX('2. závod'!$A:$CH,$J10+5,INDEX('Základní list'!$B:$B,MATCH($I10,'Základní list'!$A:$A,0),1)-1)","v":""}]
[null,67,"D",7,{"$f":"INDEX('1. závod'!$A:$CH,$D11+5,INDEX('Základní list'!$B:$B,MATCH($C11,'Základní list'!$A:$A,0),1))","v":0},{"$f":"INDEX('1. závod'!$A:$CH,$D11+5,INDEX('Základní list'!$B:$B,MATCH($C11,'Základní list'!$A:$A,0),1)+2)","v":""},{"$f":"INDEX('1. závod'!$A:$CH,$D11+5,INDEX('Základní list'!$B:$B,MATCH($C11,'Základní list'!$A:$A,0),1)-2)","v":""},{"$f":"INDEX('1. závod'!$A:$CH,$D11+5,INDEX('Základní list'!$B:$B,MATCH($C11,'Základní list'!$A:$A,0),1)-1)","v":""},"D",7,{"$f":"INDEX('2. závod'!$A:$CH,$J11+5,INDEX('Základní list'!$B:$B,MATCH($I11,'Základní list'!$A:$A,0),1))","v":0},{"$f":"INDEX('2. závod'!$A:$CH,$J11+5,INDEX('Základní list'!$B:$B,MATCH($I11,'Základní list'!$A:$A,0),1)+2)","v":""},{"$f":"INDEX('2. závod'!$A:$CH,$J11+5,INDEX('Základní list'!$B:$B,MATCH($I11,'Základní list'!$A:$A,0),1)-2)","v":""},{"$f":"INDEX('2. závod'!$A:$CH,$J11+5,INDEX('Základní list'!$B:$B,MATCH($I11,'Základní list'!$A:$A,0),1)-1)","v":""}]
[null,68,"D",8,{"$f":"INDEX('1. závod'!$A:$CH,$D12+5,INDEX('Základní list'!$B:$B,MATCH($C12,'Základní list'!$A:$A,0),1))","v":0},{"$f":"INDEX('1. závod'!$A:$CH,$D12+5,INDEX('Základní list'!$B:$B,MATCH($C12,'Základní list'!$A:$A,0),1)+2)","v":""},{"$f":"INDEX('1. závod'!$A:$CH,$D12+5,INDEX('Základní list'!$B:$B,MATCH($C12,'Základní list'!$A:$A,0),1)-2)","v":""},{"$f":"INDEX('1. závod'!$A:$CH,$D12+5,INDEX('Základní list'!$B:$B,MATCH($C12,'Základní list'!$A:$A,0),1)-1)","v":""},"D",8,{"$f":"INDEX('2. závod'!$A:$CH,$J12+5,INDEX('Základní list'!$B:$B,MATCH($I12,'Základní list'!$A:$A,0),1))","v":0},{"$f":"INDEX('2. závod'!$A:$CH,$J12+5,INDEX('Základní list'!$B:$B,MATCH($I12,'Základní list'!$A:$A,0),1)+2)","v":""},{"$f":"INDEX('2. závod'!$A:$CH,$J12+5,INDEX('Základní list'!$B:$B,MATCH($I12,'Základní list'!$A:$A,0),1)-2)","v":""},{"$f":"INDEX('2. závod'!$A:$CH,$J12+5,INDEX('Základní list'!$B:$B,MATCH($I12,'Základní list'!$A:$A,0),1)-1)","v":""}]
[null,69,"D",9,{"$f":"INDEX('1. závod'!$A:$CH,$D13+5,INDEX('Základní list'!$B:$B,MATCH($C13,'Základní list'!$A:$A,0),1))","v":0},{"$f":"INDEX('1. závod'!$A:$CH,$D13+5,INDEX('Základní list'!$B:$B,MATCH($C13,'Základní list'!$A:$A,0),1)+2)","v":""},{"$f":"INDEX('1. závod'!$A:$CH,$D13+5,INDEX('Základní list'!$B:$B,MATCH($C13,'Základní list'!$A:$A,0),1)-2)","v":""},{"$f":"INDEX('1. závod'!$A:$CH,$D13+5,INDEX('Základní list'!$B:$B,MATCH($C13,'Základní list'!$A:$A,0),1)-1)","v":""},"D",9,{"$f":"INDEX('2. závod'!$A:$CH,$J13+5,INDEX('Základní list'!$B:$B,MATCH($I13,'Základní list'!$A:$A,0),1))","v":0},{"$f":"INDEX('2. závod'!$A:$CH,$J13+5,INDEX('Základní list'!$B:$B,MATCH($I13,'Základní list'!$A:$A,0),1)+2)","v":""},{"$f":"INDEX('2. závod'!$A:$CH,$J13+5,INDEX('Základní list'!$B:$B,MATCH($I13,'Základní list'!$A:$A,0),1)-2)","v":""},{"$f":"INDEX('2. závod'!$A:$CH,$J13+5,INDEX('Základní list'!$B:$B,MATCH($I13,'Základní list'!$A:$A,0),1)-1)","v":""}]
[null,70,"D",10,{"$f":"INDEX('1. závod'!$A:$CH,$D14+5,INDEX('Základní list'!$B:$B,MATCH($C14,'Základní list'!$A:$A,0),1))","v":0},{"$f":"INDEX('1. závod'!$A:$CH,$D14+5,INDEX('Základní list'!$B:$B,MATCH($C14,'Základní list'!$A:$A,0),1)+2)","v":""},{"$f":"INDEX('1. závod'!$A:$CH,$D14+5,INDEX('Základní list'!$B:$B,MATCH($C14,'Základní list'!$A:$A,0),1)-2)","v":""},{"$f":"INDEX('1. závod'!$A:$CH,$D14+5,INDEX('Základní list'!$B:$B,MATCH($C14,'Základní list'!$A:$A,0),1)-1)","v":""},"D",10,{"$f":"INDEX('2. závod'!$A:$CH,$J14+5,INDEX('Základní list'!$B:$B,MATCH($I14,'Základní list'!$A:$A,0),1))","v":0},{"$f":"INDEX('2. závod'!$A:$CH,$J14+5,INDEX('Základní list'!$B:$B,MATCH($I14,'Základní list'!$A:$A,0),1)+2)","v":""},{"$f":"INDEX('2. závod'!$A:$CH,$J14+5,INDEX('Základní list'!$B:$B,MATCH($I14,'Základní list'!$A:$A,0),1)-2)","v":""},{"$f":"INDEX('2. závod'!$A:$CH,$J14+5,INDEX('Základní list'!$B:$B,MATCH($I14,'Základní list'!$A:$A,0),1)-1)","v":""}]
[null,71,"D",11,{"$f":"INDEX('1. závod'!$A:$CH,$D15+5,INDEX('Základní list'!$B:$B,MATCH($C15,'Základní list'!$A:$A,0),1))","v":0},{"$f":"INDEX('1. závod'!$A:$CH,$D15+5,INDEX('Základní list'!$B:$B,MATCH($C15,'Základní list'!$A:$A,0),1)+2)","v":""},{"$f":"INDEX('1. závod'!$A:$CH,$D15+5,INDEX('Základní list'!$B:$B,MATCH($C15,'Základní list'!$A:$A,0),1)-2)","v":""},{"$f":"INDEX('1. závod'!$A:$CH,$D15+5,INDEX('Základní list'!$B:$B,MATCH($C15,'Základní list'!$A:$A,0),1)-1)","v":""},"D",11,{"$f":"INDEX('2. závod'!$A:$CH,$J15+5,INDEX('Základní list'!$B:$B,MATCH($I15,'Základní list'!$A:$A,0),1))","v":0},{"$f":"INDEX('2. závod'!$A:$CH,$J15+5,INDEX('Základní list'!$B:$B,MATCH($I15,'Základní list'!$A:$A,0),1)+2)","v":""},{"$f":"INDEX('2. závod'!$A:$CH,$J15+5,INDEX('Základní list'!$B:$B,MATCH($I15,'Základní list'!$A:$A,0),1)-2)","v":""},{"$f":"INDEX('2. závod'!$A:$CH,$J15+5,INDEX('Základní list'!$B:$B,MATCH($I15,'Základní list'!$A:$A,0),1)-1)","v":""}]
[null,72,"D",12,{"$f":"INDEX('1. závod'!$A:$CH,$D16+5,INDEX('Základní list'!$B:$B,MATCH($C16,'Základní list'!$A:$A,0),1))","v":0},{"$f":"INDEX('1. závod'!$A:$CH,$D16+5,INDEX('Základní list'!$B:$B,MATCH($C16,'Základní list'!$A:$A,0),1)+2)","v":""},{"$f":"INDEX('1. závod'!$A:$CH,$D16+5,INDEX('Základní list'!$B:$B,MATCH($C16,'Základní list'!$A:$A,0),1)-2)","v":""},{"$f":"INDEX('1. závod'!$A:$CH,$D16+5,INDEX('Základní list'!$B:$B,MATCH($C16,'Základní list'!$A:$A,0),1)-1)","v":""},"D",12,{"$f":"INDEX('2. závod'!$A:$CH,$J16+5,INDEX('Základní list'!$B:$B,MATCH($I16,'Základní list'!$A:$A,0),1))","v":0},{"$f":"INDEX('2. závod'!$A:$CH,$J16+5,INDEX('Základní list'!$B:$B,MATCH($I16,'Základní list'!$A:$A,0),1)+2)","v":""},{"$f":"INDEX('2. závod'!$A:$CH,$J16+5,INDEX('Základní list'!$B:$B,MATCH($I16,'Základní list'!$A:$A,0),1)-2)","v":""},{"$f":"INDEX('2. závod'!$A:$CH,$J16+5,INDEX('Základní list'!$B:$B,MATCH($I16,'Základní list'!$A:$A,0),1)-1)","v":""}]
[null,73,"D",13,{"$f":"INDEX('1. závod'!$A:$CH,$D17+5,INDEX('Základní list'!$B:$B,MATCH($C17,'Základní list'!$A:$A,0),1))","v":0},{"$f":"INDEX('1. závod'!$A:$CH,$D17+5,INDEX('Základní list'!$B:$B,MATCH($C17,'Základní list'!$A:$A,0),1)+2)","v":""},{"$f":"INDEX('1. závod'!$A:$CH,$D17+5,INDEX('Základní list'!$B:$B,MATCH($C17,'Základní list'!$A:$A,0),1)-2)","v":""},{"$f":"INDEX('1. závod'!$A:$CH,$D17+5,INDEX('Základní list'!$B:$B,MATCH($C17,'Základní list'!$A:$A,0),1)-1)","v":""},"D",13,{"$f":"INDEX('2. závod'!$A:$CH,$J17+5,INDEX('Základní list'!$B:$B,MATCH($I17,'Základní list'!$A:$A,0),1))","v":0},{"$f":"INDEX('2. závod'!$A:$CH,$J17+5,INDEX('Základní list'!$B:$B,MATCH($I17,'Základní list'!$A:$A,0),1)+2)","v":""},{"$f":"INDEX('2. závod'!$A:$CH,$J17+5,INDEX('Základní list'!$B:$B,MATCH($I17,'Základní list'!$A:$A,0),1)-2)","v":""},{"$f":"INDEX('2. závod'!$A:$CH,$J17+5,INDEX('Základní list'!$B:$B,MATCH($I17,'Základní list'!$A:$A,0),1)-1)","v":""}]
[null,74,"D",14,{"$f":"INDEX('1. závod'!$A:$CH,$D18+5,INDEX('Základní list'!$B:$B,MATCH($C18,'Základní list'!$A:$A,0),1))","v":0},{"$f":"INDEX('1. závod'!$A:$CH,$D18+5,INDEX('Základní list'!$B:$B,MATCH($C18,'Základní list'!$A:$A,0),1)+2)","v":""},{"$f":"INDEX('1. závod'!$A:$CH,$D18+5,INDEX('Základní list'!$B:$B,MATCH($C18,'Základní list'!$A:$A,0),1)-2)","v":""},{"$f":"INDEX('1. závod'!$A:$CH,$D18+5,INDEX('Základní list'!$B:$B,MATCH($C18,'Základní list'!$A:$A,0),1)-1)","v":""},"D",14,{"$f":"INDEX('2. závod'!$A:$CH,$J18+5,INDEX('Základní list'!$B:$B,MATCH($I18,'Základní list'!$A:$A,0),1))","v":0},{"$f":"INDEX('2. závod'!$A:$CH,$J18+5,INDEX('Základní list'!$B:$B,MATCH($I18,'Základní list'!$A:$A,0),1)+2)","v":""},{"$f":"INDEX('2. závod'!$A:$CH,$J18+5,INDEX('Základní list'!$B:$B,MATCH($I18,'Základní list'!$A:$A,0),1)-2)","v":""},{"$f":"INDEX('2. závod'!$A:$CH,$J18+5,INDEX('Základní list'!$B:$B,MATCH($I18,'Základní list'!$A:$A,0),1)-1)","v":""}]
[null,75,"D",15,{"$f":"INDEX('1. závod'!$A:$CH,$D19+5,INDEX('Základní list'!$B:$B,MATCH($C19,'Základní list'!$A:$A,0),1))","v":0},{"$f":"INDEX('1. závod'!$A:$CH,$D19+5,INDEX('Základní list'!$B:$B,MATCH($C19,'Základní list'!$A:$A,0),1)+2)","v":""},{"$f":"INDEX('1. závod'!$A:$CH,$D19+5,INDEX('Základní list'!$B:$B,MATCH($C19,'Základní list'!$A:$A,0),1)-2)","v":""},{"$f":"INDEX('1. závod'!$A:$CH,$D19+5,INDEX('Základní list'!$B:$B,MATCH($C19,'Základní list'!$A:$A,0),1)-1)","v":""},"D",15,{"$f":"INDEX('2. závod'!$A:$CH,$J19+5,INDEX('Základní list'!$B:$B,MATCH($I19,'Základní list'!$A:$A,0),1))","v":0},{"$f":"INDEX('2. závod'!$A:$CH,$J19+5,INDEX('Základní list'!$B:$B,MATCH($I19,'Základní list'!$A:$A,0),1)+2)","v":""},{"$f":"INDEX('2. závod'!$A:$CH,$J19+5,INDEX('Základní list'!$B:$B,MATCH($I19,'Základní list'!$A:$A,0),1)-2)","v":""},{"$f":"INDEX('2. závod'!$A:$CH,$J19+5,INDEX('Základní list'!$B:$B,MATCH($I19,'Základní list'!$A:$A,0),1)-1)","v":""}]
[null,76,"D",16,{"$f":"INDEX('1. závod'!$A:$CH,$D20+5,INDEX('Základní list'!$B:$B,MATCH($C20,'Základní list'!$A:$A,0),1))","v":0},{"$f":"INDEX('1. závod'!$A:$CH,$D20+5,INDEX('Základní list'!$B:$B,MATCH($C20,'Základní list'!$A:$A,0),1)+2)","v":""},{"$f":"INDEX('1. závod'!$A:$CH,$D20+5,INDEX('Základní list'!$B:$B,MATCH($C20,'Základní list'!$A:$A,0),1)-2)","v":""},{"$f":"INDEX('1. závod'!$A:$CH,$D20+5,INDEX('Základní list'!$B:$B,MATCH($C20,'Základní list'!$A:$A,0),1)-1)","v":""},"D",16,{"$f":"INDEX('2. závod'!$A:$CH,$J20+5,INDEX('Základní list'!$B:$B,MATCH($I20,'Základní list'!$A:$A,0),1))","v":0},{"$f":"INDEX('2. závod'!$A:$CH,$J20+5,INDEX('Základní list'!$B:$B,MATCH($I20,'Základní list'!$A:$A,0),1)+2)","v":""},{"$f":"INDEX('2. závod'!$A:$CH,$J20+5,INDEX('Základní list'!$B:$B,MATCH($I20,'Základní list'!$A:$A,0),1)-2)","v":""},{"$f":"INDEX('2. závod'!$A:$CH,$J20+5,INDEX('Základní list'!$B:$B,MATCH($I20,'Základní list'!$A:$A,0),1)-1)","v":""}]
[null,77,"D",17,{"$f":"INDEX('1. závod'!$A:$CH,$D21+5,INDEX('Základní list'!$B:$B,MATCH($C21,'Základní list'!$A:$A,0),1))","v":0},{"$f":"INDEX('1. závod'!$A:$CH,$D21+5,INDEX('Základní list'!$B:$B,MATCH($C21,'Základní list'!$A:$A,0),1)+2)","v":""},{"$f":"INDEX('1. závod'!$A:$CH,$D21+5,INDEX('Základní list'!$B:$B,MATCH($C21,'Základní list'!$A:$A,0),1)-2)","v":""},{"$f":"INDEX('1. závod'!$A:$CH,$D21+5,INDEX('Základní list'!$B:$B,MATCH($C21,'Základní list'!$A:$A,0),1)-1)","v":""},"D",17,{"$f":"INDEX('2. závod'!$A:$CH,$J21+5,INDEX('Základní list'!$B:$B,MATCH($I21,'Základní list'!$A:$A,0),1))","v":0},{"$f":"INDEX('2. závod'!$A:$CH,$J21+5,INDEX('Základní list'!$B:$B,MATCH($I21,'Základní list'!$A:$A,0),1)+2)","v":""},{"$f":"INDEX('2. závod'!$A:$CH,$J21+5,INDEX('Základní list'!$B:$B,MATCH($I21,'Základní list'!$A:$A,0),1)-2)","v":""},{"$f":"INDEX('2. závod'!$A:$CH,$J21+5,INDEX('Základní list'!$B:$B,MATCH($I21,'Základní list'!$A:$A,0),1)-1)","v":""}]
[null,78,"D",18,{"$f":"INDEX('1. závod'!$A:$CH,$D22+5,INDEX('Základní list'!$B:$B,MATCH($C22,'Základní list'!$A:$A,0),1))","v":0},{"$f":"INDEX('1. závod'!$A:$CH,$D22+5,INDEX('Základní list'!$B:$B,MATCH($C22,'Základní list'!$A:$A,0),1)+2)","v":""},{"$f":"INDEX('1. závod'!$A:$CH,$D22+5,INDEX('Základní list'!$B:$B,MATCH($C22,'Základní list'!$A:$A,0),1)-2)","v":""},{"$f":"INDEX('1. závod'!$A:$CH,$D22+5,INDEX('Základní list'!$B:$B,MATCH($C22,'Základní list'!$A:$A,0),1)-1)","v":""},"D",18,{"$f":"INDEX('2. závod'!$A:$CH,$J22+5,INDEX('Základní list'!$B:$B,MATCH($I22,'Základní list'!$A:$A,0),1))","v":0},{"$f":"INDEX('2. závod'!$A:$CH,$J22+5,INDEX('Základní list'!$B:$B,MATCH($I22,'Základní list'!$A:$A,0),1)+2)","v":""},{"$f":"INDEX('2. závod'!$A:$CH,$J22+5,INDEX('Základní list'!$B:$B,MATCH($I22,'Základní list'!$A:$A,0),1)-2)","v":""},{"$f":"INDEX('2. závod'!$A:$CH,$J22+5,INDEX('Základní list'!$B:$B,MATCH($I22,'Základní list'!$A:$A,0),1)-1)","v":""}]
[null,79,"D",19,{"$f":"INDEX('1. závod'!$A:$CH,$D23+5,INDEX('Základní list'!$B:$B,MATCH($C23,'Základní list'!$A:$A,0),1))","v":0},{"$f":"INDEX('1. závod'!$A:$CH,$D23+5,INDEX('Základní list'!$B:$B,MATCH($C23,'Základní list'!$A:$A,0),1)+2)","v":""},{"$f":"INDEX('1. závod'!$A:$CH,$D23+5,INDEX('Základní list'!$B:$B,MATCH($C23,'Základní list'!$A:$A,0),1)-2)","v":""},{"$f":"INDEX('1. závod'!$A:$CH,$D23+5,INDEX('Základní list'!$B:$B,MATCH($C23,'Základní list'!$A:$A,0),1)-1)","v":""},"D",19,{"$f":"INDEX('2. závod'!$A:$CH,$J23+5,INDEX('Základní list'!$B:$B,MATCH($I23,'Základní list'!$A:$A,0),1))","v":0},{"$f":"INDEX('2. závod'!$A:$CH,$J23+5,INDEX('Základní list'!$B:$B,MATCH($I23,'Základní list'!$A:$A,0),1)+2)","v":""},{"$f":"INDEX('2. závod'!$A:$CH,$J23+5,INDEX('Základní list'!$B:$B,MATCH($I23,'Základní list'!$A:$A,0),1)-2)","v":""},{"$f":"INDEX('2. závod'!$A:$CH,$J23+5,INDEX('Základní list'!$B:$B,MATCH($I23,'Základní list'!$A:$A,0),1)-1)","v":""}]
[null,80,"D",20,{"$f":"INDEX('1. závod'!$A:$CH,$D24+5,INDEX('Základní list'!$B:$B,MATCH($C24,'Základní list'!$A:$A,0),1))","v":0},{"$f":"INDEX('1. závod'!$A:$CH,$D24+5,INDEX('Základní list'!$B:$B,MATCH($C24,'Základní list'!$A:$A,0),1)+2)","v":""},{"$f":"INDEX('1. závod'!$A:$CH,$D24+5,INDEX('Základní list'!$B:$B,MATCH($C24,'Základní list'!$A:$A,0),1)-2)","v":""},{"$f":"INDEX('1. závod'!$A:$CH,$D24+5,INDEX('Základní list'!$B:$B,MATCH($C24,'Základní list'!$A:$A,0),1)-1)","v":""},"D",20,{"$f":"INDEX('2. závod'!$A:$CH,$J24+5,INDEX('Základní list'!$B:$B,MATCH($I24,'Základní list'!$A:$A,0),1))","v":0},{"$f":"INDEX('2. závod'!$A:$CH,$J24+5,INDEX('Základní list'!$B:$B,MATCH($I24,'Základní list'!$A:$A,0),1)+2)","v":""},{"$f":"INDEX('2. závod'!$A:$CH,$J24+5,INDEX('Základní list'!$B:$B,MATCH($I24,'Základní list'!$A:$A,0),1)-2)","v":""},{"$f":"INDEX('2. závod'!$A:$CH,$J24+5,INDEX('Základní list'!$B:$B,MATCH($I24,'Základní list'!$A:$A,0),1)-1)","v":""}]
[null,81,"E",1,{"$f":"INDEX('1. závod'!$A:$CH,$D25+5,INDEX('Základní list'!$B:$B,MATCH($C25,'Základní list'!$A:$A,0),1))","v":0},{"$f":"INDEX('1. závod'!$A:$CH,$D25+5,INDEX('Základní list'!$B:$B,MATCH($C25,'Základní list'!$A:$A,0),1)+2)","v":""},{"$f":"INDEX('1. závod'!$A:$CH,$D25+5,INDEX('Základní list'!$B:$B,MATCH($C25,'Základní list'!$A:$A,0),1)-2)","v":""},{"$f":"INDEX('1. závod'!$A:$CH,$D25+5,INDEX('Základní list'!$B:$B,MATCH($C25,'Základní list'!$A:$A,0),1)-1)","v":""},"E",1,{"$f":"INDEX('2. závod'!$A:$CH,$J25+5,INDEX('Základní list'!$B:$B,MATCH($I25,'Základní list'!$A:$A,0),1))","v":0},{"$f":"INDEX('2. závod'!$A:$CH,$J25+5,INDEX('Základní list'!$B:$B,MATCH($I25,'Základní list'!$A:$A,0),1)+2)","v":""},{"$f":"INDEX('2. závod'!$A:$CH,$J25+5,INDEX('Základní list'!$B:$B,MATCH($I25,'Základní list'!$A:$A,0),1)-2)","v":""},{"$f":"INDEX('2. závod'!$A:$CH,$J25+5,INDEX('Základní list'!$B:$B,MATCH($I25,'Základní list'!$A:$A,0),1)-1)","v":""}]
[null,82,"E",2,{"$f":"INDEX('1. závod'!$A:$CH,$D26+5,INDEX('Základní list'!$B:$B,MATCH($C26,'Základní list'!$A:$A,0),1))","v":0},{"$f":"INDEX('1. závod'!$A:$CH,$D26+5,INDEX('Základní list'!$B:$B,MATCH($C26,'Základní list'!$A:$A,0),1)+2)","v":""},{"$f":"INDEX('1. závod'!$A:$CH,$D26+5,INDEX('Základní list'!$B:$B,MATCH($C26,'Základní list'!$A:$A,0),1)-2)","v":""},{"$f":"INDEX('1. závod'!$A:$CH,$D26+5,INDEX('Základní list'!$B:$B,MATCH($C26,'Základní list'!$A:$A,0),1)-1)","v":""},"E",2,{"$f":"INDEX('2. závod'!$A:$CH,$J26+5,INDEX('Základní list'!$B:$B,MATCH($I26,'Základní list'!$A:$A,0),1))","v":0},{"$f":"INDEX('2. závod'!$A:$CH,$J26+5,INDEX('Základní list'!$B:$B,MATCH($I26,'Základní list'!$A:$A,0),1)+2)","v":""},{"$f":"INDEX('2. závod'!$A:$CH,$J26+5,INDEX('Základní list'!$B:$B,MATCH($I26,'Základní list'!$A:$A,0),1)-2)","v":""},{"$f":"INDEX('2. závod'!$A:$CH,$J26+5,INDEX('Základní list'!$B:$B,MATCH($I26,'Základní list'!$A:$A,0),1)-1)","v":""}]
[null,83,"E",3,{"$f":"INDEX('1. závod'!$A:$CH,$D27+5,INDEX('Základní list'!$B:$B,MATCH($C27,'Základní list'!$A:$A,0),1))","v":0},{"$f":"INDEX('1. závod'!$A:$CH,$D27+5,INDEX('Základní list'!$B:$B,MATCH($C27,'Základní list'!$A:$A,0),1)+2)","v":""},{"$f":"INDEX('1. závod'!$A:$CH,$D27+5,INDEX('Základní list'!$B:$B,MATCH($C27,'Základní list'!$A:$A,0),1)-2)","v":""},{"$f":"INDEX('1. závod'!$A:$CH,$D27+5,INDEX('Základní list'!$B:$B,MATCH($C27,'Základní list'!$A:$A,0),1)-1)","v":""},"E",3,{"$f":"INDEX('2. závod'!$A:$CH,$J27+5,INDEX('Základní list'!$B:$B,MATCH($I27,'Základní list'!$A:$A,0),1))","v":0},{"$f":"INDEX('2. závod'!$A:$CH,$J27+5,INDEX('Základní list'!$B:$B,MATCH($I27,'Základní list'!$A:$A,0),1)+2)","v":""},{"$f":"INDEX('2. závod'!$A:$CH,$J27+5,INDEX('Základní list'!$B:$B,MATCH($I27,'Základní list'!$A:$A,0),1)-2)","v":""},{"$f":"INDEX('2. závod'!$A:$CH,$J27+5,INDEX('Základní list'!$B:$B,MATCH($I27,'Základní list'!$A:$A,0),1)-1)","v":""}]
[null,84,"E",4,{"$f":"INDEX('1. závod'!$A:$CH,$D28+5,INDEX('Základní list'!$B:$B,MATCH($C28,'Základní list'!$A:$A,0),1))","v":0},{"$f":"INDEX('1. závod'!$A:$CH,$D28+5,INDEX('Základní list'!$B:$B,MATCH($C28,'Základní list'!$A:$A,0),1)+2)","v":""},{"$f":"INDEX('1. závod'!$A:$CH,$D28+5,INDEX('Základní list'!$B:$B,MATCH($C28,'Základní list'!$A:$A,0),1)-2)","v":""},{"$f":"INDEX('1. závod'!$A:$CH,$D28+5,INDEX('Základní list'!$B:$B,MATCH($C28,'Základní list'!$A:$A,0),1)-1)","v":""},"E",4,{"$f":"INDEX('2. závod'!$A:$CH,$J28+5,INDEX('Základní list'!$B:$B,MATCH($I28,'Základní list'!$A:$A,0),1))","v":0},{"$f":"INDEX('2. závod'!$A:$CH,$J28+5,INDEX('Základní list'!$B:$B,MATCH($I28,'Základní list'!$A:$A,0),1)+2)","v":""},{"$f":"INDEX('2. závod'!$A:$CH,$J28+5,INDEX('Základní list'!$B:$B,MATCH($I28,'Základní list'!$A:$A,0),1)-2)","v":""},{"$f":"INDEX('2. závod'!$A:$CH,$J28+5,INDEX('Základní list'!$B:$B,MATCH($I28,'Základní list'!$A:$A,0),1)-1)","v":""}]
[null,85,"E",5,{"$f":"INDEX('1. závod'!$A:$CH,$D29+5,INDEX('Základní list'!$B:$B,MATCH($C29,'Základní list'!$A:$A,0),1))","v":0},{"$f":"INDEX('1. závod'!$A:$CH,$D29+5,INDEX('Základní list'!$B:$B,MATCH($C29,'Základní list'!$A:$A,0),1)+2)","v":""},{"$f":"INDEX('1. závod'!$A:$CH,$D29+5,INDEX('Základní list'!$B:$B,MATCH($C29,'Základní list'!$A:$A,0),1)-2)","v":""},{"$f":"INDEX('1. závod'!$A:$CH,$D29+5,INDEX('Základní list'!$B:$B,MATCH($C29,'Základní list'!$A:$A,0),1)-1)","v":""},"E",5,{"$f":"INDEX('2. závod'!$A:$CH,$J29+5,INDEX('Základní list'!$B:$B,MATCH($I29,'Základní list'!$A:$A,0),1))","v":0},{"$f":"INDEX('2. závod'!$A:$CH,$J29+5,INDEX('Základní list'!$B:$B,MATCH($I29,'Základní list'!$A:$A,0),1)+2)","v":""},{"$f":"INDEX('2. závod'!$A:$CH,$J29+5,INDEX('Základní list'!$B:$B,MATCH($I29,'Základní list'!$A:$A,0),1)-2)","v":""},{"$f":"INDEX('2. závod'!$A:$CH,$J29+5,INDEX('Základní list'!$B:$B,MATCH($I29,'Základní list'!$A:$A,0),1)-1)","v":""}]
[null,86,"E",6,{"$f":"INDEX('1. závod'!$A:$CH,$D30+5,INDEX('Základní list'!$B:$B,MATCH($C30,'Základní list'!$A:$A,0),1))","v":0},{"$f":"INDEX('1. závod'!$A:$CH,$D30+5,INDEX('Základní list'!$B:$B,MATCH($C30,'Základní list'!$A:$A,0),1)+2)","v":""},{"$f":"INDEX('1. závod'!$A:$CH,$D30+5,INDEX('Základní list'!$B:$B,MATCH($C30,'Základní list'!$A:$A,0),1)-2)","v":""},{"$f":"INDEX('1. závod'!$A:$CH,$D30+5,INDEX('Základní list'!$B:$B,MATCH($C30,'Základní list'!$A:$A,0),1)-1)","v":""},"E",6,{"$f":"INDEX('2. závod'!$A:$CH,$J30+5,INDEX('Základní list'!$B:$B,MATCH($I30,'Základní list'!$A:$A,0),1))","v":0},{"$f":"INDEX('2. závod'!$A:$CH,$J30+5,INDEX('Základní list'!$B:$B,MATCH($I30,'Základní list'!$A:$A,0),1)+2)","v":""},{"$f":"INDEX('2. závod'!$A:$CH,$J30+5,INDEX('Základní list'!$B:$B,MATCH($I30,'Základní list'!$A:$A,0),1)-2)","v":""},{"$f":"INDEX('2. závod'!$A:$CH,$J30+5,INDEX('Základní list'!$B:$B,MATCH($I30,'Základní list'!$A:$A,0),1)-1)","v":""}]
[null,87,"E",7,{"$f":"INDEX('1. závod'!$A:$CH,$D31+5,INDEX('Základní list'!$B:$B,MATCH($C31,'Základní list'!$A:$A,0),1))","v":0},{"$f":"INDEX('1. závod'!$A:$CH,$D31+5,INDEX('Základní list'!$B:$B,MATCH($C31,'Základní list'!$A:$A,0),1)+2)","v":""},{"$f":"INDEX('1. závod'!$A:$CH,$D31+5,INDEX('Základní list'!$B:$B,MATCH($C31,'Základní list'!$A:$A,0),1)-2)","v":""},{"$f":"INDEX('1. závod'!$A:$CH,$D31+5,INDEX('Základní list'!$B:$B,MATCH($C31,'Základní list'!$A:$A,0),1)-1)","v":""},"E",7,{"$f":"INDEX('2. závod'!$A:$CH,$J31+5,INDEX('Základní list'!$B:$B,MATCH($I31,'Základní list'!$A:$A,0),1))","v":0},{"$f":"INDEX('2. závod'!$A:$CH,$J31+5,INDEX('Základní list'!$B:$B,MATCH($I31,'Základní list'!$A:$A,0),1)+2)","v":""},{"$f":"INDEX('2. závod'!$A:$CH,$J31+5,INDEX('Základní list'!$B:$B,MATCH($I31,'Základní list'!$A:$A,0),1)-2)","v":""},{"$f":"INDEX('2. závod'!$A:$CH,$J31+5,INDEX('Základní list'!$B:$B,MATCH($I31,'Základní list'!$A:$A,0),1)-1)","v":""}]
[null,88,"E",8,{"$f":"INDEX('1. závod'!$A:$CH,$D32+5,INDEX('Základní list'!$B:$B,MATCH($C32,'Základní list'!$A:$A,0),1))","v":0},{"$f":"INDEX('1. závod'!$A:$CH,$D32+5,INDEX('Základní list'!$B:$B,MATCH($C32,'Základní list'!$A:$A,0),1)+2)","v":""},{"$f":"INDEX('1. závod'!$A:$CH,$D32+5,INDEX('Základní list'!$B:$B,MATCH($C32,'Základní list'!$A:$A,0),1)-2)","v":""},{"$f":"INDEX('1. závod'!$A:$CH,$D32+5,INDEX('Základní list'!$B:$B,MATCH($C32,'Základní list'!$A:$A,0),1)-1)","v":""},"E",8,{"$f":"INDEX('2. závod'!$A:$CH,$J32+5,INDEX('Základní list'!$B:$B,MATCH($I32,'Základní list'!$A:$A,0),1))","v":0},{"$f":"INDEX('2. závod'!$A:$CH,$J32+5,INDEX('Základní list'!$B:$B,MATCH($I32,'Základní list'!$A:$A,0),1)+2)","v":""},{"$f":"INDEX('2. závod'!$A:$CH,$J32+5,INDEX('Základní list'!$B:$B,MATCH($I32,'Základní list'!$A:$A,0),1)-2)","v":""},{"$f":"INDEX('2. závod'!$A:$CH,$J32+5,INDEX('Základní list'!$B:$B,MATCH($I32,'Základní list'!$A:$A,0),1)-1)","v":""}]
[null,89,"E",9,{"$f":"INDEX('1. závod'!$A:$CH,$D33+5,INDEX('Základní list'!$B:$B,MATCH($C33,'Základní list'!$A:$A,0),1))","v":0},{"$f":"INDEX('1. závod'!$A:$CH,$D33+5,INDEX('Základní list'!$B:$B,MATCH($C33,'Základní list'!$A:$A,0),1)+2)","v":""},{"$f":"INDEX('1. závod'!$A:$CH,$D33+5,INDEX('Základní list'!$B:$B,MATCH($C33,'Základní list'!$A:$A,0),1)-2)","v":""},{"$f":"INDEX('1. závod'!$A:$CH,$D33+5,INDEX('Základní list'!$B:$B,MATCH($C33,'Základní list'!$A:$A,0),1)-1)","v":""},"E",9,{"$f":"INDEX('2. závod'!$A:$CH,$J33+5,INDEX('Základní list'!$B:$B,MATCH($I33,'Základní list'!$A:$A,0),1))","v":0},{"$f":"INDEX('2. závod'!$A:$CH,$J33+5,INDEX('Základní list'!$B:$B,MATCH($I33,'Základní list'!$A:$A,0),1)+2)","v":""},{"$f":"INDEX('2. závod'!$A:$CH,$J33+5,INDEX('Základní list'!$B:$B,MATCH($I33,'Základní list'!$A:$A,0),1)-2)","v":""},{"$f":"INDEX('2. závod'!$A:$CH,$J33+5,INDEX('Základní list'!$B:$B,MATCH($I33,'Základní list'!$A:$A,0),1)-1)","v":""}]
[null,90,"E",10,{"$f":"INDEX('1. závod'!$A:$CH,$D34+5,INDEX('Základní list'!$B:$B,MATCH($C34,'Základní list'!$A:$A,0),1))","v":0},{"$f":"INDEX('1. závod'!$A:$CH,$D34+5,INDEX('Základní list'!$B:$B,MATCH($C34,'Základní list'!$A:$A,0),1)+2)","v":""},{"$f":"INDEX('1. závod'!$A:$CH,$D34+5,INDEX('Základní list'!$B:$B,MATCH($C34,'Základní list'!$A:$A,0),1)-2)","v":""},{"$f":"INDEX('1. závod'!$A:$CH,$D34+5,INDEX('Základní list'!$B:$B,MATCH($C34,'Základní list'!$A:$A,0),1)-1)","v":""},"E",10,{"$f":"INDEX('2. závod'!$A:$CH,$J34+5,INDEX('Základní list'!$B:$B,MATCH($I34,'Základní list'!$A:$A,0),1))","v":0},{"$f":"INDEX('2. závod'!$A:$CH,$J34+5,INDEX('Základní list'!$B:$B,MATCH($I34,'Základní list'!$A:$A,0),1)+2)","v":""},{"$f":"INDEX('2. závod'!$A:$CH,$J34+5,INDEX('Základní list'!$B:$B,MATCH($I34,'Základní list'!$A:$A,0),1)-2)","v":""},{"$f":"INDEX('2. závod'!$A:$CH,$J34+5,INDEX('Základní list'!$B:$B,MATCH($I34,'Základní list'!$A:$A,0),1)-1)","v":""}]
[null,91,"E",11,{"$f":"INDEX('1. závod'!$A:$CH,$D35+5,INDEX('Základní list'!$B:$B,MATCH($C35,'Základní list'!$A:$A,0),1))","v":0},{"$f":"INDEX('1. závod'!$A:$CH,$D35+5,INDEX('Základní list'!$B:$B,MATCH($C35,'Základní list'!$A:$A,0),1)+2)","v":""},{"$f":"INDEX('1. závod'!$A:$CH,$D35+5,INDEX('Základní list'!$B:$B,MATCH($C35,'Základní list'!$A:$A,0),1)-2)","v":""},{"$f":"INDEX('1. závod'!$A:$CH,$D35+5,INDEX('Základní list'!$B:$B,MATCH($C35,'Základní list'!$A:$A,0),1)-1)","v":""},"E",11,{"$f":"INDEX('2. závod'!$A:$CH,$J35+5,INDEX('Základní list'!$B:$B,MATCH($I35,'Základní list'!$A:$A,0),1))","v":0},{"$f":"INDEX('2. závod'!$A:$CH,$J35+5,INDEX('Základní list'!$B:$B,MATCH($I35,'Základní list'!$A:$A,0),1)+2)","v":""},{"$f":"INDEX('2. závod'!$A:$CH,$J35+5,INDEX('Základní list'!$B:$B,MATCH($I35,'Základní list'!$A:$A,0),1)-2)","v":""},{"$f":"INDEX('2. závod'!$A:$CH,$J35+5,INDEX('Základní list'!$B:$B,MATCH($I35,'Základní list'!$A:$A,0),1)-1)","v":""}]
[null,92,"E",12,{"$f":"INDEX('1. závod'!$A:$CH,$D36+5,INDEX('Základní list'!$B:$B,MATCH($C36,'Základní list'!$A:$A,0),1))","v":0},{"$f":"INDEX('1. závod'!$A:$CH,$D36+5,INDEX('Základní list'!$B:$B,MATCH($C36,'Základní list'!$A:$A,0),1)+2)","v":""},{"$f":"INDEX('1. závod'!$A:$CH,$D36+5,INDEX('Základní list'!$B:$B,MATCH($C36,'Základní list'!$A:$A,0),1)-2)","v":""},{"$f":"INDEX('1. závod'!$A:$CH,$D36+5,INDEX('Základní list'!$B:$B,MATCH($C36,'Základní list'!$A:$A,0),1)-1)","v":""},"E",12,{"$f":"INDEX('2. závod'!$A:$CH,$J36+5,INDEX('Základní list'!$B:$B,MATCH($I36,'Základní list'!$A:$A,0),1))","v":0},{"$f":"INDEX('2. závod'!$A:$CH,$J36+5,INDEX('Základní list'!$B:$B,MATCH($I36,'Základní list'!$A:$A,0),1)+2)","v":""},{"$f":"INDEX('2. závod'!$A:$CH,$J36+5,INDEX('Základní list'!$B:$B,MATCH($I36,'Základní list'!$A:$A,0),1)-2)","v":""},{"$f":"INDEX('2. závod'!$A:$CH,$J36+5,INDEX('Základní list'!$B:$B,MATCH($I36,'Základní list'!$A:$A,0),1)-1)","v":""}]
[null,93,"E",13,{"$f":"INDEX('1. závod'!$A:$CH,$D37+5,INDEX('Základní list'!$B:$B,MATCH($C37,'Základní list'!$A:$A,0),1))","v":0},{"$f":"INDEX('1. závod'!$A:$CH,$D37+5,INDEX('Základní list'!$B:$B,MATCH($C37,'Základní list'!$A:$A,0),1)+2)","v":""},{"$f":"INDEX('1. závod'!$A:$CH,$D37+5,INDEX('Základní list'!$B:$B,MATCH($C37,'Základní list'!$A:$A,0),1)-2)","v":""},{"$f":"INDEX('1. závod'!$A:$CH,$D37+5,INDEX('Základní list'!$B:$B,MATCH($C37,'Základní list'!$A:$A,0),1)-1)","v":""},"E",13,{"$f":"INDEX('2. závod'!$A:$CH,$J37+5,INDEX('Základní list'!$B:$B,MATCH($I37,'Základní list'!$A:$A,0),1))","v":0},{"$f":"INDEX('2. závod'!$A:$CH,$J37+5,INDEX('Základní list'!$B:$B,MATCH($I37,'Základní list'!$A:$A,0),1)+2)","v":""},{"$f":"INDEX('2. závod'!$A:$CH,$J37+5,INDEX('Základní list'!$B:$B,MATCH($I37,'Základní list'!$A:$A,0),1)-2)","v":""},{"$f":"INDEX('2. závod'!$A:$CH,$J37+5,INDEX('Základní list'!$B:$B,MATCH($I37,'Základní list'!$A:$A,0),1)-1)","v":""}]
[null,94,"E",14,{"$f":"INDEX('1. závod'!$A:$CH,$D38+5,INDEX('Základní list'!$B:$B,MATCH($C38,'Základní list'!$A:$A,0),1))","v":0},{"$f":"INDEX('1. závod'!$A:$CH,$D38+5,INDEX('Základní list'!$B:$B,MATCH($C38,'Základní list'!$A:$A,0),1)+2)","v":""},{"$f":"INDEX('1. závod'!$A:$CH,$D38+5,INDEX('Základní list'!$B:$B,MATCH($C38,'Základní list'!$A:$A,0),1)-2)","v":""},{"$f":"INDEX('1. závod'!$A:$CH,$D38+5,INDEX('Základní list'!$B:$B,MATCH($C38,'Základní list'!$A:$A,0),1)-1)","v":""},"E",14,{"$f":"INDEX('2. závod'!$A:$CH,$J38+5,INDEX('Základní list'!$B:$B,MATCH($I38,'Základní list'!$A:$A,0),1))","v":0},{"$f":"INDEX('2. závod'!$A:$CH,$J38+5,INDEX('Základní list'!$B:$B,MATCH($I38,'Základní list'!$A:$A,0),1)+2)","v":""},{"$f":"INDEX('2. závod'!$A:$CH,$J38+5,INDEX('Základní list'!$B:$B,MATCH($I38,'Základní list'!$A:$A,0),1)-2)","v":""},{"$f":"INDEX('2. závod'!$A:$CH,$J38+5,INDEX('Základní list'!$B:$B,MATCH($I38,'Základní list'!$A:$A,0),1)-1)","v":""}]
[null,95,"E",15,{"$f":"INDEX('1. závod'!$A:$CH,$D39+5,INDEX('Základní list'!$B:$B,MATCH($C39,'Základní list'!$A:$A,0),1))","v":0},{"$f":"INDEX('1. závod'!$A:$CH,$D39+5,INDEX('Základní list'!$B:$B,MATCH($C39,'Základní list'!$A:$A,0),1)+2)","v":""},{"$f":"INDEX('1. závod'!$A:$CH,$D39+5,INDEX('Základní list'!$B:$B,MATCH($C39,'Základní list'!$A:$A,0),1)-2)","v":""},{"$f":"INDEX('1. závod'!$A:$CH,$D39+5,INDEX('Základní list'!$B:$B,MATCH($C39,'Základní list'!$A:$A,0),1)-1)","v":""},"E",15,{"$f":"INDEX('2. závod'!$A:$CH,$J39+5,INDEX('Základní list'!$B:$B,MATCH($I39,'Základní list'!$A:$A,0),1))","v":0},{"$f":"INDEX('2. závod'!$A:$CH,$J39+5,INDEX('Základní list'!$B:$B,MATCH($I39,'Základní list'!$A:$A,0),1)+2)","v":""},{"$f":"INDEX('2. závod'!$A:$CH,$J39+5,INDEX('Základní list'!$B:$B,MATCH($I39,'Základní list'!$A:$A,0),1)-2)","v":""},{"$f":"INDEX('2. závod'!$A:$CH,$J39+5,INDEX('Základní list'!$B:$B,MATCH($I39,'Základní list'!$A:$A,0),1)-1)","v":""}]
[null,96,"E",16,{"$f":"INDEX('1. závod'!$A:$CH,$D40+5,INDEX('Základní list'!$B:$B,MATCH($C40,'Základní list'!$A:$A,0),1))","v":0},{"$f":"INDEX('1. závod'!$A:$CH,$D40+5,INDEX('Základní list'!$B:$B,MATCH($C40,'Základní list'!$A:$A,0),1)+2)","v":""},{"$f":"INDEX('1. závod'!$A:$CH,$D40+5,INDEX('Základní list'!$B:$B,MATCH($C40,'Základní list'!$A:$A,0),1)-2)","v":""},{"$f":"INDEX('1. závod'!$A:$CH,$D40+5,INDEX('Základní list'!$B:$B,MATCH($C40,'Základní list'!$A:$A,0),1)-1)","v":""},"E",16,{"$f":"INDEX('2. závod'!$A:$CH,$J40+5,INDEX('Základní list'!$B:$B,MATCH($I40,'Základní list'!$A:$A,0),1))","v":0},{"$f":"INDEX('2. závod'!$A:$CH,$J40+5,INDEX('Základní list'!$B:$B,MATCH($I40,'Základní list'!$A:$A,0),1)+2)","v":""},{"$f":"INDEX('2. závod'!$A:$CH,$J40+5,INDEX('Základní list'!$B:$B,MATCH($I40,'Základní list'!$A:$A,0),1)-2)","v":""},{"$f":"INDEX('2. závod'!$A:$CH,$J40+5,INDEX('Základní list'!$B:$B,MATCH($I40,'Základní list'!$A:$A,0),1)-1)","v":""}]
[null,97,"E",17,{"$f":"INDEX('1. závod'!$A:$CH,$D41+5,INDEX('Základní list'!$B:$B,MATCH($C41,'Základní list'!$A:$A,0),1))","v":0},{"$f":"INDEX('1. závod'!$A:$CH,$D41+5,INDEX('Základní list'!$B:$B,MATCH($C41,'Základní list'!$A:$A,0),1)+2)","v":""},{"$f":"INDEX('1. závod'!$A:$CH,$D41+5,INDEX('Základní list'!$B:$B,MATCH($C41,'Základní list'!$A:$A,0),1)-2)","v":""},{"$f":"INDEX('1. závod'!$A:$CH,$D41+5,INDEX('Základní list'!$B:$B,MATCH($C41,'Základní list'!$A:$A,0),1)-1)","v":""},"E",17,{"$f":"INDEX('2. závod'!$A:$CH,$J41+5,INDEX('Základní list'!$B:$B,MATCH($I41,'Základní list'!$A:$A,0),1))","v":0},{"$f":"INDEX('2. závod'!$A:$CH,$J41+5,INDEX('Základní list'!$B:$B,MATCH($I41,'Základní list'!$A:$A,0),1)+2)","v":""},{"$f":"INDEX('2. závod'!$A:$CH,$J41+5,INDEX('Základní list'!$B:$B,MATCH($I41,'Základní list'!$A:$A,0),1)-2)","v":""},{"$f":"INDEX('2. závod'!$A:$CH,$J41+5,INDEX('Základní list'!$B:$B,MATCH($I41,'Základní list'!$A:$A,0),1)-1)","v":""}]
[null,98,"E",18,{"$f":"INDEX('1. závod'!$A:$CH,$D42+5,INDEX('Základní list'!$B:$B,MATCH($C42,'Základní list'!$A:$A,0),1))","v":0},{"$f":"INDEX('1. závod'!$A:$CH,$D42+5,INDEX('Základní list'!$B:$B,MATCH($C42,'Základní list'!$A:$A,0),1)+2)","v":""},{"$f":"INDEX('1. závod'!$A:$CH,$D42+5,INDEX('Základní list'!$B:$B,MATCH($C42,'Základní list'!$A:$A,0),1)-2)","v":""},{"$f":"INDEX('1. závod'!$A:$CH,$D42+5,INDEX('Základní list'!$B:$B,MATCH($C42,'Základní list'!$A:$A,0),1)-1)","v":""},"E",18,{"$f":"INDEX('2. závod'!$A:$CH,$J42+5,INDEX('Základní list'!$B:$B,MATCH($I42,'Základní list'!$A:$A,0),1))","v":0},{"$f":"INDEX('2. závod'!$A:$CH,$J42+5,INDEX('Základní list'!$B:$B,MATCH($I42,'Základní list'!$A:$A,0),1)+2)","v":""},{"$f":"INDEX('2. závod'!$A:$CH,$J42+5,INDEX('Základní list'!$B:$B,MATCH($I42,'Základní list'!$A:$A,0),1)-2)","v":""},{"$f":"INDEX('2. závod'!$A:$CH,$J42+5,INDEX('Základní list'!$B:$B,MATCH($I42,'Základní list'!$A:$A,0),1)-1)","v":""}]
[null,99,"E",19,{"$f":"INDEX('1. závod'!$A:$CH,$D43+5,INDEX('Základní list'!$B:$B,MATCH($C43,'Základní list'!$A:$A,0),1))","v":0},{"$f":"INDEX('1. závod'!$A:$CH,$D43+5,INDEX('Základní list'!$B:$B,MATCH($C43,'Základní list'!$A:$A,0),1)+2)","v":""},{"$f":"INDEX('1. závod'!$A:$CH,$D43+5,INDEX('Základní list'!$B:$B,MATCH($C43,'Základní list'!$A:$A,0),1)-2)","v":""},{"$f":"INDEX('1. závod'!$A:$CH,$D43+5,INDEX('Základní list'!$B:$B,MATCH($C43,'Základní list'!$A:$A,0),1)-1)","v":""},"E",19,{"$f":"INDEX('2. závod'!$A:$CH,$J43+5,INDEX('Základní list'!$B:$B,MATCH($I43,'Základní list'!$A:$A,0),1))","v":0},{"$f":"INDEX('2. závod'!$A:$CH,$J43+5,INDEX('Základní list'!$B:$B,MATCH($I43,'Základní list'!$A:$A,0),1)+2)","v":""},{"$f":"INDEX('2. závod'!$A:$CH,$J43+5,INDEX('Základní list'!$B:$B,MATCH($I43,'Základní list'!$A:$A,0),1)-2)","v":""},{"$f":"INDEX('2. závod'!$A:$CH,$J43+5,INDEX('Základní list'!$B:$B,MATCH($I43,'Základní list'!$A:$A,0),1)-1)","v":""}]
[null,100,"E",20,{"$f":"INDEX('1. závod'!$A:$CH,$D44+5,INDEX('Základní list'!$B:$B,MATCH($C44,'Základní list'!$A:$A,0),1))","v":0},{"$f":"INDEX('1. závod'!$A:$CH,$D44+5,INDEX('Základní list'!$B:$B,MATCH($C44,'Základní list'!$A:$A,0),1)+2)","v":""},{"$f":"INDEX('1. závod'!$A:$CH,$D44+5,INDEX('Základní list'!$B:$B,MATCH($C44,'Základní list'!$A:$A,0),1)-2)","v":""},{"$f":"INDEX('1. závod'!$A:$CH,$D44+5,INDEX('Základní list'!$B:$B,MATCH($C44,'Základní list'!$A:$A,0),1)-1)","v":""},"E",20,{"$f":"INDEX('2. závod'!$A:$CH,$J44+5,INDEX('Základní list'!$B:$B,MATCH($I44,'Základní list'!$A:$A,0),1))","v":0},{"$f":"INDEX('2. závod'!$A:$CH,$J44+5,INDEX('Základní list'!$B:$B,MATCH($I44,'Základní list'!$A:$A,0),1)+2)","v":""},{"$f":"INDEX('2. závod'!$A:$CH,$J44+5,INDEX('Základní list'!$B:$B,MATCH($I44,'Základní list'!$A:$A,0),1)-2)","v":""},{"$f":"INDEX('2. závod'!$A:$CH,$J44+5,INDEX('Základní list'!$B:$B,MATCH($I44,'Základní list'!$A:$A,0),1)-1)","v":""}]
[null,101,"F",1,{"$f":"INDEX('1. závod'!$A:$CH,$D45+5,INDEX('Základní list'!$B:$B,MATCH($C45,'Základní list'!$A:$A,0),1))","v":0},{"$f":"INDEX('1. závod'!$A:$CH,$D45+5,INDEX('Základní list'!$B:$B,MATCH($C45,'Základní list'!$A:$A,0),1)+2)","v":""},{"$f":"INDEX('1. závod'!$A:$CH,$D45+5,INDEX('Základní list'!$B:$B,MATCH($C45,'Základní list'!$A:$A,0),1)-2)","v":""},{"$f":"INDEX('1. závod'!$A:$CH,$D45+5,INDEX('Základní list'!$B:$B,MATCH($C45,'Základní list'!$A:$A,0),1)-1)","v":""},"F",1,{"$f":"INDEX('2. závod'!$A:$CH,$J45+5,INDEX('Základní list'!$B:$B,MATCH($I45,'Základní list'!$A:$A,0),1))","v":0},{"$f":"INDEX('2. závod'!$A:$CH,$J45+5,INDEX('Základní list'!$B:$B,MATCH($I45,'Základní list'!$A:$A,0),1)+2)","v":""},{"$f":"INDEX('2. závod'!$A:$CH,$J45+5,INDEX('Základní list'!$B:$B,MATCH($I45,'Základní list'!$A:$A,0),1)-2)","v":""},{"$f":"INDEX('2. závod'!$A:$CH,$J45+5,INDEX('Základní list'!$B:$B,MATCH($I45,'Základní list'!$A:$A,0),1)-1)","v":""}]
[null,102,"F",2,{"$f":"INDEX('1. závod'!$A:$CH,$D46+5,INDEX('Základní list'!$B:$B,MATCH($C46,'Základní list'!$A:$A,0),1))","v":0},{"$f":"INDEX('1. závod'!$A:$CH,$D46+5,INDEX('Základní list'!$B:$B,MATCH($C46,'Základní list'!$A:$A,0),1)+2)","v":""},{"$f":"INDEX('1. závod'!$A:$CH,$D46+5,INDEX('Základní list'!$B:$B,MATCH($C46,'Základní list'!$A:$A,0),1)-2)","v":""},{"$f":"INDEX('1. závod'!$A:$CH,$D46+5,INDEX('Základní list'!$B:$B,MATCH($C46,'Základní list'!$A:$A,0),1)-1)","v":""},"F",2,{"$f":"INDEX('2. závod'!$A:$CH,$J46+5,INDEX('Základní list'!$B:$B,MATCH($I46,'Základní list'!$A:$A,0),1))","v":0},{"$f":"INDEX('2. závod'!$A:$CH,$J46+5,INDEX('Základní list'!$B:$B,MATCH($I46,'Základní list'!$A:$A,0),1)+2)","v":""},{"$f":"INDEX('2. závod'!$A:$CH,$J46+5,INDEX('Základní list'!$B:$B,MATCH($I46,'Základní list'!$A:$A,0),1)-2)","v":""},{"$f":"INDEX('2. závod'!$A:$CH,$J46+5,INDEX('Základní list'!$B:$B,MATCH($I46,'Základní list'!$A:$A,0),1)-1)","v":""}]
[null,103,"F",3,{"$f":"INDEX('1. závod'!$A:$CH,$D47+5,INDEX('Základní list'!$B:$B,MATCH($C47,'Základní list'!$A:$A,0),1))","v":0},{"$f":"INDEX('1. závod'!$A:$CH,$D47+5,INDEX('Základní list'!$B:$B,MATCH($C47,'Základní list'!$A:$A,0),1)+2)","v":""},{"$f":"INDEX('1. závod'!$A:$CH,$D47+5,INDEX('Základní list'!$B:$B,MATCH($C47,'Základní list'!$A:$A,0),1)-2)","v":""},{"$f":"INDEX('1. závod'!$A:$CH,$D47+5,INDEX('Základní list'!$B:$B,MATCH($C47,'Základní list'!$A:$A,0),1)-1)","v":""},"F",3,{"$f":"INDEX('2. závod'!$A:$CH,$J47+5,INDEX('Základní list'!$B:$B,MATCH($I47,'Základní list'!$A:$A,0),1))","v":0},{"$f":"INDEX('2. závod'!$A:$CH,$J47+5,INDEX('Základní list'!$B:$B,MATCH($I47,'Základní list'!$A:$A,0),1)+2)","v":""},{"$f":"INDEX('2. závod'!$A:$CH,$J47+5,INDEX('Základní list'!$B:$B,MATCH($I47,'Základní list'!$A:$A,0),1)-2)","v":""},{"$f":"INDEX('2. závod'!$A:$CH,$J47+5,INDEX('Základní list'!$B:$B,MATCH($I47,'Základní list'!$A:$A,0),1)-1)","v":""}]
[null,104,"F",4,{"$f":"INDEX('1. závod'!$A:$CH,$D48+5,INDEX('Základní list'!$B:$B,MATCH($C48,'Základní list'!$A:$A,0),1))","v":0},{"$f":"INDEX('1. závod'!$A:$CH,$D48+5,INDEX('Základní list'!$B:$B,MATCH($C48,'Základní list'!$A:$A,0),1)+2)","v":""},{"$f":"INDEX('1. závod'!$A:$CH,$D48+5,INDEX('Základní list'!$B:$B,MATCH($C48,'Základní list'!$A:$A,0),1)-2)","v":""},{"$f":"INDEX('1. závod'!$A:$CH,$D48+5,INDEX('Základní list'!$B:$B,MATCH($C48,'Základní list'!$A:$A,0),1)-1)","v":""},"F",4,{"$f":"INDEX('2. závod'!$A:$CH,$J48+5,INDEX('Základní list'!$B:$B,MATCH($I48,'Základní list'!$A:$A,0),1))","v":0},{"$f":"INDEX('2. závod'!$A:$CH,$J48+5,INDEX('Základní list'!$B:$B,MATCH($I48,'Základní list'!$A:$A,0),1)+2)","v":""},{"$f":"INDEX('2. závod'!$A:$CH,$J48+5,INDEX('Základní list'!$B:$B,MATCH($I48,'Základní list'!$A:$A,0),1)-2)","v":""},{"$f":"INDEX('2. závod'!$A:$CH,$J48+5,INDEX('Základní list'!$B:$B,MATCH($I48,'Základní list'!$A:$A,0),1)-1)","v":""}]
[null,105,"F",5,{"$f":"INDEX('1. závod'!$A:$CH,$D49+5,INDEX('Základní list'!$B:$B,MATCH($C49,'Základní list'!$A:$A,0),1))","v":0},{"$f":"INDEX('1. závod'!$A:$CH,$D49+5,INDEX('Základní list'!$B:$B,MATCH($C49,'Základní list'!$A:$A,0),1)+2)","v":""},{"$f":"INDEX('1. závod'!$A:$CH,$D49+5,INDEX('Základní list'!$B:$B,MATCH($C49,'Základní list'!$A:$A,0),1)-2)","v":""},{"$f":"INDEX('1. závod'!$A:$CH,$D49+5,INDEX('Základní list'!$B:$B,MATCH($C49,'Základní list'!$A:$A,0),1)-1)","v":""},"F",5,{"$f":"INDEX('2. závod'!$A:$CH,$J49+5,INDEX('Základní list'!$B:$B,MATCH($I49,'Základní list'!$A:$A,0),1))","v":0},{"$f":"INDEX('2. závod'!$A:$CH,$J49+5,INDEX('Základní list'!$B:$B,MATCH($I49,'Základní list'!$A:$A,0),1)+2)","v":""},{"$f":"INDEX('2. závod'!$A:$CH,$J49+5,INDEX('Základní list'!$B:$B,MATCH($I49,'Základní list'!$A:$A,0),1)-2)","v":""},{"$f":"INDEX('2. závod'!$A:$CH,$J49+5,INDEX('Základní list'!$B:$B,MATCH($I49,'Základní list'!$A:$A,0),1)-1)","v":""}]
[null,106,"F",6,{"$f":"INDEX('1. závod'!$A:$CH,$D50+5,INDEX('Základní list'!$B:$B,MATCH($C50,'Základní list'!$A:$A,0),1))","v":0},{"$f":"INDEX('1. závod'!$A:$CH,$D50+5,INDEX('Základní list'!$B:$B,MATCH($C50,'Základní list'!$A:$A,0),1)+2)","v":""},{"$f":"INDEX('1. závod'!$A:$CH,$D50+5,INDEX('Základní list'!$B:$B,MATCH($C50,'Základní list'!$A:$A,0),1)-2)","v":""},{"$f":"INDEX('1. závod'!$A:$CH,$D50+5,INDEX('Základní list'!$B:$B,MATCH($C50,'Základní list'!$A:$A,0),1)-1)","v":""},"F",6,{"$f":"INDEX('2. závod'!$A:$CH,$J50+5,INDEX('Základní list'!$B:$B,MATCH($I50,'Základní list'!$A:$A,0),1))","v":0},{"$f":"INDEX('2. závod'!$A:$CH,$J50+5,INDEX('Základní list'!$B:$B,MATCH($I50,'Základní list'!$A:$A,0),1)+2)","v":""},{"$f":"INDEX('2. závod'!$A:$CH,$J50+5,INDEX('Základní list'!$B:$B,MATCH($I50,'Základní list'!$A:$A,0),1)-2)","v":""},{"$f":"INDEX('2. závod'!$A:$CH,$J50+5,INDEX('Základní list'!$B:$B,MATCH($I50,'Základní list'!$A:$A,0),1)-1)","v":""}]
[null,107,"F",7,{"$f":"INDEX('1. závod'!$A:$CH,$D51+5,INDEX('Základní list'!$B:$B,MATCH($C51,'Základní list'!$A:$A,0),1))","v":0},{"$f":"INDEX('1. závod'!$A:$CH,$D51+5,INDEX('Základní list'!$B:$B,MATCH($C51,'Základní list'!$A:$A,0),1)+2)","v":""},{"$f":"INDEX('1. závod'!$A:$CH,$D51+5,INDEX('Základní list'!$B:$B,MATCH($C51,'Základní list'!$A:$A,0),1)-2)","v":""},{"$f":"INDEX('1. závod'!$A:$CH,$D51+5,INDEX('Základní list'!$B:$B,MATCH($C51,'Základní list'!$A:$A,0),1)-1)","v":""},"F",7,{"$f":"INDEX('2. závod'!$A:$CH,$J51+5,INDEX('Základní list'!$B:$B,MATCH($I51,'Základní list'!$A:$A,0),1))","v":0},{"$f":"INDEX('2. závod'!$A:$CH,$J51+5,INDEX('Základní list'!$B:$B,MATCH($I51,'Základní list'!$A:$A,0),1)+2)","v":""},{"$f":"INDEX('2. závod'!$A:$CH,$J51+5,INDEX('Základní list'!$B:$B,MATCH($I51,'Základní list'!$A:$A,0),1)-2)","v":""},{"$f":"INDEX('2. závod'!$A:$CH,$J51+5,INDEX('Základní list'!$B:$B,MATCH($I51,'Základní list'!$A:$A,0),1)-1)","v":""}]
[null,108,"F",8,{"$f":"INDEX('1. závod'!$A:$CH,$D52+5,INDEX('Základní list'!$B:$B,MATCH($C52,'Základní list'!$A:$A,0),1))","v":0},{"$f":"INDEX('1. závod'!$A:$CH,$D52+5,INDEX('Základní list'!$B:$B,MATCH($C52,'Základní list'!$A:$A,0),1)+2)","v":""},{"$f":"INDEX('1. závod'!$A:$CH,$D52+5,INDEX('Základní list'!$B:$B,MATCH($C52,'Základní list'!$A:$A,0),1)-2)","v":""},{"$f":"INDEX('1. závod'!$A:$CH,$D52+5,INDEX('Základní list'!$B:$B,MATCH($C52,'Základní list'!$A:$A,0),1)-1)","v":""},"F",8,{"$f":"INDEX('2. závod'!$A:$CH,$J52+5,INDEX('Základní list'!$B:$B,MATCH($I52,'Základní list'!$A:$A,0),1))","v":0},{"$f":"INDEX('2. závod'!$A:$CH,$J52+5,INDEX('Základní list'!$B:$B,MATCH($I52,'Základní list'!$A:$A,0),1)+2)","v":""},{"$f":"INDEX('2. závod'!$A:$CH,$J52+5,INDEX('Základní list'!$B:$B,MATCH($I52,'Základní list'!$A:$A,0),1)-2)","v":""},{"$f":"INDEX('2. závod'!$A:$CH,$J52+5,INDEX('Základní list'!$B:$B,MATCH($I52,'Základní list'!$A:$A,0),1)-1)","v":""}]
[null,109,"F",9,{"$f":"INDEX('1. závod'!$A:$CH,$D53+5,INDEX('Základní list'!$B:$B,MATCH($C53,'Základní list'!$A:$A,0),1))","v":0},{"$f":"INDEX('1. závod'!$A:$CH,$D53+5,INDEX('Základní list'!$B:$B,MATCH($C53,'Základní list'!$A:$A,0),1)+2)","v":""},{"$f":"INDEX('1. závod'!$A:$CH,$D53+5,INDEX('Základní list'!$B:$B,MATCH($C53,'Základní list'!$A:$A,0),1)-2)","v":""},{"$f":"INDEX('1. závod'!$A:$CH,$D53+5,INDEX('Základní list'!$B:$B,MATCH($C53,'Základní list'!$A:$A,0),1)-1)","v":""},"F",9,{"$f":"INDEX('2. závod'!$A:$CH,$J53+5,INDEX('Základní list'!$B:$B,MATCH($I53,'Základní list'!$A:$A,0),1))","v":0},{"$f":"INDEX('2. závod'!$A:$CH,$J53+5,INDEX('Základní list'!$B:$B,MATCH($I53,'Základní list'!$A:$A,0),1)+2)","v":""},{"$f":"INDEX('2. závod'!$A:$CH,$J53+5,INDEX('Základní list'!$B:$B,MATCH($I53,'Základní list'!$A:$A,0),1)-2)","v":""},{"$f":"INDEX('2. závod'!$A:$CH,$J53+5,INDEX('Základní list'!$B:$B,MATCH($I53,'Základní list'!$A:$A,0),1)-1)","v":""}]
[null,110,"F",10,{"$f":"INDEX('1. závod'!$A:$CH,$D54+5,INDEX('Základní list'!$B:$B,MATCH($C54,'Základní list'!$A:$A,0),1))","v":0},{"$f":"INDEX('1. závod'!$A:$CH,$D54+5,INDEX('Základní list'!$B:$B,MATCH($C54,'Základní list'!$A:$A,0),1)+2)","v":""},{"$f":"INDEX('1. závod'!$A:$CH,$D54+5,INDEX('Základní list'!$B:$B,MATCH($C54,'Základní list'!$A:$A,0),1)-2)","v":""},{"$f":"INDEX('1. závod'!$A:$CH,$D54+5,INDEX('Základní list'!$B:$B,MATCH($C54,'Základní list'!$A:$A,0),1)-1)","v":""},"F",10,{"$f":"INDEX('2. závod'!$A:$CH,$J54+5,INDEX('Základní list'!$B:$B,MATCH($I54,'Základní list'!$A:$A,0),1))","v":0},{"$f":"INDEX('2. závod'!$A:$CH,$J54+5,INDEX('Základní list'!$B:$B,MATCH($I54,'Základní list'!$A:$A,0),1)+2)","v":""},{"$f":"INDEX('2. závod'!$A:$CH,$J54+5,INDEX('Základní list'!$B:$B,MATCH($I54,'Základní list'!$A:$A,0),1)-2)","v":""},{"$f":"INDEX('2. závod'!$A:$CH,$J54+5,INDEX('Základní list'!$B:$B,MATCH($I54,'Základní list'!$A:$A,0),1)-1)","v":""}]
[null,111,"F",11,{"$f":"INDEX('1. závod'!$A:$CH,$D55+5,INDEX('Základní list'!$B:$B,MATCH($C55,'Základní list'!$A:$A,0),1))","v":0},{"$f":"INDEX('1. závod'!$A:$CH,$D55+5,INDEX('Základní list'!$B:$B,MATCH($C55,'Základní list'!$A:$A,0),1)+2)","v":""},{"$f":"INDEX('1. závod'!$A:$CH,$D55+5,INDEX('Základní list'!$B:$B,MATCH($C55,'Základní list'!$A:$A,0),1)-2)","v":""},{"$f":"INDEX('1. závod'!$A:$CH,$D55+5,INDEX('Základní list'!$B:$B,MATCH($C55,'Základní list'!$A:$A,0),1)-1)","v":""},"F",11,{"$f":"INDEX('2. závod'!$A:$CH,$J55+5,INDEX('Základní list'!$B:$B,MATCH($I55,'Základní list'!$A:$A,0),1))","v":0},{"$f":"INDEX('2. závod'!$A:$CH,$J55+5,INDEX('Základní list'!$B:$B,MATCH($I55,'Základní list'!$A:$A,0),1)+2)","v":""},{"$f":"INDEX('2. závod'!$A:$CH,$J55+5,INDEX('Základní list'!$B:$B,MATCH($I55,'Základní list'!$A:$A,0),1)-2)","v":""},{"$f":"INDEX('2. závod'!$A:$CH,$J55+5,INDEX('Základní list'!$B:$B,MATCH($I55,'Základní list'!$A:$A,0),1)-1)","v":""}]
[null,112,"F",12,{"$f":"INDEX('1. závod'!$A:$CH,$D56+5,INDEX('Základní list'!$B:$B,MATCH($C56,'Základní list'!$A:$A,0),1))","v":0},{"$f":"INDEX('1. závod'!$A:$CH,$D56+5,INDEX('Základní list'!$B:$B,MATCH($C56,'Základní list'!$A:$A,0),1)+2)","v":""},{"$f":"INDEX('1. závod'!$A:$CH,$D56+5,INDEX('Základní list'!$B:$B,MATCH($C56,'Základní list'!$A:$A,0),1)-2)","v":""},{"$f":"INDEX('1. závod'!$A:$CH,$D56+5,INDEX('Základní list'!$B:$B,MATCH($C56,'Základní list'!$A:$A,0),1)-1)","v":""},"F",12,{"$f":"INDEX('2. závod'!$A:$CH,$J56+5,INDEX('Základní list'!$B:$B,MATCH($I56,'Základní list'!$A:$A,0),1))","v":0},{"$f":"INDEX('2. závod'!$A:$CH,$J56+5,INDEX('Základní list'!$B:$B,MATCH($I56,'Základní list'!$A:$A,0),1)+2)","v":""},{"$f":"INDEX('2. závod'!$A:$CH,$J56+5,INDEX('Základní list'!$B:$B,MATCH($I56,'Základní list'!$A:$A,0),1)-2)","v":""},{"$f":"INDEX('2. závod'!$A:$CH,$J56+5,INDEX('Základní list'!$B:$B,MATCH($I56,'Základní list'!$A:$A,0),1)-1)","v":""}]
[null,113,"F",13,{"$f":"INDEX('1. závod'!$A:$CH,$D57+5,INDEX('Základní list'!$B:$B,MATCH($C57,'Základní list'!$A:$A,0),1))","v":0},{"$f":"INDEX('1. závod'!$A:$CH,$D57+5,INDEX('Základní list'!$B:$B,MATCH($C57,'Základní list'!$A:$A,0),1)+2)","v":""},{"$f":"INDEX('1. závod'!$A:$CH,$D57+5,INDEX('Základní list'!$B:$B,MATCH($C57,'Základní list'!$A:$A,0),1)-2)","v":""},{"$f":"INDEX('1. závod'!$A:$CH,$D57+5,INDEX('Základní list'!$B:$B,MATCH($C57,'Základní list'!$A:$A,0),1)-1)","v":""},"F",13,{"$f":"INDEX('2. závod'!$A:$CH,$J57+5,INDEX('Základní list'!$B:$B,MATCH($I57,'Základní list'!$A:$A,0),1))","v":0},{"$f":"INDEX('2. závod'!$A:$CH,$J57+5,INDEX('Základní list'!$B:$B,MATCH($I57,'Základní list'!$A:$A,0),1)+2)","v":""},{"$f":"INDEX('2. závod'!$A:$CH,$J57+5,INDEX('Základní list'!$B:$B,MATCH($I57,'Základní list'!$A:$A,0),1)-2)","v":""},{"$f":"INDEX('2. závod'!$A:$CH,$J57+5,INDEX('Základní list'!$B:$B,MATCH($I57,'Základní list'!$A:$A,0),1)-1)","v":""}]
[null,114,"F",14,{"$f":"INDEX('1. závod'!$A:$CH,$D58+5,INDEX('Základní list'!$B:$B,MATCH($C58,'Základní list'!$A:$A,0),1))","v":0},{"$f":"INDEX('1. závod'!$A:$CH,$D58+5,INDEX('Základní list'!$B:$B,MATCH($C58,'Základní list'!$A:$A,0),1)+2)","v":""},{"$f":"INDEX('1. závod'!$A:$CH,$D58+5,INDEX('Základní list'!$B:$B,MATCH($C58,'Základní list'!$A:$A,0),1)-2)","v":""},{"$f":"INDEX('1. závod'!$A:$CH,$D58+5,INDEX('Základní list'!$B:$B,MATCH($C58,'Základní list'!$A:$A,0),1)-1)","v":""},"F",14,{"$f":"INDEX('2. závod'!$A:$CH,$J58+5,INDEX('Základní list'!$B:$B,MATCH($I58,'Základní list'!$A:$A,0),1))","v":0},{"$f":"INDEX('2. závod'!$A:$CH,$J58+5,INDEX('Základní list'!$B:$B,MATCH($I58,'Základní list'!$A:$A,0),1)+2)","v":""},{"$f":"INDEX('2. závod'!$A:$CH,$J58+5,INDEX('Základní list'!$B:$B,MATCH($I58,'Základní list'!$A:$A,0),1)-2)","v":""},{"$f":"INDEX('2. závod'!$A:$CH,$J58+5,INDEX('Základní list'!$B:$B,MATCH($I58,'Základní list'!$A:$A,0),1)-1)","v":""}]
[null,115,"F",15,{"$f":"INDEX('1. závod'!$A:$CH,$D59+5,INDEX('Základní list'!$B:$B,MATCH($C59,'Základní list'!$A:$A,0),1))","v":0},{"$f":"INDEX('1. závod'!$A:$CH,$D59+5,INDEX('Základní list'!$B:$B,MATCH($C59,'Základní list'!$A:$A,0),1)+2)","v":""},{"$f":"INDEX('1. závod'!$A:$CH,$D59+5,INDEX('Základní list'!$B:$B,MATCH($C59,'Základní list'!$A:$A,0),1)-2)","v":""},{"$f":"INDEX('1. závod'!$A:$CH,$D59+5,INDEX('Základní list'!$B:$B,MATCH($C59,'Základní list'!$A:$A,0),1)-1)","v":""},"F",15,{"$f":"INDEX('2. závod'!$A:$CH,$J59+5,INDEX('Základní list'!$B:$B,MATCH($I59,'Základní list'!$A:$A,0),1))","v":0},{"$f":"INDEX('2. závod'!$A:$CH,$J59+5,INDEX('Základní list'!$B:$B,MATCH($I59,'Základní list'!$A:$A,0),1)+2)","v":""},{"$f":"INDEX('2. závod'!$A:$CH,$J59+5,INDEX('Základní list'!$B:$B,MATCH($I59,'Základní list'!$A:$A,0),1)-2)","v":""},{"$f":"INDEX('2. závod'!$A:$CH,$J59+5,INDEX('Základní list'!$B:$B,MATCH($I59,'Základní list'!$A:$A,0),1)-1)","v":""}]
[null,116,"F",16,{"$f":"INDEX('1. závod'!$A:$CH,$D60+5,INDEX('Základní list'!$B:$B,MATCH($C60,'Základní list'!$A:$A,0),1))","v":0},{"$f":"INDEX('1. závod'!$A:$CH,$D60+5,INDEX('Základní list'!$B:$B,MATCH($C60,'Základní list'!$A:$A,0),1)+2)","v":""},{"$f":"INDEX('1. závod'!$A:$CH,$D60+5,INDEX('Základní list'!$B:$B,MATCH($C60,'Základní list'!$A:$A,0),1)-2)","v":""},{"$f":"INDEX('1. závod'!$A:$CH,$D60+5,INDEX('Základní list'!$B:$B,MATCH($C60,'Základní list'!$A:$A,0),1)-1)","v":""},"F",16,{"$f":"INDEX('2. závod'!$A:$CH,$J60+5,INDEX('Základní list'!$B:$B,MATCH($I60,'Základní list'!$A:$A,0),1))","v":0},{"$f":"INDEX('2. závod'!$A:$CH,$J60+5,INDEX('Základní list'!$B:$B,MATCH($I60,'Základní list'!$A:$A,0),1)+2)","v":""},{"$f":"INDEX('2. závod'!$A:$CH,$J60+5,INDEX('Základní list'!$B:$B,MATCH($I60,'Základní list'!$A:$A,0),1)-2)","v":""},{"$f":"INDEX('2. závod'!$A:$CH,$J60+5,INDEX('Základní list'!$B:$B,MATCH($I60,'Základní list'!$A:$A,0),1)-1)","v":""}]
[null,117,"F",17,{"$f":"INDEX('1. závod'!$A:$CH,$D61+5,INDEX('Základní list'!$B:$B,MATCH($C61,'Základní list'!$A:$A,0),1))","v":0},{"$f":"INDEX('1. závod'!$A:$CH,$D61+5,INDEX('Základní list'!$B:$B,MATCH($C61,'Základní list'!$A:$A,0),1)+2)","v":""},{"$f":"INDEX('1. závod'!$A:$CH,$D61+5,INDEX('Základní list'!$B:$B,MATCH($C61,'Základní list'!$A:$A,0),1)-2)","v":""},{"$f":"INDEX('1. závod'!$A:$CH,$D61+5,INDEX('Základní list'!$B:$B,MATCH($C61,'Základní list'!$A:$A,0),1)-1)","v":""},"F",17,{"$f":"INDEX('2. závod'!$A:$CH,$J61+5,INDEX('Základní list'!$B:$B,MATCH($I61,'Základní list'!$A:$A,0),1))","v":0},{"$f":"INDEX('2. závod'!$A:$CH,$J61+5,INDEX('Základní list'!$B:$B,MATCH($I61,'Základní list'!$A:$A,0),1)+2)","v":""},{"$f":"INDEX('2. závod'!$A:$CH,$J61+5,INDEX('Základní list'!$B:$B,MATCH($I61,'Základní list'!$A:$A,0),1)-2)","v":""},{"$f":"INDEX('2. závod'!$A:$CH,$J61+5,INDEX('Základní list'!$B:$B,MATCH($I61,'Základní list'!$A:$A,0),1)-1)","v":""}]
[null,118,"F",18,{"$f":"INDEX('1. závod'!$A:$CH,$D62+5,INDEX('Základní list'!$B:$B,MATCH($C62,'Základní list'!$A:$A,0),1))","v":0},{"$f":"INDEX('1. závod'!$A:$CH,$D62+5,INDEX('Základní list'!$B:$B,MATCH($C62,'Základní list'!$A:$A,0),1)+2)","v":""},{"$f":"INDEX('1. závod'!$A:$CH,$D62+5,INDEX('Základní list'!$B:$B,MATCH($C62,'Základní list'!$A:$A,0),1)-2)","v":""},{"$f":"INDEX('1. závod'!$A:$CH,$D62+5,INDEX('Základní list'!$B:$B,MATCH($C62,'Základní list'!$A:$A,0),1)-1)","v":""},"F",18,{"$f":"INDEX('2. závod'!$A:$CH,$J62+5,INDEX('Základní list'!$B:$B,MATCH($I62,'Základní list'!$A:$A,0),1))","v":0},{"$f":"INDEX('2. závod'!$A:$CH,$J62+5,INDEX('Základní list'!$B:$B,MATCH($I62,'Základní list'!$A:$A,0),1)+2)","v":""},{"$f":"INDEX('2. závod'!$A:$CH,$J62+5,INDEX('Základní list'!$B:$B,MATCH($I62,'Základní list'!$A:$A,0),1)-2)","v":""},{"$f":"INDEX('2. závod'!$A:$CH,$J62+5,INDEX('Základní list'!$B:$B,MATCH($I62,'Základní list'!$A:$A,0),1)-1)","v":""}]
[null,119,"F",19,{"$f":"INDEX('1. závod'!$A:$CH,$D63+5,INDEX('Základní list'!$B:$B,MATCH($C63,'Základní list'!$A:$A,0),1))","v":0},{"$f":"INDEX('1. závod'!$A:$CH,$D63+5,INDEX('Základní list'!$B:$B,MATCH($C63,'Základní list'!$A:$A,0),1)+2)","v":""},{"$f":"INDEX('1. závod'!$A:$CH,$D63+5,INDEX('Základní list'!$B:$B,MATCH($C63,'Základní list'!$A:$A,0),1)-2)","v":""},{"$f":"INDEX('1. závod'!$A:$CH,$D63+5,INDEX('Základní list'!$B:$B,MATCH($C63,'Základní list'!$A:$A,0),1)-1)","v":""},"F",19,{"$f":"INDEX('2. závod'!$A:$CH,$J63+5,INDEX('Základní list'!$B:$B,MATCH($I63,'Základní list'!$A:$A,0),1))","v":0},{"$f":"INDEX('2. závod'!$A:$CH,$J63+5,INDEX('Základní list'!$B:$B,MATCH($I63,'Základní list'!$A:$A,0),1)+2)","v":""},{"$f":"INDEX('2. závod'!$A:$CH,$J63+5,INDEX('Základní list'!$B:$B,MATCH($I63,'Základní list'!$A:$A,0),1)-2)","v":""},{"$f":"INDEX('2. závod'!$A:$CH,$J63+5,INDEX('Základní list'!$B:$B,MATCH($I63,'Základní list'!$A:$A,0),1)-1)","v":""}]
[null,120,"F",20,{"$f":"INDEX('1. závod'!$A:$CH,$D64+5,INDEX('Základní list'!$B:$B,MATCH($C64,'Základní list'!$A:$A,0),1))","v":0},{"$f":"INDEX('1. závod'!$A:$CH,$D64+5,INDEX('Základní list'!$B:$B,MATCH($C64,'Základní list'!$A:$A,0),1)+2)","v":""},{"$f":"INDEX('1. závod'!$A:$CH,$D64+5,INDEX('Základní list'!$B:$B,MATCH($C64,'Základní list'!$A:$A,0),1)-2)","v":""},{"$f":"INDEX('1. závod'!$A:$CH,$D64+5,INDEX('Základní list'!$B:$B,MATCH($C64,'Základní list'!$A:$A,0),1)-1)","v":""},"F",20,{"$f":"INDEX('2. závod'!$A:$CH,$J64+5,INDEX('Základní list'!$B:$B,MATCH($I64,'Základní list'!$A:$A,0),1))","v":0},{"$f":"INDEX('2. závod'!$A:$CH,$J64+5,INDEX('Základní list'!$B:$B,MATCH($I64,'Základní list'!$A:$A,0),1)+2)","v":""},{"$f":"INDEX('2. závod'!$A:$CH,$J64+5,INDEX('Základní list'!$B:$B,MATCH($I64,'Základní list'!$A:$A,0),1)-2)","v":""},{"$f":"INDEX('2. závod'!$A:$CH,$J64+5,INDEX('Základní list'!$B:$B,MATCH($I64,'Základní list'!$A:$A,0),1)-1)","v":""}]